{"text_format":"1","workbook":"xlsx","n_sheets":12,"sheets":["Espelho","EspelhoII","EspelhoIII","Codificador","Arquivo","Importação","Plano de Contas","Resumo vendas","Demonstrativo","Volume","Faturamento","Indicadores"],"not_rendered":{"charts":4,"images":8,"macros":1,"external_links":1,"defined_names":10,"comments":0,"pivot_tables":0},"unopened":[],"bounds":{"document_bytes":16777216,"sheet_cells":100000,"rows_first":2000,"rows_last":500,"rows_between":2000,"halvings":0,"cell_chars":16384,"cell_head_chars":4096},"cells_cut":0,"cells_raw":0,"read":"whole","date_system":"1900"}

{"sheet":"Espelho","index":0,"n_rows":0,"n_cols":0,"rows_kept":0,"cut":false,"hidden":false,"merged":[]}

{"sheet":"EspelhoII","index":1,"n_rows":500,"n_cols":1,"rows_kept":500,"cut":false,"hidden":false,"merged":[]}
[{"$f":"IF(E1>0,E1,\"\")","v":""}]
[{"$f":"IF(E2>0,E2,\"\")","v":""}]
[""]
[""]
[""]
[""]
[""]
[""]
[""]
[""]
[{"$f":"IF(E11>0,E11,\"\")","v":""}]
[""]
[""]
[""]
[""]
[""]
[""]
[""]
[""]
[""]
[""]
[""]
[""]
[""]
[""]
[""]
[""]
[""]
[""]
[""]
[""]
[""]
[""]
[""]
[""]
[""]
[""]
[""]
[""]
[""]
[""]
[""]
[""]
[""]
[""]
[""]
[""]
[""]
[""]
[""]
[""]
[""]
[""]
[""]
[""]
[""]
[""]
[""]
[""]
[""]
[""]
[""]
[""]
[""]
[""]
[{"$f":"IF(E66>0,E66,\"\")","v":""}]
[""]
[""]
[""]
[""]
[""]
[""]
[""]
[""]
[""]
[""]
[""]
[""]
[""]
[""]
[""]
[""]
[""]
[""]
[""]
[""]
[""]
[""]
[""]
[""]
[""]
[""]
[""]
[""]
[""]
[""]
[""]
[""]
[""]
[""]
[""]
[""]
[""]
[""]
[""]
[""]
[""]
[""]
[""]
[""]
[""]
[""]
[""]
[""]
[""]
[""]
[""]
[""]
[""]
[""]
[""]
[""]
[""]
[""]
[""]
[""]
[""]
[""]
[""]
[{"$f":"IF(E130>0,E130,\"\")","v":""}]
[""]
[""]
[""]
[""]
[""]
[""]
[""]
[""]
[""]
[""]
[""]
[""]
[""]
[""]
[""]
[""]
[""]
[""]
[""]
[""]
[""]
[""]
[""]
[""]
[""]
[""]
[""]
[""]
[""]
[""]
[""]
[""]
[""]
[""]
[""]
[""]
[""]
[""]
[""]
[""]
[""]
[""]
[""]
[""]
[""]
[""]
[""]
[""]
[""]
[""]
[""]
[""]
[""]
[""]
[""]
[""]
[""]
[""]
[""]
[""]
[""]
[""]
[""]
[{"$f":"IF(E194>0,E194,\"\")","v":""}]
[""]
[""]
[""]
[""]
[""]
[""]
[""]
[""]
[""]
[""]
[""]
[""]
[""]
[""]
[""]
[""]
[""]
[""]
[""]
[""]
[""]
[""]
[""]
[""]
[""]
[""]
[""]
[""]
[""]
[""]
[""]
[""]
[""]
[""]
[""]
[""]
[""]
[""]
[""]
[""]
[""]
[""]
[""]
[""]
[""]
[""]
[""]
[""]
[""]
[""]
[""]
[""]
[""]
[""]
[""]
[""]
[""]
[""]
[""]
[""]
[""]
[""]
[""]
[{"$f":"IF(E258>0,E258,\"\")","v":""}]
[""]
[""]
[""]
[""]
[""]
[""]
[""]
[""]
[""]
[""]
[""]
[""]
[""]
[""]
[""]
[""]
[""]
[""]
[""]
[""]
[""]
[""]
[""]
[""]
[""]
[""]
[""]
[""]
[""]
[""]
[""]
[""]
[""]
[""]
[""]
[""]
[""]
[""]
[""]
[""]
[""]
[""]
[""]
[""]
[""]
[""]
[""]
[""]
[""]
[""]
[""]
[""]
[""]
[""]
[""]
[""]
[""]
[""]
[""]
[""]
[""]
[""]
[""]
[{"$f":"IF(E322>0,E322,\"\")","v":""}]
[""]
[""]
[""]
[""]
[""]
[""]
[""]
[""]
[""]
[""]
[""]
[""]
[""]
[""]
[""]
[""]
[""]
[""]
[""]
[""]
[""]
[""]
[""]
[""]
[""]
[""]
[""]
[""]
[""]
[""]
[""]
[""]
[""]
[""]
[""]
[""]
[""]
[""]
[""]
[""]
[""]
[""]
[""]
[""]
[""]
[""]
[""]
[""]
[""]
[""]
[""]
[""]
[""]
[""]
[""]
[""]
[""]
[""]
[""]
[""]
[""]
[""]
[""]
[{"$f":"IF(E386>0,E386,\"\")","v":""}]
[""]
[""]
[""]
[""]
[""]
[""]
[""]
[""]
[""]
[""]
[""]
[""]
[""]
[""]
[""]
[""]
[""]
[""]
[""]
[""]
[""]
[""]
[""]
[""]
[""]
[""]
[""]
[""]
[""]
[""]
[""]
[""]
[""]
[""]
[""]
[""]
[""]
[""]
[""]
[""]
[""]
[""]
[""]
[""]
[""]
[""]
[""]
[""]
[""]
[""]
[""]
[""]
[""]
[""]
[""]
[""]
[""]
[""]
[""]
[""]
[""]
[""]
[""]
[{"$f":"IF(E450>0,E450,\"\")","v":""}]
[""]
[""]
[""]
[""]
[""]
[""]
[""]
[""]
[""]
[""]
[""]
[""]
[""]
[""]
[""]
[""]
[""]
[""]
[""]
[""]
[""]
[""]
[""]
[""]
[""]
[""]
[""]
[""]
[""]
[""]
[""]
[""]
[""]
[""]
[""]
[""]
[""]
[""]
[""]
[""]
[""]
[""]
[""]
[""]
[""]
[""]
[""]
[""]
[""]
[""]

{"sheet":"EspelhoIII","index":2,"n_rows":0,"n_cols":0,"rows_kept":0,"cut":false,"hidden":false,"merged":[]}

{"sheet":"Codificador","index":3,"n_rows":500,"n_cols":8,"rows_kept":500,"cut":false,"hidden":false,"merged":[]}
["MÊS/ANO","MÊS","ANO","CODIGO","DESCRICAO","VALOR","COD1","COD2"]
[{"$f":"IF(F2=\"\",\"\",CONCATENATE(B2:B2,\"/\",C2))","v":""},{"$f":"IF(F2=\"\",\"\",IF(Importação!$H$9=\"\",\"\",Importação!$H$9))","v":""},{"$f":"IF(F2=\"\",\"\",IF(Importação!$J$9=\"\",\"\",Importação!$J$9))","v":""},null,{"$f":"IFERROR((VLOOKUP($D2,'Plano de Contas'!$B$2:$E$200,3,FALSE)),\"\")","v":""},null,{"$f":"IF(H2=\"\",\"\",IF(H2=\"1.\",\"FATURAMENTO\",IF(H2=\"10\",\"RECEITA NÃO OPERACIONAL\",\"PAGAMENTOS\")))","v":""},{"$f":"MID(D2,1,2)","v":""}]
[{"$f":"IF(F3=\"\",\"\",CONCATENATE(B3:B3,\"/\",C3))","v":""},{"$f":"IF(F3=\"\",\"\",IF(Importação!$H$9=\"\",\"\",Importação!$H$9))","v":""},{"$f":"IF(F3=\"\",\"\",IF(Importação!$J$9=\"\",\"\",Importação!$J$9))","v":""},null,{"$f":"IFERROR((VLOOKUP($D3,'Plano de Contas'!$B$2:$E$200,3,FALSE)),\"\")","v":""},null,{"$f":"IF(H3=\"\",\"\",IF(H3=\"1.\",\"FATURAMENTO\",IF(H3=\"10\",\"RECEITA NÃO OPERACIONAL\",\"PAGAMENTOS\")))","v":""},{"$f":"MID(D3,1,2)","v":""}]
["",{"$f":"IF(F4=\"\",\"\",IF(Importação!$H$9=\"\",\"\",Importação!$H$9))","v":""},{"$f":"IF(F4=\"\",\"\",IF(Importação!$J$9=\"\",\"\",Importação!$J$9))","v":""},null,{"$f":"IFERROR((VLOOKUP($D4,'Plano de Contas'!$B$2:$E$200,3,FALSE)),\"\")","v":""},null,"",""]
["",{"$f":"IF(F5=\"\",\"\",IF(Importação!$H$9=\"\",\"\",Importação!$H$9))","v":""},{"$f":"IF(F5=\"\",\"\",IF(Importação!$J$9=\"\",\"\",Importação!$J$9))","v":""},null,{"$f":"IFERROR((VLOOKUP($D5,'Plano de Contas'!$B$2:$E$200,3,FALSE)),\"\")","v":""},null,"",""]
["",{"$f":"IF(F6=\"\",\"\",IF(Importação!$H$9=\"\",\"\",Importação!$H$9))","v":""},{"$f":"IF(F6=\"\",\"\",IF(Importação!$J$9=\"\",\"\",Importação!$J$9))","v":""},null,{"$f":"IFERROR((VLOOKUP($D6,'Plano de Contas'!$B$2:$E$200,3,FALSE)),\"\")","v":""},null,"",""]
["",{"$f":"IF(F7=\"\",\"\",IF(Importação!$H$9=\"\",\"\",Importação!$H$9))","v":""},{"$f":"IF(F7=\"\",\"\",IF(Importação!$J$9=\"\",\"\",Importação!$J$9))","v":""},null,{"$f":"IFERROR((VLOOKUP($D7,'Plano de Contas'!$B$2:$E$200,3,FALSE)),\"\")","v":""},null,"",""]
["",{"$f":"IF(F8=\"\",\"\",IF(Importação!$H$9=\"\",\"\",Importação!$H$9))","v":""},{"$f":"IF(F8=\"\",\"\",IF(Importação!$J$9=\"\",\"\",Importação!$J$9))","v":""},null,{"$f":"IFERROR((VLOOKUP($D8,'Plano de Contas'!$B$2:$E$200,3,FALSE)),\"\")","v":""},null,"",""]
["",{"$f":"IF(F9=\"\",\"\",IF(Importação!$H$9=\"\",\"\",Importação!$H$9))","v":""},{"$f":"IF(F9=\"\",\"\",IF(Importação!$J$9=\"\",\"\",Importação!$J$9))","v":""},null,{"$f":"IFERROR((VLOOKUP($D9,'Plano de Contas'!$B$2:$E$200,3,FALSE)),\"\")","v":""},null,"",""]
["",{"$f":"IF(F10=\"\",\"\",IF(Importação!$H$9=\"\",\"\",Importação!$H$9))","v":""},{"$f":"IF(F10=\"\",\"\",IF(Importação!$J$9=\"\",\"\",Importação!$J$9))","v":""},null,{"$f":"IFERROR((VLOOKUP($D10,'Plano de Contas'!$B$2:$E$200,3,FALSE)),\"\")","v":""},null,"",""]
["",{"$f":"IF(F11=\"\",\"\",IF(Importação!$H$9=\"\",\"\",Importação!$H$9))","v":""},{"$f":"IF(F11=\"\",\"\",IF(Importação!$J$9=\"\",\"\",Importação!$J$9))","v":""},null,{"$f":"IFERROR((VLOOKUP($D11,'Plano de Contas'!$B$2:$E$200,3,FALSE)),\"\")","v":""},null,"",""]
["",{"$f":"IF(F12=\"\",\"\",IF(Importação!$H$9=\"\",\"\",Importação!$H$9))","v":""},{"$f":"IF(F12=\"\",\"\",IF(Importação!$J$9=\"\",\"\",Importação!$J$9))","v":""},null,{"$f":"IFERROR((VLOOKUP($D12,'Plano de Contas'!$B$2:$E$200,3,FALSE)),\"\")","v":""},null,"",""]
["",{"$f":"IF(F13=\"\",\"\",IF(Importação!$H$9=\"\",\"\",Importação!$H$9))","v":""},{"$f":"IF(F13=\"\",\"\",IF(Importação!$J$9=\"\",\"\",Importação!$J$9))","v":""},null,{"$f":"IFERROR((VLOOKUP($D13,'Plano de Contas'!$B$2:$E$200,3,FALSE)),\"\")","v":""},null,"",""]
["",{"$f":"IF(F14=\"\",\"\",IF(Importação!$H$9=\"\",\"\",Importação!$H$9))","v":""},{"$f":"IF(F14=\"\",\"\",IF(Importação!$J$9=\"\",\"\",Importação!$J$9))","v":""},null,{"$f":"IFERROR((VLOOKUP($D14,'Plano de Contas'!$B$2:$E$200,3,FALSE)),\"\")","v":""},null,"",""]
["",{"$f":"IF(F15=\"\",\"\",IF(Importação!$H$9=\"\",\"\",Importação!$H$9))","v":""},{"$f":"IF(F15=\"\",\"\",IF(Importação!$J$9=\"\",\"\",Importação!$J$9))","v":""},null,{"$f":"IFERROR((VLOOKUP($D15,'Plano de Contas'!$B$2:$E$200,3,FALSE)),\"\")","v":""},null,"",""]
["",{"$f":"IF(F16=\"\",\"\",IF(Importação!$H$9=\"\",\"\",Importação!$H$9))","v":""},{"$f":"IF(F16=\"\",\"\",IF(Importação!$J$9=\"\",\"\",Importação!$J$9))","v":""},null,{"$f":"IFERROR((VLOOKUP($D16,'Plano de Contas'!$B$2:$E$200,3,FALSE)),\"\")","v":""},null,"",""]
["",{"$f":"IF(F17=\"\",\"\",IF(Importação!$H$9=\"\",\"\",Importação!$H$9))","v":""},{"$f":"IF(F17=\"\",\"\",IF(Importação!$J$9=\"\",\"\",Importação!$J$9))","v":""},null,{"$f":"IFERROR((VLOOKUP($D17,'Plano de Contas'!$B$2:$E$200,3,FALSE)),\"\")","v":""},null,"",""]
["",{"$f":"IF(F18=\"\",\"\",IF(Importação!$H$9=\"\",\"\",Importação!$H$9))","v":""},{"$f":"IF(F18=\"\",\"\",IF(Importação!$J$9=\"\",\"\",Importação!$J$9))","v":""},null,{"$f":"IFERROR((VLOOKUP($D18,'Plano de Contas'!$B$2:$E$200,3,FALSE)),\"\")","v":""},null,"",""]
["",{"$f":"IF(F19=\"\",\"\",IF(Importação!$H$9=\"\",\"\",Importação!$H$9))","v":""},{"$f":"IF(F19=\"\",\"\",IF(Importação!$J$9=\"\",\"\",Importação!$J$9))","v":""},null,{"$f":"IFERROR((VLOOKUP($D19,'Plano de Contas'!$B$2:$E$200,3,FALSE)),\"\")","v":""},null,"",""]
["",{"$f":"IF(F20=\"\",\"\",IF(Importação!$H$9=\"\",\"\",Importação!$H$9))","v":""},{"$f":"IF(F20=\"\",\"\",IF(Importação!$J$9=\"\",\"\",Importação!$J$9))","v":""},null,{"$f":"IFERROR((VLOOKUP($D20,'Plano de Contas'!$B$2:$E$200,3,FALSE)),\"\")","v":""},null,"",""]
["",{"$f":"IF(F21=\"\",\"\",IF(Importação!$H$9=\"\",\"\",Importação!$H$9))","v":""},{"$f":"IF(F21=\"\",\"\",IF(Importação!$J$9=\"\",\"\",Importação!$J$9))","v":""},null,{"$f":"IFERROR((VLOOKUP($D21,'Plano de Contas'!$B$2:$E$200,3,FALSE)),\"\")","v":""},null,"",""]
["",{"$f":"IF(F22=\"\",\"\",IF(Importação!$H$9=\"\",\"\",Importação!$H$9))","v":""},{"$f":"IF(F22=\"\",\"\",IF(Importação!$J$9=\"\",\"\",Importação!$J$9))","v":""},null,{"$f":"IFERROR((VLOOKUP($D22,'Plano de Contas'!$B$2:$E$200,3,FALSE)),\"\")","v":""},null,"",""]
["",{"$f":"IF(F23=\"\",\"\",IF(Importação!$H$9=\"\",\"\",Importação!$H$9))","v":""},{"$f":"IF(F23=\"\",\"\",IF(Importação!$J$9=\"\",\"\",Importação!$J$9))","v":""},null,{"$f":"IFERROR((VLOOKUP($D23,'Plano de Contas'!$B$2:$E$200,3,FALSE)),\"\")","v":""},null,"",""]
["",{"$f":"IF(F24=\"\",\"\",IF(Importação!$H$9=\"\",\"\",Importação!$H$9))","v":""},{"$f":"IF(F24=\"\",\"\",IF(Importação!$J$9=\"\",\"\",Importação!$J$9))","v":""},null,{"$f":"IFERROR((VLOOKUP($D24,'Plano de Contas'!$B$2:$E$200,3,FALSE)),\"\")","v":""},null,"",""]
["",{"$f":"IF(F25=\"\",\"\",IF(Importação!$H$9=\"\",\"\",Importação!$H$9))","v":""},{"$f":"IF(F25=\"\",\"\",IF(Importação!$J$9=\"\",\"\",Importação!$J$9))","v":""},null,{"$f":"IFERROR((VLOOKUP($D25,'Plano de Contas'!$B$2:$E$200,3,FALSE)),\"\")","v":""},null,"",""]
["",{"$f":"IF(F26=\"\",\"\",IF(Importação!$H$9=\"\",\"\",Importação!$H$9))","v":""},{"$f":"IF(F26=\"\",\"\",IF(Importação!$J$9=\"\",\"\",Importação!$J$9))","v":""},null,{"$f":"IFERROR((VLOOKUP($D26,'Plano de Contas'!$B$2:$E$200,3,FALSE)),\"\")","v":""},null,"",""]
["",{"$f":"IF(F27=\"\",\"\",IF(Importação!$H$9=\"\",\"\",Importação!$H$9))","v":""},{"$f":"IF(F27=\"\",\"\",IF(Importação!$J$9=\"\",\"\",Importação!$J$9))","v":""},null,{"$f":"IFERROR((VLOOKUP($D27,'Plano de Contas'!$B$2:$E$200,3,FALSE)),\"\")","v":""},null,"",""]
["",{"$f":"IF(F28=\"\",\"\",IF(Importação!$H$9=\"\",\"\",Importação!$H$9))","v":""},{"$f":"IF(F28=\"\",\"\",IF(Importação!$J$9=\"\",\"\",Importação!$J$9))","v":""},null,{"$f":"IFERROR((VLOOKUP($D28,'Plano de Contas'!$B$2:$E$200,3,FALSE)),\"\")","v":""},null,"",""]
["",{"$f":"IF(F29=\"\",\"\",IF(Importação!$H$9=\"\",\"\",Importação!$H$9))","v":""},{"$f":"IF(F29=\"\",\"\",IF(Importação!$J$9=\"\",\"\",Importação!$J$9))","v":""},null,{"$f":"IFERROR((VLOOKUP($D29,'Plano de Contas'!$B$2:$E$200,3,FALSE)),\"\")","v":""},null,"",""]
["",{"$f":"IF(F30=\"\",\"\",IF(Importação!$H$9=\"\",\"\",Importação!$H$9))","v":""},{"$f":"IF(F30=\"\",\"\",IF(Importação!$J$9=\"\",\"\",Importação!$J$9))","v":""},null,{"$f":"IFERROR((VLOOKUP($D30,'Plano de Contas'!$B$2:$E$200,3,FALSE)),\"\")","v":""},null,"",""]
["",{"$f":"IF(F31=\"\",\"\",IF(Importação!$H$9=\"\",\"\",Importação!$H$9))","v":""},{"$f":"IF(F31=\"\",\"\",IF(Importação!$J$9=\"\",\"\",Importação!$J$9))","v":""},null,{"$f":"IFERROR((VLOOKUP($D31,'Plano de Contas'!$B$2:$E$200,3,FALSE)),\"\")","v":""},null,"",""]
["",{"$f":"IF(F32=\"\",\"\",IF(Importação!$H$9=\"\",\"\",Importação!$H$9))","v":""},{"$f":"IF(F32=\"\",\"\",IF(Importação!$J$9=\"\",\"\",Importação!$J$9))","v":""},null,{"$f":"IFERROR((VLOOKUP($D32,'Plano de Contas'!$B$2:$E$200,3,FALSE)),\"\")","v":""},null,"",""]
["",{"$f":"IF(F33=\"\",\"\",IF(Importação!$H$9=\"\",\"\",Importação!$H$9))","v":""},{"$f":"IF(F33=\"\",\"\",IF(Importação!$J$9=\"\",\"\",Importação!$J$9))","v":""},null,{"$f":"IFERROR((VLOOKUP($D33,'Plano de Contas'!$B$2:$E$200,3,FALSE)),\"\")","v":""},null,"",""]
["",{"$f":"IF(F34=\"\",\"\",IF(Importação!$H$9=\"\",\"\",Importação!$H$9))","v":""},{"$f":"IF(F34=\"\",\"\",IF(Importação!$J$9=\"\",\"\",Importação!$J$9))","v":""},null,{"$f":"IFERROR((VLOOKUP($D34,'Plano de Contas'!$B$2:$E$200,3,FALSE)),\"\")","v":""},null,"",""]
["",{"$f":"IF(F35=\"\",\"\",IF(Importação!$H$9=\"\",\"\",Importação!$H$9))","v":""},{"$f":"IF(F35=\"\",\"\",IF(Importação!$J$9=\"\",\"\",Importação!$J$9))","v":""},null,{"$f":"IFERROR((VLOOKUP($D35,'Plano de Contas'!$B$2:$E$200,3,FALSE)),\"\")","v":""},null,"",""]
["",{"$f":"IF(F36=\"\",\"\",IF(Importação!$H$9=\"\",\"\",Importação!$H$9))","v":""},{"$f":"IF(F36=\"\",\"\",IF(Importação!$J$9=\"\",\"\",Importação!$J$9))","v":""},null,{"$f":"IFERROR((VLOOKUP($D36,'Plano de Contas'!$B$2:$E$200,3,FALSE)),\"\")","v":""},null,"",""]
["",{"$f":"IF(F37=\"\",\"\",IF(Importação!$H$9=\"\",\"\",Importação!$H$9))","v":""},{"$f":"IF(F37=\"\",\"\",IF(Importação!$J$9=\"\",\"\",Importação!$J$9))","v":""},null,{"$f":"IFERROR((VLOOKUP($D37,'Plano de Contas'!$B$2:$E$200,3,FALSE)),\"\")","v":""},null,"",""]
["",{"$f":"IF(F38=\"\",\"\",IF(Importação!$H$9=\"\",\"\",Importação!$H$9))","v":""},{"$f":"IF(F38=\"\",\"\",IF(Importação!$J$9=\"\",\"\",Importação!$J$9))","v":""},null,{"$f":"IFERROR((VLOOKUP($D38,'Plano de Contas'!$B$2:$E$200,3,FALSE)),\"\")","v":""},null,"",""]
["",{"$f":"IF(F39=\"\",\"\",IF(Importação!$H$9=\"\",\"\",Importação!$H$9))","v":""},{"$f":"IF(F39=\"\",\"\",IF(Importação!$J$9=\"\",\"\",Importação!$J$9))","v":""},null,{"$f":"IFERROR((VLOOKUP($D39,'Plano de Contas'!$B$2:$E$200,3,FALSE)),\"\")","v":""},null,"",""]
["",{"$f":"IF(F40=\"\",\"\",IF(Importação!$H$9=\"\",\"\",Importação!$H$9))","v":""},{"$f":"IF(F40=\"\",\"\",IF(Importação!$J$9=\"\",\"\",Importação!$J$9))","v":""},null,{"$f":"IFERROR((VLOOKUP($D40,'Plano de Contas'!$B$2:$E$200,3,FALSE)),\"\")","v":""},null,"",""]
["",{"$f":"IF(F41=\"\",\"\",IF(Importação!$H$9=\"\",\"\",Importação!$H$9))","v":""},{"$f":"IF(F41=\"\",\"\",IF(Importação!$J$9=\"\",\"\",Importação!$J$9))","v":""},null,{"$f":"IFERROR((VLOOKUP($D41,'Plano de Contas'!$B$2:$E$200,3,FALSE)),\"\")","v":""},null,"",""]
["",{"$f":"IF(F42=\"\",\"\",IF(Importação!$H$9=\"\",\"\",Importação!$H$9))","v":""},{"$f":"IF(F42=\"\",\"\",IF(Importação!$J$9=\"\",\"\",Importação!$J$9))","v":""},null,{"$f":"IFERROR((VLOOKUP($D42,'Plano de Contas'!$B$2:$E$200,3,FALSE)),\"\")","v":""},null,"",""]
["",{"$f":"IF(F43=\"\",\"\",IF(Importação!$H$9=\"\",\"\",Importação!$H$9))","v":""},{"$f":"IF(F43=\"\",\"\",IF(Importação!$J$9=\"\",\"\",Importação!$J$9))","v":""},null,{"$f":"IFERROR((VLOOKUP($D43,'Plano de Contas'!$B$2:$E$200,3,FALSE)),\"\")","v":""},null,"",""]
["",{"$f":"IF(F44=\"\",\"\",IF(Importação!$H$9=\"\",\"\",Importação!$H$9))","v":""},{"$f":"IF(F44=\"\",\"\",IF(Importação!$J$9=\"\",\"\",Importação!$J$9))","v":""},null,{"$f":"IFERROR((VLOOKUP($D44,'Plano de Contas'!$B$2:$E$200,3,FALSE)),\"\")","v":""},null,"",""]
["",{"$f":"IF(F45=\"\",\"\",IF(Importação!$H$9=\"\",\"\",Importação!$H$9))","v":""},{"$f":"IF(F45=\"\",\"\",IF(Importação!$J$9=\"\",\"\",Importação!$J$9))","v":""},null,{"$f":"IFERROR((VLOOKUP($D45,'Plano de Contas'!$B$2:$E$200,3,FALSE)),\"\")","v":""},null,"",""]
["",{"$f":"IF(F46=\"\",\"\",IF(Importação!$H$9=\"\",\"\",Importação!$H$9))","v":""},{"$f":"IF(F46=\"\",\"\",IF(Importação!$J$9=\"\",\"\",Importação!$J$9))","v":""},null,{"$f":"IFERROR((VLOOKUP($D46,'Plano de Contas'!$B$2:$E$200,3,FALSE)),\"\")","v":""},null,"",""]
["",{"$f":"IF(F47=\"\",\"\",IF(Importação!$H$9=\"\",\"\",Importação!$H$9))","v":""},{"$f":"IF(F47=\"\",\"\",IF(Importação!$J$9=\"\",\"\",Importação!$J$9))","v":""},null,{"$f":"IFERROR((VLOOKUP($D47,'Plano de Contas'!$B$2:$E$200,3,FALSE)),\"\")","v":""},null,"",""]
["",{"$f":"IF(F48=\"\",\"\",IF(Importação!$H$9=\"\",\"\",Importação!$H$9))","v":""},{"$f":"IF(F48=\"\",\"\",IF(Importação!$J$9=\"\",\"\",Importação!$J$9))","v":""},null,{"$f":"IFERROR((VLOOKUP($D48,'Plano de Contas'!$B$2:$E$200,3,FALSE)),\"\")","v":""},null,"",""]
["",{"$f":"IF(F49=\"\",\"\",IF(Importação!$H$9=\"\",\"\",Importação!$H$9))","v":""},{"$f":"IF(F49=\"\",\"\",IF(Importação!$J$9=\"\",\"\",Importação!$J$9))","v":""},null,{"$f":"IFERROR((VLOOKUP($D49,'Plano de Contas'!$B$2:$E$200,3,FALSE)),\"\")","v":""},null,"",""]
["",{"$f":"IF(F50=\"\",\"\",IF(Importação!$H$9=\"\",\"\",Importação!$H$9))","v":""},{"$f":"IF(F50=\"\",\"\",IF(Importação!$J$9=\"\",\"\",Importação!$J$9))","v":""},null,{"$f":"IFERROR((VLOOKUP($D50,'Plano de Contas'!$B$2:$E$200,3,FALSE)),\"\")","v":""},null,"",""]
["",{"$f":"IF(F51=\"\",\"\",IF(Importação!$H$9=\"\",\"\",Importação!$H$9))","v":""},{"$f":"IF(F51=\"\",\"\",IF(Importação!$J$9=\"\",\"\",Importação!$J$9))","v":""},null,{"$f":"IFERROR((VLOOKUP($D51,'Plano de Contas'!$B$2:$E$200,3,FALSE)),\"\")","v":""},null,"",""]
["",{"$f":"IF(F52=\"\",\"\",IF(Importação!$H$9=\"\",\"\",Importação!$H$9))","v":""},{"$f":"IF(F52=\"\",\"\",IF(Importação!$J$9=\"\",\"\",Importação!$J$9))","v":""},null,{"$f":"IFERROR((VLOOKUP($D52,'Plano de Contas'!$B$2:$E$200,3,FALSE)),\"\")","v":""},null,"",""]
["",{"$f":"IF(F53=\"\",\"\",IF(Importação!$H$9=\"\",\"\",Importação!$H$9))","v":""},{"$f":"IF(F53=\"\",\"\",IF(Importação!$J$9=\"\",\"\",Importação!$J$9))","v":""},null,{"$f":"IFERROR((VLOOKUP($D53,'Plano de Contas'!$B$2:$E$200,3,FALSE)),\"\")","v":""},null,"",""]
["",{"$f":"IF(F54=\"\",\"\",IF(Importação!$H$9=\"\",\"\",Importação!$H$9))","v":""},{"$f":"IF(F54=\"\",\"\",IF(Importação!$J$9=\"\",\"\",Importação!$J$9))","v":""},null,{"$f":"IFERROR((VLOOKUP($D54,'Plano de Contas'!$B$2:$E$200,3,FALSE)),\"\")","v":""},null,"",""]
["",{"$f":"IF(F55=\"\",\"\",IF(Importação!$H$9=\"\",\"\",Importação!$H$9))","v":""},{"$f":"IF(F55=\"\",\"\",IF(Importação!$J$9=\"\",\"\",Importação!$J$9))","v":""},null,{"$f":"IFERROR((VLOOKUP($D55,'Plano de Contas'!$B$2:$E$200,3,FALSE)),\"\")","v":""},null,"",""]
["",{"$f":"IF(F56=\"\",\"\",IF(Importação!$H$9=\"\",\"\",Importação!$H$9))","v":""},{"$f":"IF(F56=\"\",\"\",IF(Importação!$J$9=\"\",\"\",Importação!$J$9))","v":""},null,{"$f":"IFERROR((VLOOKUP($D56,'Plano de Contas'!$B$2:$E$200,3,FALSE)),\"\")","v":""},null,"",""]
["",{"$f":"IF(F57=\"\",\"\",IF(Importação!$H$9=\"\",\"\",Importação!$H$9))","v":""},{"$f":"IF(F57=\"\",\"\",IF(Importação!$J$9=\"\",\"\",Importação!$J$9))","v":""},null,{"$f":"IFERROR((VLOOKUP($D57,'Plano de Contas'!$B$2:$E$200,3,FALSE)),\"\")","v":""},null,"",""]
["",{"$f":"IF(F58=\"\",\"\",IF(Importação!$H$9=\"\",\"\",Importação!$H$9))","v":""},{"$f":"IF(F58=\"\",\"\",IF(Importação!$J$9=\"\",\"\",Importação!$J$9))","v":""},null,{"$f":"IFERROR((VLOOKUP($D58,'Plano de Contas'!$B$2:$E$200,3,FALSE)),\"\")","v":""},null,"",""]
["",{"$f":"IF(F59=\"\",\"\",IF(Importação!$H$9=\"\",\"\",Importação!$H$9))","v":""},{"$f":"IF(F59=\"\",\"\",IF(Importação!$J$9=\"\",\"\",Importação!$J$9))","v":""},null,{"$f":"IFERROR((VLOOKUP($D59,'Plano de Contas'!$B$2:$E$200,3,FALSE)),\"\")","v":""},null,"",""]
["",{"$f":"IF(F60=\"\",\"\",IF(Importação!$H$9=\"\",\"\",Importação!$H$9))","v":""},{"$f":"IF(F60=\"\",\"\",IF(Importação!$J$9=\"\",\"\",Importação!$J$9))","v":""},null,{"$f":"IFERROR((VLOOKUP($D60,'Plano de Contas'!$B$2:$E$200,3,FALSE)),\"\")","v":""},null,"",""]
["",{"$f":"IF(F61=\"\",\"\",IF(Importação!$H$9=\"\",\"\",Importação!$H$9))","v":""},{"$f":"IF(F61=\"\",\"\",IF(Importação!$J$9=\"\",\"\",Importação!$J$9))","v":""},null,{"$f":"IFERROR((VLOOKUP($D61,'Plano de Contas'!$B$2:$E$200,3,FALSE)),\"\")","v":""},null,"",""]
["",{"$f":"IF(F62=\"\",\"\",IF(Importação!$H$9=\"\",\"\",Importação!$H$9))","v":""},{"$f":"IF(F62=\"\",\"\",IF(Importação!$J$9=\"\",\"\",Importação!$J$9))","v":""},null,{"$f":"IFERROR((VLOOKUP($D62,'Plano de Contas'!$B$2:$E$200,3,FALSE)),\"\")","v":""},null,"",""]
["",{"$f":"IF(F63=\"\",\"\",IF(Importação!$H$9=\"\",\"\",Importação!$H$9))","v":""},{"$f":"IF(F63=\"\",\"\",IF(Importação!$J$9=\"\",\"\",Importação!$J$9))","v":""},null,{"$f":"IFERROR((VLOOKUP($D63,'Plano de Contas'!$B$2:$E$200,3,FALSE)),\"\")","v":""},null,"",""]
["",{"$f":"IF(F64=\"\",\"\",IF(Importação!$H$9=\"\",\"\",Importação!$H$9))","v":""},{"$f":"IF(F64=\"\",\"\",IF(Importação!$J$9=\"\",\"\",Importação!$J$9))","v":""},null,{"$f":"IFERROR((VLOOKUP($D64,'Plano de Contas'!$B$2:$E$200,3,FALSE)),\"\")","v":""},null,"",""]
["",{"$f":"IF(F65=\"\",\"\",IF(Importação!$H$9=\"\",\"\",Importação!$H$9))","v":""},{"$f":"IF(F65=\"\",\"\",IF(Importação!$J$9=\"\",\"\",Importação!$J$9))","v":""},null,{"$f":"IFERROR((VLOOKUP($D65,'Plano de Contas'!$B$2:$E$200,3,FALSE)),\"\")","v":""},null,"",""]
["",{"$f":"IF(F66=\"\",\"\",IF(Importação!$H$9=\"\",\"\",Importação!$H$9))","v":""},{"$f":"IF(F66=\"\",\"\",IF(Importação!$J$9=\"\",\"\",Importação!$J$9))","v":""},null,{"$f":"IFERROR((VLOOKUP($D66,'Plano de Contas'!$B$2:$E$200,3,FALSE)),\"\")","v":""},null,"",""]
[{"$f":"IF(F67=\"\",\"\",CONCATENATE(B67:B67,\"/\",C67))","v":""},{"$f":"IF(F67=\"\",\"\",IF(Importação!$H$9=\"\",\"\",Importação!$H$9))","v":""},{"$f":"IF(F67=\"\",\"\",IF(Importação!$J$9=\"\",\"\",Importação!$J$9))","v":""},null,{"$f":"IFERROR((VLOOKUP($D67,'Plano de Contas'!$B$2:$E$200,3,FALSE)),\"\")","v":""},null,{"$f":"IF(H67=\"\",\"\",IF(H67=\"1.\",\"FATURAMENTO\",IF(H67=\"10\",\"RECEITA NÃO OPERACIONAL\",\"PAGAMENTOS\")))","v":""},{"$f":"MID(D67,1,2)","v":""}]
["",{"$f":"IF(F68=\"\",\"\",IF(Importação!$H$9=\"\",\"\",Importação!$H$9))","v":""},{"$f":"IF(F68=\"\",\"\",IF(Importação!$J$9=\"\",\"\",Importação!$J$9))","v":""},null,{"$f":"IFERROR((VLOOKUP($D68,'Plano de Contas'!$B$2:$E$200,3,FALSE)),\"\")","v":""},null,"",""]
["",{"$f":"IF(F69=\"\",\"\",IF(Importação!$H$9=\"\",\"\",Importação!$H$9))","v":""},{"$f":"IF(F69=\"\",\"\",IF(Importação!$J$9=\"\",\"\",Importação!$J$9))","v":""},null,{"$f":"IFERROR((VLOOKUP($D69,'Plano de Contas'!$B$2:$E$200,3,FALSE)),\"\")","v":""},null,"",""]
["",{"$f":"IF(F70=\"\",\"\",IF(Importação!$H$9=\"\",\"\",Importação!$H$9))","v":""},{"$f":"IF(F70=\"\",\"\",IF(Importação!$J$9=\"\",\"\",Importação!$J$9))","v":""},null,{"$f":"IFERROR((VLOOKUP($D70,'Plano de Contas'!$B$2:$E$200,3,FALSE)),\"\")","v":""},null,"",""]
["",{"$f":"IF(F71=\"\",\"\",IF(Importação!$H$9=\"\",\"\",Importação!$H$9))","v":""},{"$f":"IF(F71=\"\",\"\",IF(Importação!$J$9=\"\",\"\",Importação!$J$9))","v":""},null,{"$f":"IFERROR((VLOOKUP($D71,'Plano de Contas'!$B$2:$E$200,3,FALSE)),\"\")","v":""},null,"",""]
["",{"$f":"IF(F72=\"\",\"\",IF(Importação!$H$9=\"\",\"\",Importação!$H$9))","v":""},{"$f":"IF(F72=\"\",\"\",IF(Importação!$J$9=\"\",\"\",Importação!$J$9))","v":""},null,{"$f":"IFERROR((VLOOKUP($D72,'Plano de Contas'!$B$2:$E$200,3,FALSE)),\"\")","v":""},null,"",""]
["",{"$f":"IF(F73=\"\",\"\",IF(Importação!$H$9=\"\",\"\",Importação!$H$9))","v":""},{"$f":"IF(F73=\"\",\"\",IF(Importação!$J$9=\"\",\"\",Importação!$J$9))","v":""},null,{"$f":"IFERROR((VLOOKUP($D73,'Plano de Contas'!$B$2:$E$200,3,FALSE)),\"\")","v":""},null,"",""]
["",{"$f":"IF(F74=\"\",\"\",IF(Importação!$H$9=\"\",\"\",Importação!$H$9))","v":""},{"$f":"IF(F74=\"\",\"\",IF(Importação!$J$9=\"\",\"\",Importação!$J$9))","v":""},null,{"$f":"IFERROR((VLOOKUP($D74,'Plano de Contas'!$B$2:$E$200,3,FALSE)),\"\")","v":""},null,"",""]
["",{"$f":"IF(F75=\"\",\"\",IF(Importação!$H$9=\"\",\"\",Importação!$H$9))","v":""},{"$f":"IF(F75=\"\",\"\",IF(Importação!$J$9=\"\",\"\",Importação!$J$9))","v":""},null,{"$f":"IFERROR((VLOOKUP($D75,'Plano de Contas'!$B$2:$E$200,3,FALSE)),\"\")","v":""},null,"",""]
["",{"$f":"IF(F76=\"\",\"\",IF(Importação!$H$9=\"\",\"\",Importação!$H$9))","v":""},{"$f":"IF(F76=\"\",\"\",IF(Importação!$J$9=\"\",\"\",Importação!$J$9))","v":""},null,{"$f":"IFERROR((VLOOKUP($D76,'Plano de Contas'!$B$2:$E$200,3,FALSE)),\"\")","v":""},null,"",""]
["",{"$f":"IF(F77=\"\",\"\",IF(Importação!$H$9=\"\",\"\",Importação!$H$9))","v":""},{"$f":"IF(F77=\"\",\"\",IF(Importação!$J$9=\"\",\"\",Importação!$J$9))","v":""},null,{"$f":"IFERROR((VLOOKUP($D77,'Plano de Contas'!$B$2:$E$200,3,FALSE)),\"\")","v":""},null,"",""]
["",{"$f":"IF(F78=\"\",\"\",IF(Importação!$H$9=\"\",\"\",Importação!$H$9))","v":""},{"$f":"IF(F78=\"\",\"\",IF(Importação!$J$9=\"\",\"\",Importação!$J$9))","v":""},null,{"$f":"IFERROR((VLOOKUP($D78,'Plano de Contas'!$B$2:$E$200,3,FALSE)),\"\")","v":""},null,"",""]
["",{"$f":"IF(F79=\"\",\"\",IF(Importação!$H$9=\"\",\"\",Importação!$H$9))","v":""},{"$f":"IF(F79=\"\",\"\",IF(Importação!$J$9=\"\",\"\",Importação!$J$9))","v":""},null,{"$f":"IFERROR((VLOOKUP($D79,'Plano de Contas'!$B$2:$E$200,3,FALSE)),\"\")","v":""},null,"",""]
["",{"$f":"IF(F80=\"\",\"\",IF(Importação!$H$9=\"\",\"\",Importação!$H$9))","v":""},{"$f":"IF(F80=\"\",\"\",IF(Importação!$J$9=\"\",\"\",Importação!$J$9))","v":""},null,{"$f":"IFERROR((VLOOKUP($D80,'Plano de Contas'!$B$2:$E$200,3,FALSE)),\"\")","v":""},null,"",""]
["",{"$f":"IF(F81=\"\",\"\",IF(Importação!$H$9=\"\",\"\",Importação!$H$9))","v":""},{"$f":"IF(F81=\"\",\"\",IF(Importação!$J$9=\"\",\"\",Importação!$J$9))","v":""},null,{"$f":"IFERROR((VLOOKUP($D81,'Plano de Contas'!$B$2:$E$200,3,FALSE)),\"\")","v":""},null,"",""]
["",{"$f":"IF(F82=\"\",\"\",IF(Importação!$H$9=\"\",\"\",Importação!$H$9))","v":""},{"$f":"IF(F82=\"\",\"\",IF(Importação!$J$9=\"\",\"\",Importação!$J$9))","v":""},null,{"$f":"IFERROR((VLOOKUP($D82,'Plano de Contas'!$B$2:$E$200,3,FALSE)),\"\")","v":""},null,"",""]
["",{"$f":"IF(F83=\"\",\"\",IF(Importação!$H$9=\"\",\"\",Importação!$H$9))","v":""},{"$f":"IF(F83=\"\",\"\",IF(Importação!$J$9=\"\",\"\",Importação!$J$9))","v":""},null,{"$f":"IFERROR((VLOOKUP($D83,'Plano de Contas'!$B$2:$E$200,3,FALSE)),\"\")","v":""},null,"",""]
["",{"$f":"IF(F84=\"\",\"\",IF(Importação!$H$9=\"\",\"\",Importação!$H$9))","v":""},{"$f":"IF(F84=\"\",\"\",IF(Importação!$J$9=\"\",\"\",Importação!$J$9))","v":""},null,{"$f":"IFERROR((VLOOKUP($D84,'Plano de Contas'!$B$2:$E$200,3,FALSE)),\"\")","v":""},null,"",""]
["",{"$f":"IF(F85=\"\",\"\",IF(Importação!$H$9=\"\",\"\",Importação!$H$9))","v":""},{"$f":"IF(F85=\"\",\"\",IF(Importação!$J$9=\"\",\"\",Importação!$J$9))","v":""},null,{"$f":"IFERROR((VLOOKUP($D85,'Plano de Contas'!$B$2:$E$200,3,FALSE)),\"\")","v":""},null,"",""]
["",{"$f":"IF(F86=\"\",\"\",IF(Importação!$H$9=\"\",\"\",Importação!$H$9))","v":""},{"$f":"IF(F86=\"\",\"\",IF(Importação!$J$9=\"\",\"\",Importação!$J$9))","v":""},null,{"$f":"IFERROR((VLOOKUP($D86,'Plano de Contas'!$B$2:$E$200,3,FALSE)),\"\")","v":""},null,"",""]
["",{"$f":"IF(F87=\"\",\"\",IF(Importação!$H$9=\"\",\"\",Importação!$H$9))","v":""},{"$f":"IF(F87=\"\",\"\",IF(Importação!$J$9=\"\",\"\",Importação!$J$9))","v":""},null,{"$f":"IFERROR((VLOOKUP($D87,'Plano de Contas'!$B$2:$E$200,3,FALSE)),\"\")","v":""},null,"",""]
["",{"$f":"IF(F88=\"\",\"\",IF(Importação!$H$9=\"\",\"\",Importação!$H$9))","v":""},{"$f":"IF(F88=\"\",\"\",IF(Importação!$J$9=\"\",\"\",Importação!$J$9))","v":""},null,{"$f":"IFERROR((VLOOKUP($D88,'Plano de Contas'!$B$2:$E$200,3,FALSE)),\"\")","v":""},null,"",""]
["",{"$f":"IF(F89=\"\",\"\",IF(Importação!$H$9=\"\",\"\",Importação!$H$9))","v":""},{"$f":"IF(F89=\"\",\"\",IF(Importação!$J$9=\"\",\"\",Importação!$J$9))","v":""},null,{"$f":"IFERROR((VLOOKUP($D89,'Plano de Contas'!$B$2:$E$200,3,FALSE)),\"\")","v":""},null,"",""]
["",{"$f":"IF(F90=\"\",\"\",IF(Importação!$H$9=\"\",\"\",Importação!$H$9))","v":""},{"$f":"IF(F90=\"\",\"\",IF(Importação!$J$9=\"\",\"\",Importação!$J$9))","v":""},null,{"$f":"IFERROR((VLOOKUP($D90,'Plano de Contas'!$B$2:$E$200,3,FALSE)),\"\")","v":""},null,"",""]
["",{"$f":"IF(F91=\"\",\"\",IF(Importação!$H$9=\"\",\"\",Importação!$H$9))","v":""},{"$f":"IF(F91=\"\",\"\",IF(Importação!$J$9=\"\",\"\",Importação!$J$9))","v":""},null,{"$f":"IFERROR((VLOOKUP($D91,'Plano de Contas'!$B$2:$E$200,3,FALSE)),\"\")","v":""},null,"",""]
["",{"$f":"IF(F92=\"\",\"\",IF(Importação!$H$9=\"\",\"\",Importação!$H$9))","v":""},{"$f":"IF(F92=\"\",\"\",IF(Importação!$J$9=\"\",\"\",Importação!$J$9))","v":""},null,{"$f":"IFERROR((VLOOKUP($D92,'Plano de Contas'!$B$2:$E$200,3,FALSE)),\"\")","v":""},null,"",""]
["",{"$f":"IF(F93=\"\",\"\",IF(Importação!$H$9=\"\",\"\",Importação!$H$9))","v":""},{"$f":"IF(F93=\"\",\"\",IF(Importação!$J$9=\"\",\"\",Importação!$J$9))","v":""},null,{"$f":"IFERROR((VLOOKUP($D93,'Plano de Contas'!$B$2:$E$200,3,FALSE)),\"\")","v":""},null,"",""]
["",{"$f":"IF(F94=\"\",\"\",IF(Importação!$H$9=\"\",\"\",Importação!$H$9))","v":""},{"$f":"IF(F94=\"\",\"\",IF(Importação!$J$9=\"\",\"\",Importação!$J$9))","v":""},null,{"$f":"IFERROR((VLOOKUP($D94,'Plano de Contas'!$B$2:$E$200,3,FALSE)),\"\")","v":""},null,"",""]
["",{"$f":"IF(F95=\"\",\"\",IF(Importação!$H$9=\"\",\"\",Importação!$H$9))","v":""},{"$f":"IF(F95=\"\",\"\",IF(Importação!$J$9=\"\",\"\",Importação!$J$9))","v":""},null,{"$f":"IFERROR((VLOOKUP($D95,'Plano de Contas'!$B$2:$E$200,3,FALSE)),\"\")","v":""},null,"",""]
["",{"$f":"IF(F96=\"\",\"\",IF(Importação!$H$9=\"\",\"\",Importação!$H$9))","v":""},{"$f":"IF(F96=\"\",\"\",IF(Importação!$J$9=\"\",\"\",Importação!$J$9))","v":""},null,{"$f":"IFERROR((VLOOKUP($D96,'Plano de Contas'!$B$2:$E$200,3,FALSE)),\"\")","v":""},null,"",""]
["",{"$f":"IF(F97=\"\",\"\",IF(Importação!$H$9=\"\",\"\",Importação!$H$9))","v":""},{"$f":"IF(F97=\"\",\"\",IF(Importação!$J$9=\"\",\"\",Importação!$J$9))","v":""},null,{"$f":"IFERROR((VLOOKUP($D97,'Plano de Contas'!$B$2:$E$200,3,FALSE)),\"\")","v":""},null,"",""]
["",{"$f":"IF(F98=\"\",\"\",IF(Importação!$H$9=\"\",\"\",Importação!$H$9))","v":""},{"$f":"IF(F98=\"\",\"\",IF(Importação!$J$9=\"\",\"\",Importação!$J$9))","v":""},null,{"$f":"IFERROR((VLOOKUP($D98,'Plano de Contas'!$B$2:$E$200,3,FALSE)),\"\")","v":""},null,"",""]
["",{"$f":"IF(F99=\"\",\"\",IF(Importação!$H$9=\"\",\"\",Importação!$H$9))","v":""},{"$f":"IF(F99=\"\",\"\",IF(Importação!$J$9=\"\",\"\",Importação!$J$9))","v":""},null,{"$f":"IFERROR((VLOOKUP($D99,'Plano de Contas'!$B$2:$E$200,3,FALSE)),\"\")","v":""},null,"",""]
["",{"$f":"IF(F100=\"\",\"\",IF(Importação!$H$9=\"\",\"\",Importação!$H$9))","v":""},{"$f":"IF(F100=\"\",\"\",IF(Importação!$J$9=\"\",\"\",Importação!$J$9))","v":""},null,{"$f":"IFERROR((VLOOKUP($D100,'Plano de Contas'!$B$2:$E$200,3,FALSE)),\"\")","v":""},null,"",""]
["",{"$f":"IF(F101=\"\",\"\",IF(Importação!$H$9=\"\",\"\",Importação!$H$9))","v":""},{"$f":"IF(F101=\"\",\"\",IF(Importação!$J$9=\"\",\"\",Importação!$J$9))","v":""},null,{"$f":"IFERROR((VLOOKUP($D101,'Plano de Contas'!$B$2:$E$200,3,FALSE)),\"\")","v":""},null,"",""]
["",{"$f":"IF(F102=\"\",\"\",IF(Importação!$H$9=\"\",\"\",Importação!$H$9))","v":""},{"$f":"IF(F102=\"\",\"\",IF(Importação!$J$9=\"\",\"\",Importação!$J$9))","v":""},null,{"$f":"IFERROR((VLOOKUP($D102,'Plano de Contas'!$B$2:$E$200,3,FALSE)),\"\")","v":""},null,"",""]
["",{"$f":"IF(F103=\"\",\"\",IF(Importação!$H$9=\"\",\"\",Importação!$H$9))","v":""},{"$f":"IF(F103=\"\",\"\",IF(Importação!$J$9=\"\",\"\",Importação!$J$9))","v":""},null,{"$f":"IFERROR((VLOOKUP($D103,'Plano de Contas'!$B$2:$E$200,3,FALSE)),\"\")","v":""},null,"",""]
["",{"$f":"IF(F104=\"\",\"\",IF(Importação!$H$9=\"\",\"\",Importação!$H$9))","v":""},{"$f":"IF(F104=\"\",\"\",IF(Importação!$J$9=\"\",\"\",Importação!$J$9))","v":""},null,{"$f":"IFERROR((VLOOKUP($D104,'Plano de Contas'!$B$2:$E$200,3,FALSE)),\"\")","v":""},null,"",""]
["",{"$f":"IF(F105=\"\",\"\",IF(Importação!$H$9=\"\",\"\",Importação!$H$9))","v":""},{"$f":"IF(F105=\"\",\"\",IF(Importação!$J$9=\"\",\"\",Importação!$J$9))","v":""},null,{"$f":"IFERROR((VLOOKUP($D105,'Plano de Contas'!$B$2:$E$200,3,FALSE)),\"\")","v":""},null,"",""]
["",{"$f":"IF(F106=\"\",\"\",IF(Importação!$H$9=\"\",\"\",Importação!$H$9))","v":""},{"$f":"IF(F106=\"\",\"\",IF(Importação!$J$9=\"\",\"\",Importação!$J$9))","v":""},null,{"$f":"IFERROR((VLOOKUP($D106,'Plano de Contas'!$B$2:$E$200,3,FALSE)),\"\")","v":""},null,"",""]
["",{"$f":"IF(F107=\"\",\"\",IF(Importação!$H$9=\"\",\"\",Importação!$H$9))","v":""},{"$f":"IF(F107=\"\",\"\",IF(Importação!$J$9=\"\",\"\",Importação!$J$9))","v":""},null,{"$f":"IFERROR((VLOOKUP($D107,'Plano de Contas'!$B$2:$E$200,3,FALSE)),\"\")","v":""},null,"",""]
["",{"$f":"IF(F108=\"\",\"\",IF(Importação!$H$9=\"\",\"\",Importação!$H$9))","v":""},{"$f":"IF(F108=\"\",\"\",IF(Importação!$J$9=\"\",\"\",Importação!$J$9))","v":""},null,{"$f":"IFERROR((VLOOKUP($D108,'Plano de Contas'!$B$2:$E$200,3,FALSE)),\"\")","v":""},null,"",""]
["",{"$f":"IF(F109=\"\",\"\",IF(Importação!$H$9=\"\",\"\",Importação!$H$9))","v":""},{"$f":"IF(F109=\"\",\"\",IF(Importação!$J$9=\"\",\"\",Importação!$J$9))","v":""},null,{"$f":"IFERROR((VLOOKUP($D109,'Plano de Contas'!$B$2:$E$200,3,FALSE)),\"\")","v":""},null,"",""]
["",{"$f":"IF(F110=\"\",\"\",IF(Importação!$H$9=\"\",\"\",Importação!$H$9))","v":""},{"$f":"IF(F110=\"\",\"\",IF(Importação!$J$9=\"\",\"\",Importação!$J$9))","v":""},null,{"$f":"IFERROR((VLOOKUP($D110,'Plano de Contas'!$B$2:$E$200,3,FALSE)),\"\")","v":""},null,"",""]
["",{"$f":"IF(F111=\"\",\"\",IF(Importação!$H$9=\"\",\"\",Importação!$H$9))","v":""},{"$f":"IF(F111=\"\",\"\",IF(Importação!$J$9=\"\",\"\",Importação!$J$9))","v":""},null,{"$f":"IFERROR((VLOOKUP($D111,'Plano de Contas'!$B$2:$E$200,3,FALSE)),\"\")","v":""},null,"",""]
["",{"$f":"IF(F112=\"\",\"\",IF(Importação!$H$9=\"\",\"\",Importação!$H$9))","v":""},{"$f":"IF(F112=\"\",\"\",IF(Importação!$J$9=\"\",\"\",Importação!$J$9))","v":""},null,{"$f":"IFERROR((VLOOKUP($D112,'Plano de Contas'!$B$2:$E$200,3,FALSE)),\"\")","v":""},null,"",""]
["",{"$f":"IF(F113=\"\",\"\",IF(Importação!$H$9=\"\",\"\",Importação!$H$9))","v":""},{"$f":"IF(F113=\"\",\"\",IF(Importação!$J$9=\"\",\"\",Importação!$J$9))","v":""},null,{"$f":"IFERROR((VLOOKUP($D113,'Plano de Contas'!$B$2:$E$200,3,FALSE)),\"\")","v":""},null,"",""]
["",{"$f":"IF(F114=\"\",\"\",IF(Importação!$H$9=\"\",\"\",Importação!$H$9))","v":""},{"$f":"IF(F114=\"\",\"\",IF(Importação!$J$9=\"\",\"\",Importação!$J$9))","v":""},null,{"$f":"IFERROR((VLOOKUP($D114,'Plano de Contas'!$B$2:$E$200,3,FALSE)),\"\")","v":""},null,"",""]
["",{"$f":"IF(F115=\"\",\"\",IF(Importação!$H$9=\"\",\"\",Importação!$H$9))","v":""},{"$f":"IF(F115=\"\",\"\",IF(Importação!$J$9=\"\",\"\",Importação!$J$9))","v":""},null,{"$f":"IFERROR((VLOOKUP($D115,'Plano de Contas'!$B$2:$E$200,3,FALSE)),\"\")","v":""},null,"",""]
["",{"$f":"IF(F116=\"\",\"\",IF(Importação!$H$9=\"\",\"\",Importação!$H$9))","v":""},{"$f":"IF(F116=\"\",\"\",IF(Importação!$J$9=\"\",\"\",Importação!$J$9))","v":""},null,{"$f":"IFERROR((VLOOKUP($D116,'Plano de Contas'!$B$2:$E$200,3,FALSE)),\"\")","v":""},null,"",""]
["",{"$f":"IF(F117=\"\",\"\",IF(Importação!$H$9=\"\",\"\",Importação!$H$9))","v":""},{"$f":"IF(F117=\"\",\"\",IF(Importação!$J$9=\"\",\"\",Importação!$J$9))","v":""},null,{"$f":"IFERROR((VLOOKUP($D117,'Plano de Contas'!$B$2:$E$200,3,FALSE)),\"\")","v":""},null,"",""]
["",{"$f":"IF(F118=\"\",\"\",IF(Importação!$H$9=\"\",\"\",Importação!$H$9))","v":""},{"$f":"IF(F118=\"\",\"\",IF(Importação!$J$9=\"\",\"\",Importação!$J$9))","v":""},null,{"$f":"IFERROR((VLOOKUP($D118,'Plano de Contas'!$B$2:$E$200,3,FALSE)),\"\")","v":""},null,"",""]
["",{"$f":"IF(F119=\"\",\"\",IF(Importação!$H$9=\"\",\"\",Importação!$H$9))","v":""},{"$f":"IF(F119=\"\",\"\",IF(Importação!$J$9=\"\",\"\",Importação!$J$9))","v":""},null,{"$f":"IFERROR((VLOOKUP($D119,'Plano de Contas'!$B$2:$E$200,3,FALSE)),\"\")","v":""},null,"",""]
["",{"$f":"IF(F120=\"\",\"\",IF(Importação!$H$9=\"\",\"\",Importação!$H$9))","v":""},{"$f":"IF(F120=\"\",\"\",IF(Importação!$J$9=\"\",\"\",Importação!$J$9))","v":""},null,{"$f":"IFERROR((VLOOKUP($D120,'Plano de Contas'!$B$2:$E$200,3,FALSE)),\"\")","v":""},null,"",""]
["",{"$f":"IF(F121=\"\",\"\",IF(Importação!$H$9=\"\",\"\",Importação!$H$9))","v":""},{"$f":"IF(F121=\"\",\"\",IF(Importação!$J$9=\"\",\"\",Importação!$J$9))","v":""},null,{"$f":"IFERROR((VLOOKUP($D121,'Plano de Contas'!$B$2:$E$200,3,FALSE)),\"\")","v":""},null,"",""]
["",{"$f":"IF(F122=\"\",\"\",IF(Importação!$H$9=\"\",\"\",Importação!$H$9))","v":""},{"$f":"IF(F122=\"\",\"\",IF(Importação!$J$9=\"\",\"\",Importação!$J$9))","v":""},null,{"$f":"IFERROR((VLOOKUP($D122,'Plano de Contas'!$B$2:$E$200,3,FALSE)),\"\")","v":""},null,"",""]
["",{"$f":"IF(F123=\"\",\"\",IF(Importação!$H$9=\"\",\"\",Importação!$H$9))","v":""},{"$f":"IF(F123=\"\",\"\",IF(Importação!$J$9=\"\",\"\",Importação!$J$9))","v":""},null,{"$f":"IFERROR((VLOOKUP($D123,'Plano de Contas'!$B$2:$E$200,3,FALSE)),\"\")","v":""},null,"",""]
["",{"$f":"IF(F124=\"\",\"\",IF(Importação!$H$9=\"\",\"\",Importação!$H$9))","v":""},{"$f":"IF(F124=\"\",\"\",IF(Importação!$J$9=\"\",\"\",Importação!$J$9))","v":""},null,{"$f":"IFERROR((VLOOKUP($D124,'Plano de Contas'!$B$2:$E$200,3,FALSE)),\"\")","v":""},null,"",""]
["",{"$f":"IF(F125=\"\",\"\",IF(Importação!$H$9=\"\",\"\",Importação!$H$9))","v":""},{"$f":"IF(F125=\"\",\"\",IF(Importação!$J$9=\"\",\"\",Importação!$J$9))","v":""},null,{"$f":"IFERROR((VLOOKUP($D125,'Plano de Contas'!$B$2:$E$200,3,FALSE)),\"\")","v":""},null,"",""]
["",{"$f":"IF(F126=\"\",\"\",IF(Importação!$H$9=\"\",\"\",Importação!$H$9))","v":""},{"$f":"IF(F126=\"\",\"\",IF(Importação!$J$9=\"\",\"\",Importação!$J$9))","v":""},null,{"$f":"IFERROR((VLOOKUP($D126,'Plano de Contas'!$B$2:$E$200,3,FALSE)),\"\")","v":""},null,"",""]
["",{"$f":"IF(F127=\"\",\"\",IF(Importação!$H$9=\"\",\"\",Importação!$H$9))","v":""},{"$f":"IF(F127=\"\",\"\",IF(Importação!$J$9=\"\",\"\",Importação!$J$9))","v":""},null,{"$f":"IFERROR((VLOOKUP($D127,'Plano de Contas'!$B$2:$E$200,3,FALSE)),\"\")","v":""},null,"",""]
["",{"$f":"IF(F128=\"\",\"\",IF(Importação!$H$9=\"\",\"\",Importação!$H$9))","v":""},{"$f":"IF(F128=\"\",\"\",IF(Importação!$J$9=\"\",\"\",Importação!$J$9))","v":""},null,{"$f":"IFERROR((VLOOKUP($D128,'Plano de Contas'!$B$2:$E$200,3,FALSE)),\"\")","v":""},null,"",""]
["",{"$f":"IF(F129=\"\",\"\",IF(Importação!$H$9=\"\",\"\",Importação!$H$9))","v":""},{"$f":"IF(F129=\"\",\"\",IF(Importação!$J$9=\"\",\"\",Importação!$J$9))","v":""},null,{"$f":"IFERROR((VLOOKUP($D129,'Plano de Contas'!$B$2:$E$200,3,FALSE)),\"\")","v":""},null,"",""]
["",{"$f":"IF(F130=\"\",\"\",IF(Importação!$H$9=\"\",\"\",Importação!$H$9))","v":""},{"$f":"IF(F130=\"\",\"\",IF(Importação!$J$9=\"\",\"\",Importação!$J$9))","v":""},null,{"$f":"IFERROR((VLOOKUP($D130,'Plano de Contas'!$B$2:$E$200,3,FALSE)),\"\")","v":""},null,"",""]
[{"$f":"IF(F131=\"\",\"\",CONCATENATE(B131:B131,\"/\",C131))","v":""},{"$f":"IF(F131=\"\",\"\",IF(Importação!$H$9=\"\",\"\",Importação!$H$9))","v":""},{"$f":"IF(F131=\"\",\"\",IF(Importação!$J$9=\"\",\"\",Importação!$J$9))","v":""},null,{"$f":"IFERROR((VLOOKUP($D131,'Plano de Contas'!$B$2:$E$200,3,FALSE)),\"\")","v":""},null,{"$f":"IF(H131=\"\",\"\",IF(H131=\"1.\",\"FATURAMENTO\",IF(H131=\"10\",\"RECEITA NÃO OPERACIONAL\",\"PAGAMENTOS\")))","v":""},{"$f":"MID(D131,1,2)","v":""}]
["",{"$f":"IF(F132=\"\",\"\",IF(Importação!$H$9=\"\",\"\",Importação!$H$9))","v":""},{"$f":"IF(F132=\"\",\"\",IF(Importação!$J$9=\"\",\"\",Importação!$J$9))","v":""},null,{"$f":"IFERROR((VLOOKUP($D132,'Plano de Contas'!$B$2:$E$200,3,FALSE)),\"\")","v":""},null,"",""]
["",{"$f":"IF(F133=\"\",\"\",IF(Importação!$H$9=\"\",\"\",Importação!$H$9))","v":""},{"$f":"IF(F133=\"\",\"\",IF(Importação!$J$9=\"\",\"\",Importação!$J$9))","v":""},null,{"$f":"IFERROR((VLOOKUP($D133,'Plano de Contas'!$B$2:$E$200,3,FALSE)),\"\")","v":""},null,"",""]
["",{"$f":"IF(F134=\"\",\"\",IF(Importação!$H$9=\"\",\"\",Importação!$H$9))","v":""},{"$f":"IF(F134=\"\",\"\",IF(Importação!$J$9=\"\",\"\",Importação!$J$9))","v":""},null,{"$f":"IFERROR((VLOOKUP($D134,'Plano de Contas'!$B$2:$E$200,3,FALSE)),\"\")","v":""},null,"",""]
["",{"$f":"IF(F135=\"\",\"\",IF(Importação!$H$9=\"\",\"\",Importação!$H$9))","v":""},{"$f":"IF(F135=\"\",\"\",IF(Importação!$J$9=\"\",\"\",Importação!$J$9))","v":""},null,{"$f":"IFERROR((VLOOKUP($D135,'Plano de Contas'!$B$2:$E$200,3,FALSE)),\"\")","v":""},null,"",""]
["",{"$f":"IF(F136=\"\",\"\",IF(Importação!$H$9=\"\",\"\",Importação!$H$9))","v":""},{"$f":"IF(F136=\"\",\"\",IF(Importação!$J$9=\"\",\"\",Importação!$J$9))","v":""},null,{"$f":"IFERROR((VLOOKUP($D136,'Plano de Contas'!$B$2:$E$200,3,FALSE)),\"\")","v":""},null,"",""]
["",{"$f":"IF(F137=\"\",\"\",IF(Importação!$H$9=\"\",\"\",Importação!$H$9))","v":""},{"$f":"IF(F137=\"\",\"\",IF(Importação!$J$9=\"\",\"\",Importação!$J$9))","v":""},null,{"$f":"IFERROR((VLOOKUP($D137,'Plano de Contas'!$B$2:$E$200,3,FALSE)),\"\")","v":""},null,"",""]
["",{"$f":"IF(F138=\"\",\"\",IF(Importação!$H$9=\"\",\"\",Importação!$H$9))","v":""},{"$f":"IF(F138=\"\",\"\",IF(Importação!$J$9=\"\",\"\",Importação!$J$9))","v":""},null,{"$f":"IFERROR((VLOOKUP($D138,'Plano de Contas'!$B$2:$E$200,3,FALSE)),\"\")","v":""},null,"",""]
["",{"$f":"IF(F139=\"\",\"\",IF(Importação!$H$9=\"\",\"\",Importação!$H$9))","v":""},{"$f":"IF(F139=\"\",\"\",IF(Importação!$J$9=\"\",\"\",Importação!$J$9))","v":""},null,{"$f":"IFERROR((VLOOKUP($D139,'Plano de Contas'!$B$2:$E$200,3,FALSE)),\"\")","v":""},null,"",""]
["",{"$f":"IF(F140=\"\",\"\",IF(Importação!$H$9=\"\",\"\",Importação!$H$9))","v":""},{"$f":"IF(F140=\"\",\"\",IF(Importação!$J$9=\"\",\"\",Importação!$J$9))","v":""},null,{"$f":"IFERROR((VLOOKUP($D140,'Plano de Contas'!$B$2:$E$200,3,FALSE)),\"\")","v":""},null,"",""]
["",{"$f":"IF(F141=\"\",\"\",IF(Importação!$H$9=\"\",\"\",Importação!$H$9))","v":""},{"$f":"IF(F141=\"\",\"\",IF(Importação!$J$9=\"\",\"\",Importação!$J$9))","v":""},null,{"$f":"IFERROR((VLOOKUP($D141,'Plano de Contas'!$B$2:$E$200,3,FALSE)),\"\")","v":""},null,"",""]
["",{"$f":"IF(F142=\"\",\"\",IF(Importação!$H$9=\"\",\"\",Importação!$H$9))","v":""},{"$f":"IF(F142=\"\",\"\",IF(Importação!$J$9=\"\",\"\",Importação!$J$9))","v":""},null,{"$f":"IFERROR((VLOOKUP($D142,'Plano de Contas'!$B$2:$E$200,3,FALSE)),\"\")","v":""},null,"",""]
["",{"$f":"IF(F143=\"\",\"\",IF(Importação!$H$9=\"\",\"\",Importação!$H$9))","v":""},{"$f":"IF(F143=\"\",\"\",IF(Importação!$J$9=\"\",\"\",Importação!$J$9))","v":""},null,{"$f":"IFERROR((VLOOKUP($D143,'Plano de Contas'!$B$2:$E$200,3,FALSE)),\"\")","v":""},null,"",""]
["",{"$f":"IF(F144=\"\",\"\",IF(Importação!$H$9=\"\",\"\",Importação!$H$9))","v":""},{"$f":"IF(F144=\"\",\"\",IF(Importação!$J$9=\"\",\"\",Importação!$J$9))","v":""},null,{"$f":"IFERROR((VLOOKUP($D144,'Plano de Contas'!$B$2:$E$200,3,FALSE)),\"\")","v":""},null,"",""]
["",{"$f":"IF(F145=\"\",\"\",IF(Importação!$H$9=\"\",\"\",Importação!$H$9))","v":""},{"$f":"IF(F145=\"\",\"\",IF(Importação!$J$9=\"\",\"\",Importação!$J$9))","v":""},null,{"$f":"IFERROR((VLOOKUP($D145,'Plano de Contas'!$B$2:$E$200,3,FALSE)),\"\")","v":""},null,"",""]
["",{"$f":"IF(F146=\"\",\"\",IF(Importação!$H$9=\"\",\"\",Importação!$H$9))","v":""},{"$f":"IF(F146=\"\",\"\",IF(Importação!$J$9=\"\",\"\",Importação!$J$9))","v":""},null,{"$f":"IFERROR((VLOOKUP($D146,'Plano de Contas'!$B$2:$E$200,3,FALSE)),\"\")","v":""},null,"",""]
["",{"$f":"IF(F147=\"\",\"\",IF(Importação!$H$9=\"\",\"\",Importação!$H$9))","v":""},{"$f":"IF(F147=\"\",\"\",IF(Importação!$J$9=\"\",\"\",Importação!$J$9))","v":""},null,{"$f":"IFERROR((VLOOKUP($D147,'Plano de Contas'!$B$2:$E$200,3,FALSE)),\"\")","v":""},null,"",""]
["",{"$f":"IF(F148=\"\",\"\",IF(Importação!$H$9=\"\",\"\",Importação!$H$9))","v":""},{"$f":"IF(F148=\"\",\"\",IF(Importação!$J$9=\"\",\"\",Importação!$J$9))","v":""},null,{"$f":"IFERROR((VLOOKUP($D148,'Plano de Contas'!$B$2:$E$200,3,FALSE)),\"\")","v":""},null,"",""]
["",{"$f":"IF(F149=\"\",\"\",IF(Importação!$H$9=\"\",\"\",Importação!$H$9))","v":""},{"$f":"IF(F149=\"\",\"\",IF(Importação!$J$9=\"\",\"\",Importação!$J$9))","v":""},null,{"$f":"IFERROR((VLOOKUP($D149,'Plano de Contas'!$B$2:$E$200,3,FALSE)),\"\")","v":""},null,"",""]
["",{"$f":"IF(F150=\"\",\"\",IF(Importação!$H$9=\"\",\"\",Importação!$H$9))","v":""},{"$f":"IF(F150=\"\",\"\",IF(Importação!$J$9=\"\",\"\",Importação!$J$9))","v":""},null,{"$f":"IFERROR((VLOOKUP($D150,'Plano de Contas'!$B$2:$E$200,3,FALSE)),\"\")","v":""},null,"",""]
["",{"$f":"IF(F151=\"\",\"\",IF(Importação!$H$9=\"\",\"\",Importação!$H$9))","v":""},{"$f":"IF(F151=\"\",\"\",IF(Importação!$J$9=\"\",\"\",Importação!$J$9))","v":""},null,{"$f":"IFERROR((VLOOKUP($D151,'Plano de Contas'!$B$2:$E$200,3,FALSE)),\"\")","v":""},null,"",""]
["",{"$f":"IF(F152=\"\",\"\",IF(Importação!$H$9=\"\",\"\",Importação!$H$9))","v":""},{"$f":"IF(F152=\"\",\"\",IF(Importação!$J$9=\"\",\"\",Importação!$J$9))","v":""},null,{"$f":"IFERROR((VLOOKUP($D152,'Plano de Contas'!$B$2:$E$200,3,FALSE)),\"\")","v":""},null,"",""]
["",{"$f":"IF(F153=\"\",\"\",IF(Importação!$H$9=\"\",\"\",Importação!$H$9))","v":""},{"$f":"IF(F153=\"\",\"\",IF(Importação!$J$9=\"\",\"\",Importação!$J$9))","v":""},null,{"$f":"IFERROR((VLOOKUP($D153,'Plano de Contas'!$B$2:$E$200,3,FALSE)),\"\")","v":""},null,"",""]
["",{"$f":"IF(F154=\"\",\"\",IF(Importação!$H$9=\"\",\"\",Importação!$H$9))","v":""},{"$f":"IF(F154=\"\",\"\",IF(Importação!$J$9=\"\",\"\",Importação!$J$9))","v":""},null,{"$f":"IFERROR((VLOOKUP($D154,'Plano de Contas'!$B$2:$E$200,3,FALSE)),\"\")","v":""},null,"",""]
["",{"$f":"IF(F155=\"\",\"\",IF(Importação!$H$9=\"\",\"\",Importação!$H$9))","v":""},{"$f":"IF(F155=\"\",\"\",IF(Importação!$J$9=\"\",\"\",Importação!$J$9))","v":""},null,{"$f":"IFERROR((VLOOKUP($D155,'Plano de Contas'!$B$2:$E$200,3,FALSE)),\"\")","v":""},null,"",""]
["",{"$f":"IF(F156=\"\",\"\",IF(Importação!$H$9=\"\",\"\",Importação!$H$9))","v":""},{"$f":"IF(F156=\"\",\"\",IF(Importação!$J$9=\"\",\"\",Importação!$J$9))","v":""},null,{"$f":"IFERROR((VLOOKUP($D156,'Plano de Contas'!$B$2:$E$200,3,FALSE)),\"\")","v":""},null,"",""]
["",{"$f":"IF(F157=\"\",\"\",IF(Importação!$H$9=\"\",\"\",Importação!$H$9))","v":""},{"$f":"IF(F157=\"\",\"\",IF(Importação!$J$9=\"\",\"\",Importação!$J$9))","v":""},null,{"$f":"IFERROR((VLOOKUP($D157,'Plano de Contas'!$B$2:$E$200,3,FALSE)),\"\")","v":""},null,"",""]
["",{"$f":"IF(F158=\"\",\"\",IF(Importação!$H$9=\"\",\"\",Importação!$H$9))","v":""},{"$f":"IF(F158=\"\",\"\",IF(Importação!$J$9=\"\",\"\",Importação!$J$9))","v":""},null,{"$f":"IFERROR((VLOOKUP($D158,'Plano de Contas'!$B$2:$E$200,3,FALSE)),\"\")","v":""},null,"",""]
["",{"$f":"IF(F159=\"\",\"\",IF(Importação!$H$9=\"\",\"\",Importação!$H$9))","v":""},{"$f":"IF(F159=\"\",\"\",IF(Importação!$J$9=\"\",\"\",Importação!$J$9))","v":""},null,{"$f":"IFERROR((VLOOKUP($D159,'Plano de Contas'!$B$2:$E$200,3,FALSE)),\"\")","v":""},null,"",""]
["",{"$f":"IF(F160=\"\",\"\",IF(Importação!$H$9=\"\",\"\",Importação!$H$9))","v":""},{"$f":"IF(F160=\"\",\"\",IF(Importação!$J$9=\"\",\"\",Importação!$J$9))","v":""},null,{"$f":"IFERROR((VLOOKUP($D160,'Plano de Contas'!$B$2:$E$200,3,FALSE)),\"\")","v":""},null,"",""]
["",{"$f":"IF(F161=\"\",\"\",IF(Importação!$H$9=\"\",\"\",Importação!$H$9))","v":""},{"$f":"IF(F161=\"\",\"\",IF(Importação!$J$9=\"\",\"\",Importação!$J$9))","v":""},null,{"$f":"IFERROR((VLOOKUP($D161,'Plano de Contas'!$B$2:$E$200,3,FALSE)),\"\")","v":""},null,"",""]
["",{"$f":"IF(F162=\"\",\"\",IF(Importação!$H$9=\"\",\"\",Importação!$H$9))","v":""},{"$f":"IF(F162=\"\",\"\",IF(Importação!$J$9=\"\",\"\",Importação!$J$9))","v":""},null,{"$f":"IFERROR((VLOOKUP($D162,'Plano de Contas'!$B$2:$E$200,3,FALSE)),\"\")","v":""},null,"",""]
["",{"$f":"IF(F163=\"\",\"\",IF(Importação!$H$9=\"\",\"\",Importação!$H$9))","v":""},{"$f":"IF(F163=\"\",\"\",IF(Importação!$J$9=\"\",\"\",Importação!$J$9))","v":""},null,{"$f":"IFERROR((VLOOKUP($D163,'Plano de Contas'!$B$2:$E$200,3,FALSE)),\"\")","v":""},null,"",""]
["",{"$f":"IF(F164=\"\",\"\",IF(Importação!$H$9=\"\",\"\",Importação!$H$9))","v":""},{"$f":"IF(F164=\"\",\"\",IF(Importação!$J$9=\"\",\"\",Importação!$J$9))","v":""},null,{"$f":"IFERROR((VLOOKUP($D164,'Plano de Contas'!$B$2:$E$200,3,FALSE)),\"\")","v":""},null,"",""]
["",{"$f":"IF(F165=\"\",\"\",IF(Importação!$H$9=\"\",\"\",Importação!$H$9))","v":""},{"$f":"IF(F165=\"\",\"\",IF(Importação!$J$9=\"\",\"\",Importação!$J$9))","v":""},null,{"$f":"IFERROR((VLOOKUP($D165,'Plano de Contas'!$B$2:$E$200,3,FALSE)),\"\")","v":""},null,"",""]
["",{"$f":"IF(F166=\"\",\"\",IF(Importação!$H$9=\"\",\"\",Importação!$H$9))","v":""},{"$f":"IF(F166=\"\",\"\",IF(Importação!$J$9=\"\",\"\",Importação!$J$9))","v":""},null,{"$f":"IFERROR((VLOOKUP($D166,'Plano de Contas'!$B$2:$E$200,3,FALSE)),\"\")","v":""},null,"",""]
["",{"$f":"IF(F167=\"\",\"\",IF(Importação!$H$9=\"\",\"\",Importação!$H$9))","v":""},{"$f":"IF(F167=\"\",\"\",IF(Importação!$J$9=\"\",\"\",Importação!$J$9))","v":""},null,{"$f":"IFERROR((VLOOKUP($D167,'Plano de Contas'!$B$2:$E$200,3,FALSE)),\"\")","v":""},null,"",""]
["",{"$f":"IF(F168=\"\",\"\",IF(Importação!$H$9=\"\",\"\",Importação!$H$9))","v":""},{"$f":"IF(F168=\"\",\"\",IF(Importação!$J$9=\"\",\"\",Importação!$J$9))","v":""},null,{"$f":"IFERROR((VLOOKUP($D168,'Plano de Contas'!$B$2:$E$200,3,FALSE)),\"\")","v":""},null,"",""]
["",{"$f":"IF(F169=\"\",\"\",IF(Importação!$H$9=\"\",\"\",Importação!$H$9))","v":""},{"$f":"IF(F169=\"\",\"\",IF(Importação!$J$9=\"\",\"\",Importação!$J$9))","v":""},null,{"$f":"IFERROR((VLOOKUP($D169,'Plano de Contas'!$B$2:$E$200,3,FALSE)),\"\")","v":""},null,"",""]
["",{"$f":"IF(F170=\"\",\"\",IF(Importação!$H$9=\"\",\"\",Importação!$H$9))","v":""},{"$f":"IF(F170=\"\",\"\",IF(Importação!$J$9=\"\",\"\",Importação!$J$9))","v":""},null,{"$f":"IFERROR((VLOOKUP($D170,'Plano de Contas'!$B$2:$E$200,3,FALSE)),\"\")","v":""},null,"",""]
["",{"$f":"IF(F171=\"\",\"\",IF(Importação!$H$9=\"\",\"\",Importação!$H$9))","v":""},{"$f":"IF(F171=\"\",\"\",IF(Importação!$J$9=\"\",\"\",Importação!$J$9))","v":""},null,{"$f":"IFERROR((VLOOKUP($D171,'Plano de Contas'!$B$2:$E$200,3,FALSE)),\"\")","v":""},null,"",""]
["",{"$f":"IF(F172=\"\",\"\",IF(Importação!$H$9=\"\",\"\",Importação!$H$9))","v":""},{"$f":"IF(F172=\"\",\"\",IF(Importação!$J$9=\"\",\"\",Importação!$J$9))","v":""},null,{"$f":"IFERROR((VLOOKUP($D172,'Plano de Contas'!$B$2:$E$200,3,FALSE)),\"\")","v":""},null,"",""]
["",{"$f":"IF(F173=\"\",\"\",IF(Importação!$H$9=\"\",\"\",Importação!$H$9))","v":""},{"$f":"IF(F173=\"\",\"\",IF(Importação!$J$9=\"\",\"\",Importação!$J$9))","v":""},null,{"$f":"IFERROR((VLOOKUP($D173,'Plano de Contas'!$B$2:$E$200,3,FALSE)),\"\")","v":""},null,"",""]
["",{"$f":"IF(F174=\"\",\"\",IF(Importação!$H$9=\"\",\"\",Importação!$H$9))","v":""},{"$f":"IF(F174=\"\",\"\",IF(Importação!$J$9=\"\",\"\",Importação!$J$9))","v":""},null,{"$f":"IFERROR((VLOOKUP($D174,'Plano de Contas'!$B$2:$E$200,3,FALSE)),\"\")","v":""},null,"",""]
["",{"$f":"IF(F175=\"\",\"\",IF(Importação!$H$9=\"\",\"\",Importação!$H$9))","v":""},{"$f":"IF(F175=\"\",\"\",IF(Importação!$J$9=\"\",\"\",Importação!$J$9))","v":""},null,{"$f":"IFERROR((VLOOKUP($D175,'Plano de Contas'!$B$2:$E$200,3,FALSE)),\"\")","v":""},null,"",""]
["",{"$f":"IF(F176=\"\",\"\",IF(Importação!$H$9=\"\",\"\",Importação!$H$9))","v":""},{"$f":"IF(F176=\"\",\"\",IF(Importação!$J$9=\"\",\"\",Importação!$J$9))","v":""},null,{"$f":"IFERROR((VLOOKUP($D176,'Plano de Contas'!$B$2:$E$200,3,FALSE)),\"\")","v":""},null,"",""]
["",{"$f":"IF(F177=\"\",\"\",IF(Importação!$H$9=\"\",\"\",Importação!$H$9))","v":""},{"$f":"IF(F177=\"\",\"\",IF(Importação!$J$9=\"\",\"\",Importação!$J$9))","v":""},null,{"$f":"IFERROR((VLOOKUP($D177,'Plano de Contas'!$B$2:$E$200,3,FALSE)),\"\")","v":""},null,"",""]
["",{"$f":"IF(F178=\"\",\"\",IF(Importação!$H$9=\"\",\"\",Importação!$H$9))","v":""},{"$f":"IF(F178=\"\",\"\",IF(Importação!$J$9=\"\",\"\",Importação!$J$9))","v":""},null,{"$f":"IFERROR((VLOOKUP($D178,'Plano de Contas'!$B$2:$E$200,3,FALSE)),\"\")","v":""},null,"",""]
["",{"$f":"IF(F179=\"\",\"\",IF(Importação!$H$9=\"\",\"\",Importação!$H$9))","v":""},{"$f":"IF(F179=\"\",\"\",IF(Importação!$J$9=\"\",\"\",Importação!$J$9))","v":""},null,{"$f":"IFERROR((VLOOKUP($D179,'Plano de Contas'!$B$2:$E$200,3,FALSE)),\"\")","v":""},null,"",""]
["",{"$f":"IF(F180=\"\",\"\",IF(Importação!$H$9=\"\",\"\",Importação!$H$9))","v":""},{"$f":"IF(F180=\"\",\"\",IF(Importação!$J$9=\"\",\"\",Importação!$J$9))","v":""},null,{"$f":"IFERROR((VLOOKUP($D180,'Plano de Contas'!$B$2:$E$200,3,FALSE)),\"\")","v":""},null,"",""]
["",{"$f":"IF(F181=\"\",\"\",IF(Importação!$H$9=\"\",\"\",Importação!$H$9))","v":""},{"$f":"IF(F181=\"\",\"\",IF(Importação!$J$9=\"\",\"\",Importação!$J$9))","v":""},null,{"$f":"IFERROR((VLOOKUP($D181,'Plano de Contas'!$B$2:$E$200,3,FALSE)),\"\")","v":""},null,"",""]
["",{"$f":"IF(F182=\"\",\"\",IF(Importação!$H$9=\"\",\"\",Importação!$H$9))","v":""},{"$f":"IF(F182=\"\",\"\",IF(Importação!$J$9=\"\",\"\",Importação!$J$9))","v":""},null,{"$f":"IFERROR((VLOOKUP($D182,'Plano de Contas'!$B$2:$E$200,3,FALSE)),\"\")","v":""},null,"",""]
["",{"$f":"IF(F183=\"\",\"\",IF(Importação!$H$9=\"\",\"\",Importação!$H$9))","v":""},{"$f":"IF(F183=\"\",\"\",IF(Importação!$J$9=\"\",\"\",Importação!$J$9))","v":""},null,{"$f":"IFERROR((VLOOKUP($D183,'Plano de Contas'!$B$2:$E$200,3,FALSE)),\"\")","v":""},null,"",""]
["",{"$f":"IF(F184=\"\",\"\",IF(Importação!$H$9=\"\",\"\",Importação!$H$9))","v":""},{"$f":"IF(F184=\"\",\"\",IF(Importação!$J$9=\"\",\"\",Importação!$J$9))","v":""},null,{"$f":"IFERROR((VLOOKUP($D184,'Plano de Contas'!$B$2:$E$200,3,FALSE)),\"\")","v":""},null,"",""]
["",{"$f":"IF(F185=\"\",\"\",IF(Importação!$H$9=\"\",\"\",Importação!$H$9))","v":""},{"$f":"IF(F185=\"\",\"\",IF(Importação!$J$9=\"\",\"\",Importação!$J$9))","v":""},null,{"$f":"IFERROR((VLOOKUP($D185,'Plano de Contas'!$B$2:$E$200,3,FALSE)),\"\")","v":""},null,"",""]
["",{"$f":"IF(F186=\"\",\"\",IF(Importação!$H$9=\"\",\"\",Importação!$H$9))","v":""},{"$f":"IF(F186=\"\",\"\",IF(Importação!$J$9=\"\",\"\",Importação!$J$9))","v":""},null,{"$f":"IFERROR((VLOOKUP($D186,'Plano de Contas'!$B$2:$E$200,3,FALSE)),\"\")","v":""},null,"",""]
["",{"$f":"IF(F187=\"\",\"\",IF(Importação!$H$9=\"\",\"\",Importação!$H$9))","v":""},{"$f":"IF(F187=\"\",\"\",IF(Importação!$J$9=\"\",\"\",Importação!$J$9))","v":""},null,{"$f":"IFERROR((VLOOKUP($D187,'Plano de Contas'!$B$2:$E$200,3,FALSE)),\"\")","v":""},null,"",""]
["",{"$f":"IF(F188=\"\",\"\",IF(Importação!$H$9=\"\",\"\",Importação!$H$9))","v":""},{"$f":"IF(F188=\"\",\"\",IF(Importação!$J$9=\"\",\"\",Importação!$J$9))","v":""},null,{"$f":"IFERROR((VLOOKUP($D188,'Plano de Contas'!$B$2:$E$200,3,FALSE)),\"\")","v":""},null,"",""]
["",{"$f":"IF(F189=\"\",\"\",IF(Importação!$H$9=\"\",\"\",Importação!$H$9))","v":""},{"$f":"IF(F189=\"\",\"\",IF(Importação!$J$9=\"\",\"\",Importação!$J$9))","v":""},null,{"$f":"IFERROR((VLOOKUP($D189,'Plano de Contas'!$B$2:$E$200,3,FALSE)),\"\")","v":""},null,"",""]
["",{"$f":"IF(F190=\"\",\"\",IF(Importação!$H$9=\"\",\"\",Importação!$H$9))","v":""},{"$f":"IF(F190=\"\",\"\",IF(Importação!$J$9=\"\",\"\",Importação!$J$9))","v":""},null,{"$f":"IFERROR((VLOOKUP($D190,'Plano de Contas'!$B$2:$E$200,3,FALSE)),\"\")","v":""},null,"",""]
["",{"$f":"IF(F191=\"\",\"\",IF(Importação!$H$9=\"\",\"\",Importação!$H$9))","v":""},{"$f":"IF(F191=\"\",\"\",IF(Importação!$J$9=\"\",\"\",Importação!$J$9))","v":""},null,{"$f":"IFERROR((VLOOKUP($D191,'Plano de Contas'!$B$2:$E$200,3,FALSE)),\"\")","v":""},null,"",""]
["",{"$f":"IF(F192=\"\",\"\",IF(Importação!$H$9=\"\",\"\",Importação!$H$9))","v":""},{"$f":"IF(F192=\"\",\"\",IF(Importação!$J$9=\"\",\"\",Importação!$J$9))","v":""},null,{"$f":"IFERROR((VLOOKUP($D192,'Plano de Contas'!$B$2:$E$200,3,FALSE)),\"\")","v":""},null,"",""]
["",{"$f":"IF(F193=\"\",\"\",IF(Importação!$H$9=\"\",\"\",Importação!$H$9))","v":""},{"$f":"IF(F193=\"\",\"\",IF(Importação!$J$9=\"\",\"\",Importação!$J$9))","v":""},null,{"$f":"IFERROR((VLOOKUP($D193,'Plano de Contas'!$B$2:$E$200,3,FALSE)),\"\")","v":""},null,"",""]
["",{"$f":"IF(F194=\"\",\"\",IF(Importação!$H$9=\"\",\"\",Importação!$H$9))","v":""},{"$f":"IF(F194=\"\",\"\",IF(Importação!$J$9=\"\",\"\",Importação!$J$9))","v":""},null,{"$f":"IFERROR((VLOOKUP($D194,'Plano de Contas'!$B$2:$E$200,3,FALSE)),\"\")","v":""},null,"",""]
[{"$f":"IF(F195=\"\",\"\",CONCATENATE(B195:B195,\"/\",C195))","v":""},{"$f":"IF(F195=\"\",\"\",IF(Importação!$H$9=\"\",\"\",Importação!$H$9))","v":""},{"$f":"IF(F195=\"\",\"\",IF(Importação!$J$9=\"\",\"\",Importação!$J$9))","v":""},null,{"$f":"IFERROR((VLOOKUP($D195,'Plano de Contas'!$B$2:$E$200,3,FALSE)),\"\")","v":""},null,{"$f":"IF(H195=\"\",\"\",IF(H195=\"1.\",\"FATURAMENTO\",IF(H195=\"10\",\"RECEITA NÃO OPERACIONAL\",\"PAGAMENTOS\")))","v":""},{"$f":"MID(D195,1,2)","v":""}]
["",{"$f":"IF(F196=\"\",\"\",IF(Importação!$H$9=\"\",\"\",Importação!$H$9))","v":""},{"$f":"IF(F196=\"\",\"\",IF(Importação!$J$9=\"\",\"\",Importação!$J$9))","v":""},null,{"$f":"IFERROR((VLOOKUP($D196,'Plano de Contas'!$B$2:$E$200,3,FALSE)),\"\")","v":""},null,"",""]
["",{"$f":"IF(F197=\"\",\"\",IF(Importação!$H$9=\"\",\"\",Importação!$H$9))","v":""},{"$f":"IF(F197=\"\",\"\",IF(Importação!$J$9=\"\",\"\",Importação!$J$9))","v":""},null,{"$f":"IFERROR((VLOOKUP($D197,'Plano de Contas'!$B$2:$E$200,3,FALSE)),\"\")","v":""},null,"",""]
["",{"$f":"IF(F198=\"\",\"\",IF(Importação!$H$9=\"\",\"\",Importação!$H$9))","v":""},{"$f":"IF(F198=\"\",\"\",IF(Importação!$J$9=\"\",\"\",Importação!$J$9))","v":""},null,{"$f":"IFERROR((VLOOKUP($D198,'Plano de Contas'!$B$2:$E$200,3,FALSE)),\"\")","v":""},null,"",""]
["",{"$f":"IF(F199=\"\",\"\",IF(Importação!$H$9=\"\",\"\",Importação!$H$9))","v":""},{"$f":"IF(F199=\"\",\"\",IF(Importação!$J$9=\"\",\"\",Importação!$J$9))","v":""},null,{"$f":"IFERROR((VLOOKUP($D199,'Plano de Contas'!$B$2:$E$200,3,FALSE)),\"\")","v":""},null,"",""]
["",{"$f":"IF(F200=\"\",\"\",IF(Importação!$H$9=\"\",\"\",Importação!$H$9))","v":""},{"$f":"IF(F200=\"\",\"\",IF(Importação!$J$9=\"\",\"\",Importação!$J$9))","v":""},null,{"$f":"IFERROR((VLOOKUP($D200,'Plano de Contas'!$B$2:$E$200,3,FALSE)),\"\")","v":""},null,"",""]
["",{"$f":"IF(F201=\"\",\"\",IF(Importação!$H$9=\"\",\"\",Importação!$H$9))","v":""},{"$f":"IF(F201=\"\",\"\",IF(Importação!$J$9=\"\",\"\",Importação!$J$9))","v":""},null,{"$f":"IFERROR((VLOOKUP($D201,'Plano de Contas'!$B$2:$E$200,3,FALSE)),\"\")","v":""},null,"",""]
["",{"$f":"IF(F202=\"\",\"\",IF(Importação!$H$9=\"\",\"\",Importação!$H$9))","v":""},{"$f":"IF(F202=\"\",\"\",IF(Importação!$J$9=\"\",\"\",Importação!$J$9))","v":""},null,{"$f":"IFERROR((VLOOKUP($D202,'Plano de Contas'!$B$2:$E$200,3,FALSE)),\"\")","v":""},null,"",""]
["",{"$f":"IF(F203=\"\",\"\",IF(Importação!$H$9=\"\",\"\",Importação!$H$9))","v":""},{"$f":"IF(F203=\"\",\"\",IF(Importação!$J$9=\"\",\"\",Importação!$J$9))","v":""},null,{"$f":"IFERROR((VLOOKUP($D203,'Plano de Contas'!$B$2:$E$200,3,FALSE)),\"\")","v":""},null,"",""]
["",{"$f":"IF(F204=\"\",\"\",IF(Importação!$H$9=\"\",\"\",Importação!$H$9))","v":""},{"$f":"IF(F204=\"\",\"\",IF(Importação!$J$9=\"\",\"\",Importação!$J$9))","v":""},null,{"$f":"IFERROR((VLOOKUP($D204,'Plano de Contas'!$B$2:$E$200,3,FALSE)),\"\")","v":""},null,"",""]
["",{"$f":"IF(F205=\"\",\"\",IF(Importação!$H$9=\"\",\"\",Importação!$H$9))","v":""},{"$f":"IF(F205=\"\",\"\",IF(Importação!$J$9=\"\",\"\",Importação!$J$9))","v":""},null,{"$f":"IFERROR((VLOOKUP($D205,'Plano de Contas'!$B$2:$E$200,3,FALSE)),\"\")","v":""},null,"",""]
["",{"$f":"IF(F206=\"\",\"\",IF(Importação!$H$9=\"\",\"\",Importação!$H$9))","v":""},{"$f":"IF(F206=\"\",\"\",IF(Importação!$J$9=\"\",\"\",Importação!$J$9))","v":""},null,{"$f":"IFERROR((VLOOKUP($D206,'Plano de Contas'!$B$2:$E$200,3,FALSE)),\"\")","v":""},null,"",""]
["",{"$f":"IF(F207=\"\",\"\",IF(Importação!$H$9=\"\",\"\",Importação!$H$9))","v":""},{"$f":"IF(F207=\"\",\"\",IF(Importação!$J$9=\"\",\"\",Importação!$J$9))","v":""},null,{"$f":"IFERROR((VLOOKUP($D207,'Plano de Contas'!$B$2:$E$200,3,FALSE)),\"\")","v":""},null,"",""]
["",{"$f":"IF(F208=\"\",\"\",IF(Importação!$H$9=\"\",\"\",Importação!$H$9))","v":""},{"$f":"IF(F208=\"\",\"\",IF(Importação!$J$9=\"\",\"\",Importação!$J$9))","v":""},null,{"$f":"IFERROR((VLOOKUP($D208,'Plano de Contas'!$B$2:$E$200,3,FALSE)),\"\")","v":""},null,"",""]
["",{"$f":"IF(F209=\"\",\"\",IF(Importação!$H$9=\"\",\"\",Importação!$H$9))","v":""},{"$f":"IF(F209=\"\",\"\",IF(Importação!$J$9=\"\",\"\",Importação!$J$9))","v":""},null,{"$f":"IFERROR((VLOOKUP($D209,'Plano de Contas'!$B$2:$E$200,3,FALSE)),\"\")","v":""},null,"",""]
["",{"$f":"IF(F210=\"\",\"\",IF(Importação!$H$9=\"\",\"\",Importação!$H$9))","v":""},{"$f":"IF(F210=\"\",\"\",IF(Importação!$J$9=\"\",\"\",Importação!$J$9))","v":""},null,{"$f":"IFERROR((VLOOKUP($D210,'Plano de Contas'!$B$2:$E$200,3,FALSE)),\"\")","v":""},null,"",""]
["",{"$f":"IF(F211=\"\",\"\",IF(Importação!$H$9=\"\",\"\",Importação!$H$9))","v":""},{"$f":"IF(F211=\"\",\"\",IF(Importação!$J$9=\"\",\"\",Importação!$J$9))","v":""},null,{"$f":"IFERROR((VLOOKUP($D211,'Plano de Contas'!$B$2:$E$200,3,FALSE)),\"\")","v":""},null,"",""]
["",{"$f":"IF(F212=\"\",\"\",IF(Importação!$H$9=\"\",\"\",Importação!$H$9))","v":""},{"$f":"IF(F212=\"\",\"\",IF(Importação!$J$9=\"\",\"\",Importação!$J$9))","v":""},null,{"$f":"IFERROR((VLOOKUP($D212,'Plano de Contas'!$B$2:$E$200,3,FALSE)),\"\")","v":""},null,"",""]
["",{"$f":"IF(F213=\"\",\"\",IF(Importação!$H$9=\"\",\"\",Importação!$H$9))","v":""},{"$f":"IF(F213=\"\",\"\",IF(Importação!$J$9=\"\",\"\",Importação!$J$9))","v":""},null,{"$f":"IFERROR((VLOOKUP($D213,'Plano de Contas'!$B$2:$E$200,3,FALSE)),\"\")","v":""},null,"",""]
["",{"$f":"IF(F214=\"\",\"\",IF(Importação!$H$9=\"\",\"\",Importação!$H$9))","v":""},{"$f":"IF(F214=\"\",\"\",IF(Importação!$J$9=\"\",\"\",Importação!$J$9))","v":""},null,{"$f":"IFERROR((VLOOKUP($D214,'Plano de Contas'!$B$2:$E$200,3,FALSE)),\"\")","v":""},null,"",""]
["",{"$f":"IF(F215=\"\",\"\",IF(Importação!$H$9=\"\",\"\",Importação!$H$9))","v":""},{"$f":"IF(F215=\"\",\"\",IF(Importação!$J$9=\"\",\"\",Importação!$J$9))","v":""},null,{"$f":"IFERROR((VLOOKUP($D215,'Plano de Contas'!$B$2:$E$200,3,FALSE)),\"\")","v":""},null,"",""]
["",{"$f":"IF(F216=\"\",\"\",IF(Importação!$H$9=\"\",\"\",Importação!$H$9))","v":""},{"$f":"IF(F216=\"\",\"\",IF(Importação!$J$9=\"\",\"\",Importação!$J$9))","v":""},null,{"$f":"IFERROR((VLOOKUP($D216,'Plano de Contas'!$B$2:$E$200,3,FALSE)),\"\")","v":""},null,"",""]
["",{"$f":"IF(F217=\"\",\"\",IF(Importação!$H$9=\"\",\"\",Importação!$H$9))","v":""},{"$f":"IF(F217=\"\",\"\",IF(Importação!$J$9=\"\",\"\",Importação!$J$9))","v":""},null,{"$f":"IFERROR((VLOOKUP($D217,'Plano de Contas'!$B$2:$E$200,3,FALSE)),\"\")","v":""},null,"",""]
["",{"$f":"IF(F218=\"\",\"\",IF(Importação!$H$9=\"\",\"\",Importação!$H$9))","v":""},{"$f":"IF(F218=\"\",\"\",IF(Importação!$J$9=\"\",\"\",Importação!$J$9))","v":""},null,{"$f":"IFERROR((VLOOKUP($D218,'Plano de Contas'!$B$2:$E$200,3,FALSE)),\"\")","v":""},null,"",""]
["",{"$f":"IF(F219=\"\",\"\",IF(Importação!$H$9=\"\",\"\",Importação!$H$9))","v":""},{"$f":"IF(F219=\"\",\"\",IF(Importação!$J$9=\"\",\"\",Importação!$J$9))","v":""},null,{"$f":"IFERROR((VLOOKUP($D219,'Plano de Contas'!$B$2:$E$200,3,FALSE)),\"\")","v":""},null,"",""]
["",{"$f":"IF(F220=\"\",\"\",IF(Importação!$H$9=\"\",\"\",Importação!$H$9))","v":""},{"$f":"IF(F220=\"\",\"\",IF(Importação!$J$9=\"\",\"\",Importação!$J$9))","v":""},null,{"$f":"IFERROR((VLOOKUP($D220,'Plano de Contas'!$B$2:$E$200,3,FALSE)),\"\")","v":""},null,"",""]
["",{"$f":"IF(F221=\"\",\"\",IF(Importação!$H$9=\"\",\"\",Importação!$H$9))","v":""},{"$f":"IF(F221=\"\",\"\",IF(Importação!$J$9=\"\",\"\",Importação!$J$9))","v":""},null,{"$f":"IFERROR((VLOOKUP($D221,'Plano de Contas'!$B$2:$E$200,3,FALSE)),\"\")","v":""},null,"",""]
["",{"$f":"IF(F222=\"\",\"\",IF(Importação!$H$9=\"\",\"\",Importação!$H$9))","v":""},{"$f":"IF(F222=\"\",\"\",IF(Importação!$J$9=\"\",\"\",Importação!$J$9))","v":""},null,{"$f":"IFERROR((VLOOKUP($D222,'Plano de Contas'!$B$2:$E$200,3,FALSE)),\"\")","v":""},null,"",""]
["",{"$f":"IF(F223=\"\",\"\",IF(Importação!$H$9=\"\",\"\",Importação!$H$9))","v":""},{"$f":"IF(F223=\"\",\"\",IF(Importação!$J$9=\"\",\"\",Importação!$J$9))","v":""},null,{"$f":"IFERROR((VLOOKUP($D223,'Plano de Contas'!$B$2:$E$200,3,FALSE)),\"\")","v":""},null,"",""]
["",{"$f":"IF(F224=\"\",\"\",IF(Importação!$H$9=\"\",\"\",Importação!$H$9))","v":""},{"$f":"IF(F224=\"\",\"\",IF(Importação!$J$9=\"\",\"\",Importação!$J$9))","v":""},null,{"$f":"IFERROR((VLOOKUP($D224,'Plano de Contas'!$B$2:$E$200,3,FALSE)),\"\")","v":""},null,"",""]
["",{"$f":"IF(F225=\"\",\"\",IF(Importação!$H$9=\"\",\"\",Importação!$H$9))","v":""},{"$f":"IF(F225=\"\",\"\",IF(Importação!$J$9=\"\",\"\",Importação!$J$9))","v":""},null,{"$f":"IFERROR((VLOOKUP($D225,'Plano de Contas'!$B$2:$E$200,3,FALSE)),\"\")","v":""},null,"",""]
["",{"$f":"IF(F226=\"\",\"\",IF(Importação!$H$9=\"\",\"\",Importação!$H$9))","v":""},{"$f":"IF(F226=\"\",\"\",IF(Importação!$J$9=\"\",\"\",Importação!$J$9))","v":""},null,{"$f":"IFERROR((VLOOKUP($D226,'Plano de Contas'!$B$2:$E$200,3,FALSE)),\"\")","v":""},null,"",""]
["",{"$f":"IF(F227=\"\",\"\",IF(Importação!$H$9=\"\",\"\",Importação!$H$9))","v":""},{"$f":"IF(F227=\"\",\"\",IF(Importação!$J$9=\"\",\"\",Importação!$J$9))","v":""},null,{"$f":"IFERROR((VLOOKUP($D227,'Plano de Contas'!$B$2:$E$200,3,FALSE)),\"\")","v":""},null,"",""]
["",{"$f":"IF(F228=\"\",\"\",IF(Importação!$H$9=\"\",\"\",Importação!$H$9))","v":""},{"$f":"IF(F228=\"\",\"\",IF(Importação!$J$9=\"\",\"\",Importação!$J$9))","v":""},null,{"$f":"IFERROR((VLOOKUP($D228,'Plano de Contas'!$B$2:$E$200,3,FALSE)),\"\")","v":""},null,"",""]
["",{"$f":"IF(F229=\"\",\"\",IF(Importação!$H$9=\"\",\"\",Importação!$H$9))","v":""},{"$f":"IF(F229=\"\",\"\",IF(Importação!$J$9=\"\",\"\",Importação!$J$9))","v":""},null,{"$f":"IFERROR((VLOOKUP($D229,'Plano de Contas'!$B$2:$E$200,3,FALSE)),\"\")","v":""},null,"",""]
["",{"$f":"IF(F230=\"\",\"\",IF(Importação!$H$9=\"\",\"\",Importação!$H$9))","v":""},{"$f":"IF(F230=\"\",\"\",IF(Importação!$J$9=\"\",\"\",Importação!$J$9))","v":""},null,{"$f":"IFERROR((VLOOKUP($D230,'Plano de Contas'!$B$2:$E$200,3,FALSE)),\"\")","v":""},null,"",""]
["",{"$f":"IF(F231=\"\",\"\",IF(Importação!$H$9=\"\",\"\",Importação!$H$9))","v":""},{"$f":"IF(F231=\"\",\"\",IF(Importação!$J$9=\"\",\"\",Importação!$J$9))","v":""},null,{"$f":"IFERROR((VLOOKUP($D231,'Plano de Contas'!$B$2:$E$200,3,FALSE)),\"\")","v":""},null,"",""]
["",{"$f":"IF(F232=\"\",\"\",IF(Importação!$H$9=\"\",\"\",Importação!$H$9))","v":""},{"$f":"IF(F232=\"\",\"\",IF(Importação!$J$9=\"\",\"\",Importação!$J$9))","v":""},null,{"$f":"IFERROR((VLOOKUP($D232,'Plano de Contas'!$B$2:$E$200,3,FALSE)),\"\")","v":""},null,"",""]
["",{"$f":"IF(F233=\"\",\"\",IF(Importação!$H$9=\"\",\"\",Importação!$H$9))","v":""},{"$f":"IF(F233=\"\",\"\",IF(Importação!$J$9=\"\",\"\",Importação!$J$9))","v":""},null,{"$f":"IFERROR((VLOOKUP($D233,'Plano de Contas'!$B$2:$E$200,3,FALSE)),\"\")","v":""},null,"",""]
["",{"$f":"IF(F234=\"\",\"\",IF(Importação!$H$9=\"\",\"\",Importação!$H$9))","v":""},{"$f":"IF(F234=\"\",\"\",IF(Importação!$J$9=\"\",\"\",Importação!$J$9))","v":""},null,{"$f":"IFERROR((VLOOKUP($D234,'Plano de Contas'!$B$2:$E$200,3,FALSE)),\"\")","v":""},null,"",""]
["",{"$f":"IF(F235=\"\",\"\",IF(Importação!$H$9=\"\",\"\",Importação!$H$9))","v":""},{"$f":"IF(F235=\"\",\"\",IF(Importação!$J$9=\"\",\"\",Importação!$J$9))","v":""},null,{"$f":"IFERROR((VLOOKUP($D235,'Plano de Contas'!$B$2:$E$200,3,FALSE)),\"\")","v":""},null,"",""]
["",{"$f":"IF(F236=\"\",\"\",IF(Importação!$H$9=\"\",\"\",Importação!$H$9))","v":""},{"$f":"IF(F236=\"\",\"\",IF(Importação!$J$9=\"\",\"\",Importação!$J$9))","v":""},null,{"$f":"IFERROR((VLOOKUP($D236,'Plano de Contas'!$B$2:$E$200,3,FALSE)),\"\")","v":""},null,"",""]
["",{"$f":"IF(F237=\"\",\"\",IF(Importação!$H$9=\"\",\"\",Importação!$H$9))","v":""},{"$f":"IF(F237=\"\",\"\",IF(Importação!$J$9=\"\",\"\",Importação!$J$9))","v":""},null,{"$f":"IFERROR((VLOOKUP($D237,'Plano de Contas'!$B$2:$E$200,3,FALSE)),\"\")","v":""},null,"",""]
["",{"$f":"IF(F238=\"\",\"\",IF(Importação!$H$9=\"\",\"\",Importação!$H$9))","v":""},{"$f":"IF(F238=\"\",\"\",IF(Importação!$J$9=\"\",\"\",Importação!$J$9))","v":""},null,{"$f":"IFERROR((VLOOKUP($D238,'Plano de Contas'!$B$2:$E$200,3,FALSE)),\"\")","v":""},null,"",""]
["",{"$f":"IF(F239=\"\",\"\",IF(Importação!$H$9=\"\",\"\",Importação!$H$9))","v":""},{"$f":"IF(F239=\"\",\"\",IF(Importação!$J$9=\"\",\"\",Importação!$J$9))","v":""},null,{"$f":"IFERROR((VLOOKUP($D239,'Plano de Contas'!$B$2:$E$200,3,FALSE)),\"\")","v":""},null,"",""]
["",{"$f":"IF(F240=\"\",\"\",IF(Importação!$H$9=\"\",\"\",Importação!$H$9))","v":""},{"$f":"IF(F240=\"\",\"\",IF(Importação!$J$9=\"\",\"\",Importação!$J$9))","v":""},null,{"$f":"IFERROR((VLOOKUP($D240,'Plano de Contas'!$B$2:$E$200,3,FALSE)),\"\")","v":""},null,"",""]
["",{"$f":"IF(F241=\"\",\"\",IF(Importação!$H$9=\"\",\"\",Importação!$H$9))","v":""},{"$f":"IF(F241=\"\",\"\",IF(Importação!$J$9=\"\",\"\",Importação!$J$9))","v":""},null,{"$f":"IFERROR((VLOOKUP($D241,'Plano de Contas'!$B$2:$E$200,3,FALSE)),\"\")","v":""},null,"",""]
["",{"$f":"IF(F242=\"\",\"\",IF(Importação!$H$9=\"\",\"\",Importação!$H$9))","v":""},{"$f":"IF(F242=\"\",\"\",IF(Importação!$J$9=\"\",\"\",Importação!$J$9))","v":""},null,{"$f":"IFERROR((VLOOKUP($D242,'Plano de Contas'!$B$2:$E$200,3,FALSE)),\"\")","v":""},null,"",""]
["",{"$f":"IF(F243=\"\",\"\",IF(Importação!$H$9=\"\",\"\",Importação!$H$9))","v":""},{"$f":"IF(F243=\"\",\"\",IF(Importação!$J$9=\"\",\"\",Importação!$J$9))","v":""},null,{"$f":"IFERROR((VLOOKUP($D243,'Plano de Contas'!$B$2:$E$200,3,FALSE)),\"\")","v":""},null,"",""]
["",{"$f":"IF(F244=\"\",\"\",IF(Importação!$H$9=\"\",\"\",Importação!$H$9))","v":""},{"$f":"IF(F244=\"\",\"\",IF(Importação!$J$9=\"\",\"\",Importação!$J$9))","v":""},null,{"$f":"IFERROR((VLOOKUP($D244,'Plano de Contas'!$B$2:$E$200,3,FALSE)),\"\")","v":""},null,"",""]
["",{"$f":"IF(F245=\"\",\"\",IF(Importação!$H$9=\"\",\"\",Importação!$H$9))","v":""},{"$f":"IF(F245=\"\",\"\",IF(Importação!$J$9=\"\",\"\",Importação!$J$9))","v":""},null,{"$f":"IFERROR((VLOOKUP($D245,'Plano de Contas'!$B$2:$E$200,3,FALSE)),\"\")","v":""},null,"",""]
["",{"$f":"IF(F246=\"\",\"\",IF(Importação!$H$9=\"\",\"\",Importação!$H$9))","v":""},{"$f":"IF(F246=\"\",\"\",IF(Importação!$J$9=\"\",\"\",Importação!$J$9))","v":""},null,{"$f":"IFERROR((VLOOKUP($D246,'Plano de Contas'!$B$2:$E$200,3,FALSE)),\"\")","v":""},null,"",""]
["",{"$f":"IF(F247=\"\",\"\",IF(Importação!$H$9=\"\",\"\",Importação!$H$9))","v":""},{"$f":"IF(F247=\"\",\"\",IF(Importação!$J$9=\"\",\"\",Importação!$J$9))","v":""},null,{"$f":"IFERROR((VLOOKUP($D247,'Plano de Contas'!$B$2:$E$200,3,FALSE)),\"\")","v":""},null,"",""]
["",{"$f":"IF(F248=\"\",\"\",IF(Importação!$H$9=\"\",\"\",Importação!$H$9))","v":""},{"$f":"IF(F248=\"\",\"\",IF(Importação!$J$9=\"\",\"\",Importação!$J$9))","v":""},null,{"$f":"IFERROR((VLOOKUP($D248,'Plano de Contas'!$B$2:$E$200,3,FALSE)),\"\")","v":""},null,"",""]
["",{"$f":"IF(F249=\"\",\"\",IF(Importação!$H$9=\"\",\"\",Importação!$H$9))","v":""},{"$f":"IF(F249=\"\",\"\",IF(Importação!$J$9=\"\",\"\",Importação!$J$9))","v":""},null,{"$f":"IFERROR((VLOOKUP($D249,'Plano de Contas'!$B$2:$E$200,3,FALSE)),\"\")","v":""},null,"",""]
["",{"$f":"IF(F250=\"\",\"\",IF(Importação!$H$9=\"\",\"\",Importação!$H$9))","v":""},{"$f":"IF(F250=\"\",\"\",IF(Importação!$J$9=\"\",\"\",Importação!$J$9))","v":""},null,{"$f":"IFERROR((VLOOKUP($D250,'Plano de Contas'!$B$2:$E$200,3,FALSE)),\"\")","v":""},null,"",""]
["",{"$f":"IF(F251=\"\",\"\",IF(Importação!$H$9=\"\",\"\",Importação!$H$9))","v":""},{"$f":"IF(F251=\"\",\"\",IF(Importação!$J$9=\"\",\"\",Importação!$J$9))","v":""},null,{"$f":"IFERROR((VLOOKUP($D251,'Plano de Contas'!$B$2:$E$200,3,FALSE)),\"\")","v":""},null,"",""]
["",{"$f":"IF(F252=\"\",\"\",IF(Importação!$H$9=\"\",\"\",Importação!$H$9))","v":""},{"$f":"IF(F252=\"\",\"\",IF(Importação!$J$9=\"\",\"\",Importação!$J$9))","v":""},null,{"$f":"IFERROR((VLOOKUP($D252,'Plano de Contas'!$B$2:$E$200,3,FALSE)),\"\")","v":""},null,"",""]
["",{"$f":"IF(F253=\"\",\"\",IF(Importação!$H$9=\"\",\"\",Importação!$H$9))","v":""},{"$f":"IF(F253=\"\",\"\",IF(Importação!$J$9=\"\",\"\",Importação!$J$9))","v":""},null,{"$f":"IFERROR((VLOOKUP($D253,'Plano de Contas'!$B$2:$E$200,3,FALSE)),\"\")","v":""},null,"",""]
["",{"$f":"IF(F254=\"\",\"\",IF(Importação!$H$9=\"\",\"\",Importação!$H$9))","v":""},{"$f":"IF(F254=\"\",\"\",IF(Importação!$J$9=\"\",\"\",Importação!$J$9))","v":""},null,{"$f":"IFERROR((VLOOKUP($D254,'Plano de Contas'!$B$2:$E$200,3,FALSE)),\"\")","v":""},null,"",""]
["",{"$f":"IF(F255=\"\",\"\",IF(Importação!$H$9=\"\",\"\",Importação!$H$9))","v":""},{"$f":"IF(F255=\"\",\"\",IF(Importação!$J$9=\"\",\"\",Importação!$J$9))","v":""},null,{"$f":"IFERROR((VLOOKUP($D255,'Plano de Contas'!$B$2:$E$200,3,FALSE)),\"\")","v":""},null,"",""]
["",{"$f":"IF(F256=\"\",\"\",IF(Importação!$H$9=\"\",\"\",Importação!$H$9))","v":""},{"$f":"IF(F256=\"\",\"\",IF(Importação!$J$9=\"\",\"\",Importação!$J$9))","v":""},null,{"$f":"IFERROR((VLOOKUP($D256,'Plano de Contas'!$B$2:$E$200,3,FALSE)),\"\")","v":""},null,"",""]
["",{"$f":"IF(F257=\"\",\"\",IF(Importação!$H$9=\"\",\"\",Importação!$H$9))","v":""},{"$f":"IF(F257=\"\",\"\",IF(Importação!$J$9=\"\",\"\",Importação!$J$9))","v":""},null,{"$f":"IFERROR((VLOOKUP($D257,'Plano de Contas'!$B$2:$E$200,3,FALSE)),\"\")","v":""},null,"",""]
["",{"$f":"IF(F258=\"\",\"\",IF(Importação!$H$9=\"\",\"\",Importação!$H$9))","v":""},{"$f":"IF(F258=\"\",\"\",IF(Importação!$J$9=\"\",\"\",Importação!$J$9))","v":""},null,{"$f":"IFERROR((VLOOKUP($D258,'Plano de Contas'!$B$2:$E$200,3,FALSE)),\"\")","v":""},null,"",""]
[{"$f":"IF(F259=\"\",\"\",CONCATENATE(B259:B259,\"/\",C259))","v":""},{"$f":"IF(F259=\"\",\"\",IF(Importação!$H$9=\"\",\"\",Importação!$H$9))","v":""},{"$f":"IF(F259=\"\",\"\",IF(Importação!$J$9=\"\",\"\",Importação!$J$9))","v":""},null,{"$f":"IFERROR((VLOOKUP($D259,'Plano de Contas'!$B$2:$E$200,3,FALSE)),\"\")","v":""},null,{"$f":"IF(H259=\"\",\"\",IF(H259=\"1.\",\"FATURAMENTO\",IF(H259=\"10\",\"RECEITA NÃO OPERACIONAL\",\"PAGAMENTOS\")))","v":""},{"$f":"MID(D259,1,2)","v":""}]
["",{"$f":"IF(F260=\"\",\"\",IF(Importação!$H$9=\"\",\"\",Importação!$H$9))","v":""},{"$f":"IF(F260=\"\",\"\",IF(Importação!$J$9=\"\",\"\",Importação!$J$9))","v":""},null,{"$f":"IFERROR((VLOOKUP($D260,'Plano de Contas'!$B$2:$E$200,3,FALSE)),\"\")","v":""},null,"",""]
["",{"$f":"IF(F261=\"\",\"\",IF(Importação!$H$9=\"\",\"\",Importação!$H$9))","v":""},{"$f":"IF(F261=\"\",\"\",IF(Importação!$J$9=\"\",\"\",Importação!$J$9))","v":""},null,{"$f":"IFERROR((VLOOKUP($D261,'Plano de Contas'!$B$2:$E$200,3,FALSE)),\"\")","v":""},null,"",""]
["",{"$f":"IF(F262=\"\",\"\",IF(Importação!$H$9=\"\",\"\",Importação!$H$9))","v":""},{"$f":"IF(F262=\"\",\"\",IF(Importação!$J$9=\"\",\"\",Importação!$J$9))","v":""},null,{"$f":"IFERROR((VLOOKUP($D262,'Plano de Contas'!$B$2:$E$200,3,FALSE)),\"\")","v":""},null,"",""]
["",{"$f":"IF(F263=\"\",\"\",IF(Importação!$H$9=\"\",\"\",Importação!$H$9))","v":""},{"$f":"IF(F263=\"\",\"\",IF(Importação!$J$9=\"\",\"\",Importação!$J$9))","v":""},null,{"$f":"IFERROR((VLOOKUP($D263,'Plano de Contas'!$B$2:$E$200,3,FALSE)),\"\")","v":""},null,"",""]
["",{"$f":"IF(F264=\"\",\"\",IF(Importação!$H$9=\"\",\"\",Importação!$H$9))","v":""},{"$f":"IF(F264=\"\",\"\",IF(Importação!$J$9=\"\",\"\",Importação!$J$9))","v":""},null,{"$f":"IFERROR((VLOOKUP($D264,'Plano de Contas'!$B$2:$E$200,3,FALSE)),\"\")","v":""},null,"",""]
["",{"$f":"IF(F265=\"\",\"\",IF(Importação!$H$9=\"\",\"\",Importação!$H$9))","v":""},{"$f":"IF(F265=\"\",\"\",IF(Importação!$J$9=\"\",\"\",Importação!$J$9))","v":""},null,{"$f":"IFERROR((VLOOKUP($D265,'Plano de Contas'!$B$2:$E$200,3,FALSE)),\"\")","v":""},null,"",""]
["",{"$f":"IF(F266=\"\",\"\",IF(Importação!$H$9=\"\",\"\",Importação!$H$9))","v":""},{"$f":"IF(F266=\"\",\"\",IF(Importação!$J$9=\"\",\"\",Importação!$J$9))","v":""},null,{"$f":"IFERROR((VLOOKUP($D266,'Plano de Contas'!$B$2:$E$200,3,FALSE)),\"\")","v":""},null,"",""]
["",{"$f":"IF(F267=\"\",\"\",IF(Importação!$H$9=\"\",\"\",Importação!$H$9))","v":""},{"$f":"IF(F267=\"\",\"\",IF(Importação!$J$9=\"\",\"\",Importação!$J$9))","v":""},null,{"$f":"IFERROR((VLOOKUP($D267,'Plano de Contas'!$B$2:$E$200,3,FALSE)),\"\")","v":""},null,"",""]
["",{"$f":"IF(F268=\"\",\"\",IF(Importação!$H$9=\"\",\"\",Importação!$H$9))","v":""},{"$f":"IF(F268=\"\",\"\",IF(Importação!$J$9=\"\",\"\",Importação!$J$9))","v":""},null,{"$f":"IFERROR((VLOOKUP($D268,'Plano de Contas'!$B$2:$E$200,3,FALSE)),\"\")","v":""},null,"",""]
["",{"$f":"IF(F269=\"\",\"\",IF(Importação!$H$9=\"\",\"\",Importação!$H$9))","v":""},{"$f":"IF(F269=\"\",\"\",IF(Importação!$J$9=\"\",\"\",Importação!$J$9))","v":""},null,{"$f":"IFERROR((VLOOKUP($D269,'Plano de Contas'!$B$2:$E$200,3,FALSE)),\"\")","v":""},null,"",""]
["",{"$f":"IF(F270=\"\",\"\",IF(Importação!$H$9=\"\",\"\",Importação!$H$9))","v":""},{"$f":"IF(F270=\"\",\"\",IF(Importação!$J$9=\"\",\"\",Importação!$J$9))","v":""},null,{"$f":"IFERROR((VLOOKUP($D270,'Plano de Contas'!$B$2:$E$200,3,FALSE)),\"\")","v":""},null,"",""]
["",{"$f":"IF(F271=\"\",\"\",IF(Importação!$H$9=\"\",\"\",Importação!$H$9))","v":""},{"$f":"IF(F271=\"\",\"\",IF(Importação!$J$9=\"\",\"\",Importação!$J$9))","v":""},null,{"$f":"IFERROR((VLOOKUP($D271,'Plano de Contas'!$B$2:$E$200,3,FALSE)),\"\")","v":""},null,"",""]
["",{"$f":"IF(F272=\"\",\"\",IF(Importação!$H$9=\"\",\"\",Importação!$H$9))","v":""},{"$f":"IF(F272=\"\",\"\",IF(Importação!$J$9=\"\",\"\",Importação!$J$9))","v":""},null,{"$f":"IFERROR((VLOOKUP($D272,'Plano de Contas'!$B$2:$E$200,3,FALSE)),\"\")","v":""},null,"",""]
["",{"$f":"IF(F273=\"\",\"\",IF(Importação!$H$9=\"\",\"\",Importação!$H$9))","v":""},{"$f":"IF(F273=\"\",\"\",IF(Importação!$J$9=\"\",\"\",Importação!$J$9))","v":""},null,{"$f":"IFERROR((VLOOKUP($D273,'Plano de Contas'!$B$2:$E$200,3,FALSE)),\"\")","v":""},null,"",""]
["",{"$f":"IF(F274=\"\",\"\",IF(Importação!$H$9=\"\",\"\",Importação!$H$9))","v":""},{"$f":"IF(F274=\"\",\"\",IF(Importação!$J$9=\"\",\"\",Importação!$J$9))","v":""},null,{"$f":"IFERROR((VLOOKUP($D274,'Plano de Contas'!$B$2:$E$200,3,FALSE)),\"\")","v":""},null,"",""]
["",{"$f":"IF(F275=\"\",\"\",IF(Importação!$H$9=\"\",\"\",Importação!$H$9))","v":""},{"$f":"IF(F275=\"\",\"\",IF(Importação!$J$9=\"\",\"\",Importação!$J$9))","v":""},null,{"$f":"IFERROR((VLOOKUP($D275,'Plano de Contas'!$B$2:$E$200,3,FALSE)),\"\")","v":""},null,"",""]
["",{"$f":"IF(F276=\"\",\"\",IF(Importação!$H$9=\"\",\"\",Importação!$H$9))","v":""},{"$f":"IF(F276=\"\",\"\",IF(Importação!$J$9=\"\",\"\",Importação!$J$9))","v":""},null,{"$f":"IFERROR((VLOOKUP($D276,'Plano de Contas'!$B$2:$E$200,3,FALSE)),\"\")","v":""},null,"",""]
["",{"$f":"IF(F277=\"\",\"\",IF(Importação!$H$9=\"\",\"\",Importação!$H$9))","v":""},{"$f":"IF(F277=\"\",\"\",IF(Importação!$J$9=\"\",\"\",Importação!$J$9))","v":""},null,{"$f":"IFERROR((VLOOKUP($D277,'Plano de Contas'!$B$2:$E$200,3,FALSE)),\"\")","v":""},null,"",""]
["",{"$f":"IF(F278=\"\",\"\",IF(Importação!$H$9=\"\",\"\",Importação!$H$9))","v":""},{"$f":"IF(F278=\"\",\"\",IF(Importação!$J$9=\"\",\"\",Importação!$J$9))","v":""},null,{"$f":"IFERROR((VLOOKUP($D278,'Plano de Contas'!$B$2:$E$200,3,FALSE)),\"\")","v":""},null,"",""]
["",{"$f":"IF(F279=\"\",\"\",IF(Importação!$H$9=\"\",\"\",Importação!$H$9))","v":""},{"$f":"IF(F279=\"\",\"\",IF(Importação!$J$9=\"\",\"\",Importação!$J$9))","v":""},null,{"$f":"IFERROR((VLOOKUP($D279,'Plano de Contas'!$B$2:$E$200,3,FALSE)),\"\")","v":""},null,"",""]
["",{"$f":"IF(F280=\"\",\"\",IF(Importação!$H$9=\"\",\"\",Importação!$H$9))","v":""},{"$f":"IF(F280=\"\",\"\",IF(Importação!$J$9=\"\",\"\",Importação!$J$9))","v":""},null,{"$f":"IFERROR((VLOOKUP($D280,'Plano de Contas'!$B$2:$E$200,3,FALSE)),\"\")","v":""},null,"",""]
["",{"$f":"IF(F281=\"\",\"\",IF(Importação!$H$9=\"\",\"\",Importação!$H$9))","v":""},{"$f":"IF(F281=\"\",\"\",IF(Importação!$J$9=\"\",\"\",Importação!$J$9))","v":""},null,{"$f":"IFERROR((VLOOKUP($D281,'Plano de Contas'!$B$2:$E$200,3,FALSE)),\"\")","v":""},null,"",""]
["",{"$f":"IF(F282=\"\",\"\",IF(Importação!$H$9=\"\",\"\",Importação!$H$9))","v":""},{"$f":"IF(F282=\"\",\"\",IF(Importação!$J$9=\"\",\"\",Importação!$J$9))","v":""},null,{"$f":"IFERROR((VLOOKUP($D282,'Plano de Contas'!$B$2:$E$200,3,FALSE)),\"\")","v":""},null,"",""]
["",{"$f":"IF(F283=\"\",\"\",IF(Importação!$H$9=\"\",\"\",Importação!$H$9))","v":""},{"$f":"IF(F283=\"\",\"\",IF(Importação!$J$9=\"\",\"\",Importação!$J$9))","v":""},null,{"$f":"IFERROR((VLOOKUP($D283,'Plano de Contas'!$B$2:$E$200,3,FALSE)),\"\")","v":""},null,"",""]
["",{"$f":"IF(F284=\"\",\"\",IF(Importação!$H$9=\"\",\"\",Importação!$H$9))","v":""},{"$f":"IF(F284=\"\",\"\",IF(Importação!$J$9=\"\",\"\",Importação!$J$9))","v":""},null,{"$f":"IFERROR((VLOOKUP($D284,'Plano de Contas'!$B$2:$E$200,3,FALSE)),\"\")","v":""},null,"",""]
["",{"$f":"IF(F285=\"\",\"\",IF(Importação!$H$9=\"\",\"\",Importação!$H$9))","v":""},{"$f":"IF(F285=\"\",\"\",IF(Importação!$J$9=\"\",\"\",Importação!$J$9))","v":""},null,{"$f":"IFERROR((VLOOKUP($D285,'Plano de Contas'!$B$2:$E$200,3,FALSE)),\"\")","v":""},null,"",""]
["",{"$f":"IF(F286=\"\",\"\",IF(Importação!$H$9=\"\",\"\",Importação!$H$9))","v":""},{"$f":"IF(F286=\"\",\"\",IF(Importação!$J$9=\"\",\"\",Importação!$J$9))","v":""},null,{"$f":"IFERROR((VLOOKUP($D286,'Plano de Contas'!$B$2:$E$200,3,FALSE)),\"\")","v":""},null,"",""]
["",{"$f":"IF(F287=\"\",\"\",IF(Importação!$H$9=\"\",\"\",Importação!$H$9))","v":""},{"$f":"IF(F287=\"\",\"\",IF(Importação!$J$9=\"\",\"\",Importação!$J$9))","v":""},null,{"$f":"IFERROR((VLOOKUP($D287,'Plano de Contas'!$B$2:$E$200,3,FALSE)),\"\")","v":""},null,"",""]
["",{"$f":"IF(F288=\"\",\"\",IF(Importação!$H$9=\"\",\"\",Importação!$H$9))","v":""},{"$f":"IF(F288=\"\",\"\",IF(Importação!$J$9=\"\",\"\",Importação!$J$9))","v":""},null,{"$f":"IFERROR((VLOOKUP($D288,'Plano de Contas'!$B$2:$E$200,3,FALSE)),\"\")","v":""},null,"",""]
["",{"$f":"IF(F289=\"\",\"\",IF(Importação!$H$9=\"\",\"\",Importação!$H$9))","v":""},{"$f":"IF(F289=\"\",\"\",IF(Importação!$J$9=\"\",\"\",Importação!$J$9))","v":""},null,{"$f":"IFERROR((VLOOKUP($D289,'Plano de Contas'!$B$2:$E$200,3,FALSE)),\"\")","v":""},null,"",""]
["",{"$f":"IF(F290=\"\",\"\",IF(Importação!$H$9=\"\",\"\",Importação!$H$9))","v":""},{"$f":"IF(F290=\"\",\"\",IF(Importação!$J$9=\"\",\"\",Importação!$J$9))","v":""},null,{"$f":"IFERROR((VLOOKUP($D290,'Plano de Contas'!$B$2:$E$200,3,FALSE)),\"\")","v":""},null,"",""]
["",{"$f":"IF(F291=\"\",\"\",IF(Importação!$H$9=\"\",\"\",Importação!$H$9))","v":""},{"$f":"IF(F291=\"\",\"\",IF(Importação!$J$9=\"\",\"\",Importação!$J$9))","v":""},null,{"$f":"IFERROR((VLOOKUP($D291,'Plano de Contas'!$B$2:$E$200,3,FALSE)),\"\")","v":""},null,"",""]
["",{"$f":"IF(F292=\"\",\"\",IF(Importação!$H$9=\"\",\"\",Importação!$H$9))","v":""},{"$f":"IF(F292=\"\",\"\",IF(Importação!$J$9=\"\",\"\",Importação!$J$9))","v":""},null,{"$f":"IFERROR((VLOOKUP($D292,'Plano de Contas'!$B$2:$E$200,3,FALSE)),\"\")","v":""},null,"",""]
["",{"$f":"IF(F293=\"\",\"\",IF(Importação!$H$9=\"\",\"\",Importação!$H$9))","v":""},{"$f":"IF(F293=\"\",\"\",IF(Importação!$J$9=\"\",\"\",Importação!$J$9))","v":""},null,{"$f":"IFERROR((VLOOKUP($D293,'Plano de Contas'!$B$2:$E$200,3,FALSE)),\"\")","v":""},null,"",""]
["",{"$f":"IF(F294=\"\",\"\",IF(Importação!$H$9=\"\",\"\",Importação!$H$9))","v":""},{"$f":"IF(F294=\"\",\"\",IF(Importação!$J$9=\"\",\"\",Importação!$J$9))","v":""},null,{"$f":"IFERROR((VLOOKUP($D294,'Plano de Contas'!$B$2:$E$200,3,FALSE)),\"\")","v":""},null,"",""]
["",{"$f":"IF(F295=\"\",\"\",IF(Importação!$H$9=\"\",\"\",Importação!$H$9))","v":""},{"$f":"IF(F295=\"\",\"\",IF(Importação!$J$9=\"\",\"\",Importação!$J$9))","v":""},null,{"$f":"IFERROR((VLOOKUP($D295,'Plano de Contas'!$B$2:$E$200,3,FALSE)),\"\")","v":""},null,"",""]
["",{"$f":"IF(F296=\"\",\"\",IF(Importação!$H$9=\"\",\"\",Importação!$H$9))","v":""},{"$f":"IF(F296=\"\",\"\",IF(Importação!$J$9=\"\",\"\",Importação!$J$9))","v":""},null,{"$f":"IFERROR((VLOOKUP($D296,'Plano de Contas'!$B$2:$E$200,3,FALSE)),\"\")","v":""},null,"",""]
["",{"$f":"IF(F297=\"\",\"\",IF(Importação!$H$9=\"\",\"\",Importação!$H$9))","v":""},{"$f":"IF(F297=\"\",\"\",IF(Importação!$J$9=\"\",\"\",Importação!$J$9))","v":""},null,{"$f":"IFERROR((VLOOKUP($D297,'Plano de Contas'!$B$2:$E$200,3,FALSE)),\"\")","v":""},null,"",""]
["",{"$f":"IF(F298=\"\",\"\",IF(Importação!$H$9=\"\",\"\",Importação!$H$9))","v":""},{"$f":"IF(F298=\"\",\"\",IF(Importação!$J$9=\"\",\"\",Importação!$J$9))","v":""},null,{"$f":"IFERROR((VLOOKUP($D298,'Plano de Contas'!$B$2:$E$200,3,FALSE)),\"\")","v":""},null,"",""]
["",{"$f":"IF(F299=\"\",\"\",IF(Importação!$H$9=\"\",\"\",Importação!$H$9))","v":""},{"$f":"IF(F299=\"\",\"\",IF(Importação!$J$9=\"\",\"\",Importação!$J$9))","v":""},null,{"$f":"IFERROR((VLOOKUP($D299,'Plano de Contas'!$B$2:$E$200,3,FALSE)),\"\")","v":""},null,"",""]
["",{"$f":"IF(F300=\"\",\"\",IF(Importação!$H$9=\"\",\"\",Importação!$H$9))","v":""},{"$f":"IF(F300=\"\",\"\",IF(Importação!$J$9=\"\",\"\",Importação!$J$9))","v":""},null,{"$f":"IFERROR((VLOOKUP($D300,'Plano de Contas'!$B$2:$E$200,3,FALSE)),\"\")","v":""},null,"",""]
["",{"$f":"IF(F301=\"\",\"\",IF(Importação!$H$9=\"\",\"\",Importação!$H$9))","v":""},{"$f":"IF(F301=\"\",\"\",IF(Importação!$J$9=\"\",\"\",Importação!$J$9))","v":""},null,{"$f":"IFERROR((VLOOKUP($D301,'Plano de Contas'!$B$2:$E$200,3,FALSE)),\"\")","v":""},null,"",""]
["",{"$f":"IF(F302=\"\",\"\",IF(Importação!$H$9=\"\",\"\",Importação!$H$9))","v":""},{"$f":"IF(F302=\"\",\"\",IF(Importação!$J$9=\"\",\"\",Importação!$J$9))","v":""},null,{"$f":"IFERROR((VLOOKUP($D302,'Plano de Contas'!$B$2:$E$200,3,FALSE)),\"\")","v":""},null,"",""]
["",{"$f":"IF(F303=\"\",\"\",IF(Importação!$H$9=\"\",\"\",Importação!$H$9))","v":""},{"$f":"IF(F303=\"\",\"\",IF(Importação!$J$9=\"\",\"\",Importação!$J$9))","v":""},null,{"$f":"IFERROR((VLOOKUP($D303,'Plano de Contas'!$B$2:$E$200,3,FALSE)),\"\")","v":""},null,"",""]
["",{"$f":"IF(F304=\"\",\"\",IF(Importação!$H$9=\"\",\"\",Importação!$H$9))","v":""},{"$f":"IF(F304=\"\",\"\",IF(Importação!$J$9=\"\",\"\",Importação!$J$9))","v":""},null,{"$f":"IFERROR((VLOOKUP($D304,'Plano de Contas'!$B$2:$E$200,3,FALSE)),\"\")","v":""},null,"",""]
["",{"$f":"IF(F305=\"\",\"\",IF(Importação!$H$9=\"\",\"\",Importação!$H$9))","v":""},{"$f":"IF(F305=\"\",\"\",IF(Importação!$J$9=\"\",\"\",Importação!$J$9))","v":""},null,{"$f":"IFERROR((VLOOKUP($D305,'Plano de Contas'!$B$2:$E$200,3,FALSE)),\"\")","v":""},null,"",""]
["",{"$f":"IF(F306=\"\",\"\",IF(Importação!$H$9=\"\",\"\",Importação!$H$9))","v":""},{"$f":"IF(F306=\"\",\"\",IF(Importação!$J$9=\"\",\"\",Importação!$J$9))","v":""},null,{"$f":"IFERROR((VLOOKUP($D306,'Plano de Contas'!$B$2:$E$200,3,FALSE)),\"\")","v":""},null,"",""]
["",{"$f":"IF(F307=\"\",\"\",IF(Importação!$H$9=\"\",\"\",Importação!$H$9))","v":""},{"$f":"IF(F307=\"\",\"\",IF(Importação!$J$9=\"\",\"\",Importação!$J$9))","v":""},null,{"$f":"IFERROR((VLOOKUP($D307,'Plano de Contas'!$B$2:$E$200,3,FALSE)),\"\")","v":""},null,"",""]
["",{"$f":"IF(F308=\"\",\"\",IF(Importação!$H$9=\"\",\"\",Importação!$H$9))","v":""},{"$f":"IF(F308=\"\",\"\",IF(Importação!$J$9=\"\",\"\",Importação!$J$9))","v":""},null,{"$f":"IFERROR((VLOOKUP($D308,'Plano de Contas'!$B$2:$E$200,3,FALSE)),\"\")","v":""},null,"",""]
["",{"$f":"IF(F309=\"\",\"\",IF(Importação!$H$9=\"\",\"\",Importação!$H$9))","v":""},{"$f":"IF(F309=\"\",\"\",IF(Importação!$J$9=\"\",\"\",Importação!$J$9))","v":""},null,{"$f":"IFERROR((VLOOKUP($D309,'Plano de Contas'!$B$2:$E$200,3,FALSE)),\"\")","v":""},null,"",""]
["",{"$f":"IF(F310=\"\",\"\",IF(Importação!$H$9=\"\",\"\",Importação!$H$9))","v":""},{"$f":"IF(F310=\"\",\"\",IF(Importação!$J$9=\"\",\"\",Importação!$J$9))","v":""},null,{"$f":"IFERROR((VLOOKUP($D310,'Plano de Contas'!$B$2:$E$200,3,FALSE)),\"\")","v":""},null,"",""]
["",{"$f":"IF(F311=\"\",\"\",IF(Importação!$H$9=\"\",\"\",Importação!$H$9))","v":""},{"$f":"IF(F311=\"\",\"\",IF(Importação!$J$9=\"\",\"\",Importação!$J$9))","v":""},null,{"$f":"IFERROR((VLOOKUP($D311,'Plano de Contas'!$B$2:$E$200,3,FALSE)),\"\")","v":""},null,"",""]
["",{"$f":"IF(F312=\"\",\"\",IF(Importação!$H$9=\"\",\"\",Importação!$H$9))","v":""},{"$f":"IF(F312=\"\",\"\",IF(Importação!$J$9=\"\",\"\",Importação!$J$9))","v":""},null,{"$f":"IFERROR((VLOOKUP($D312,'Plano de Contas'!$B$2:$E$200,3,FALSE)),\"\")","v":""},null,"",""]
["",{"$f":"IF(F313=\"\",\"\",IF(Importação!$H$9=\"\",\"\",Importação!$H$9))","v":""},{"$f":"IF(F313=\"\",\"\",IF(Importação!$J$9=\"\",\"\",Importação!$J$9))","v":""},null,{"$f":"IFERROR((VLOOKUP($D313,'Plano de Contas'!$B$2:$E$200,3,FALSE)),\"\")","v":""},null,"",""]
["",{"$f":"IF(F314=\"\",\"\",IF(Importação!$H$9=\"\",\"\",Importação!$H$9))","v":""},{"$f":"IF(F314=\"\",\"\",IF(Importação!$J$9=\"\",\"\",Importação!$J$9))","v":""},null,{"$f":"IFERROR((VLOOKUP($D314,'Plano de Contas'!$B$2:$E$200,3,FALSE)),\"\")","v":""},null,"",""]
["",{"$f":"IF(F315=\"\",\"\",IF(Importação!$H$9=\"\",\"\",Importação!$H$9))","v":""},{"$f":"IF(F315=\"\",\"\",IF(Importação!$J$9=\"\",\"\",Importação!$J$9))","v":""},null,{"$f":"IFERROR((VLOOKUP($D315,'Plano de Contas'!$B$2:$E$200,3,FALSE)),\"\")","v":""},null,"",""]
["",{"$f":"IF(F316=\"\",\"\",IF(Importação!$H$9=\"\",\"\",Importação!$H$9))","v":""},{"$f":"IF(F316=\"\",\"\",IF(Importação!$J$9=\"\",\"\",Importação!$J$9))","v":""},null,{"$f":"IFERROR((VLOOKUP($D316,'Plano de Contas'!$B$2:$E$200,3,FALSE)),\"\")","v":""},null,"",""]
["",{"$f":"IF(F317=\"\",\"\",IF(Importação!$H$9=\"\",\"\",Importação!$H$9))","v":""},{"$f":"IF(F317=\"\",\"\",IF(Importação!$J$9=\"\",\"\",Importação!$J$9))","v":""},null,{"$f":"IFERROR((VLOOKUP($D317,'Plano de Contas'!$B$2:$E$200,3,FALSE)),\"\")","v":""},null,"",""]
["",{"$f":"IF(F318=\"\",\"\",IF(Importação!$H$9=\"\",\"\",Importação!$H$9))","v":""},{"$f":"IF(F318=\"\",\"\",IF(Importação!$J$9=\"\",\"\",Importação!$J$9))","v":""},null,{"$f":"IFERROR((VLOOKUP($D318,'Plano de Contas'!$B$2:$E$200,3,FALSE)),\"\")","v":""},null,"",""]
["",{"$f":"IF(F319=\"\",\"\",IF(Importação!$H$9=\"\",\"\",Importação!$H$9))","v":""},{"$f":"IF(F319=\"\",\"\",IF(Importação!$J$9=\"\",\"\",Importação!$J$9))","v":""},null,{"$f":"IFERROR((VLOOKUP($D319,'Plano de Contas'!$B$2:$E$200,3,FALSE)),\"\")","v":""},null,"",""]
["",{"$f":"IF(F320=\"\",\"\",IF(Importação!$H$9=\"\",\"\",Importação!$H$9))","v":""},{"$f":"IF(F320=\"\",\"\",IF(Importação!$J$9=\"\",\"\",Importação!$J$9))","v":""},null,{"$f":"IFERROR((VLOOKUP($D320,'Plano de Contas'!$B$2:$E$200,3,FALSE)),\"\")","v":""},null,"",""]
["",{"$f":"IF(F321=\"\",\"\",IF(Importação!$H$9=\"\",\"\",Importação!$H$9))","v":""},{"$f":"IF(F321=\"\",\"\",IF(Importação!$J$9=\"\",\"\",Importação!$J$9))","v":""},null,{"$f":"IFERROR((VLOOKUP($D321,'Plano de Contas'!$B$2:$E$200,3,FALSE)),\"\")","v":""},null,"",""]
["",{"$f":"IF(F322=\"\",\"\",IF(Importação!$H$9=\"\",\"\",Importação!$H$9))","v":""},{"$f":"IF(F322=\"\",\"\",IF(Importação!$J$9=\"\",\"\",Importação!$J$9))","v":""},null,{"$f":"IFERROR((VLOOKUP($D322,'Plano de Contas'!$B$2:$E$200,3,FALSE)),\"\")","v":""},null,"",""]
[{"$f":"IF(F323=\"\",\"\",CONCATENATE(B323:B323,\"/\",C323))","v":""},{"$f":"IF(F323=\"\",\"\",IF(Importação!$H$9=\"\",\"\",Importação!$H$9))","v":""},{"$f":"IF(F323=\"\",\"\",IF(Importação!$J$9=\"\",\"\",Importação!$J$9))","v":""},null,{"$f":"IFERROR((VLOOKUP($D323,'Plano de Contas'!$B$2:$E$200,3,FALSE)),\"\")","v":""},null,{"$f":"IF(H323=\"\",\"\",IF(H323=\"1.\",\"FATURAMENTO\",IF(H323=\"10\",\"RECEITA NÃO OPERACIONAL\",\"PAGAMENTOS\")))","v":""},{"$f":"MID(D323,1,2)","v":""}]
["",{"$f":"IF(F324=\"\",\"\",IF(Importação!$H$9=\"\",\"\",Importação!$H$9))","v":""},{"$f":"IF(F324=\"\",\"\",IF(Importação!$J$9=\"\",\"\",Importação!$J$9))","v":""},null,{"$f":"IFERROR((VLOOKUP($D324,'Plano de Contas'!$B$2:$E$200,3,FALSE)),\"\")","v":""},null,"",""]
["",{"$f":"IF(F325=\"\",\"\",IF(Importação!$H$9=\"\",\"\",Importação!$H$9))","v":""},{"$f":"IF(F325=\"\",\"\",IF(Importação!$J$9=\"\",\"\",Importação!$J$9))","v":""},null,{"$f":"IFERROR((VLOOKUP($D325,'Plano de Contas'!$B$2:$E$200,3,FALSE)),\"\")","v":""},null,"",""]
["",{"$f":"IF(F326=\"\",\"\",IF(Importação!$H$9=\"\",\"\",Importação!$H$9))","v":""},{"$f":"IF(F326=\"\",\"\",IF(Importação!$J$9=\"\",\"\",Importação!$J$9))","v":""},null,{"$f":"IFERROR((VLOOKUP($D326,'Plano de Contas'!$B$2:$E$200,3,FALSE)),\"\")","v":""},null,"",""]
["",{"$f":"IF(F327=\"\",\"\",IF(Importação!$H$9=\"\",\"\",Importação!$H$9))","v":""},{"$f":"IF(F327=\"\",\"\",IF(Importação!$J$9=\"\",\"\",Importação!$J$9))","v":""},null,{"$f":"IFERROR((VLOOKUP($D327,'Plano de Contas'!$B$2:$E$200,3,FALSE)),\"\")","v":""},null,"",""]
["",{"$f":"IF(F328=\"\",\"\",IF(Importação!$H$9=\"\",\"\",Importação!$H$9))","v":""},{"$f":"IF(F328=\"\",\"\",IF(Importação!$J$9=\"\",\"\",Importação!$J$9))","v":""},null,{"$f":"IFERROR((VLOOKUP($D328,'Plano de Contas'!$B$2:$E$200,3,FALSE)),\"\")","v":""},null,"",""]
["",{"$f":"IF(F329=\"\",\"\",IF(Importação!$H$9=\"\",\"\",Importação!$H$9))","v":""},{"$f":"IF(F329=\"\",\"\",IF(Importação!$J$9=\"\",\"\",Importação!$J$9))","v":""},null,{"$f":"IFERROR((VLOOKUP($D329,'Plano de Contas'!$B$2:$E$200,3,FALSE)),\"\")","v":""},null,"",""]
["",{"$f":"IF(F330=\"\",\"\",IF(Importação!$H$9=\"\",\"\",Importação!$H$9))","v":""},{"$f":"IF(F330=\"\",\"\",IF(Importação!$J$9=\"\",\"\",Importação!$J$9))","v":""},null,{"$f":"IFERROR((VLOOKUP($D330,'Plano de Contas'!$B$2:$E$200,3,FALSE)),\"\")","v":""},null,"",""]
["",{"$f":"IF(F331=\"\",\"\",IF(Importação!$H$9=\"\",\"\",Importação!$H$9))","v":""},{"$f":"IF(F331=\"\",\"\",IF(Importação!$J$9=\"\",\"\",Importação!$J$9))","v":""},null,{"$f":"IFERROR((VLOOKUP($D331,'Plano de Contas'!$B$2:$E$200,3,FALSE)),\"\")","v":""},null,"",""]
["",{"$f":"IF(F332=\"\",\"\",IF(Importação!$H$9=\"\",\"\",Importação!$H$9))","v":""},{"$f":"IF(F332=\"\",\"\",IF(Importação!$J$9=\"\",\"\",Importação!$J$9))","v":""},null,{"$f":"IFERROR((VLOOKUP($D332,'Plano de Contas'!$B$2:$E$200,3,FALSE)),\"\")","v":""},null,"",""]
["",{"$f":"IF(F333=\"\",\"\",IF(Importação!$H$9=\"\",\"\",Importação!$H$9))","v":""},{"$f":"IF(F333=\"\",\"\",IF(Importação!$J$9=\"\",\"\",Importação!$J$9))","v":""},null,{"$f":"IFERROR((VLOOKUP($D333,'Plano de Contas'!$B$2:$E$200,3,FALSE)),\"\")","v":""},null,"",""]
["",{"$f":"IF(F334=\"\",\"\",IF(Importação!$H$9=\"\",\"\",Importação!$H$9))","v":""},{"$f":"IF(F334=\"\",\"\",IF(Importação!$J$9=\"\",\"\",Importação!$J$9))","v":""},null,{"$f":"IFERROR((VLOOKUP($D334,'Plano de Contas'!$B$2:$E$200,3,FALSE)),\"\")","v":""},null,"",""]
["",{"$f":"IF(F335=\"\",\"\",IF(Importação!$H$9=\"\",\"\",Importação!$H$9))","v":""},{"$f":"IF(F335=\"\",\"\",IF(Importação!$J$9=\"\",\"\",Importação!$J$9))","v":""},null,{"$f":"IFERROR((VLOOKUP($D335,'Plano de Contas'!$B$2:$E$200,3,FALSE)),\"\")","v":""},null,"",""]
["",{"$f":"IF(F336=\"\",\"\",IF(Importação!$H$9=\"\",\"\",Importação!$H$9))","v":""},{"$f":"IF(F336=\"\",\"\",IF(Importação!$J$9=\"\",\"\",Importação!$J$9))","v":""},null,{"$f":"IFERROR((VLOOKUP($D336,'Plano de Contas'!$B$2:$E$200,3,FALSE)),\"\")","v":""},null,"",""]
["",{"$f":"IF(F337=\"\",\"\",IF(Importação!$H$9=\"\",\"\",Importação!$H$9))","v":""},{"$f":"IF(F337=\"\",\"\",IF(Importação!$J$9=\"\",\"\",Importação!$J$9))","v":""},null,{"$f":"IFERROR((VLOOKUP($D337,'Plano de Contas'!$B$2:$E$200,3,FALSE)),\"\")","v":""},null,"",""]
["",{"$f":"IF(F338=\"\",\"\",IF(Importação!$H$9=\"\",\"\",Importação!$H$9))","v":""},{"$f":"IF(F338=\"\",\"\",IF(Importação!$J$9=\"\",\"\",Importação!$J$9))","v":""},null,{"$f":"IFERROR((VLOOKUP($D338,'Plano de Contas'!$B$2:$E$200,3,FALSE)),\"\")","v":""},null,"",""]
["",{"$f":"IF(F339=\"\",\"\",IF(Importação!$H$9=\"\",\"\",Importação!$H$9))","v":""},{"$f":"IF(F339=\"\",\"\",IF(Importação!$J$9=\"\",\"\",Importação!$J$9))","v":""},null,{"$f":"IFERROR((VLOOKUP($D339,'Plano de Contas'!$B$2:$E$200,3,FALSE)),\"\")","v":""},null,"",""]
["",{"$f":"IF(F340=\"\",\"\",IF(Importação!$H$9=\"\",\"\",Importação!$H$9))","v":""},{"$f":"IF(F340=\"\",\"\",IF(Importação!$J$9=\"\",\"\",Importação!$J$9))","v":""},null,{"$f":"IFERROR((VLOOKUP($D340,'Plano de Contas'!$B$2:$E$200,3,FALSE)),\"\")","v":""},null,"",""]
["",{"$f":"IF(F341=\"\",\"\",IF(Importação!$H$9=\"\",\"\",Importação!$H$9))","v":""},{"$f":"IF(F341=\"\",\"\",IF(Importação!$J$9=\"\",\"\",Importação!$J$9))","v":""},null,{"$f":"IFERROR((VLOOKUP($D341,'Plano de Contas'!$B$2:$E$200,3,FALSE)),\"\")","v":""},null,"",""]
["",{"$f":"IF(F342=\"\",\"\",IF(Importação!$H$9=\"\",\"\",Importação!$H$9))","v":""},{"$f":"IF(F342=\"\",\"\",IF(Importação!$J$9=\"\",\"\",Importação!$J$9))","v":""},null,{"$f":"IFERROR((VLOOKUP($D342,'Plano de Contas'!$B$2:$E$200,3,FALSE)),\"\")","v":""},null,"",""]
["",{"$f":"IF(F343=\"\",\"\",IF(Importação!$H$9=\"\",\"\",Importação!$H$9))","v":""},{"$f":"IF(F343=\"\",\"\",IF(Importação!$J$9=\"\",\"\",Importação!$J$9))","v":""},null,{"$f":"IFERROR((VLOOKUP($D343,'Plano de Contas'!$B$2:$E$200,3,FALSE)),\"\")","v":""},null,"",""]
["",{"$f":"IF(F344=\"\",\"\",IF(Importação!$H$9=\"\",\"\",Importação!$H$9))","v":""},{"$f":"IF(F344=\"\",\"\",IF(Importação!$J$9=\"\",\"\",Importação!$J$9))","v":""},null,{"$f":"IFERROR((VLOOKUP($D344,'Plano de Contas'!$B$2:$E$200,3,FALSE)),\"\")","v":""},null,"",""]
["",{"$f":"IF(F345=\"\",\"\",IF(Importação!$H$9=\"\",\"\",Importação!$H$9))","v":""},{"$f":"IF(F345=\"\",\"\",IF(Importação!$J$9=\"\",\"\",Importação!$J$9))","v":""},null,{"$f":"IFERROR((VLOOKUP($D345,'Plano de Contas'!$B$2:$E$200,3,FALSE)),\"\")","v":""},null,"",""]
["",{"$f":"IF(F346=\"\",\"\",IF(Importação!$H$9=\"\",\"\",Importação!$H$9))","v":""},{"$f":"IF(F346=\"\",\"\",IF(Importação!$J$9=\"\",\"\",Importação!$J$9))","v":""},null,{"$f":"IFERROR((VLOOKUP($D346,'Plano de Contas'!$B$2:$E$200,3,FALSE)),\"\")","v":""},null,"",""]
["",{"$f":"IF(F347=\"\",\"\",IF(Importação!$H$9=\"\",\"\",Importação!$H$9))","v":""},{"$f":"IF(F347=\"\",\"\",IF(Importação!$J$9=\"\",\"\",Importação!$J$9))","v":""},null,{"$f":"IFERROR((VLOOKUP($D347,'Plano de Contas'!$B$2:$E$200,3,FALSE)),\"\")","v":""},null,"",""]
["",{"$f":"IF(F348=\"\",\"\",IF(Importação!$H$9=\"\",\"\",Importação!$H$9))","v":""},{"$f":"IF(F348=\"\",\"\",IF(Importação!$J$9=\"\",\"\",Importação!$J$9))","v":""},null,{"$f":"IFERROR((VLOOKUP($D348,'Plano de Contas'!$B$2:$E$200,3,FALSE)),\"\")","v":""},null,"",""]
["",{"$f":"IF(F349=\"\",\"\",IF(Importação!$H$9=\"\",\"\",Importação!$H$9))","v":""},{"$f":"IF(F349=\"\",\"\",IF(Importação!$J$9=\"\",\"\",Importação!$J$9))","v":""},null,{"$f":"IFERROR((VLOOKUP($D349,'Plano de Contas'!$B$2:$E$200,3,FALSE)),\"\")","v":""},null,"",""]
["",{"$f":"IF(F350=\"\",\"\",IF(Importação!$H$9=\"\",\"\",Importação!$H$9))","v":""},{"$f":"IF(F350=\"\",\"\",IF(Importação!$J$9=\"\",\"\",Importação!$J$9))","v":""},null,{"$f":"IFERROR((VLOOKUP($D350,'Plano de Contas'!$B$2:$E$200,3,FALSE)),\"\")","v":""},null,"",""]
["",{"$f":"IF(F351=\"\",\"\",IF(Importação!$H$9=\"\",\"\",Importação!$H$9))","v":""},{"$f":"IF(F351=\"\",\"\",IF(Importação!$J$9=\"\",\"\",Importação!$J$9))","v":""},null,{"$f":"IFERROR((VLOOKUP($D351,'Plano de Contas'!$B$2:$E$200,3,FALSE)),\"\")","v":""},null,"",""]
["",{"$f":"IF(F352=\"\",\"\",IF(Importação!$H$9=\"\",\"\",Importação!$H$9))","v":""},{"$f":"IF(F352=\"\",\"\",IF(Importação!$J$9=\"\",\"\",Importação!$J$9))","v":""},null,{"$f":"IFERROR((VLOOKUP($D352,'Plano de Contas'!$B$2:$E$200,3,FALSE)),\"\")","v":""},null,"",""]
["",{"$f":"IF(F353=\"\",\"\",IF(Importação!$H$9=\"\",\"\",Importação!$H$9))","v":""},{"$f":"IF(F353=\"\",\"\",IF(Importação!$J$9=\"\",\"\",Importação!$J$9))","v":""},null,{"$f":"IFERROR((VLOOKUP($D353,'Plano de Contas'!$B$2:$E$200,3,FALSE)),\"\")","v":""},null,"",""]
["",{"$f":"IF(F354=\"\",\"\",IF(Importação!$H$9=\"\",\"\",Importação!$H$9))","v":""},{"$f":"IF(F354=\"\",\"\",IF(Importação!$J$9=\"\",\"\",Importação!$J$9))","v":""},null,{"$f":"IFERROR((VLOOKUP($D354,'Plano de Contas'!$B$2:$E$200,3,FALSE)),\"\")","v":""},null,"",""]
["",{"$f":"IF(F355=\"\",\"\",IF(Importação!$H$9=\"\",\"\",Importação!$H$9))","v":""},{"$f":"IF(F355=\"\",\"\",IF(Importação!$J$9=\"\",\"\",Importação!$J$9))","v":""},null,{"$f":"IFERROR((VLOOKUP($D355,'Plano de Contas'!$B$2:$E$200,3,FALSE)),\"\")","v":""},null,"",""]
["",{"$f":"IF(F356=\"\",\"\",IF(Importação!$H$9=\"\",\"\",Importação!$H$9))","v":""},{"$f":"IF(F356=\"\",\"\",IF(Importação!$J$9=\"\",\"\",Importação!$J$9))","v":""},null,{"$f":"IFERROR((VLOOKUP($D356,'Plano de Contas'!$B$2:$E$200,3,FALSE)),\"\")","v":""},null,"",""]
["",{"$f":"IF(F357=\"\",\"\",IF(Importação!$H$9=\"\",\"\",Importação!$H$9))","v":""},{"$f":"IF(F357=\"\",\"\",IF(Importação!$J$9=\"\",\"\",Importação!$J$9))","v":""},null,{"$f":"IFERROR((VLOOKUP($D357,'Plano de Contas'!$B$2:$E$200,3,FALSE)),\"\")","v":""},null,"",""]
["",{"$f":"IF(F358=\"\",\"\",IF(Importação!$H$9=\"\",\"\",Importação!$H$9))","v":""},{"$f":"IF(F358=\"\",\"\",IF(Importação!$J$9=\"\",\"\",Importação!$J$9))","v":""},null,{"$f":"IFERROR((VLOOKUP($D358,'Plano de Contas'!$B$2:$E$200,3,FALSE)),\"\")","v":""},null,"",""]
["",{"$f":"IF(F359=\"\",\"\",IF(Importação!$H$9=\"\",\"\",Importação!$H$9))","v":""},{"$f":"IF(F359=\"\",\"\",IF(Importação!$J$9=\"\",\"\",Importação!$J$9))","v":""},null,{"$f":"IFERROR((VLOOKUP($D359,'Plano de Contas'!$B$2:$E$200,3,FALSE)),\"\")","v":""},null,"",""]
["",{"$f":"IF(F360=\"\",\"\",IF(Importação!$H$9=\"\",\"\",Importação!$H$9))","v":""},{"$f":"IF(F360=\"\",\"\",IF(Importação!$J$9=\"\",\"\",Importação!$J$9))","v":""},null,{"$f":"IFERROR((VLOOKUP($D360,'Plano de Contas'!$B$2:$E$200,3,FALSE)),\"\")","v":""},null,"",""]
["",{"$f":"IF(F361=\"\",\"\",IF(Importação!$H$9=\"\",\"\",Importação!$H$9))","v":""},{"$f":"IF(F361=\"\",\"\",IF(Importação!$J$9=\"\",\"\",Importação!$J$9))","v":""},null,{"$f":"IFERROR((VLOOKUP($D361,'Plano de Contas'!$B$2:$E$200,3,FALSE)),\"\")","v":""},null,"",""]
["",{"$f":"IF(F362=\"\",\"\",IF(Importação!$H$9=\"\",\"\",Importação!$H$9))","v":""},{"$f":"IF(F362=\"\",\"\",IF(Importação!$J$9=\"\",\"\",Importação!$J$9))","v":""},null,{"$f":"IFERROR((VLOOKUP($D362,'Plano de Contas'!$B$2:$E$200,3,FALSE)),\"\")","v":""},null,"",""]
["",{"$f":"IF(F363=\"\",\"\",IF(Importação!$H$9=\"\",\"\",Importação!$H$9))","v":""},{"$f":"IF(F363=\"\",\"\",IF(Importação!$J$9=\"\",\"\",Importação!$J$9))","v":""},null,{"$f":"IFERROR((VLOOKUP($D363,'Plano de Contas'!$B$2:$E$200,3,FALSE)),\"\")","v":""},null,"",""]
["",{"$f":"IF(F364=\"\",\"\",IF(Importação!$H$9=\"\",\"\",Importação!$H$9))","v":""},{"$f":"IF(F364=\"\",\"\",IF(Importação!$J$9=\"\",\"\",Importação!$J$9))","v":""},null,{"$f":"IFERROR((VLOOKUP($D364,'Plano de Contas'!$B$2:$E$200,3,FALSE)),\"\")","v":""},null,"",""]
["",{"$f":"IF(F365=\"\",\"\",IF(Importação!$H$9=\"\",\"\",Importação!$H$9))","v":""},{"$f":"IF(F365=\"\",\"\",IF(Importação!$J$9=\"\",\"\",Importação!$J$9))","v":""},null,{"$f":"IFERROR((VLOOKUP($D365,'Plano de Contas'!$B$2:$E$200,3,FALSE)),\"\")","v":""},null,"",""]
["",{"$f":"IF(F366=\"\",\"\",IF(Importação!$H$9=\"\",\"\",Importação!$H$9))","v":""},{"$f":"IF(F366=\"\",\"\",IF(Importação!$J$9=\"\",\"\",Importação!$J$9))","v":""},null,{"$f":"IFERROR((VLOOKUP($D366,'Plano de Contas'!$B$2:$E$200,3,FALSE)),\"\")","v":""},null,"",""]
["",{"$f":"IF(F367=\"\",\"\",IF(Importação!$H$9=\"\",\"\",Importação!$H$9))","v":""},{"$f":"IF(F367=\"\",\"\",IF(Importação!$J$9=\"\",\"\",Importação!$J$9))","v":""},null,{"$f":"IFERROR((VLOOKUP($D367,'Plano de Contas'!$B$2:$E$200,3,FALSE)),\"\")","v":""},null,"",""]
["",{"$f":"IF(F368=\"\",\"\",IF(Importação!$H$9=\"\",\"\",Importação!$H$9))","v":""},{"$f":"IF(F368=\"\",\"\",IF(Importação!$J$9=\"\",\"\",Importação!$J$9))","v":""},null,{"$f":"IFERROR((VLOOKUP($D368,'Plano de Contas'!$B$2:$E$200,3,FALSE)),\"\")","v":""},null,"",""]
["",{"$f":"IF(F369=\"\",\"\",IF(Importação!$H$9=\"\",\"\",Importação!$H$9))","v":""},{"$f":"IF(F369=\"\",\"\",IF(Importação!$J$9=\"\",\"\",Importação!$J$9))","v":""},null,{"$f":"IFERROR((VLOOKUP($D369,'Plano de Contas'!$B$2:$E$200,3,FALSE)),\"\")","v":""},null,"",""]
["",{"$f":"IF(F370=\"\",\"\",IF(Importação!$H$9=\"\",\"\",Importação!$H$9))","v":""},{"$f":"IF(F370=\"\",\"\",IF(Importação!$J$9=\"\",\"\",Importação!$J$9))","v":""},null,{"$f":"IFERROR((VLOOKUP($D370,'Plano de Contas'!$B$2:$E$200,3,FALSE)),\"\")","v":""},null,"",""]
["",{"$f":"IF(F371=\"\",\"\",IF(Importação!$H$9=\"\",\"\",Importação!$H$9))","v":""},{"$f":"IF(F371=\"\",\"\",IF(Importação!$J$9=\"\",\"\",Importação!$J$9))","v":""},null,{"$f":"IFERROR((VLOOKUP($D371,'Plano de Contas'!$B$2:$E$200,3,FALSE)),\"\")","v":""},null,"",""]
["",{"$f":"IF(F372=\"\",\"\",IF(Importação!$H$9=\"\",\"\",Importação!$H$9))","v":""},{"$f":"IF(F372=\"\",\"\",IF(Importação!$J$9=\"\",\"\",Importação!$J$9))","v":""},null,{"$f":"IFERROR((VLOOKUP($D372,'Plano de Contas'!$B$2:$E$200,3,FALSE)),\"\")","v":""},null,"",""]
["",{"$f":"IF(F373=\"\",\"\",IF(Importação!$H$9=\"\",\"\",Importação!$H$9))","v":""},{"$f":"IF(F373=\"\",\"\",IF(Importação!$J$9=\"\",\"\",Importação!$J$9))","v":""},null,{"$f":"IFERROR((VLOOKUP($D373,'Plano de Contas'!$B$2:$E$200,3,FALSE)),\"\")","v":""},null,"",""]
["",{"$f":"IF(F374=\"\",\"\",IF(Importação!$H$9=\"\",\"\",Importação!$H$9))","v":""},{"$f":"IF(F374=\"\",\"\",IF(Importação!$J$9=\"\",\"\",Importação!$J$9))","v":""},null,{"$f":"IFERROR((VLOOKUP($D374,'Plano de Contas'!$B$2:$E$200,3,FALSE)),\"\")","v":""},null,"",""]
["",{"$f":"IF(F375=\"\",\"\",IF(Importação!$H$9=\"\",\"\",Importação!$H$9))","v":""},{"$f":"IF(F375=\"\",\"\",IF(Importação!$J$9=\"\",\"\",Importação!$J$9))","v":""},null,{"$f":"IFERROR((VLOOKUP($D375,'Plano de Contas'!$B$2:$E$200,3,FALSE)),\"\")","v":""},null,"",""]
["",{"$f":"IF(F376=\"\",\"\",IF(Importação!$H$9=\"\",\"\",Importação!$H$9))","v":""},{"$f":"IF(F376=\"\",\"\",IF(Importação!$J$9=\"\",\"\",Importação!$J$9))","v":""},null,{"$f":"IFERROR((VLOOKUP($D376,'Plano de Contas'!$B$2:$E$200,3,FALSE)),\"\")","v":""},null,"",""]
["",{"$f":"IF(F377=\"\",\"\",IF(Importação!$H$9=\"\",\"\",Importação!$H$9))","v":""},{"$f":"IF(F377=\"\",\"\",IF(Importação!$J$9=\"\",\"\",Importação!$J$9))","v":""},null,{"$f":"IFERROR((VLOOKUP($D377,'Plano de Contas'!$B$2:$E$200,3,FALSE)),\"\")","v":""},null,"",""]
["",{"$f":"IF(F378=\"\",\"\",IF(Importação!$H$9=\"\",\"\",Importação!$H$9))","v":""},{"$f":"IF(F378=\"\",\"\",IF(Importação!$J$9=\"\",\"\",Importação!$J$9))","v":""},null,{"$f":"IFERROR((VLOOKUP($D378,'Plano de Contas'!$B$2:$E$200,3,FALSE)),\"\")","v":""},null,"",""]
["",{"$f":"IF(F379=\"\",\"\",IF(Importação!$H$9=\"\",\"\",Importação!$H$9))","v":""},{"$f":"IF(F379=\"\",\"\",IF(Importação!$J$9=\"\",\"\",Importação!$J$9))","v":""},null,{"$f":"IFERROR((VLOOKUP($D379,'Plano de Contas'!$B$2:$E$200,3,FALSE)),\"\")","v":""},null,"",""]
["",{"$f":"IF(F380=\"\",\"\",IF(Importação!$H$9=\"\",\"\",Importação!$H$9))","v":""},{"$f":"IF(F380=\"\",\"\",IF(Importação!$J$9=\"\",\"\",Importação!$J$9))","v":""},null,{"$f":"IFERROR((VLOOKUP($D380,'Plano de Contas'!$B$2:$E$200,3,FALSE)),\"\")","v":""},null,"",""]
["",{"$f":"IF(F381=\"\",\"\",IF(Importação!$H$9=\"\",\"\",Importação!$H$9))","v":""},{"$f":"IF(F381=\"\",\"\",IF(Importação!$J$9=\"\",\"\",Importação!$J$9))","v":""},null,{"$f":"IFERROR((VLOOKUP($D381,'Plano de Contas'!$B$2:$E$200,3,FALSE)),\"\")","v":""},null,"",""]
["",{"$f":"IF(F382=\"\",\"\",IF(Importação!$H$9=\"\",\"\",Importação!$H$9))","v":""},{"$f":"IF(F382=\"\",\"\",IF(Importação!$J$9=\"\",\"\",Importação!$J$9))","v":""},null,{"$f":"IFERROR((VLOOKUP($D382,'Plano de Contas'!$B$2:$E$200,3,FALSE)),\"\")","v":""},null,"",""]
["",{"$f":"IF(F383=\"\",\"\",IF(Importação!$H$9=\"\",\"\",Importação!$H$9))","v":""},{"$f":"IF(F383=\"\",\"\",IF(Importação!$J$9=\"\",\"\",Importação!$J$9))","v":""},null,{"$f":"IFERROR((VLOOKUP($D383,'Plano de Contas'!$B$2:$E$200,3,FALSE)),\"\")","v":""},null,"",""]
["",{"$f":"IF(F384=\"\",\"\",IF(Importação!$H$9=\"\",\"\",Importação!$H$9))","v":""},{"$f":"IF(F384=\"\",\"\",IF(Importação!$J$9=\"\",\"\",Importação!$J$9))","v":""},null,{"$f":"IFERROR((VLOOKUP($D384,'Plano de Contas'!$B$2:$E$200,3,FALSE)),\"\")","v":""},null,"",""]
["",{"$f":"IF(F385=\"\",\"\",IF(Importação!$H$9=\"\",\"\",Importação!$H$9))","v":""},{"$f":"IF(F385=\"\",\"\",IF(Importação!$J$9=\"\",\"\",Importação!$J$9))","v":""},null,{"$f":"IFERROR((VLOOKUP($D385,'Plano de Contas'!$B$2:$E$200,3,FALSE)),\"\")","v":""},null,"",""]
["",{"$f":"IF(F386=\"\",\"\",IF(Importação!$H$9=\"\",\"\",Importação!$H$9))","v":""},{"$f":"IF(F386=\"\",\"\",IF(Importação!$J$9=\"\",\"\",Importação!$J$9))","v":""},null,{"$f":"IFERROR((VLOOKUP($D386,'Plano de Contas'!$B$2:$E$200,3,FALSE)),\"\")","v":""},null,"",""]
[{"$f":"IF(F387=\"\",\"\",CONCATENATE(B387:B387,\"/\",C387))","v":""},{"$f":"IF(F387=\"\",\"\",IF(Importação!$H$9=\"\",\"\",Importação!$H$9))","v":""},{"$f":"IF(F387=\"\",\"\",IF(Importação!$J$9=\"\",\"\",Importação!$J$9))","v":""},null,{"$f":"IFERROR((VLOOKUP($D387,'Plano de Contas'!$B$2:$E$200,3,FALSE)),\"\")","v":""},null,{"$f":"IF(H387=\"\",\"\",IF(H387=\"1.\",\"FATURAMENTO\",IF(H387=\"10\",\"RECEITA NÃO OPERACIONAL\",\"PAGAMENTOS\")))","v":""},{"$f":"MID(D387,1,2)","v":""}]
["",{"$f":"IF(F388=\"\",\"\",IF(Importação!$H$9=\"\",\"\",Importação!$H$9))","v":""},{"$f":"IF(F388=\"\",\"\",IF(Importação!$J$9=\"\",\"\",Importação!$J$9))","v":""},null,{"$f":"IFERROR((VLOOKUP($D388,'Plano de Contas'!$B$2:$E$200,3,FALSE)),\"\")","v":""},null,"",""]
["",{"$f":"IF(F389=\"\",\"\",IF(Importação!$H$9=\"\",\"\",Importação!$H$9))","v":""},{"$f":"IF(F389=\"\",\"\",IF(Importação!$J$9=\"\",\"\",Importação!$J$9))","v":""},null,{"$f":"IFERROR((VLOOKUP($D389,'Plano de Contas'!$B$2:$E$200,3,FALSE)),\"\")","v":""},null,"",""]
["",{"$f":"IF(F390=\"\",\"\",IF(Importação!$H$9=\"\",\"\",Importação!$H$9))","v":""},{"$f":"IF(F390=\"\",\"\",IF(Importação!$J$9=\"\",\"\",Importação!$J$9))","v":""},null,{"$f":"IFERROR((VLOOKUP($D390,'Plano de Contas'!$B$2:$E$200,3,FALSE)),\"\")","v":""},null,"",""]
["",{"$f":"IF(F391=\"\",\"\",IF(Importação!$H$9=\"\",\"\",Importação!$H$9))","v":""},{"$f":"IF(F391=\"\",\"\",IF(Importação!$J$9=\"\",\"\",Importação!$J$9))","v":""},null,{"$f":"IFERROR((VLOOKUP($D391,'Plano de Contas'!$B$2:$E$200,3,FALSE)),\"\")","v":""},null,"",""]
["",{"$f":"IF(F392=\"\",\"\",IF(Importação!$H$9=\"\",\"\",Importação!$H$9))","v":""},{"$f":"IF(F392=\"\",\"\",IF(Importação!$J$9=\"\",\"\",Importação!$J$9))","v":""},null,{"$f":"IFERROR((VLOOKUP($D392,'Plano de Contas'!$B$2:$E$200,3,FALSE)),\"\")","v":""},null,"",""]
["",{"$f":"IF(F393=\"\",\"\",IF(Importação!$H$9=\"\",\"\",Importação!$H$9))","v":""},{"$f":"IF(F393=\"\",\"\",IF(Importação!$J$9=\"\",\"\",Importação!$J$9))","v":""},null,{"$f":"IFERROR((VLOOKUP($D393,'Plano de Contas'!$B$2:$E$200,3,FALSE)),\"\")","v":""},null,"",""]
["",{"$f":"IF(F394=\"\",\"\",IF(Importação!$H$9=\"\",\"\",Importação!$H$9))","v":""},{"$f":"IF(F394=\"\",\"\",IF(Importação!$J$9=\"\",\"\",Importação!$J$9))","v":""},null,{"$f":"IFERROR((VLOOKUP($D394,'Plano de Contas'!$B$2:$E$200,3,FALSE)),\"\")","v":""},null,"",""]
["",{"$f":"IF(F395=\"\",\"\",IF(Importação!$H$9=\"\",\"\",Importação!$H$9))","v":""},{"$f":"IF(F395=\"\",\"\",IF(Importação!$J$9=\"\",\"\",Importação!$J$9))","v":""},null,{"$f":"IFERROR((VLOOKUP($D395,'Plano de Contas'!$B$2:$E$200,3,FALSE)),\"\")","v":""},null,"",""]
["",{"$f":"IF(F396=\"\",\"\",IF(Importação!$H$9=\"\",\"\",Importação!$H$9))","v":""},{"$f":"IF(F396=\"\",\"\",IF(Importação!$J$9=\"\",\"\",Importação!$J$9))","v":""},null,{"$f":"IFERROR((VLOOKUP($D396,'Plano de Contas'!$B$2:$E$200,3,FALSE)),\"\")","v":""},null,"",""]
["",{"$f":"IF(F397=\"\",\"\",IF(Importação!$H$9=\"\",\"\",Importação!$H$9))","v":""},{"$f":"IF(F397=\"\",\"\",IF(Importação!$J$9=\"\",\"\",Importação!$J$9))","v":""},null,{"$f":"IFERROR((VLOOKUP($D397,'Plano de Contas'!$B$2:$E$200,3,FALSE)),\"\")","v":""},null,"",""]
["",{"$f":"IF(F398=\"\",\"\",IF(Importação!$H$9=\"\",\"\",Importação!$H$9))","v":""},{"$f":"IF(F398=\"\",\"\",IF(Importação!$J$9=\"\",\"\",Importação!$J$9))","v":""},null,{"$f":"IFERROR((VLOOKUP($D398,'Plano de Contas'!$B$2:$E$200,3,FALSE)),\"\")","v":""},null,"",""]
["",{"$f":"IF(F399=\"\",\"\",IF(Importação!$H$9=\"\",\"\",Importação!$H$9))","v":""},{"$f":"IF(F399=\"\",\"\",IF(Importação!$J$9=\"\",\"\",Importação!$J$9))","v":""},null,{"$f":"IFERROR((VLOOKUP($D399,'Plano de Contas'!$B$2:$E$200,3,FALSE)),\"\")","v":""},null,"",""]
["",{"$f":"IF(F400=\"\",\"\",IF(Importação!$H$9=\"\",\"\",Importação!$H$9))","v":""},{"$f":"IF(F400=\"\",\"\",IF(Importação!$J$9=\"\",\"\",Importação!$J$9))","v":""},null,{"$f":"IFERROR((VLOOKUP($D400,'Plano de Contas'!$B$2:$E$200,3,FALSE)),\"\")","v":""},null,"",""]
["",{"$f":"IF(F401=\"\",\"\",IF(Importação!$H$9=\"\",\"\",Importação!$H$9))","v":""},{"$f":"IF(F401=\"\",\"\",IF(Importação!$J$9=\"\",\"\",Importação!$J$9))","v":""},null,{"$f":"IFERROR((VLOOKUP($D401,'Plano de Contas'!$B$2:$E$200,3,FALSE)),\"\")","v":""},null,"",""]
["",{"$f":"IF(F402=\"\",\"\",IF(Importação!$H$9=\"\",\"\",Importação!$H$9))","v":""},{"$f":"IF(F402=\"\",\"\",IF(Importação!$J$9=\"\",\"\",Importação!$J$9))","v":""},null,{"$f":"IFERROR((VLOOKUP($D402,'Plano de Contas'!$B$2:$E$200,3,FALSE)),\"\")","v":""},null,"",""]
["",{"$f":"IF(F403=\"\",\"\",IF(Importação!$H$9=\"\",\"\",Importação!$H$9))","v":""},{"$f":"IF(F403=\"\",\"\",IF(Importação!$J$9=\"\",\"\",Importação!$J$9))","v":""},null,{"$f":"IFERROR((VLOOKUP($D403,'Plano de Contas'!$B$2:$E$200,3,FALSE)),\"\")","v":""},null,"",""]
["",{"$f":"IF(F404=\"\",\"\",IF(Importação!$H$9=\"\",\"\",Importação!$H$9))","v":""},{"$f":"IF(F404=\"\",\"\",IF(Importação!$J$9=\"\",\"\",Importação!$J$9))","v":""},null,{"$f":"IFERROR((VLOOKUP($D404,'Plano de Contas'!$B$2:$E$200,3,FALSE)),\"\")","v":""},null,"",""]
["",{"$f":"IF(F405=\"\",\"\",IF(Importação!$H$9=\"\",\"\",Importação!$H$9))","v":""},{"$f":"IF(F405=\"\",\"\",IF(Importação!$J$9=\"\",\"\",Importação!$J$9))","v":""},null,{"$f":"IFERROR((VLOOKUP($D405,'Plano de Contas'!$B$2:$E$200,3,FALSE)),\"\")","v":""},null,"",""]
["",{"$f":"IF(F406=\"\",\"\",IF(Importação!$H$9=\"\",\"\",Importação!$H$9))","v":""},{"$f":"IF(F406=\"\",\"\",IF(Importação!$J$9=\"\",\"\",Importação!$J$9))","v":""},null,{"$f":"IFERROR((VLOOKUP($D406,'Plano de Contas'!$B$2:$E$200,3,FALSE)),\"\")","v":""},null,"",""]
["",{"$f":"IF(F407=\"\",\"\",IF(Importação!$H$9=\"\",\"\",Importação!$H$9))","v":""},{"$f":"IF(F407=\"\",\"\",IF(Importação!$J$9=\"\",\"\",Importação!$J$9))","v":""},null,{"$f":"IFERROR((VLOOKUP($D407,'Plano de Contas'!$B$2:$E$200,3,FALSE)),\"\")","v":""},null,"",""]
["",{"$f":"IF(F408=\"\",\"\",IF(Importação!$H$9=\"\",\"\",Importação!$H$9))","v":""},{"$f":"IF(F408=\"\",\"\",IF(Importação!$J$9=\"\",\"\",Importação!$J$9))","v":""},null,{"$f":"IFERROR((VLOOKUP($D408,'Plano de Contas'!$B$2:$E$200,3,FALSE)),\"\")","v":""},null,"",""]
["",{"$f":"IF(F409=\"\",\"\",IF(Importação!$H$9=\"\",\"\",Importação!$H$9))","v":""},{"$f":"IF(F409=\"\",\"\",IF(Importação!$J$9=\"\",\"\",Importação!$J$9))","v":""},null,{"$f":"IFERROR((VLOOKUP($D409,'Plano de Contas'!$B$2:$E$200,3,FALSE)),\"\")","v":""},null,"",""]
["",{"$f":"IF(F410=\"\",\"\",IF(Importação!$H$9=\"\",\"\",Importação!$H$9))","v":""},{"$f":"IF(F410=\"\",\"\",IF(Importação!$J$9=\"\",\"\",Importação!$J$9))","v":""},null,{"$f":"IFERROR((VLOOKUP($D410,'Plano de Contas'!$B$2:$E$200,3,FALSE)),\"\")","v":""},null,"",""]
["",{"$f":"IF(F411=\"\",\"\",IF(Importação!$H$9=\"\",\"\",Importação!$H$9))","v":""},{"$f":"IF(F411=\"\",\"\",IF(Importação!$J$9=\"\",\"\",Importação!$J$9))","v":""},null,{"$f":"IFERROR((VLOOKUP($D411,'Plano de Contas'!$B$2:$E$200,3,FALSE)),\"\")","v":""},null,"",""]
["",{"$f":"IF(F412=\"\",\"\",IF(Importação!$H$9=\"\",\"\",Importação!$H$9))","v":""},{"$f":"IF(F412=\"\",\"\",IF(Importação!$J$9=\"\",\"\",Importação!$J$9))","v":""},null,{"$f":"IFERROR((VLOOKUP($D412,'Plano de Contas'!$B$2:$E$200,3,FALSE)),\"\")","v":""},null,"",""]
["",{"$f":"IF(F413=\"\",\"\",IF(Importação!$H$9=\"\",\"\",Importação!$H$9))","v":""},{"$f":"IF(F413=\"\",\"\",IF(Importação!$J$9=\"\",\"\",Importação!$J$9))","v":""},null,{"$f":"IFERROR((VLOOKUP($D413,'Plano de Contas'!$B$2:$E$200,3,FALSE)),\"\")","v":""},null,"",""]
["",{"$f":"IF(F414=\"\",\"\",IF(Importação!$H$9=\"\",\"\",Importação!$H$9))","v":""},{"$f":"IF(F414=\"\",\"\",IF(Importação!$J$9=\"\",\"\",Importação!$J$9))","v":""},null,{"$f":"IFERROR((VLOOKUP($D414,'Plano de Contas'!$B$2:$E$200,3,FALSE)),\"\")","v":""},null,"",""]
["",{"$f":"IF(F415=\"\",\"\",IF(Importação!$H$9=\"\",\"\",Importação!$H$9))","v":""},{"$f":"IF(F415=\"\",\"\",IF(Importação!$J$9=\"\",\"\",Importação!$J$9))","v":""},null,{"$f":"IFERROR((VLOOKUP($D415,'Plano de Contas'!$B$2:$E$200,3,FALSE)),\"\")","v":""},null,"",""]
["",{"$f":"IF(F416=\"\",\"\",IF(Importação!$H$9=\"\",\"\",Importação!$H$9))","v":""},{"$f":"IF(F416=\"\",\"\",IF(Importação!$J$9=\"\",\"\",Importação!$J$9))","v":""},null,{"$f":"IFERROR((VLOOKUP($D416,'Plano de Contas'!$B$2:$E$200,3,FALSE)),\"\")","v":""},null,"",""]
["",{"$f":"IF(F417=\"\",\"\",IF(Importação!$H$9=\"\",\"\",Importação!$H$9))","v":""},{"$f":"IF(F417=\"\",\"\",IF(Importação!$J$9=\"\",\"\",Importação!$J$9))","v":""},null,{"$f":"IFERROR((VLOOKUP($D417,'Plano de Contas'!$B$2:$E$200,3,FALSE)),\"\")","v":""},null,"",""]
["",{"$f":"IF(F418=\"\",\"\",IF(Importação!$H$9=\"\",\"\",Importação!$H$9))","v":""},{"$f":"IF(F418=\"\",\"\",IF(Importação!$J$9=\"\",\"\",Importação!$J$9))","v":""},null,{"$f":"IFERROR((VLOOKUP($D418,'Plano de Contas'!$B$2:$E$200,3,FALSE)),\"\")","v":""},null,"",""]
["",{"$f":"IF(F419=\"\",\"\",IF(Importação!$H$9=\"\",\"\",Importação!$H$9))","v":""},{"$f":"IF(F419=\"\",\"\",IF(Importação!$J$9=\"\",\"\",Importação!$J$9))","v":""},null,{"$f":"IFERROR((VLOOKUP($D419,'Plano de Contas'!$B$2:$E$200,3,FALSE)),\"\")","v":""},null,"",""]
["",{"$f":"IF(F420=\"\",\"\",IF(Importação!$H$9=\"\",\"\",Importação!$H$9))","v":""},{"$f":"IF(F420=\"\",\"\",IF(Importação!$J$9=\"\",\"\",Importação!$J$9))","v":""},null,{"$f":"IFERROR((VLOOKUP($D420,'Plano de Contas'!$B$2:$E$200,3,FALSE)),\"\")","v":""},null,"",""]
["",{"$f":"IF(F421=\"\",\"\",IF(Importação!$H$9=\"\",\"\",Importação!$H$9))","v":""},{"$f":"IF(F421=\"\",\"\",IF(Importação!$J$9=\"\",\"\",Importação!$J$9))","v":""},null,{"$f":"IFERROR((VLOOKUP($D421,'Plano de Contas'!$B$2:$E$200,3,FALSE)),\"\")","v":""},null,"",""]
["",{"$f":"IF(F422=\"\",\"\",IF(Importação!$H$9=\"\",\"\",Importação!$H$9))","v":""},{"$f":"IF(F422=\"\",\"\",IF(Importação!$J$9=\"\",\"\",Importação!$J$9))","v":""},null,{"$f":"IFERROR((VLOOKUP($D422,'Plano de Contas'!$B$2:$E$200,3,FALSE)),\"\")","v":""},null,"",""]
["",{"$f":"IF(F423=\"\",\"\",IF(Importação!$H$9=\"\",\"\",Importação!$H$9))","v":""},{"$f":"IF(F423=\"\",\"\",IF(Importação!$J$9=\"\",\"\",Importação!$J$9))","v":""},null,{"$f":"IFERROR((VLOOKUP($D423,'Plano de Contas'!$B$2:$E$200,3,FALSE)),\"\")","v":""},null,"",""]
["",{"$f":"IF(F424=\"\",\"\",IF(Importação!$H$9=\"\",\"\",Importação!$H$9))","v":""},{"$f":"IF(F424=\"\",\"\",IF(Importação!$J$9=\"\",\"\",Importação!$J$9))","v":""},null,{"$f":"IFERROR((VLOOKUP($D424,'Plano de Contas'!$B$2:$E$200,3,FALSE)),\"\")","v":""},null,"",""]
["",{"$f":"IF(F425=\"\",\"\",IF(Importação!$H$9=\"\",\"\",Importação!$H$9))","v":""},{"$f":"IF(F425=\"\",\"\",IF(Importação!$J$9=\"\",\"\",Importação!$J$9))","v":""},null,{"$f":"IFERROR((VLOOKUP($D425,'Plano de Contas'!$B$2:$E$200,3,FALSE)),\"\")","v":""},null,"",""]
["",{"$f":"IF(F426=\"\",\"\",IF(Importação!$H$9=\"\",\"\",Importação!$H$9))","v":""},{"$f":"IF(F426=\"\",\"\",IF(Importação!$J$9=\"\",\"\",Importação!$J$9))","v":""},null,{"$f":"IFERROR((VLOOKUP($D426,'Plano de Contas'!$B$2:$E$200,3,FALSE)),\"\")","v":""},null,"",""]
["",{"$f":"IF(F427=\"\",\"\",IF(Importação!$H$9=\"\",\"\",Importação!$H$9))","v":""},{"$f":"IF(F427=\"\",\"\",IF(Importação!$J$9=\"\",\"\",Importação!$J$9))","v":""},null,{"$f":"IFERROR((VLOOKUP($D427,'Plano de Contas'!$B$2:$E$200,3,FALSE)),\"\")","v":""},null,"",""]
["",{"$f":"IF(F428=\"\",\"\",IF(Importação!$H$9=\"\",\"\",Importação!$H$9))","v":""},{"$f":"IF(F428=\"\",\"\",IF(Importação!$J$9=\"\",\"\",Importação!$J$9))","v":""},null,{"$f":"IFERROR((VLOOKUP($D428,'Plano de Contas'!$B$2:$E$200,3,FALSE)),\"\")","v":""},null,"",""]
["",{"$f":"IF(F429=\"\",\"\",IF(Importação!$H$9=\"\",\"\",Importação!$H$9))","v":""},{"$f":"IF(F429=\"\",\"\",IF(Importação!$J$9=\"\",\"\",Importação!$J$9))","v":""},null,{"$f":"IFERROR((VLOOKUP($D429,'Plano de Contas'!$B$2:$E$200,3,FALSE)),\"\")","v":""},null,"",""]
["",{"$f":"IF(F430=\"\",\"\",IF(Importação!$H$9=\"\",\"\",Importação!$H$9))","v":""},{"$f":"IF(F430=\"\",\"\",IF(Importação!$J$9=\"\",\"\",Importação!$J$9))","v":""},null,{"$f":"IFERROR((VLOOKUP($D430,'Plano de Contas'!$B$2:$E$200,3,FALSE)),\"\")","v":""},null,"",""]
["",{"$f":"IF(F431=\"\",\"\",IF(Importação!$H$9=\"\",\"\",Importação!$H$9))","v":""},{"$f":"IF(F431=\"\",\"\",IF(Importação!$J$9=\"\",\"\",Importação!$J$9))","v":""},null,{"$f":"IFERROR((VLOOKUP($D431,'Plano de Contas'!$B$2:$E$200,3,FALSE)),\"\")","v":""},null,"",""]
["",{"$f":"IF(F432=\"\",\"\",IF(Importação!$H$9=\"\",\"\",Importação!$H$9))","v":""},{"$f":"IF(F432=\"\",\"\",IF(Importação!$J$9=\"\",\"\",Importação!$J$9))","v":""},null,{"$f":"IFERROR((VLOOKUP($D432,'Plano de Contas'!$B$2:$E$200,3,FALSE)),\"\")","v":""},null,"",""]
["",{"$f":"IF(F433=\"\",\"\",IF(Importação!$H$9=\"\",\"\",Importação!$H$9))","v":""},{"$f":"IF(F433=\"\",\"\",IF(Importação!$J$9=\"\",\"\",Importação!$J$9))","v":""},null,{"$f":"IFERROR((VLOOKUP($D433,'Plano de Contas'!$B$2:$E$200,3,FALSE)),\"\")","v":""},null,"",""]
["",{"$f":"IF(F434=\"\",\"\",IF(Importação!$H$9=\"\",\"\",Importação!$H$9))","v":""},{"$f":"IF(F434=\"\",\"\",IF(Importação!$J$9=\"\",\"\",Importação!$J$9))","v":""},null,{"$f":"IFERROR((VLOOKUP($D434,'Plano de Contas'!$B$2:$E$200,3,FALSE)),\"\")","v":""},null,"",""]
["",{"$f":"IF(F435=\"\",\"\",IF(Importação!$H$9=\"\",\"\",Importação!$H$9))","v":""},{"$f":"IF(F435=\"\",\"\",IF(Importação!$J$9=\"\",\"\",Importação!$J$9))","v":""},null,{"$f":"IFERROR((VLOOKUP($D435,'Plano de Contas'!$B$2:$E$200,3,FALSE)),\"\")","v":""},null,"",""]
["",{"$f":"IF(F436=\"\",\"\",IF(Importação!$H$9=\"\",\"\",Importação!$H$9))","v":""},{"$f":"IF(F436=\"\",\"\",IF(Importação!$J$9=\"\",\"\",Importação!$J$9))","v":""},null,{"$f":"IFERROR((VLOOKUP($D436,'Plano de Contas'!$B$2:$E$200,3,FALSE)),\"\")","v":""},null,"",""]
["",{"$f":"IF(F437=\"\",\"\",IF(Importação!$H$9=\"\",\"\",Importação!$H$9))","v":""},{"$f":"IF(F437=\"\",\"\",IF(Importação!$J$9=\"\",\"\",Importação!$J$9))","v":""},null,{"$f":"IFERROR((VLOOKUP($D437,'Plano de Contas'!$B$2:$E$200,3,FALSE)),\"\")","v":""},null,"",""]
["",{"$f":"IF(F438=\"\",\"\",IF(Importação!$H$9=\"\",\"\",Importação!$H$9))","v":""},{"$f":"IF(F438=\"\",\"\",IF(Importação!$J$9=\"\",\"\",Importação!$J$9))","v":""},null,{"$f":"IFERROR((VLOOKUP($D438,'Plano de Contas'!$B$2:$E$200,3,FALSE)),\"\")","v":""},null,"",""]
["",{"$f":"IF(F439=\"\",\"\",IF(Importação!$H$9=\"\",\"\",Importação!$H$9))","v":""},{"$f":"IF(F439=\"\",\"\",IF(Importação!$J$9=\"\",\"\",Importação!$J$9))","v":""},null,{"$f":"IFERROR((VLOOKUP($D439,'Plano de Contas'!$B$2:$E$200,3,FALSE)),\"\")","v":""},null,"",""]
["",{"$f":"IF(F440=\"\",\"\",IF(Importação!$H$9=\"\",\"\",Importação!$H$9))","v":""},{"$f":"IF(F440=\"\",\"\",IF(Importação!$J$9=\"\",\"\",Importação!$J$9))","v":""},null,{"$f":"IFERROR((VLOOKUP($D440,'Plano de Contas'!$B$2:$E$200,3,FALSE)),\"\")","v":""},null,"",""]
["",{"$f":"IF(F441=\"\",\"\",IF(Importação!$H$9=\"\",\"\",Importação!$H$9))","v":""},{"$f":"IF(F441=\"\",\"\",IF(Importação!$J$9=\"\",\"\",Importação!$J$9))","v":""},null,{"$f":"IFERROR((VLOOKUP($D441,'Plano de Contas'!$B$2:$E$200,3,FALSE)),\"\")","v":""},null,"",""]
["",{"$f":"IF(F442=\"\",\"\",IF(Importação!$H$9=\"\",\"\",Importação!$H$9))","v":""},{"$f":"IF(F442=\"\",\"\",IF(Importação!$J$9=\"\",\"\",Importação!$J$9))","v":""},null,{"$f":"IFERROR((VLOOKUP($D442,'Plano de Contas'!$B$2:$E$200,3,FALSE)),\"\")","v":""},null,"",""]
["",{"$f":"IF(F443=\"\",\"\",IF(Importação!$H$9=\"\",\"\",Importação!$H$9))","v":""},{"$f":"IF(F443=\"\",\"\",IF(Importação!$J$9=\"\",\"\",Importação!$J$9))","v":""},null,{"$f":"IFERROR((VLOOKUP($D443,'Plano de Contas'!$B$2:$E$200,3,FALSE)),\"\")","v":""},null,"",""]
["",{"$f":"IF(F444=\"\",\"\",IF(Importação!$H$9=\"\",\"\",Importação!$H$9))","v":""},{"$f":"IF(F444=\"\",\"\",IF(Importação!$J$9=\"\",\"\",Importação!$J$9))","v":""},null,{"$f":"IFERROR((VLOOKUP($D444,'Plano de Contas'!$B$2:$E$200,3,FALSE)),\"\")","v":""},null,"",""]
["",{"$f":"IF(F445=\"\",\"\",IF(Importação!$H$9=\"\",\"\",Importação!$H$9))","v":""},{"$f":"IF(F445=\"\",\"\",IF(Importação!$J$9=\"\",\"\",Importação!$J$9))","v":""},null,{"$f":"IFERROR((VLOOKUP($D445,'Plano de Contas'!$B$2:$E$200,3,FALSE)),\"\")","v":""},null,"",""]
["",{"$f":"IF(F446=\"\",\"\",IF(Importação!$H$9=\"\",\"\",Importação!$H$9))","v":""},{"$f":"IF(F446=\"\",\"\",IF(Importação!$J$9=\"\",\"\",Importação!$J$9))","v":""},null,{"$f":"IFERROR((VLOOKUP($D446,'Plano de Contas'!$B$2:$E$200,3,FALSE)),\"\")","v":""},null,"",""]
["",{"$f":"IF(F447=\"\",\"\",IF(Importação!$H$9=\"\",\"\",Importação!$H$9))","v":""},{"$f":"IF(F447=\"\",\"\",IF(Importação!$J$9=\"\",\"\",Importação!$J$9))","v":""},null,{"$f":"IFERROR((VLOOKUP($D447,'Plano de Contas'!$B$2:$E$200,3,FALSE)),\"\")","v":""},null,"",""]
["",{"$f":"IF(F448=\"\",\"\",IF(Importação!$H$9=\"\",\"\",Importação!$H$9))","v":""},{"$f":"IF(F448=\"\",\"\",IF(Importação!$J$9=\"\",\"\",Importação!$J$9))","v":""},null,{"$f":"IFERROR((VLOOKUP($D448,'Plano de Contas'!$B$2:$E$200,3,FALSE)),\"\")","v":""},null,"",""]
["",{"$f":"IF(F449=\"\",\"\",IF(Importação!$H$9=\"\",\"\",Importação!$H$9))","v":""},{"$f":"IF(F449=\"\",\"\",IF(Importação!$J$9=\"\",\"\",Importação!$J$9))","v":""},null,{"$f":"IFERROR((VLOOKUP($D449,'Plano de Contas'!$B$2:$E$200,3,FALSE)),\"\")","v":""},null,"",""]
["",{"$f":"IF(F450=\"\",\"\",IF(Importação!$H$9=\"\",\"\",Importação!$H$9))","v":""},{"$f":"IF(F450=\"\",\"\",IF(Importação!$J$9=\"\",\"\",Importação!$J$9))","v":""},null,{"$f":"IFERROR((VLOOKUP($D450,'Plano de Contas'!$B$2:$E$200,3,FALSE)),\"\")","v":""},null,"",""]
[{"$f":"IF(F451=\"\",\"\",CONCATENATE(B451:B451,\"/\",C451))","v":""},{"$f":"IF(F451=\"\",\"\",IF(Importação!$H$9=\"\",\"\",Importação!$H$9))","v":""},{"$f":"IF(F451=\"\",\"\",IF(Importação!$J$9=\"\",\"\",Importação!$J$9))","v":""},null,{"$f":"IFERROR((VLOOKUP($D451,'Plano de Contas'!$B$2:$E$200,3,FALSE)),\"\")","v":""},null,{"$f":"IF(H451=\"\",\"\",IF(H451=\"1.\",\"FATURAMENTO\",IF(H451=\"10\",\"RECEITA NÃO OPERACIONAL\",\"PAGAMENTOS\")))","v":""},{"$f":"MID(D451,1,2)","v":""}]
["",{"$f":"IF(F452=\"\",\"\",IF(Importação!$H$9=\"\",\"\",Importação!$H$9))","v":""},{"$f":"IF(F452=\"\",\"\",IF(Importação!$J$9=\"\",\"\",Importação!$J$9))","v":""},null,{"$f":"IFERROR((VLOOKUP($D452,'Plano de Contas'!$B$2:$E$200,3,FALSE)),\"\")","v":""},null,"",""]
["",{"$f":"IF(F453=\"\",\"\",IF(Importação!$H$9=\"\",\"\",Importação!$H$9))","v":""},{"$f":"IF(F453=\"\",\"\",IF(Importação!$J$9=\"\",\"\",Importação!$J$9))","v":""},null,{"$f":"IFERROR((VLOOKUP($D453,'Plano de Contas'!$B$2:$E$200,3,FALSE)),\"\")","v":""},null,"",""]
["",{"$f":"IF(F454=\"\",\"\",IF(Importação!$H$9=\"\",\"\",Importação!$H$9))","v":""},{"$f":"IF(F454=\"\",\"\",IF(Importação!$J$9=\"\",\"\",Importação!$J$9))","v":""},null,{"$f":"IFERROR((VLOOKUP($D454,'Plano de Contas'!$B$2:$E$200,3,FALSE)),\"\")","v":""},null,"",""]
["",{"$f":"IF(F455=\"\",\"\",IF(Importação!$H$9=\"\",\"\",Importação!$H$9))","v":""},{"$f":"IF(F455=\"\",\"\",IF(Importação!$J$9=\"\",\"\",Importação!$J$9))","v":""},null,{"$f":"IFERROR((VLOOKUP($D455,'Plano de Contas'!$B$2:$E$200,3,FALSE)),\"\")","v":""},null,"",""]
["",{"$f":"IF(F456=\"\",\"\",IF(Importação!$H$9=\"\",\"\",Importação!$H$9))","v":""},{"$f":"IF(F456=\"\",\"\",IF(Importação!$J$9=\"\",\"\",Importação!$J$9))","v":""},null,{"$f":"IFERROR((VLOOKUP($D456,'Plano de Contas'!$B$2:$E$200,3,FALSE)),\"\")","v":""},null,"",""]
["",{"$f":"IF(F457=\"\",\"\",IF(Importação!$H$9=\"\",\"\",Importação!$H$9))","v":""},{"$f":"IF(F457=\"\",\"\",IF(Importação!$J$9=\"\",\"\",Importação!$J$9))","v":""},null,{"$f":"IFERROR((VLOOKUP($D457,'Plano de Contas'!$B$2:$E$200,3,FALSE)),\"\")","v":""},null,"",""]
["",{"$f":"IF(F458=\"\",\"\",IF(Importação!$H$9=\"\",\"\",Importação!$H$9))","v":""},{"$f":"IF(F458=\"\",\"\",IF(Importação!$J$9=\"\",\"\",Importação!$J$9))","v":""},null,{"$f":"IFERROR((VLOOKUP($D458,'Plano de Contas'!$B$2:$E$200,3,FALSE)),\"\")","v":""},null,"",""]
["",{"$f":"IF(F459=\"\",\"\",IF(Importação!$H$9=\"\",\"\",Importação!$H$9))","v":""},{"$f":"IF(F459=\"\",\"\",IF(Importação!$J$9=\"\",\"\",Importação!$J$9))","v":""},null,{"$f":"IFERROR((VLOOKUP($D459,'Plano de Contas'!$B$2:$E$200,3,FALSE)),\"\")","v":""},null,"",""]
["",{"$f":"IF(F460=\"\",\"\",IF(Importação!$H$9=\"\",\"\",Importação!$H$9))","v":""},{"$f":"IF(F460=\"\",\"\",IF(Importação!$J$9=\"\",\"\",Importação!$J$9))","v":""},null,{"$f":"IFERROR((VLOOKUP($D460,'Plano de Contas'!$B$2:$E$200,3,FALSE)),\"\")","v":""},null,"",""]
["",{"$f":"IF(F461=\"\",\"\",IF(Importação!$H$9=\"\",\"\",Importação!$H$9))","v":""},{"$f":"IF(F461=\"\",\"\",IF(Importação!$J$9=\"\",\"\",Importação!$J$9))","v":""},null,{"$f":"IFERROR((VLOOKUP($D461,'Plano de Contas'!$B$2:$E$200,3,FALSE)),\"\")","v":""},null,"",""]
["",{"$f":"IF(F462=\"\",\"\",IF(Importação!$H$9=\"\",\"\",Importação!$H$9))","v":""},{"$f":"IF(F462=\"\",\"\",IF(Importação!$J$9=\"\",\"\",Importação!$J$9))","v":""},null,{"$f":"IFERROR((VLOOKUP($D462,'Plano de Contas'!$B$2:$E$200,3,FALSE)),\"\")","v":""},null,"",""]
["",{"$f":"IF(F463=\"\",\"\",IF(Importação!$H$9=\"\",\"\",Importação!$H$9))","v":""},{"$f":"IF(F463=\"\",\"\",IF(Importação!$J$9=\"\",\"\",Importação!$J$9))","v":""},null,{"$f":"IFERROR((VLOOKUP($D463,'Plano de Contas'!$B$2:$E$200,3,FALSE)),\"\")","v":""},null,"",""]
["",{"$f":"IF(F464=\"\",\"\",IF(Importação!$H$9=\"\",\"\",Importação!$H$9))","v":""},{"$f":"IF(F464=\"\",\"\",IF(Importação!$J$9=\"\",\"\",Importação!$J$9))","v":""},null,{"$f":"IFERROR((VLOOKUP($D464,'Plano de Contas'!$B$2:$E$200,3,FALSE)),\"\")","v":""},null,"",""]
["",{"$f":"IF(F465=\"\",\"\",IF(Importação!$H$9=\"\",\"\",Importação!$H$9))","v":""},{"$f":"IF(F465=\"\",\"\",IF(Importação!$J$9=\"\",\"\",Importação!$J$9))","v":""},null,{"$f":"IFERROR((VLOOKUP($D465,'Plano de Contas'!$B$2:$E$200,3,FALSE)),\"\")","v":""},null,"",""]
["",{"$f":"IF(F466=\"\",\"\",IF(Importação!$H$9=\"\",\"\",Importação!$H$9))","v":""},{"$f":"IF(F466=\"\",\"\",IF(Importação!$J$9=\"\",\"\",Importação!$J$9))","v":""},null,{"$f":"IFERROR((VLOOKUP($D466,'Plano de Contas'!$B$2:$E$200,3,FALSE)),\"\")","v":""},null,"",""]
["",{"$f":"IF(F467=\"\",\"\",IF(Importação!$H$9=\"\",\"\",Importação!$H$9))","v":""},{"$f":"IF(F467=\"\",\"\",IF(Importação!$J$9=\"\",\"\",Importação!$J$9))","v":""},null,{"$f":"IFERROR((VLOOKUP($D467,'Plano de Contas'!$B$2:$E$200,3,FALSE)),\"\")","v":""},null,"",""]
["",{"$f":"IF(F468=\"\",\"\",IF(Importação!$H$9=\"\",\"\",Importação!$H$9))","v":""},{"$f":"IF(F468=\"\",\"\",IF(Importação!$J$9=\"\",\"\",Importação!$J$9))","v":""},null,{"$f":"IFERROR((VLOOKUP($D468,'Plano de Contas'!$B$2:$E$200,3,FALSE)),\"\")","v":""},null,"",""]
["",{"$f":"IF(F469=\"\",\"\",IF(Importação!$H$9=\"\",\"\",Importação!$H$9))","v":""},{"$f":"IF(F469=\"\",\"\",IF(Importação!$J$9=\"\",\"\",Importação!$J$9))","v":""},null,{"$f":"IFERROR((VLOOKUP($D469,'Plano de Contas'!$B$2:$E$200,3,FALSE)),\"\")","v":""},null,"",""]
["",{"$f":"IF(F470=\"\",\"\",IF(Importação!$H$9=\"\",\"\",Importação!$H$9))","v":""},{"$f":"IF(F470=\"\",\"\",IF(Importação!$J$9=\"\",\"\",Importação!$J$9))","v":""},null,{"$f":"IFERROR((VLOOKUP($D470,'Plano de Contas'!$B$2:$E$200,3,FALSE)),\"\")","v":""},null,"",""]
["",{"$f":"IF(F471=\"\",\"\",IF(Importação!$H$9=\"\",\"\",Importação!$H$9))","v":""},{"$f":"IF(F471=\"\",\"\",IF(Importação!$J$9=\"\",\"\",Importação!$J$9))","v":""},null,{"$f":"IFERROR((VLOOKUP($D471,'Plano de Contas'!$B$2:$E$200,3,FALSE)),\"\")","v":""},null,"",""]
["",{"$f":"IF(F472=\"\",\"\",IF(Importação!$H$9=\"\",\"\",Importação!$H$9))","v":""},{"$f":"IF(F472=\"\",\"\",IF(Importação!$J$9=\"\",\"\",Importação!$J$9))","v":""},null,{"$f":"IFERROR((VLOOKUP($D472,'Plano de Contas'!$B$2:$E$200,3,FALSE)),\"\")","v":""},null,"",""]
["",{"$f":"IF(F473=\"\",\"\",IF(Importação!$H$9=\"\",\"\",Importação!$H$9))","v":""},{"$f":"IF(F473=\"\",\"\",IF(Importação!$J$9=\"\",\"\",Importação!$J$9))","v":""},null,{"$f":"IFERROR((VLOOKUP($D473,'Plano de Contas'!$B$2:$E$200,3,FALSE)),\"\")","v":""},null,"",""]
["",{"$f":"IF(F474=\"\",\"\",IF(Importação!$H$9=\"\",\"\",Importação!$H$9))","v":""},{"$f":"IF(F474=\"\",\"\",IF(Importação!$J$9=\"\",\"\",Importação!$J$9))","v":""},null,{"$f":"IFERROR((VLOOKUP($D474,'Plano de Contas'!$B$2:$E$200,3,FALSE)),\"\")","v":""},null,"",""]
["",{"$f":"IF(F475=\"\",\"\",IF(Importação!$H$9=\"\",\"\",Importação!$H$9))","v":""},{"$f":"IF(F475=\"\",\"\",IF(Importação!$J$9=\"\",\"\",Importação!$J$9))","v":""},null,{"$f":"IFERROR((VLOOKUP($D475,'Plano de Contas'!$B$2:$E$200,3,FALSE)),\"\")","v":""},null,"",""]
["",{"$f":"IF(F476=\"\",\"\",IF(Importação!$H$9=\"\",\"\",Importação!$H$9))","v":""},{"$f":"IF(F476=\"\",\"\",IF(Importação!$J$9=\"\",\"\",Importação!$J$9))","v":""},null,{"$f":"IFERROR((VLOOKUP($D476,'Plano de Contas'!$B$2:$E$200,3,FALSE)),\"\")","v":""},null,"",""]
["",{"$f":"IF(F477=\"\",\"\",IF(Importação!$H$9=\"\",\"\",Importação!$H$9))","v":""},{"$f":"IF(F477=\"\",\"\",IF(Importação!$J$9=\"\",\"\",Importação!$J$9))","v":""},null,{"$f":"IFERROR((VLOOKUP($D477,'Plano de Contas'!$B$2:$E$200,3,FALSE)),\"\")","v":""},null,"",""]
["",{"$f":"IF(F478=\"\",\"\",IF(Importação!$H$9=\"\",\"\",Importação!$H$9))","v":""},{"$f":"IF(F478=\"\",\"\",IF(Importação!$J$9=\"\",\"\",Importação!$J$9))","v":""},null,{"$f":"IFERROR((VLOOKUP($D478,'Plano de Contas'!$B$2:$E$200,3,FALSE)),\"\")","v":""},null,"",""]
["",{"$f":"IF(F479=\"\",\"\",IF(Importação!$H$9=\"\",\"\",Importação!$H$9))","v":""},{"$f":"IF(F479=\"\",\"\",IF(Importação!$J$9=\"\",\"\",Importação!$J$9))","v":""},null,{"$f":"IFERROR((VLOOKUP($D479,'Plano de Contas'!$B$2:$E$200,3,FALSE)),\"\")","v":""},null,"",""]
["",{"$f":"IF(F480=\"\",\"\",IF(Importação!$H$9=\"\",\"\",Importação!$H$9))","v":""},{"$f":"IF(F480=\"\",\"\",IF(Importação!$J$9=\"\",\"\",Importação!$J$9))","v":""},null,{"$f":"IFERROR((VLOOKUP($D480,'Plano de Contas'!$B$2:$E$200,3,FALSE)),\"\")","v":""},null,"",""]
["",{"$f":"IF(F481=\"\",\"\",IF(Importação!$H$9=\"\",\"\",Importação!$H$9))","v":""},{"$f":"IF(F481=\"\",\"\",IF(Importação!$J$9=\"\",\"\",Importação!$J$9))","v":""},null,{"$f":"IFERROR((VLOOKUP($D481,'Plano de Contas'!$B$2:$E$200,3,FALSE)),\"\")","v":""},null,"",""]
["",{"$f":"IF(F482=\"\",\"\",IF(Importação!$H$9=\"\",\"\",Importação!$H$9))","v":""},{"$f":"IF(F482=\"\",\"\",IF(Importação!$J$9=\"\",\"\",Importação!$J$9))","v":""},null,{"$f":"IFERROR((VLOOKUP($D482,'Plano de Contas'!$B$2:$E$200,3,FALSE)),\"\")","v":""},null,"",""]
["",{"$f":"IF(F483=\"\",\"\",IF(Importação!$H$9=\"\",\"\",Importação!$H$9))","v":""},{"$f":"IF(F483=\"\",\"\",IF(Importação!$J$9=\"\",\"\",Importação!$J$9))","v":""},null,{"$f":"IFERROR((VLOOKUP($D483,'Plano de Contas'!$B$2:$E$200,3,FALSE)),\"\")","v":""},null,"",""]
["",{"$f":"IF(F484=\"\",\"\",IF(Importação!$H$9=\"\",\"\",Importação!$H$9))","v":""},{"$f":"IF(F484=\"\",\"\",IF(Importação!$J$9=\"\",\"\",Importação!$J$9))","v":""},null,{"$f":"IFERROR((VLOOKUP($D484,'Plano de Contas'!$B$2:$E$200,3,FALSE)),\"\")","v":""},null,"",""]
["",{"$f":"IF(F485=\"\",\"\",IF(Importação!$H$9=\"\",\"\",Importação!$H$9))","v":""},{"$f":"IF(F485=\"\",\"\",IF(Importação!$J$9=\"\",\"\",Importação!$J$9))","v":""},null,{"$f":"IFERROR((VLOOKUP($D485,'Plano de Contas'!$B$2:$E$200,3,FALSE)),\"\")","v":""},null,"",""]
["",{"$f":"IF(F486=\"\",\"\",IF(Importação!$H$9=\"\",\"\",Importação!$H$9))","v":""},{"$f":"IF(F486=\"\",\"\",IF(Importação!$J$9=\"\",\"\",Importação!$J$9))","v":""},null,{"$f":"IFERROR((VLOOKUP($D486,'Plano de Contas'!$B$2:$E$200,3,FALSE)),\"\")","v":""},null,"",""]
["",{"$f":"IF(F487=\"\",\"\",IF(Importação!$H$9=\"\",\"\",Importação!$H$9))","v":""},{"$f":"IF(F487=\"\",\"\",IF(Importação!$J$9=\"\",\"\",Importação!$J$9))","v":""},null,{"$f":"IFERROR((VLOOKUP($D487,'Plano de Contas'!$B$2:$E$200,3,FALSE)),\"\")","v":""},null,"",""]
["",{"$f":"IF(F488=\"\",\"\",IF(Importação!$H$9=\"\",\"\",Importação!$H$9))","v":""},{"$f":"IF(F488=\"\",\"\",IF(Importação!$J$9=\"\",\"\",Importação!$J$9))","v":""},null,{"$f":"IFERROR((VLOOKUP($D488,'Plano de Contas'!$B$2:$E$200,3,FALSE)),\"\")","v":""},null,"",""]
["",{"$f":"IF(F489=\"\",\"\",IF(Importação!$H$9=\"\",\"\",Importação!$H$9))","v":""},{"$f":"IF(F489=\"\",\"\",IF(Importação!$J$9=\"\",\"\",Importação!$J$9))","v":""},null,{"$f":"IFERROR((VLOOKUP($D489,'Plano de Contas'!$B$2:$E$200,3,FALSE)),\"\")","v":""},null,"",""]
["",{"$f":"IF(F490=\"\",\"\",IF(Importação!$H$9=\"\",\"\",Importação!$H$9))","v":""},{"$f":"IF(F490=\"\",\"\",IF(Importação!$J$9=\"\",\"\",Importação!$J$9))","v":""},null,{"$f":"IFERROR((VLOOKUP($D490,'Plano de Contas'!$B$2:$E$200,3,FALSE)),\"\")","v":""},null,"",""]
["",{"$f":"IF(F491=\"\",\"\",IF(Importação!$H$9=\"\",\"\",Importação!$H$9))","v":""},{"$f":"IF(F491=\"\",\"\",IF(Importação!$J$9=\"\",\"\",Importação!$J$9))","v":""},null,{"$f":"IFERROR((VLOOKUP($D491,'Plano de Contas'!$B$2:$E$200,3,FALSE)),\"\")","v":""},null,"",""]
["",{"$f":"IF(F492=\"\",\"\",IF(Importação!$H$9=\"\",\"\",Importação!$H$9))","v":""},{"$f":"IF(F492=\"\",\"\",IF(Importação!$J$9=\"\",\"\",Importação!$J$9))","v":""},null,{"$f":"IFERROR((VLOOKUP($D492,'Plano de Contas'!$B$2:$E$200,3,FALSE)),\"\")","v":""},null,"",""]
["",{"$f":"IF(F493=\"\",\"\",IF(Importação!$H$9=\"\",\"\",Importação!$H$9))","v":""},{"$f":"IF(F493=\"\",\"\",IF(Importação!$J$9=\"\",\"\",Importação!$J$9))","v":""},null,{"$f":"IFERROR((VLOOKUP($D493,'Plano de Contas'!$B$2:$E$200,3,FALSE)),\"\")","v":""},null,"",""]
["",{"$f":"IF(F494=\"\",\"\",IF(Importação!$H$9=\"\",\"\",Importação!$H$9))","v":""},{"$f":"IF(F494=\"\",\"\",IF(Importação!$J$9=\"\",\"\",Importação!$J$9))","v":""},null,{"$f":"IFERROR((VLOOKUP($D494,'Plano de Contas'!$B$2:$E$200,3,FALSE)),\"\")","v":""},null,"",""]
["",{"$f":"IF(F495=\"\",\"\",IF(Importação!$H$9=\"\",\"\",Importação!$H$9))","v":""},{"$f":"IF(F495=\"\",\"\",IF(Importação!$J$9=\"\",\"\",Importação!$J$9))","v":""},null,{"$f":"IFERROR((VLOOKUP($D495,'Plano de Contas'!$B$2:$E$200,3,FALSE)),\"\")","v":""},null,"",""]
["",{"$f":"IF(F496=\"\",\"\",IF(Importação!$H$9=\"\",\"\",Importação!$H$9))","v":""},{"$f":"IF(F496=\"\",\"\",IF(Importação!$J$9=\"\",\"\",Importação!$J$9))","v":""},null,{"$f":"IFERROR((VLOOKUP($D496,'Plano de Contas'!$B$2:$E$200,3,FALSE)),\"\")","v":""},null,"",""]
["",{"$f":"IF(F497=\"\",\"\",IF(Importação!$H$9=\"\",\"\",Importação!$H$9))","v":""},{"$f":"IF(F497=\"\",\"\",IF(Importação!$J$9=\"\",\"\",Importação!$J$9))","v":""},null,{"$f":"IFERROR((VLOOKUP($D497,'Plano de Contas'!$B$2:$E$200,3,FALSE)),\"\")","v":""},null,"",""]
["",{"$f":"IF(F498=\"\",\"\",IF(Importação!$H$9=\"\",\"\",Importação!$H$9))","v":""},{"$f":"IF(F498=\"\",\"\",IF(Importação!$J$9=\"\",\"\",Importação!$J$9))","v":""},null,{"$f":"IFERROR((VLOOKUP($D498,'Plano de Contas'!$B$2:$E$200,3,FALSE)),\"\")","v":""},null,"",""]
["",{"$f":"IF(F499=\"\",\"\",IF(Importação!$H$9=\"\",\"\",Importação!$H$9))","v":""},{"$f":"IF(F499=\"\",\"\",IF(Importação!$J$9=\"\",\"\",Importação!$J$9))","v":""},null,{"$f":"IFERROR((VLOOKUP($D499,'Plano de Contas'!$B$2:$E$200,3,FALSE)),\"\")","v":""},null,"",""]
["",{"$f":"IF(F500=\"\",\"\",IF(Importação!$H$9=\"\",\"\",Importação!$H$9))","v":""},{"$f":"IF(F500=\"\",\"\",IF(Importação!$J$9=\"\",\"\",Importação!$J$9))","v":""},null,{"$f":"IFERROR((VLOOKUP($D500,'Plano de Contas'!$B$2:$E$200,3,FALSE)),\"\")","v":""},null,"",""]

{"sheet":"Arquivo","index":4,"n_rows":998,"n_cols":9,"rows_kept":998,"cut":false,"hidden":false,"merged":[]}
["MÊS/ANO","MÊS","ANO","CÓDIGO","DESCRIÇÃO","VALOR","COD1","COD2",{"$f":"CONCATENATE(Importação!H16,\"/\",Importação!J16)","v":"JUNHO/2018"}]
["MÊS/ANO","MÊS","ANO","CÓDIGO","DESCRIÇÃO","VALOR","COD1","COD2"]
["ABRIL/2017","Abril",2017,"1.1.1.2","VL. TOTAL DOS CUPONS* A PRAZO",1760130.35,"FATURAMENTO","1."]
["ABRIL/2017","Abril",2017,"2.1.1.1","(CUST12) CUSTO DOS PRODUTOS VENDIDOS",1524873.78,"PAGAMENTOS","2."]
["ABRIL/2017","Abril",2017,"4.1.1.1","PIS/COFINS",543.5,"PAGAMENTOS","4."]
["ABRIL/2017","Abril",2017,"4.1.1.2","OUTROS IMPOSTOS",483.24,"PAGAMENTOS","4."]
["ABRIL/2017","Abril",2017,"6.1.1.2","CUSTO COM EMBALAGENS",66981.31,"PAGAMENTOS","6."]
["ABRIL/2017","Abril",2017,"6.1.1.3","FUNRURAL",33085.760000000002,"PAGAMENTOS","6."]
["ABRIL/2017","Abril",2017,"8.1.1.1","FOPAG ADMINISTRATIVO",13159.91,"PAGAMENTOS","8."]
["ABRIL/2017","Abril",2017,"8.1.1.2","FOPAG PESSOAL CAMARA/EMBALADORES",31946.720000000001,"PAGAMENTOS","8."]
["ABRIL/2017","Abril",2017,"8.1.1.4","EMPRESTIMOS A FUNCIONARIOS",600,"PAGAMENTOS","8."]
["ABRIL/2017","Abril",2017,"8.1.1.6","RESCISAO CONTRATUAL",null,"PAGAMENTOS","8."]
["ABRIL/2017","Abril",2017,"8.1.1.8","DESPESA COM VIAGEM",1050,"PAGAMENTOS","8."]
["ABRIL/2017","Abril",2017,"8.1.1.9","OUTRAS DESP. COM PESSOAL",4615.26,"PAGAMENTOS","8."]
["ABRIL/2017","Abril",2017,"8.1.1.10","FERIAS FUNCIONARIOS",4118.92,"PAGAMENTOS","8."]
["ABRIL/2017","Abril",2017,"8.1.1.11","DECIMO TERCEIRO SALARIO",1697.36,"PAGAMENTOS","8."]
["ABRIL/2017","Abril",2017,"8.1.2.2","FGTS",4587.88,"PAGAMENTOS","8."]
["ABRIL/2017","Abril",2017,"8.1.2.3","CONTRIBUICAO SOCIAL",1084.2,"PAGAMENTOS","8."]
["ABRIL/2017","Abril",2017,"8.1.2.4","INSS ADMINISTRACAO/CAMARA",6520.95,"PAGAMENTOS","8."]
["ABRIL/2017","Abril",2017,"8.1.2.5","INSS COLHEITADORES",4388.08,"PAGAMENTOS","8."]
["ABRIL/2017","Abril",2017,"8.1.3.1","ENERGIA",3282.23,"PAGAMENTOS","8."]
["ABRIL/2017","Abril",2017,"8.1.3.2","AGUA",53.12,"PAGAMENTOS","8."]
["ABRIL/2017","Abril",2017,"8.1.3.3","TELEFONE FIXO",179.8,"PAGAMENTOS","8."]
["ABRIL/2017","Abril",2017,"8.1.3.4","TELEFONE CELULAR",1004.76,"PAGAMENTOS","8."]
["ABRIL/2017","Abril",2017,"8.1.3.5","HONORARIOS CONTABEIS",2859,"PAGAMENTOS","8."]
["ABRIL/2017","Abril",2017,"8.1.3.6","MATERIAL DE ESCRITORIO",242,"PAGAMENTOS","8."]
["ABRIL/2017","Abril",2017,"8.1.3.7","MATERIAL DE LIMPEZA E CANTINA",449.83,"PAGAMENTOS","8."]
["ABRIL/2017","Abril",2017,"8.1.3.9","CORREIO, ENCOMENDAS E CARTORIOS",null,"PAGAMENTOS","8."]
["ABRIL/2017","Abril",2017,"8.1.3.10","SEGUROS",1652.99,"PAGAMENTOS","8."]
["ABRIL/2017","Abril",2017,"8.1.3.12","MENSALIDADE-ABANORTE",1074,"PAGAMENTOS","8."]
["ABRIL/2017","Abril",2017,"8.1.3.13","MENSALIDADE-ACIJAN",80.099999999999994,"PAGAMENTOS","8."]
["ABRIL/2017","Abril",2017,"8.1.3.14","ASSINATURA (JORNAL, INTERNET)",25,"PAGAMENTOS","8."]
["ABRIL/2017","Abril",2017,"8.1.3.15","SUPORTE INFORMATICA",311.10000000000002,"PAGAMENTOS","8."]
["ABRIL/2017","Abril",2017,"8.1.3.17","MANUT. HIDRAULICA E ELETRICA",null,"PAGAMENTOS","8."]
["ABRIL/2017","Abril",2017,"8.1.3.18","SERVICOS DE VIGILANCIA",140,"PAGAMENTOS","8."]
["ABRIL/2017","Abril",2017,"8.1.3.19","PADARIA E LANCHONETE",489.2,"PAGAMENTOS","8."]
["ABRIL/2017","Abril",2017,"8.1.3.20","OUTRAS DESP.ADMINISTRATIVAS",1874,"PAGAMENTOS","8."]
["ABRIL/2017","Abril",2017,"8.2.1.3","OUTRAS DESP.COM VENDAS",1838.6,"PAGAMENTOS","8."]
["ABRIL/2017","Abril",2017,"8.2.1.4","DESCONTOS CONCEDIDOS",123.5,"PAGAMENTOS","8."]
["ABRIL/2017","Abril",2017,"8.2.2.1","MANUTENCAO VEICULO",1875.5,"PAGAMENTOS","8."]
["ABRIL/2017","Abril",2017,"8.2.2.2","COMBUSTIVEL",2952.76,"PAGAMENTOS","8."]
["ABRIL/2017","Abril",2017,"8.2.2.6","ICMS SOBRE FRETE",7884.07,"PAGAMENTOS","8."]
["ABRIL/2017","Abril",2017,"8.2.2.7","FRETE TRANSPORTES",2500,"PAGAMENTOS","8."]
["ABRIL/2017","Abril",2017,"8.2.2.8","PERMISSAO TRANSITO",3381.04,"PAGAMENTOS","8."]
["ABRIL/2017","Abril",2017,"8.2.2.15","COMBUSTIVEL COOPERADOS",3807,"PAGAMENTOS","8."]
["ABRIL/2017","Abril",2017,"8.2.2.16","COMBUSTIVEL (OLEO DIESEL)",6708,"PAGAMENTOS","8."]
["ABRIL/2017","Abril",2017,"8.2.2.17","COMBUSTIVEL TERCEIROS",4263,"PAGAMENTOS","8."]
["ABRIL/2017","Abril",2017,"8.2.3.1","PROPAGANDA",null,"PAGAMENTOS","8."]
["ABRIL/2017","Abril",2017,"8.2.3.2","PATROCINIOS",null,"PAGAMENTOS","8."]
["ABRIL/2017","Abril",2017,"8.3.1.2","OUTRAS DESP.FINANCEIRAS",952.86,"PAGAMENTOS","8."]
["ABRIL/2017","Abril",2017,"8.4.1.3","IPTU",null,"PAGAMENTOS","8."]
["ABRIL/2017","Abril",2017,"8.4.1.4","OUTRAS DESP.TRIBUTARIAS",394.42,"PAGAMENTOS","8."]
["ABRIL/2017","Abril",2017,"10.1.1.3","OUTRAS REC.NAO OPERACIONAIS",16366.4,"RECEITA NÃO OPERACIONAL","10"]
["ABRIL/2017","Abril",2017,"10.1.1.5","DESCONTOS OBTIDOS",3177.31,"RECEITA NÃO OPERACIONAL","10"]
["ABRIL/2017","Abril",2017,"11.1.1.1","DESPESAS NAO OPERACIONAIS",766.59,"PAGAMENTOS","11"]
["ABRIL/2017","Abril",2017,"11.1.1.2","PROVISAO P/ DEVEDORES DUVIDOSOS",9238.11,"PAGAMENTOS","11"]
["ABRIL/2017","Abril",2017,"11.1.1.6","FERRAMENTARIA",null,"PAGAMENTOS","11"]
["ABRIL/2017","Abril",2017,"11.1.1.8","FUNDO ABANORTE SIGATOKA NEGRA",2016,"PAGAMENTOS","11"]
["ABRIL/2018","ABRIL",2018,"1.1.1.2","VL. TOTAL DOS CUPONS* A PRAZO",1008922.75,"FATURAMENTO","1."]
["ABRIL/2018","ABRIL",2018,"2.1.1.1","(CUST12) CUSTO DOS PRODUTOS VENDIDOS",831438.8,"PAGAMENTOS","2."]
["ABRIL/2018","ABRIL",2018,"4.1.1.1","PIS/COFINS",701.35,"PAGAMENTOS","4."]
["ABRIL/2018","ABRIL",2018,"4.1.1.2","OUTROS IMPOSTOS",2148.9699999999998,"PAGAMENTOS","4."]
["ABRIL/2018","ABRIL",2018,"6.1.1.2","CUSTO COM EMBALAGENS",35596.959999999999,"PAGAMENTOS","6."]
["ABRIL/2018","ABRIL",2018,"6.1.1.3","FUNRURAL",11998.92,"PAGAMENTOS","6."]
["ABRIL/2018","ABRIL",2018,"8.1.1.1","FOPAG ADMINISTRATIVO",13772.64,"PAGAMENTOS","8."]
["ABRIL/2018","ABRIL",2018,"8.1.1.2","FOPAG PESSOAL CAMARA/EMBALADORES",29961.53,"PAGAMENTOS","8."]
["ABRIL/2018","ABRIL",2018,"8.1.1.9","OUTRAS DESP. COM PESSOAL",2102.7600000000002,"PAGAMENTOS","8."]
["ABRIL/2018","ABRIL",2018,"8.1.1.10","FERIAS FUNCIONARIOS",5026.07,"PAGAMENTOS","8."]
["ABRIL/2018","ABRIL",2018,"8.1.1.11","DECIMO TERCEIRO SALARIO",5221.0600000000004,"PAGAMENTOS","8."]
["ABRIL/2018","ABRIL",2018,"8.1.2.2","FGTS",4729.5600000000004,"PAGAMENTOS","8."]
["ABRIL/2018","ABRIL",2018,"8.1.2.4","INSS ADMINISTRACAO/CAMARA",6639.33,"PAGAMENTOS","8."]
["ABRIL/2018","ABRIL",2018,"8.1.2.5","INSS COLHEITADORES",4073.82,"PAGAMENTOS","8."]
["ABRIL/2018","ABRIL",2018,"8.1.3.1","ENERGIA",1416.22,"PAGAMENTOS","8."]
["ABRIL/2018","ABRIL",2018,"8.1.3.2","AGUA",78.040000000000006,"PAGAMENTOS","8."]
["ABRIL/2018","ABRIL",2018,"8.1.3.3","TELEFONE FIXO",67.83,"PAGAMENTOS","8."]
["ABRIL/2018","ABRIL",2018,"8.1.3.4","TELEFONE CELULAR",630.95000000000005,"PAGAMENTOS","8."]
["ABRIL/2018","ABRIL",2018,"8.1.3.5","HONORARIOS CONTABEIS",2923,"PAGAMENTOS","8."]
["ABRIL/2018","ABRIL",2018,"8.1.3.6","MATERIAL DE ESCRITORIO",45,"PAGAMENTOS","8."]
["ABRIL/2018","ABRIL",2018,"8.1.3.7","MATERIAL DE LIMPEZA E CANTINA",622.61,"PAGAMENTOS","8."]
["ABRIL/2018","ABRIL",2018,"8.1.3.10","SEGUROS",1585.45,"PAGAMENTOS","8."]
["ABRIL/2018","ABRIL",2018,"8.1.3.12","MENSALIDADE-ABANORTE",1074,"PAGAMENTOS","8."]
["ABRIL/2018","ABRIL",2018,"8.1.3.13","MENSALIDADE-ACIJAN",78.8,"PAGAMENTOS","8."]
["ABRIL/2018","ABRIL",2018,"8.1.3.14","ASSINATURA (JORNAL, INTERNET)",25,"PAGAMENTOS","8."]
["ABRIL/2018","ABRIL",2018,"8.1.3.15","SUPORTE INFORMATICA",286.2,"PAGAMENTOS","8."]
["ABRIL/2018","ABRIL",2018,"8.1.3.16","MANUT.MAQ E EQUIP",195,"PAGAMENTOS","8."]
["ABRIL/2018","ABRIL",2018,"8.1.3.18","SERVICOS DE VIGILANCIA",150,"PAGAMENTOS","8."]
["ABRIL/2018","ABRIL",2018,"8.1.3.19","PADARIA E LANCHONETE",651.04,"PAGAMENTOS","8."]
["ABRIL/2018","ABRIL",2018,"8.1.3.20","OUTRAS DESP.ADMINISTRATIVAS",4694.88,"PAGAMENTOS","8."]
["ABRIL/2018","ABRIL",2018,"8.2.1.3","OUTRAS DESP.COM VENDAS",4337.7700000000004,"PAGAMENTOS","8."]
["ABRIL/2018","ABRIL",2018,"8.2.1.4","DESCONTOS CONCEDIDOS",3749.15,"PAGAMENTOS","8."]
["ABRIL/2018","ABRIL",2018,"8.2.2.1","MANUTENCAO VEICULO",2434,"PAGAMENTOS","8."]
["ABRIL/2018","ABRIL",2018,"8.2.2.2","COMBUSTIVEL",2758.43,"PAGAMENTOS","8."]
["ABRIL/2018","ABRIL",2018,"8.2.2.6","ICMS SOBRE FRETE",644.48,"PAGAMENTOS","8."]
["ABRIL/2018","ABRIL",2018,"8.2.2.7","FRETE TRANSPORTES",6809.92,"PAGAMENTOS","8."]
["ABRIL/2018","ABRIL",2018,"8.2.2.8","PERMISSAO TRANSITO",2925.9,"PAGAMENTOS","8."]
["ABRIL/2018","ABRIL",2018,"8.2.2.15","COMBUSTIVEL COOPERADOS",3440.45,"PAGAMENTOS","8."]
["ABRIL/2018","ABRIL",2018,"8.2.2.16","COMBUSTIVEL (OLEO DIESEL)",1376.85,"PAGAMENTOS","8."]
["ABRIL/2018","ABRIL",2018,"8.2.2.17","COMBUSTIVEL TERCEIROS",4723.5,"PAGAMENTOS","8."]
["ABRIL/2018","ABRIL",2018,"8.3.1.2","OUTRAS DESP.FINANCEIRAS",1021.63,"PAGAMENTOS","8."]
["ABRIL/2018","ABRIL",2018,"8.4.1.4","OUTRAS DESP.TRIBUTARIAS",499.25,"PAGAMENTOS","8."]
["ABRIL/2018","ABRIL",2018,"10.1.1.3","OUTRAS REC.NAO OPERACIONAIS",8094.96,"RECEITA NÃO OPERACIONAL","10"]
["ABRIL/2018","ABRIL",2018,"10.1.1.5","DESCONTOS OBTIDOS",1102.56,"RECEITA NÃO OPERACIONAL","10"]
["ABRIL/2018","ABRIL",2018,"11.1.1.2","PROVISAO P/ DEVEDORES DUVIDOSOS",5812.88,"PAGAMENTOS","11"]
["ABRIL/2018","ABRIL",2018,"11.1.1.8","FUNDO ABANORTE SIGATOKA NEGRA",1952,"PAGAMENTOS","11"]
["ABRIL/2018","ABRIL",2018,"13.1.1.1","IMPOSTO S/ LUCRO",567.41999999999996,"PAGAMENTOS","13"]
["AGOSTO/2017","Agosto",2017,"1.1.1.2","VL. TOTAL DOS CUPONS* A PRAZO",914126.2,"FATURAMENTO","1."]
["AGOSTO/2017","Agosto",2017,"2.1.1.1","(CUST12) CUSTO DOS PRODUTOS VENDIDOS",740408.84,"PAGAMENTOS","2."]
["AGOSTO/2017","Agosto",2017,"4.1.1.1","PIS/COFINS",527.96,"PAGAMENTOS","4."]
["AGOSTO/2017","Agosto",2017,"4.1.1.2","OUTROS IMPOSTOS",1647.8,"PAGAMENTOS","4."]
["AGOSTO/2017","Agosto",2017,"6.1.1.2","CUSTO COM EMBALAGENS",36818.980000000003,"PAGAMENTOS","6."]
["AGOSTO/2017","Agosto",2017,"6.1.1.3","FUNRURAL",16184.64,"PAGAMENTOS","6."]
["AGOSTO/2017","Agosto",2017,"8.1.1.1","FOPAG ADMINISTRATIVO",13724.06,"PAGAMENTOS","8."]
["AGOSTO/2017","Agosto",2017,"8.1.1.2","FOPAG PESSOAL CAMARA/EMBALADORES",27815.360000000001,"PAGAMENTOS","8."]
["AGOSTO/2017","Agosto",2017,"8.1.1.4","EMPRESTIMOS A FUNCIONARIOS",1200,"PAGAMENTOS","8."]
["AGOSTO/2017","Agosto",2017,"8.1.1.6","RESCISAO CONTRATUAL",null,"PAGAMENTOS","8."]
["AGOSTO/2017","Agosto",2017,"8.1.1.8","DESPESA COM VIAGEM",null,"PAGAMENTOS","8."]
["AGOSTO/2017","Agosto",2017,"8.1.1.9","OUTRAS DESP. COM PESSOAL",4430.26,"PAGAMENTOS","8."]
["AGOSTO/2017","Agosto",2017,"8.1.1.10","FERIAS FUNCIONARIOS",4070.53,"PAGAMENTOS","8."]
["AGOSTO/2017","Agosto",2017,"8.1.1.11","DECIMO TERCEIRO SALARIO",4167.4799999999996,"PAGAMENTOS","8."]
["AGOSTO/2017","Agosto",2017,"8.1.2.2","FGTS",4632.72,"PAGAMENTOS","8."]
["AGOSTO/2017","Agosto",2017,"8.1.2.3","CONTRIBUICAO SOCIAL",null,"PAGAMENTOS","8."]
["AGOSTO/2017","Agosto",2017,"8.1.2.4","INSS ADMINISTRACAO/CAMARA",6119.41,"PAGAMENTOS","8."]
["AGOSTO/2017","Agosto",2017,"8.1.2.5","INSS COLHEITADORES",4287.2,"PAGAMENTOS","8."]
["AGOSTO/2017","Agosto",2017,"8.1.3.1","ENERGIA",1292.1099999999999,"PAGAMENTOS","8."]
["AGOSTO/2017","Agosto",2017,"8.1.3.2","AGUA",81.7,"PAGAMENTOS","8."]
["AGOSTO/2017","Agosto",2017,"8.1.3.3","TELEFONE FIXO",190.12,"PAGAMENTOS","8."]
["AGOSTO/2017","Agosto",2017,"8.1.3.4","TELEFONE CELULAR",750.66,"PAGAMENTOS","8."]
["AGOSTO/2017","Agosto",2017,"8.1.3.5","HONORARIOS CONTABEIS",2873.95,"PAGAMENTOS","8."]
["AGOSTO/2017","Agosto",2017,"8.1.3.6","MATERIAL DE ESCRITORIO",226.1,"PAGAMENTOS","8."]
["AGOSTO/2017","Agosto",2017,"8.1.3.7","MATERIAL DE LIMPEZA E CANTINA",362.2,"PAGAMENTOS","8."]
["AGOSTO/2017","Agosto",2017,"8.1.3.9","CORREIO, ENCOMENDAS E CARTORIOS",32.5,"PAGAMENTOS","8."]
["AGOSTO/2017","Agosto",2017,"8.1.3.10","SEGUROS",3850.97,"PAGAMENTOS","8."]
["AGOSTO/2017","Agosto",2017,"8.1.3.12","MENSALIDADE-ABANORTE",1074,"PAGAMENTOS","8."]
["AGOSTO/2017","Agosto",2017,"8.1.3.13","MENSALIDADE-ACIJAN",88.7,"PAGAMENTOS","8."]
["AGOSTO/2017","Agosto",2017,"8.1.3.14","ASSINATURA (JORNAL, INTERNET)",25,"PAGAMENTOS","8."]
["AGOSTO/2017","Agosto",2017,"8.1.3.15","SUPORTE INFORMATICA",481.1,"PAGAMENTOS","8."]
["AGOSTO/2017","Agosto",2017,"8.1.3.17","MANUT. HIDRAULICA E ELETRICA",922,"PAGAMENTOS","8."]
["AGOSTO/2017","Agosto",2017,"8.1.3.18","SERVICOS DE VIGILANCIA",140,"PAGAMENTOS","8."]
["AGOSTO/2017","Agosto",2017,"8.1.3.19","PADARIA E LANCHONETE",498.5,"PAGAMENTOS","8."]
["AGOSTO/2017","Agosto",2017,"8.1.3.20","OUTRAS DESP.ADMINISTRATIVAS",2518,"PAGAMENTOS","8."]
["AGOSTO/2017","Agosto",2017,"8.2.1.3","OUTRAS DESP.COM VENDAS",null,"PAGAMENTOS","8."]
["AGOSTO/2017","Agosto",2017,"8.2.1.4","DESCONTOS CONCEDIDOS",574.79999999999995,"PAGAMENTOS","8."]
["AGOSTO/2017","Agosto",2017,"8.2.2.1","MANUTENCAO VEICULO",9506.9,"PAGAMENTOS","8."]
["AGOSTO/2017","Agosto",2017,"8.2.2.2","COMBUSTIVEL",1901.25,"PAGAMENTOS","8."]
["AGOSTO/2017","Agosto",2017,"8.2.2.6","ICMS SOBRE FRETE",5572.96,"PAGAMENTOS","8."]
["AGOSTO/2017","Agosto",2017,"8.2.2.7","FRETE TRANSPORTES",null,"PAGAMENTOS","8."]
["AGOSTO/2017","Agosto",2017,"8.2.2.8","PERMISSAO TRANSITO",3023.43,"PAGAMENTOS","8."]
["AGOSTO/2017","Agosto",2017,"8.2.2.15","COMBUSTIVEL COOPERADOS",2697,"PAGAMENTOS","8."]
["AGOSTO/2017","Agosto",2017,"8.2.2.16","COMBUSTIVEL (OLEO DIESEL)",1599.6,"PAGAMENTOS","8."]
["AGOSTO/2017","Agosto",2017,"8.2.2.17","COMBUSTIVEL TERCEIROS",186,"PAGAMENTOS","8."]
["AGOSTO/2017","Agosto",2017,"8.2.3.1","PROPAGANDA",null,"PAGAMENTOS","8."]
["AGOSTO/2017","Agosto",2017,"8.2.3.2","PATROCINIOS",null,"PAGAMENTOS","8."]
["AGOSTO/2017","Agosto",2017,"8.3.1.2","OUTRAS DESP.FINANCEIRAS",868.78,"PAGAMENTOS","8."]
["AGOSTO/2017","Agosto",2017,"8.4.1.3","IPTU",1360,"PAGAMENTOS","8."]
["AGOSTO/2017","Agosto",2017,"8.4.1.4","OUTRAS DESP.TRIBUTARIAS",21.22,"PAGAMENTOS","8."]
["AGOSTO/2017","Agosto",2017,"10.1.1.3","OUTRAS REC.NAO OPERACIONAIS",3869.05,"RECEITA NÃO OPERACIONAL","10"]
["AGOSTO/2017","Agosto",2017,"10.1.1.5","DESCONTOS OBTIDOS",565.66999999999996,"RECEITA NÃO OPERACIONAL","10"]
["AGOSTO/2017","Agosto",2017,"11.1.1.1","DESPESAS NAO OPERACIONAIS",250,"PAGAMENTOS","11"]
["AGOSTO/2017","Agosto",2017,"11.1.1.2","PROVISAO P/ DEVEDORES DUVIDOSOS",8033.45,"PAGAMENTOS","11"]
["AGOSTO/2017","Agosto",2017,"11.1.1.6","FERRAMENTARIA",400,"PAGAMENTOS","11"]
["AGOSTO/2017","Agosto",2017,"11.1.1.8","FUNDO ABANORTE SIGATOKA NEGRA",1728,"PAGAMENTOS","11"]
["DEZEMBRO/2017","Dezembro",2017,"1.1.1.2","VL. TOTAL DOS CUPONS* A PRAZO",889893.35,"FATURAMENTO","1."]
["DEZEMBRO/2017","Dezembro",2017,"2.1.1.1","(CUST12) CUSTO DOS PRODUTOS VENDIDOS",756734.25,"PAGAMENTOS","2."]
["DEZEMBRO/2017","Dezembro",2017,"4.1.1.1","PIS/COFINS",686.16,"PAGAMENTOS","4."]
["DEZEMBRO/2017","Dezembro",2017,"4.1.1.2","OUTROS IMPOSTOS",2006.39,"PAGAMENTOS","4."]
["DEZEMBRO/2017","Dezembro",2017,"6.1.1.2","CUSTO COM EMBALAGENS",27961.72,"PAGAMENTOS","6."]
["DEZEMBRO/2017","Dezembro",2017,"6.1.1.3","FUNRURAL",16443.75,"PAGAMENTOS","6."]
["DEZEMBRO/2017","Dezembro",2017,"8.1.1.1","FOPAG ADMINISTRATIVO",13593.4,"PAGAMENTOS","8."]
["DEZEMBRO/2017","Dezembro",2017,"8.1.1.2","FOPAG PESSOAL CAMARA/EMBALADORES",28434.61,"PAGAMENTOS","8."]
["DEZEMBRO/2017","Dezembro",2017,"8.1.1.4","EMPRESTIMOS A FUNCIONARIOS",null,"PAGAMENTOS","8."]
["DEZEMBRO/2017","Dezembro",2017,"8.1.1.6","RESCISAO CONTRATUAL",null,"PAGAMENTOS","8."]
["DEZEMBRO/2017","Dezembro",2017,"8.1.1.8","DESPESA COM VIAGEM",1435.43,"PAGAMENTOS","8."]
["DEZEMBRO/2017","Dezembro",2017,"8.1.1.9","OUTRAS DESP. COM PESSOAL",4556.9799999999996,"PAGAMENTOS","8."]
["DEZEMBRO/2017","Dezembro",2017,"8.1.1.10","FERIAS FUNCIONARIOS",7597.19,"PAGAMENTOS","8."]
["DEZEMBRO/2017","Dezembro",2017,"8.1.1.11","DECIMO TERCEIRO SALARIO",19872.05,"PAGAMENTOS","8."]
["DEZEMBRO/2017","Dezembro",2017,"8.1.2.2","FGTS",5918.43,"PAGAMENTOS","8."]
["DEZEMBRO/2017","Dezembro",2017,"8.1.2.3","CONTRIBUICAO SOCIAL",null,"PAGAMENTOS","8."]
["DEZEMBRO/2017","Dezembro",2017,"8.1.2.4","INSS ADMINISTRACAO/CAMARA",12466.59,"PAGAMENTOS","8."]
["DEZEMBRO/2017","Dezembro",2017,"8.1.2.5","INSS COLHEITADORES",7467.69,"PAGAMENTOS","8."]
["DEZEMBRO/2017","Dezembro",2017,"8.1.3.1","ENERGIA",1168.53,"PAGAMENTOS","8."]
["DEZEMBRO/2017","Dezembro",2017,"8.1.3.2","AGUA",78.040000000000006,"PAGAMENTOS","8."]
["DEZEMBRO/2017","Dezembro",2017,"8.1.3.3","TELEFONE FIXO",190.12,"PAGAMENTOS","8."]
["DEZEMBRO/2017","Dezembro",2017,"8.1.3.4","TELEFONE CELULAR",590.52,"PAGAMENTOS","8."]
["DEZEMBRO/2017","Dezembro",2017,"8.1.3.5","HONORARIOS CONTABEIS",5670,"PAGAMENTOS","8."]
["DEZEMBRO/2017","Dezembro",2017,"8.1.3.6","MATERIAL DE ESCRITORIO",412.6,"PAGAMENTOS","8."]
["DEZEMBRO/2017","Dezembro",2017,"8.1.3.7","MATERIAL DE LIMPEZA E CANTINA",null,"PAGAMENTOS","8."]
["DEZEMBRO/2017","Dezembro",2017,"8.1.3.9","CORREIO, ENCOMENDAS E CARTORIOS",null,"PAGAMENTOS","8."]
["DEZEMBRO/2017","Dezembro",2017,"8.1.3.10","SEGUROS",1947.7,"PAGAMENTOS","8."]
["DEZEMBRO/2017","Dezembro",2017,"8.1.3.12","MENSALIDADE-ABANORTE",1074,"PAGAMENTOS","8."]
["DEZEMBRO/2017","Dezembro",2017,"8.1.3.13","MENSALIDADE-ACIJAN",88.7,"PAGAMENTOS","8."]
["DEZEMBRO/2017","Dezembro",2017,"8.1.3.14","ASSINATURA (JORNAL, INTERNET)",25,"PAGAMENTOS","8."]
["DEZEMBRO/2017","Dezembro",2017,"8.1.3.15","SUPORTE INFORMATICA",281.10000000000002,"PAGAMENTOS","8."]
["DEZEMBRO/2017","Dezembro",2017,"8.1.3.17","MANUT. HIDRAULICA E ELETRICA",13.5,"PAGAMENTOS","8."]
["DEZEMBRO/2017","Dezembro",2017,"8.1.3.18","SERVICOS DE VIGILANCIA",140,"PAGAMENTOS","8."]
["DEZEMBRO/2017","Dezembro",2017,"8.1.3.19","PADARIA E LANCHONETE",451.35,"PAGAMENTOS","8."]
["DEZEMBRO/2017","Dezembro",2017,"8.1.3.20","OUTRAS DESP.ADMINISTRATIVAS",14409.55,"PAGAMENTOS","8."]
["DEZEMBRO/2017","Dezembro",2017,"8.2.1.3","OUTRAS DESP.COM VENDAS",848.5,"PAGAMENTOS","8."]
["DEZEMBRO/2017","Dezembro",2017,"8.2.1.4","DESCONTOS CONCEDIDOS",2229.67,"PAGAMENTOS","8."]
["DEZEMBRO/2017","Dezembro",2017,"8.2.2.1","MANUTENCAO VEICULO",2000,"PAGAMENTOS","8."]
["DEZEMBRO/2017","Dezembro",2017,"8.2.2.2","COMBUSTIVEL",2447.65,"PAGAMENTOS","8."]
["DEZEMBRO/2017","Dezembro",2017,"8.2.2.6","ICMS SOBRE FRETE",3015.35,"PAGAMENTOS","8."]
["DEZEMBRO/2017","Dezembro",2017,"8.2.2.7","FRETE TRANSPORTES",null,"PAGAMENTOS","8."]
["DEZEMBRO/2017","Dezembro",2017,"8.2.2.8","PERMISSAO TRANSITO",2958.41,"PAGAMENTOS","8."]
["DEZEMBRO/2017","Dezembro",2017,"8.2.2.15","COMBUSTIVEL COOPERADOS",2668.8,"PAGAMENTOS","8."]
["DEZEMBRO/2017","Dezembro",2017,"8.2.2.16","COMBUSTIVEL (OLEO DIESEL)",1158.4000000000001,"PAGAMENTOS","8."]
["DEZEMBRO/2017","Dezembro",2017,"8.2.2.17","COMBUSTIVEL TERCEIROS",2304,"PAGAMENTOS","8."]
["DEZEMBRO/2017","Dezembro",2017,"8.2.3.1","PROPAGANDA",null,"PAGAMENTOS","8."]
["DEZEMBRO/2017","Dezembro",2017,"8.2.3.2","PATROCINIOS",null,"PAGAMENTOS","8."]
["DEZEMBRO/2017","Dezembro",2017,"8.3.1.2","OUTRAS DESP.FINANCEIRAS",1040.75,"PAGAMENTOS","8."]
["DEZEMBRO/2017","Dezembro",2017,"8.4.1.3","IPTU",1360,"PAGAMENTOS","8."]
["DEZEMBRO/2017","Dezembro",2017,"8.4.1.4","OUTRAS DESP.TRIBUTARIAS",195.79,"PAGAMENTOS","8."]
["DEZEMBRO/2017","Dezembro",2017,"10.1.1.3","OUTRAS REC.NAO OPERACIONAIS",4270.1499999999996,"RECEITA NÃO OPERACIONAL","10"]
["DEZEMBRO/2017","Dezembro",2017,"10.1.1.5","DESCONTOS OBTIDOS",12893.4,"RECEITA NÃO OPERACIONAL","10"]
["DEZEMBRO/2017","Dezembro",2017,"11.1.1.1","DESPESAS NAO OPERACIONAIS",null,"PAGAMENTOS","11"]
["DEZEMBRO/2017","Dezembro",2017,"11.1.1.2","PROVISAO P/ DEVEDORES DUVIDOSOS",5671.56,"PAGAMENTOS","11"]
["DEZEMBRO/2017","Dezembro",2017,"11.1.1.6","FERRAMENTARIA",null,"PAGAMENTOS","11"]
["DEZEMBRO/2017","Dezembro",2017,"11.1.1.8","FUNDO ABANORTE SIGATOKA NEGRA",1856,"PAGAMENTOS","11"]
["FEVEREIRO/2017","Fevereiro",2017,"1.1.1.2","VL. TOTAL DOS CUPONS* A PRAZO",1053098.05,"FATURAMENTO","1."]
["FEVEREIRO/2017","Fevereiro",2017,"2.1.1.1","(CUST12) CUSTO DOS PRODUTOS VENDIDOS",905261.8,"PAGAMENTOS","2."]
["FEVEREIRO/2017","Fevereiro",2017,"4.1.1.1","PIS/COFINS",490.94,"PAGAMENTOS","4."]
["FEVEREIRO/2017","Fevereiro",2017,"4.1.1.2","OUTROS IMPOSTOS",466.48,"PAGAMENTOS","4."]
["FEVEREIRO/2017","Fevereiro",2017,"6.1.1.2","CUSTO COM EMBALAGENS",37862.71,"PAGAMENTOS","6."]
["FEVEREIRO/2017","Fevereiro",2017,"6.1.1.3","FUNRURAL",19756.05,"PAGAMENTOS","6."]
["FEVEREIRO/2017","Fevereiro",2017,"8.1.1.1","FOPAG ADMINISTRATIVO",14585.08,"PAGAMENTOS","8."]
["FEVEREIRO/2017","Fevereiro",2017,"8.1.1.2","FOPAG PESSOAL CAMARA/EMBALADORES",28861.439999999999,"PAGAMENTOS","8."]
["FEVEREIRO/2017","Fevereiro",2017,"8.1.1.4","EMPRESTIMOS A FUNCIONARIOS",null,"PAGAMENTOS","8."]
["FEVEREIRO/2017","Fevereiro",2017,"8.1.1.6","RESCISAO CONTRATUAL",null,"PAGAMENTOS","8."]
["FEVEREIRO/2017","Fevereiro",2017,"8.1.1.8","DESPESA COM VIAGEM",null,"PAGAMENTOS","8."]
["FEVEREIRO/2017","Fevereiro",2017,"8.1.1.9","OUTRAS DESP. COM PESSOAL",5405.26,"PAGAMENTOS","8."]
["FEVEREIRO/2017","Fevereiro",2017,"8.1.1.10","FERIAS FUNCIONARIOS",4004.18,"PAGAMENTOS","8."]
["FEVEREIRO/2017","Fevereiro",2017,"8.1.1.11","DECIMO TERCEIRO SALARIO",1652.55,"PAGAMENTOS","8."]
["FEVEREIRO/2017","Fevereiro",2017,"8.1.2.2","FGTS",4518.28,"PAGAMENTOS","8."]
["FEVEREIRO/2017","Fevereiro",2017,"8.1.2.3","CONTRIBUICAO SOCIAL",null,"PAGAMENTOS","8."]
["FEVEREIRO/2017","Fevereiro",2017,"8.1.2.4","INSS ADMINISTRACAO/CAMARA",6119.8,"PAGAMENTOS","8."]
["FEVEREIRO/2017","Fevereiro",2017,"8.1.2.5","INSS COLHEITADORES",4190.5,"PAGAMENTOS","8."]
["FEVEREIRO/2017","Fevereiro",2017,"8.1.3.1","ENERGIA",1267.74,"PAGAMENTOS","8."]
["FEVEREIRO/2017","Fevereiro",2017,"8.1.3.2","AGUA",61.03,"PAGAMENTOS","8."]
["FEVEREIRO/2017","Fevereiro",2017,"8.1.3.3","TELEFONE FIXO",184.76,"PAGAMENTOS","8."]
["FEVEREIRO/2017","Fevereiro",2017,"8.1.3.4","TELEFONE CELULAR",1128.72,"PAGAMENTOS","8."]
["FEVEREIRO/2017","Fevereiro",2017,"8.1.3.5","HONORARIOS CONTABEIS",2908.5,"PAGAMENTOS","8."]
["FEVEREIRO/2017","Fevereiro",2017,"8.1.3.6","MATERIAL DE ESCRITORIO",50,"PAGAMENTOS","8."]
["FEVEREIRO/2017","Fevereiro",2017,"8.1.3.7","MATERIAL DE LIMPEZA E CANTINA",372.94,"PAGAMENTOS","8."]
["FEVEREIRO/2017","Fevereiro",2017,"8.1.3.9","CORREIO, ENCOMENDAS E CARTORIOS",null,"PAGAMENTOS","8."]
["FEVEREIRO/2017","Fevereiro",2017,"8.1.3.10","SEGUROS",1073.8,"PAGAMENTOS","8."]
["FEVEREIRO/2017","Fevereiro",2017,"8.1.3.12","MENSALIDADE-ABANORTE",1074,"PAGAMENTOS","8."]
["FEVEREIRO/2017","Fevereiro",2017,"8.1.3.13","MENSALIDADE-ACIJAN",78.8,"PAGAMENTOS","8."]
["FEVEREIRO/2017","Fevereiro",2017,"8.1.3.14","ASSINATURA (JORNAL, INTERNET)",25,"PAGAMENTOS","8."]
["FEVEREIRO/2017","Fevereiro",2017,"8.1.3.15","SUPORTE INFORMATICA",411.1,"PAGAMENTOS","8."]
["FEVEREIRO/2017","Fevereiro",2017,"8.1.3.17","MANUT. HIDRAULICA E ELETRICA",80.459999999999994,"PAGAMENTOS","8."]
["FEVEREIRO/2017","Fevereiro",2017,"8.1.3.18","SERVICOS DE VIGILANCIA",140,"PAGAMENTOS","8."]
["FEVEREIRO/2017","Fevereiro",2017,"8.1.3.19","PADARIA E LANCHONETE",392,"PAGAMENTOS","8."]
["FEVEREIRO/2017","Fevereiro",2017,"8.1.3.20","OUTRAS DESP.ADMINISTRATIVAS",1874,"PAGAMENTOS","8."]
["FEVEREIRO/2017","Fevereiro",2017,"8.2.1.3","OUTRAS DESP.COM VENDAS",98,"PAGAMENTOS","8."]
["FEVEREIRO/2017","Fevereiro",2017,"8.2.1.4","DESCONTOS CONCEDIDOS",null,"PAGAMENTOS","8."]
["FEVEREIRO/2017","Fevereiro",2017,"8.2.2.1","MANUTENCAO VEICULO",2035.73,"PAGAMENTOS","8."]
["FEVEREIRO/2017","Fevereiro",2017,"8.2.2.2","COMBUSTIVEL",1973.1,"PAGAMENTOS","8."]
["FEVEREIRO/2017","Fevereiro",2017,"8.2.2.6","ICMS SOBRE FRETE",4778.22,"PAGAMENTOS","8."]
["FEVEREIRO/2017","Fevereiro",2017,"8.2.2.7","FRETE TRANSPORTES",null,"PAGAMENTOS","8."]
["FEVEREIRO/2017","Fevereiro",2017,"8.2.2.8","PERMISSAO TRANSITO",2665.82,"PAGAMENTOS","8."]
["FEVEREIRO/2017","Fevereiro",2017,"8.2.2.15","COMBUSTIVEL COOPERADOS",1857,"PAGAMENTOS","8."]
["FEVEREIRO/2017","Fevereiro",2017,"8.2.2.16","COMBUSTIVEL (OLEO DIESEL)",2079,"PAGAMENTOS","8."]
["FEVEREIRO/2017","Fevereiro",2017,"8.2.2.17","COMBUSTIVEL TERCEIROS",2514,"PAGAMENTOS","8."]
["FEVEREIRO/2017","Fevereiro",2017,"8.2.3.1","PROPAGANDA",null,"PAGAMENTOS","8."]
["FEVEREIRO/2017","Fevereiro",2017,"8.2.3.2","PATROCINIOS",null,"PAGAMENTOS","8."]
["FEVEREIRO/2017","Fevereiro",2017,"8.3.1.2","OUTRAS DESP.FINANCEIRAS",896.28,"PAGAMENTOS","8."]
["FEVEREIRO/2017","Fevereiro",2017,"8.4.1.3","IPTU",null,"PAGAMENTOS","8."]
["FEVEREIRO/2017","Fevereiro",2017,"8.4.1.4","OUTRAS DESP.TRIBUTARIAS",358.31,"PAGAMENTOS","8."]
["FEVEREIRO/2017","Fevereiro",2017,"10.1.1.3","OUTRAS REC.NAO OPERACIONAIS",4059.05,"RECEITA NÃO OPERACIONAL","10"]
["FEVEREIRO/2017","Fevereiro",2017,"10.1.1.5","DESCONTOS OBTIDOS",1120.31,"RECEITA NÃO OPERACIONAL","10"]
["FEVEREIRO/2017","Fevereiro",2017,"11.1.1.1","DESPESAS NAO OPERACIONAIS",null,"PAGAMENTOS","11"]
["FEVEREIRO/2017","Fevereiro",2017,"11.1.1.2","PROVISAO P/ DEVEDORES DUVIDOSOS",4188.46,"PAGAMENTOS","11"]
["FEVEREIRO/2017","Fevereiro",2017,"11.1.1.6","FERRAMENTARIA",null,"PAGAMENTOS","11"]
["FEVEREIRO/2017","Fevereiro",2017,"11.1.1.8","FUNDO ABANORTE SIGATOKA NEGRA",1536,"PAGAMENTOS","11"]
["FEVEREIRO/2018","Fevereiro","2018","1.1.1.2","VL. TOTAL DOS CUPONS* A PRAZO",821530.1,"FATURAMENTO","1."]
["FEVEREIRO/2018","Fevereiro","2018","10.1.1.3","OUTRAS REC.NAO OPERACIONAIS",4031.05,"RECEITA NÃO OPERACIONAL","10"]
["FEVEREIRO/2018","Fevereiro","2018","10.1.1.5","DESCONTOS OBTIDOS",658.2,"RECEITA NÃO OPERACIONAL","10"]
["FEVEREIRO/2018","Fevereiro","2018","11.1.1.2","PROVISAO P/ DEVEDORES DUVIDOSOS",4226.3599999999997,"PAGAMENTOS","11"]
["FEVEREIRO/2018","Fevereiro","2018","11.1.1.8","FUNDO ABANORTE SIGATOKA NEGRA",1504,"PAGAMENTOS","11"]
["FEVEREIRO/2018","Fevereiro","2018","2.1.1.1","(CUST12) CUSTO DOS PRODUTOS VENDIDOS",681415.88,"PAGAMENTOS","2."]
["FEVEREIRO/2018","Fevereiro","2018","4.1.1.1","PIS/COFINS",538.96,"PAGAMENTOS","4."]
["FEVEREIRO/2018","Fevereiro","2018","4.1.1.2","OUTROS IMPOSTOS",2844.61,"PAGAMENTOS","4."]
["FEVEREIRO/2018","Fevereiro","2018","6.1.1.2","CUSTO COM EMBALAGENS",29511.61,"PAGAMENTOS","6."]
["FEVEREIRO/2018","Fevereiro","2018","6.1.1.3","FUNRURAL",9381.83,"PAGAMENTOS","6."]
["FEVEREIRO/2018","Fevereiro","2018","8.1.1.1","FOPAG ADMINISTRATIVO",14978.95,"PAGAMENTOS","8."]
["FEVEREIRO/2018","Fevereiro","2018","8.1.1.10","FERIAS FUNCIONARIOS",5739.44,"PAGAMENTOS","8."]
["FEVEREIRO/2018","Fevereiro","2018","8.1.1.11","DECIMO TERCEIRO SALARIO",2345.31,"PAGAMENTOS","8."]
["FEVEREIRO/2018","Fevereiro","2018","8.1.1.2","FOPAG PESSOAL CAMARA/EMBALADORES",33933.78,"PAGAMENTOS","8."]
["FEVEREIRO/2018","Fevereiro","2018","8.1.1.9","OUTRAS DESP. COM PESSOAL",890.26,"PAGAMENTOS","8."]
["FEVEREIRO/2018","Fevereiro","2018","8.1.2.2","FGTS",4595.4399999999996,"PAGAMENTOS","8."]
["FEVEREIRO/2018","Fevereiro","2018","8.1.2.4","INSS ADMINISTRACAO/CAMARA",6810.67,"PAGAMENTOS","8."]
["FEVEREIRO/2018","Fevereiro","2018","8.1.2.5","INSS COLHEITADORES",4365.72,"PAGAMENTOS","8."]
["FEVEREIRO/2018","Fevereiro","2018","8.1.3.1","ENERGIA",1112.55,"PAGAMENTOS","8."]
["FEVEREIRO/2018","Fevereiro","2018","8.1.3.10","SEGUROS",1123.5,"PAGAMENTOS","8."]
["FEVEREIRO/2018","Fevereiro","2018","8.1.3.14","ASSINATURA (JORNAL, INTERNET)",25,"PAGAMENTOS","8."]
["FEVEREIRO/2018","Fevereiro","2018","8.1.3.15","SUPORTE INFORMATICA",376.2,"PAGAMENTOS","8."]
["FEVEREIRO/2018","Fevereiro","2018","8.1.3.17","MANUT. HIDRAULICA E ELETRICA",94.9,"PAGAMENTOS","8."]
["FEVEREIRO/2018","Fevereiro","2018","8.1.3.18","SERVICOS DE VIGILANCIA",150,"PAGAMENTOS","8."]
["FEVEREIRO/2018","Fevereiro","2018","8.1.3.19","PADARIA E LANCHONETE",174.56,"PAGAMENTOS","8."]
["FEVEREIRO/2018","Fevereiro","2018","8.1.3.2","AGUA",69.52,"PAGAMENTOS","8."]
["FEVEREIRO/2018","Fevereiro","2018","8.1.3.20","OUTRAS DESP.ADMINISTRATIVAS",1879.38,"PAGAMENTOS","8."]
["FEVEREIRO/2018","Fevereiro","2018","8.1.3.3","TELEFONE FIXO",142.68,"PAGAMENTOS","8."]
["FEVEREIRO/2018","Fevereiro","2018","8.1.3.4","TELEFONE CELULAR",682.61,"PAGAMENTOS","8."]
["FEVEREIRO/2018","Fevereiro","2018","8.1.3.5","HONORARIOS CONTABEIS",2915.6,"PAGAMENTOS","8."]
["FEVEREIRO/2018","Fevereiro","2018","8.1.3.6","MATERIAL DE ESCRITORIO",297.5,"PAGAMENTOS","8."]
["FEVEREIRO/2018","Fevereiro","2018","8.1.3.7","MATERIAL DE LIMPEZA E CANTINA",429.04,"PAGAMENTOS","8."]
["FEVEREIRO/2018","Fevereiro","2018","8.1.3.9","CORREIO, ENCOMENDAS E CARTORIOS",31.74,"PAGAMENTOS","8."]
["FEVEREIRO/2018","Fevereiro","2018","8.2.1.3","OUTRAS DESP.COM VENDAS",827.5,"PAGAMENTOS","8."]
["FEVEREIRO/2018","Fevereiro","2018","8.2.2.1","MANUTENCAO VEICULO",670,"PAGAMENTOS","8."]
["FEVEREIRO/2018","Fevereiro","2018","8.2.2.15","COMBUSTIVEL COOPERADOS",2618,"PAGAMENTOS","8."]
["FEVEREIRO/2018","Fevereiro","2018","8.2.2.16","COMBUSTIVEL (OLEO DIESEL)",1135.5999999999999,"PAGAMENTOS","8."]
["FEVEREIRO/2018","Fevereiro","2018","8.2.2.17","COMBUSTIVEL TERCEIROS",2040,"PAGAMENTOS","8."]
["FEVEREIRO/2018","Fevereiro","2018","8.2.2.2","COMBUSTIVEL",2976.37,"PAGAMENTOS","8."]
["FEVEREIRO/2018","Fevereiro","2018","8.2.2.6","ICMS SOBRE FRETE",2965.62,"PAGAMENTOS","8."]
["FEVEREIRO/2018","Fevereiro","2018","8.2.2.8","PERMISSAO TRANSITO",1983.11,"PAGAMENTOS","8."]
["FEVEREIRO/2018","Fevereiro","2018","8.3.1.2","OUTRAS DESP.FINANCEIRAS",896.36,"PAGAMENTOS","8."]
["FEVEREIRO/2018","Fevereiro","2018","8.4.1.4","OUTRAS DESP.TRIBUTARIAS",92.66,"PAGAMENTOS","8."]
["FEVEREIRO/2018","Fevereiro","2018","8.1.3.12","MENSALIDADE-ABANORTE",1074,"PAGAMENTOS","8."]
["FEVEREIRO/2018","Fevereiro","2018","8.1.3.13","MENSALIDADE-ACIJAN",80.099999999999994,"PAGAMENTOS","8."]
["JANEIRO/2017","Janeiro",2017,"1.1.1.2","VL. TOTAL DOS CUPONS* A PRAZO",1139265.1000000001,"FATURAMENTO","1."]
["JANEIRO/2017","Janeiro",2017,"2.1.1.1","(CUST12) CUSTO DOS PRODUTOS VENDIDOS",1007199.35,"PAGAMENTOS","2."]
["JANEIRO/2017","Janeiro",2017,"4.1.1.1","PIS/COFINS",493.24,"PAGAMENTOS","4."]
["JANEIRO/2017","Janeiro",2017,"4.1.1.2","OUTROS IMPOSTOS",466.49,"PAGAMENTOS","4."]
["JANEIRO/2017","Janeiro",2017,"6.1.1.2","CUSTO COM EMBALAGENS",33182.51,"PAGAMENTOS","6."]
["JANEIRO/2017","Janeiro",2017,"6.1.1.3","FUNRURAL",21130.97,"PAGAMENTOS","6."]
["JANEIRO/2017","Janeiro",2017,"8.1.1.1","FOPAG ADMINISTRATIVO",13715.77,"PAGAMENTOS","8."]
["JANEIRO/2017","Janeiro",2017,"8.1.1.2","FOPAG PESSOAL CAMARA/EMBALADORES",28804.1,"PAGAMENTOS","8."]
["JANEIRO/2017","Janeiro",2017,"8.1.1.4","EMPRESTIMOS A FUNCIONARIOS",null,"PAGAMENTOS","8."]
["JANEIRO/2017","Janeiro",2017,"8.1.1.6","RESCISAO CONTRATUAL",null,"PAGAMENTOS","8."]
["JANEIRO/2017","Janeiro",2017,"8.1.1.8","DESPESA COM VIAGEM",null,"PAGAMENTOS","8."]
["JANEIRO/2017","Janeiro",2017,"8.1.1.9","OUTRAS DESP. COM PESSOAL",3495,"PAGAMENTOS","8."]
["JANEIRO/2017","Janeiro",2017,"8.1.1.10","FERIAS FUNCIONARIOS",3975.86,"PAGAMENTOS","8."]
["JANEIRO/2017","Janeiro",2017,"8.1.1.11","DECIMO TERCEIRO SALARIO",1638.4,"PAGAMENTOS","8."]
["JANEIRO/2017","Janeiro",2017,"8.1.2.2","FGTS",4284.34,"PAGAMENTOS","8."]
["JANEIRO/2017","Janeiro",2017,"8.1.2.3","CONTRIBUICAO SOCIAL",2154.11,"PAGAMENTOS","8."]
["JANEIRO/2017","Janeiro",2017,"8.1.2.4","INSS ADMINISTRACAO/CAMARA",6101.03,"PAGAMENTOS","8."]
["JANEIRO/2017","Janeiro",2017,"8.1.2.5","INSS COLHEITADORES",4287.4399999999996,"PAGAMENTOS","8."]
["JANEIRO/2017","Janeiro",2017,"8.1.3.1","ENERGIA",1796.92,"PAGAMENTOS","8."]
["JANEIRO/2017","Janeiro",2017,"8.1.3.2","AGUA",61.03,"PAGAMENTOS","8."]
["JANEIRO/2017","Janeiro",2017,"8.1.3.3","TELEFONE FIXO",180.01,"PAGAMENTOS","8."]
["JANEIRO/2017","Janeiro",2017,"8.1.3.4","TELEFONE CELULAR",953.67,"PAGAMENTOS","8."]
["JANEIRO/2017","Janeiro",2017,"8.1.3.5","HONORARIOS CONTABEIS",2850.9,"PAGAMENTOS","8."]
["JANEIRO/2017","Janeiro",2017,"8.1.3.6","MATERIAL DE ESCRITORIO",230.75,"PAGAMENTOS","8."]
["JANEIRO/2017","Janeiro",2017,"8.1.3.7","MATERIAL DE LIMPEZA E CANTINA",373.71,"PAGAMENTOS","8."]
["JANEIRO/2017","Janeiro",2017,"8.1.3.9","CORREIO, ENCOMENDAS E CARTORIOS",11.45,"PAGAMENTOS","8."]
["JANEIRO/2017","Janeiro",2017,"8.1.3.10","SEGUROS",2154.94,"PAGAMENTOS","8."]
["JANEIRO/2017","Janeiro",2017,"8.1.3.12","MENSALIDADE-ABANORTE",1074,"PAGAMENTOS","8."]
["JANEIRO/2017","Janeiro",2017,"8.1.3.13","MENSALIDADE-ACIJAN",78.8,"PAGAMENTOS","8."]
["JANEIRO/2017","Janeiro",2017,"8.1.3.14","ASSINATURA (JORNAL, INTERNET)",25,"PAGAMENTOS","8."]
["JANEIRO/2017","Janeiro",2017,"8.1.3.15","SUPORTE INFORMATICA",264,"PAGAMENTOS","8."]
["JANEIRO/2017","Janeiro",2017,"8.1.3.17","MANUT. HIDRAULICA E ELETRICA",null,"PAGAMENTOS","8."]
["JANEIRO/2017","Janeiro",2017,"8.1.3.18","SERVICOS DE VIGILANCIA",140,"PAGAMENTOS","8."]
["JANEIRO/2017","Janeiro",2017,"8.1.3.19","PADARIA E LANCHONETE",319.95,"PAGAMENTOS","8."]
["JANEIRO/2017","Janeiro",2017,"8.1.3.20","OUTRAS DESP.ADMINISTRATIVAS",1874,"PAGAMENTOS","8."]
["JANEIRO/2017","Janeiro",2017,"8.2.1.3","OUTRAS DESP.COM VENDAS",null,"PAGAMENTOS","8."]
["JANEIRO/2017","Janeiro",2017,"8.2.1.4","DESCONTOS CONCEDIDOS",null,"PAGAMENTOS","8."]
["JANEIRO/2017","Janeiro",2017,"8.2.2.1","MANUTENCAO VEICULO",515,"PAGAMENTOS","8."]
["JANEIRO/2017","Janeiro",2017,"8.2.2.2","COMBUSTIVEL",5790.06,"PAGAMENTOS","8."]
["JANEIRO/2017","Janeiro",2017,"8.2.2.6","ICMS SOBRE FRETE",3792.71,"PAGAMENTOS","8."]
["JANEIRO/2017","Janeiro",2017,"8.2.2.7","FRETE TRANSPORTES",null,"PAGAMENTOS","8."]
["JANEIRO/2017","Janeiro",2017,"8.2.2.8","PERMISSAO TRANSITO",2698.33,"PAGAMENTOS","8."]
["JANEIRO/2017","Janeiro",2017,"8.2.2.15","COMBUSTIVEL COOPERADOS",2775,"PAGAMENTOS","8."]
["JANEIRO/2017","Janeiro",2017,"8.2.2.16","COMBUSTIVEL (OLEO DIESEL)",1767,"PAGAMENTOS","8."]
["JANEIRO/2017","Janeiro",2017,"8.2.2.17","COMBUSTIVEL TERCEIROS",600,"PAGAMENTOS","8."]
["JANEIRO/2017","Janeiro",2017,"8.2.3.1","PROPAGANDA",null,"PAGAMENTOS","8."]
["JANEIRO/2017","Janeiro",2017,"8.2.3.2","PATROCINIOS",null,"PAGAMENTOS","8."]
["JANEIRO/2017","Janeiro",2017,"8.3.1.2","OUTRAS DESP.FINANCEIRAS",911.69,"PAGAMENTOS","8."]
["JANEIRO/2017","Janeiro",2017,"8.4.1.3","IPTU",null,"PAGAMENTOS","8."]
["JANEIRO/2017","Janeiro",2017,"8.4.1.4","OUTRAS DESP.TRIBUTARIAS",4480.75,"PAGAMENTOS","8."]
["JANEIRO/2017","Janeiro",2017,"10.1.1.3","OUTRAS REC.NAO OPERACIONAIS",388,"RECEITA NÃO OPERACIONAL","10"]
["JANEIRO/2017","Janeiro",2017,"10.1.1.5","DESCONTOS OBTIDOS",2020.8,"RECEITA NÃO OPERACIONAL","10"]
["JANEIRO/2017","Janeiro",2017,"11.1.1.1","DESPESAS NAO OPERACIONAIS",120,"PAGAMENTOS","11"]
["JANEIRO/2017","Janeiro",2017,"11.1.1.2","PROVISAO P/ DEVEDORES DUVIDOSOS",4197.28,"PAGAMENTOS","11"]
["JANEIRO/2017","Janeiro",2017,"11.1.1.6","FERRAMENTARIA",465.3,"PAGAMENTOS","11"]
["JANEIRO/2017","Janeiro",2017,"11.1.1.8","FUNDO ABANORTE SIGATOKA NEGRA",1416,"PAGAMENTOS","11"]
["JANEIRO/2018","Janeiro","2018","1.1.1.2","VL. TOTAL DOS CUPONS* A PRAZO",960626.8,"FATURAMENTO","1."]
["JANEIRO/2018","Janeiro","2018","10.1.1.3","OUTRAS REC.NAO OPERACIONAIS",11484.63,"RECEITA NÃO OPERACIONAL","10"]
["JANEIRO/2018","Janeiro","2018","10.1.1.5","DESCONTOS OBTIDOS",716.43,"RECEITA NÃO OPERACIONAL","10"]
["JANEIRO/2018","Janeiro","2018","11.1.1.2","PROVISAO P/ DEVEDORES DUVIDOSOS",5633.86,"PAGAMENTOS","11"]
["JANEIRO/2018","Janeiro","2018","11.1.1.8","FUNDO ABANORTE SIGATOKA NEGRA",1792,"PAGAMENTOS","11"]
["JANEIRO/2018","Janeiro","2018","2.1.1.1","(CUST12) CUSTO DOS PRODUTOS VENDIDOS",831805.22,"PAGAMENTOS","2."]
["JANEIRO/2018","Janeiro","2018","4.1.1.1","PIS/COFINS",452.69,"PAGAMENTOS","4."]
["JANEIRO/2018","Janeiro","2018","4.1.1.2","OUTROS IMPOSTOS",3371.95,"PAGAMENTOS","4."]
["JANEIRO/2018","Janeiro","2018","6.1.1.2","CUSTO COM EMBALAGENS",30383.39,"PAGAMENTOS","6."]
["JANEIRO/2018","Janeiro","2018","6.1.1.3","FUNRURAL",11943.72,"PAGAMENTOS","6."]
["JANEIRO/2018","Janeiro","2018","8.1.1.1","FOPAG ADMINISTRATIVO",13332.14,"PAGAMENTOS","8."]
["JANEIRO/2018","Janeiro","2018","8.1.1.10","FERIAS FUNCIONARIOS",2132.4699999999998,"PAGAMENTOS","8."]
["JANEIRO/2018","Janeiro","2018","8.1.1.2","FOPAG PESSOAL CAMARA/EMBALADORES",28561.72,"PAGAMENTOS","8."]
["JANEIRO/2018","Janeiro","2018","8.1.1.9","OUTRAS DESP. COM PESSOAL",699.66,"PAGAMENTOS","8."]
["JANEIRO/2018","Janeiro","2018","8.1.2.2","FGTS",4051.3,"PAGAMENTOS","8."]
["JANEIRO/2018","Janeiro","2018","8.1.2.4","INSS ADMINISTRACAO/CAMARA",6703.71,"PAGAMENTOS","8."]
["JANEIRO/2018","Janeiro","2018","8.1.2.5","INSS COLHEITADORES",3717.77,"PAGAMENTOS","8."]
["JANEIRO/2018","Janeiro","2018","8.1.3.1","ENERGIA",964.16,"PAGAMENTOS","8."]
["JANEIRO/2018","Janeiro","2018","8.1.3.10","SEGUROS",1073.8,"PAGAMENTOS","8."]
["JANEIRO/2018","Janeiro","2018","8.1.3.14","ASSINATURA (JORNAL, INTERNET)",25,"PAGAMENTOS","8."]
["JANEIRO/2018","Janeiro","2018","8.1.3.15","SUPORTE INFORMATICA",281.10000000000002,"PAGAMENTOS","8."]
["JANEIRO/2018","Janeiro","2018","8.1.3.18","SERVICOS DE VIGILANCIA",150,"PAGAMENTOS","8."]
["JANEIRO/2018","Janeiro","2018","8.1.3.19","PADARIA E LANCHONETE",404.25,"PAGAMENTOS","8."]
["JANEIRO/2018","Janeiro","2018","8.1.3.2","AGUA",60.99,"PAGAMENTOS","8."]
["JANEIRO/2018","Janeiro","2018","8.1.3.20","OUTRAS DESP.ADMINISTRATIVAS",1879.38,"PAGAMENTOS","8."]
["JANEIRO/2018","Janeiro","2018","8.1.3.3","TELEFONE FIXO",190.12,"PAGAMENTOS","8."]
["JANEIRO/2018","Janeiro","2018","8.1.3.4","TELEFONE CELULAR",638.45000000000005,"PAGAMENTOS","8."]
["JANEIRO/2018","Janeiro","2018","8.1.3.5","HONORARIOS CONTABEIS",2910,"PAGAMENTOS","8."]
["JANEIRO/2018","Janeiro","2018","8.1.3.6","MATERIAL DE ESCRITORIO",45,"PAGAMENTOS","8."]
["JANEIRO/2018","Janeiro","2018","8.1.3.7","MATERIAL DE LIMPEZA E CANTINA",416.92,"PAGAMENTOS","8."]
["JANEIRO/2018","Janeiro","2018","8.1.3.9","CORREIO, ENCOMENDAS E CARTORIOS",76.7,"PAGAMENTOS","8."]
["JANEIRO/2018","Janeiro","2018","8.2.1.3","OUTRAS DESP.COM VENDAS",441.5,"PAGAMENTOS","8."]
["JANEIRO/2018","Janeiro","2018","8.2.1.4","DESCONTOS CONCEDIDOS",2183,"PAGAMENTOS","8."]
["JANEIRO/2018","Janeiro","2018","8.2.2.1","MANUTENCAO VEICULO",1681.8,"PAGAMENTOS","8."]
["JANEIRO/2018","Janeiro","2018","8.2.2.15","COMBUSTIVEL COOPERADOS",2857.8,"PAGAMENTOS","8."]
["JANEIRO/2018","Janeiro","2018","8.2.2.16","COMBUSTIVEL (OLEO DIESEL)",666.6,"PAGAMENTOS","8."]
["JANEIRO/2018","Janeiro","2018","8.2.2.2","COMBUSTIVEL",2911.91,"PAGAMENTOS","8."]
["JANEIRO/2018","Janeiro","2018","8.2.2.6","ICMS SOBRE FRETE",2965.94,"PAGAMENTOS","8."]
["JANEIRO/2018","Janeiro","2018","8.2.2.8","PERMISSAO TRANSITO",2535.7800000000002,"PAGAMENTOS","8."]
["JANEIRO/2018","Janeiro","2018","8.3.1.2","OUTRAS DESP.FINANCEIRAS",1155.04,"PAGAMENTOS","8."]
["JANEIRO/2018","Janeiro","2018","8.4.1.4","OUTRAS DESP.TRIBUTARIAS",4388.57,"PAGAMENTOS","8."]
["JANEIRO/2018","Janeiro","2018","8.1.3.12","MENSALIDADE-ABANORTE",1074,"PAGAMENTOS","8."]
["JANEIRO/2018","Janeiro","2018","8.1.3.13","MENSALIDADE-ACIJAN",88.7,"PAGAMENTOS","8."]
["JULHO/2017","Julho",2017,"1.1.1.2","VL. TOTAL DOS CUPONS* A PRAZO",696869,"FATURAMENTO","1."]
["JULHO/2017","Julho",2017,"2.1.1.1","(CUST12) CUSTO DOS PRODUTOS VENDIDOS",543731.43999999994,"PAGAMENTOS","2."]
["JULHO/2017","Julho",2017,"4.1.1.1","PIS/COFINS",484.3,"PAGAMENTOS","4."]
["JULHO/2017","Julho",2017,"4.1.1.2","OUTROS IMPOSTOS",1387.73,"PAGAMENTOS","4."]
["JULHO/2017","Julho",2017,"6.1.1.2","CUSTO COM EMBALAGENS",46526.12,"PAGAMENTOS","6."]
["JULHO/2017","Julho",2017,"6.1.1.3","FUNRURAL",11243.71,"PAGAMENTOS","6."]
["JULHO/2017","Julho",2017,"8.1.1.1","FOPAG ADMINISTRATIVO",13575.46,"PAGAMENTOS","8."]
["JULHO/2017","Julho",2017,"8.1.1.2","FOPAG PESSOAL CAMARA/EMBALADORES",28618.81,"PAGAMENTOS","8."]
["JULHO/2017","Julho",2017,"8.1.1.4","EMPRESTIMOS A FUNCIONARIOS",1200,"PAGAMENTOS","8."]
["JULHO/2017","Julho",2017,"8.1.1.6","RESCISAO CONTRATUAL",2908.36,"PAGAMENTOS","8."]
["JULHO/2017","Julho",2017,"8.1.1.8","DESPESA COM VIAGEM",null,"PAGAMENTOS","8."]
["JULHO/2017","Julho",2017,"8.1.1.9","OUTRAS DESP. COM PESSOAL",3598.26,"PAGAMENTOS","8."]
["JULHO/2017","Julho",2017,"8.1.1.10","FERIAS FUNCIONARIOS",5089.03,"PAGAMENTOS","8."]
["JULHO/2017","Julho",2017,"8.1.1.11","DECIMO TERCEIRO SALARIO",2164.23,"PAGAMENTOS","8."]
["JULHO/2017","Julho",2017,"8.1.2.2","FGTS",8550.99,"PAGAMENTOS","8."]
["JULHO/2017","Julho",2017,"8.1.2.3","CONTRIBUICAO SOCIAL",null,"PAGAMENTOS","8."]
["JULHO/2017","Julho",2017,"8.1.2.4","INSS ADMINISTRACAO/CAMARA",6063.36,"PAGAMENTOS","8."]
["JULHO/2017","Julho",2017,"8.1.2.5","INSS COLHEITADORES",4189.34,"PAGAMENTOS","8."]
["JULHO/2017","Julho",2017,"8.1.3.1","ENERGIA",1739.14,"PAGAMENTOS","8."]
["JULHO/2017","Julho",2017,"8.1.3.2","AGUA",61.03,"PAGAMENTOS","8."]
["JULHO/2017","Julho",2017,"8.1.3.3","TELEFONE FIXO",180.24,"PAGAMENTOS","8."]
["JULHO/2017","Julho",2017,"8.1.3.4","TELEFONE CELULAR",963.78,"PAGAMENTOS","8."]
["JULHO/2017","Julho",2017,"8.1.3.5","HONORARIOS CONTABEIS",2859,"PAGAMENTOS","8."]
["JULHO/2017","Julho",2017,"8.1.3.6","MATERIAL DE ESCRITORIO",50,"PAGAMENTOS","8."]
["JULHO/2017","Julho",2017,"8.1.3.7","MATERIAL DE LIMPEZA E CANTINA",388.55,"PAGAMENTOS","8."]
["JULHO/2017","Julho",2017,"8.1.3.9","CORREIO, ENCOMENDAS E CARTORIOS",null,"PAGAMENTOS","8."]
["JULHO/2017","Julho",2017,"8.1.3.10","SEGUROS",2885.54,"PAGAMENTOS","8."]
["JULHO/2017","Julho",2017,"8.1.3.12","MENSALIDADE-ABANORTE",1074,"PAGAMENTOS","8."]
["JULHO/2017","Julho",2017,"8.1.3.13","MENSALIDADE-ACIJAN",88.7,"PAGAMENTOS","8."]
["JULHO/2017","Julho",2017,"8.1.3.14","ASSINATURA (JORNAL, INTERNET)",101,"PAGAMENTOS","8."]
["JULHO/2017","Julho",2017,"8.1.3.15","SUPORTE INFORMATICA",281.10000000000002,"PAGAMENTOS","8."]
["JULHO/2017","Julho",2017,"8.1.3.17","MANUT. HIDRAULICA E ELETRICA",1870,"PAGAMENTOS","8."]
["JULHO/2017","Julho",2017,"8.1.3.18","SERVICOS DE VIGILANCIA",140,"PAGAMENTOS","8."]
["JULHO/2017","Julho",2017,"8.1.3.19","PADARIA E LANCHONETE",483.6,"PAGAMENTOS","8."]
["JULHO/2017","Julho",2017,"8.1.3.20","OUTRAS DESP.ADMINISTRATIVAS",1874,"PAGAMENTOS","8."]
["JULHO/2017","Julho",2017,"8.2.1.3","OUTRAS DESP.COM VENDAS",859,"PAGAMENTOS","8."]
["JULHO/2017","Julho",2017,"8.2.1.4","DESCONTOS CONCEDIDOS",594,"PAGAMENTOS","8."]
["JULHO/2017","Julho",2017,"8.2.2.1","MANUTENCAO VEICULO",558,"PAGAMENTOS","8."]
["JULHO/2017","Julho",2017,"8.2.2.2","COMBUSTIVEL",2740.74,"PAGAMENTOS","8."]
["JULHO/2017","Julho",2017,"8.2.2.6","ICMS SOBRE FRETE",6878.81,"PAGAMENTOS","8."]
["JULHO/2017","Julho",2017,"8.2.2.7","FRETE TRANSPORTES",2447.09,"PAGAMENTOS","8."]
["JULHO/2017","Julho",2017,"8.2.2.8","PERMISSAO TRANSITO",3576.1,"PAGAMENTOS","8."]
["JULHO/2017","Julho",2017,"8.2.2.15","COMBUSTIVEL COOPERADOS",630,"PAGAMENTOS","8."]
["JULHO/2017","Julho",2017,"8.2.2.16","COMBUSTIVEL (OLEO DIESEL)",2556,"PAGAMENTOS","8."]
["JULHO/2017","Julho",2017,"8.2.2.17","COMBUSTIVEL TERCEIROS",4071,"PAGAMENTOS","8."]
["JULHO/2017","Julho",2017,"8.2.3.1","PROPAGANDA",null,"PAGAMENTOS","8."]
["JULHO/2017","Julho",2017,"8.2.3.2","PATROCINIOS",null,"PAGAMENTOS","8."]
["JULHO/2017","Julho",2017,"8.3.1.2","OUTRAS DESP.FINANCEIRAS",1195.18,"PAGAMENTOS","8."]
["JULHO/2017","Julho",2017,"8.4.1.3","IPTU",1365.67,"PAGAMENTOS","8."]
["JULHO/2017","Julho",2017,"8.4.1.4","OUTRAS DESP.TRIBUTARIAS",358.31,"PAGAMENTOS","8."]
["JULHO/2017","Julho",2017,"10.1.1.3","OUTRAS REC.NAO OPERACIONAIS",8000.3,"RECEITA NÃO OPERACIONAL","10"]
["JULHO/2017","Julho",2017,"10.1.1.5","DESCONTOS OBTIDOS",3818.85,"RECEITA NÃO OPERACIONAL","10"]
["JULHO/2017","Julho",2017,"11.1.1.1","DESPESAS NAO OPERACIONAIS",598,"PAGAMENTOS","11"]
["JULHO/2017","Julho",2017,"11.1.1.2","PROVISAO P/ DEVEDORES DUVIDOSOS",8128.89,"PAGAMENTOS","11"]
["JULHO/2017","Julho",2017,"11.1.1.6","FERRAMENTARIA",null,"PAGAMENTOS","11"]
["JULHO/2017","Julho",2017,"11.1.1.8","FUNDO ABANORTE SIGATOKA NEGRA",1760,"PAGAMENTOS","11"]
["JULHO/2018","JULHO",2018,"1.1.1.2","VL. TOTAL DOS CUPONS* A PRAZO",608346.94999999995,"FATURAMENTO","1."]
["JULHO/2018","JULHO",2018,"2.1.1.1","(CUST12) CUSTO DOS PRODUTOS VENDIDOS",411915.2,"PAGAMENTOS","2."]
["JULHO/2018","JULHO",2018,"4.1.1.1","PIS/COFINS",512.45000000000005,"PAGAMENTOS","4."]
["JULHO/2018","JULHO",2018,"4.1.1.2","OUTROS IMPOSTOS",451.96,"PAGAMENTOS","4."]
["JULHO/2018","JULHO",2018,"6.1.1.2","CUSTO COM EMBALAGENS",32359.26,"PAGAMENTOS","6."]
["JULHO/2018","JULHO",2018,"6.1.1.3","FUNRURAL",6299.63,"PAGAMENTOS","6."]
["JULHO/2018","JULHO",2018,"8.1.1.1","FOPAG ADMINISTRATIVO",13043.39,"PAGAMENTOS","8."]
["JULHO/2018","JULHO",2018,"8.1.1.2","FOPAG PESSOAL CAMARA/EMBALADORES",30641.47,"PAGAMENTOS","8."]
["JULHO/2018","JULHO",2018,"8.1.1.9","OUTRAS DESP. COM PESSOAL",2076.75,"PAGAMENTOS","8."]
["JULHO/2018","JULHO",2018,"8.1.1.10","FERIAS FUNCIONARIOS",9761.64,"PAGAMENTOS","8."]
["JULHO/2018","JULHO",2018,"8.1.1.11","DECIMO TERCEIRO SALARIO",3992.21,"PAGAMENTOS","8."]
["JULHO/2018","JULHO",2018,"8.1.2.2","FGTS",4469.8,"PAGAMENTOS","8."]
["JULHO/2018","JULHO",2018,"8.1.2.4","INSS ADMINISTRACAO/CAMARA",6575.02,"PAGAMENTOS","8."]
["JULHO/2018","JULHO",2018,"8.1.2.5","INSS COLHEITADORES",4064.82,"PAGAMENTOS","8."]
["JULHO/2018","JULHO",2018,"8.1.3.1","ENERGIA",1202.31,"PAGAMENTOS","8."]
["JULHO/2018","JULHO",2018,"8.1.3.2","AGUA",78.040000000000006,"PAGAMENTOS","8."]
["JULHO/2018","JULHO",2018,"8.1.3.3","TELEFONE FIXO",69.25,"PAGAMENTOS","8."]
["JULHO/2018","JULHO",2018,"8.1.3.4","TELEFONE CELULAR",622.92999999999995,"PAGAMENTOS","8."]
["JULHO/2018","JULHO",2018,"8.1.3.5","HONORARIOS CONTABEIS",2915.6,"PAGAMENTOS","8."]
["JULHO/2018","JULHO",2018,"8.1.3.6","MATERIAL DE ESCRITORIO",115.55,"PAGAMENTOS","8."]
["JULHO/2018","JULHO",2018,"8.1.3.7","MATERIAL DE LIMPEZA E CANTINA",710.3,"PAGAMENTOS","8."]
["JULHO/2018","JULHO",2018,"8.1.3.10","SEGUROS",3023.33,"PAGAMENTOS","8."]
["JULHO/2018","JULHO",2018,"8.1.3.12","MENSALIDADE-ABANORTE",1074,"PAGAMENTOS","8."]
["JULHO/2018","JULHO",2018,"8.1.3.13","MENSALIDADE-ACIJAN",80.099999999999994,"PAGAMENTOS","8."]
["JULHO/2018","JULHO",2018,"8.1.3.14","ASSINATURA (JORNAL, INTERNET)",25,"PAGAMENTOS","8."]
["JULHO/2018","JULHO",2018,"8.1.3.15","SUPORTE INFORMATICA",286.2,"PAGAMENTOS","8."]
["JULHO/2018","JULHO",2018,"8.1.3.17","MANUT. HIDRAULICA E ELETRICA",1020,"PAGAMENTOS","8."]
["JULHO/2018","JULHO",2018,"8.1.3.18","SERVICOS DE VIGILANCIA",150,"PAGAMENTOS","8."]
["JULHO/2018","JULHO",2018,"8.1.3.19","PADARIA E LANCHONETE",350.1,"PAGAMENTOS","8."]
["JULHO/2018","JULHO",2018,"8.1.3.20","OUTRAS DESP.ADMINISTRATIVAS",1879.38,"PAGAMENTOS","8."]
["JULHO/2018","JULHO",2018,"8.2.1.3","OUTRAS DESP.COM VENDAS",34,"PAGAMENTOS","8."]
["JULHO/2018","JULHO",2018,"8.2.1.4","DESCONTOS CONCEDIDOS",250,"PAGAMENTOS","8."]
["JULHO/2018","JULHO",2018,"8.2.2.1","MANUTENCAO VEICULO",2120,"PAGAMENTOS","8."]
["JULHO/2018","JULHO",2018,"8.2.2.2","COMBUSTIVEL",3506.51,"PAGAMENTOS","8."]
["JULHO/2018","JULHO",2018,"8.2.2.6","ICMS SOBRE FRETE",236.66,"PAGAMENTOS","8."]
["JULHO/2018","JULHO",2018,"8.2.2.7","FRETE TRANSPORTES",8369.89,"PAGAMENTOS","8."]
["JULHO/2018","JULHO",2018,"8.2.2.8","PERMISSAO TRANSITO",2925.9,"PAGAMENTOS","8."]
["JULHO/2018","JULHO",2018,"8.2.2.15","COMBUSTIVEL COOPERADOS",2435.8000000000002,"PAGAMENTOS","8."]
["JULHO/2018","JULHO",2018,"8.2.2.16","COMBUSTIVEL (OLEO DIESEL)",900.6,"PAGAMENTOS","8."]
["JULHO/2018","JULHO",2018,"8.2.3.2","PATROCINIOS",2501.2399999999998,"PAGAMENTOS","8."]
["JULHO/2018","JULHO",2018,"8.3.1.2","OUTRAS DESP.FINANCEIRAS",888.98,"PAGAMENTOS","8."]
["JULHO/2018","JULHO",2018,"10.1.1.3","OUTRAS REC.NAO OPERACIONAIS",166,"RECEITA NÃO OPERACIONAL","10"]
["JULHO/2018","JULHO",2018,"10.1.1.5","DESCONTOS OBTIDOS",5930.17,"RECEITA NÃO OPERACIONAL","10"]
["JULHO/2018","JULHO",2018,"11.1.1.2","PROVISAO P/ DEVEDORES DUVIDOSOS",13263.68,"PAGAMENTOS","11"]
["JULHO/2018","JULHO",2018,"11.1.1.6","FERRAMENTARIA",44,"PAGAMENTOS","11"]
["JULHO/2018","JULHO",2018,"11.1.1.8","FUNDO ABANORTE SIGATOKA NEGRA",2432,"PAGAMENTOS","11"]
["JULHO/2018","JULHO",2018,"13.1.1.1","IMPOSTO S/ LUCRO",651.71,"PAGAMENTOS","13"]
["JUNHO/2017","Junho",2017,"1.1.1.2","VL. TOTAL DOS CUPONS* A PRAZO",843373.35,"FATURAMENTO","1."]
["JUNHO/2017","Junho",2017,"2.1.1.1","(CUST12) CUSTO DOS PRODUTOS VENDIDOS",684701.98,"PAGAMENTOS","2."]
["JUNHO/2017","Junho",2017,"4.1.1.1","PIS/COFINS",529.04,"PAGAMENTOS","4."]
["JUNHO/2017","Junho",2017,"4.1.1.2","OUTROS IMPOSTOS",1348.05,"PAGAMENTOS","4."]
["JUNHO/2017","Junho",2017,"6.1.1.2","CUSTO COM EMBALAGENS",62916.62,"PAGAMENTOS","6."]
["JUNHO/2017","Junho",2017,"6.1.1.3","FUNRURAL",15708.7,"PAGAMENTOS","6."]
["JUNHO/2017","Junho",2017,"8.1.1.1","FOPAG ADMINISTRATIVO",11851.43,"PAGAMENTOS","8."]
["JUNHO/2017","Junho",2017,"8.1.1.2","FOPAG PESSOAL CAMARA/EMBALADORES",29555.49,"PAGAMENTOS","8."]
["JUNHO/2017","Junho",2017,"8.1.1.4","EMPRESTIMOS A FUNCIONARIOS",600,"PAGAMENTOS","8."]
["JUNHO/2017","Junho",2017,"8.1.1.6","RESCISAO CONTRATUAL",null,"PAGAMENTOS","8."]
["JUNHO/2017","Junho",2017,"8.1.1.8","DESPESA COM VIAGEM",null,"PAGAMENTOS","8."]
["JUNHO/2017","Junho",2017,"8.1.1.9","OUTRAS DESP. COM PESSOAL",3929.76,"PAGAMENTOS","8."]
["JUNHO/2017","Junho",2017,"8.1.1.10","FERIAS FUNCIONARIOS",2614.39,"PAGAMENTOS","8."]
["JUNHO/2017","Junho",2017,"8.1.1.11","DECIMO TERCEIRO SALARIO",1119.3599999999999,"PAGAMENTOS","8."]
["JUNHO/2017","Junho",2017,"8.1.2.2","FGTS",4475.96,"PAGAMENTOS","8."]
["JUNHO/2017","Junho",2017,"8.1.2.3","CONTRIBUICAO SOCIAL",null,"PAGAMENTOS","8."]
["JUNHO/2017","Junho",2017,"8.1.2.4","INSS ADMINISTRACAO/CAMARA",6605.45,"PAGAMENTOS","8."]
["JUNHO/2017","Junho",2017,"8.1.2.5","INSS COLHEITADORES",4065.32,"PAGAMENTOS","8."]
["JUNHO/2017","Junho",2017,"8.1.3.1","ENERGIA",2500.5100000000002,"PAGAMENTOS","8."]
["JUNHO/2017","Junho",2017,"8.1.3.2","AGUA",61.03,"PAGAMENTOS","8."]
["JUNHO/2017","Junho",2017,"8.1.3.3","TELEFONE FIXO",179.8,"PAGAMENTOS","8."]
["JUNHO/2017","Junho",2017,"8.1.3.4","TELEFONE CELULAR",1082.3800000000001,"PAGAMENTOS","8."]
["JUNHO/2017","Junho",2017,"8.1.3.5","HONORARIOS CONTABEIS",2859,"PAGAMENTOS","8."]
["JUNHO/2017","Junho",2017,"8.1.3.6","MATERIAL DE ESCRITORIO",109,"PAGAMENTOS","8."]
["JUNHO/2017","Junho",2017,"8.1.3.7","MATERIAL DE LIMPEZA E CANTINA",370.99,"PAGAMENTOS","8."]
["JUNHO/2017","Junho",2017,"8.1.3.9","CORREIO, ENCOMENDAS E CARTORIOS",null,"PAGAMENTOS","8."]
["JUNHO/2017","Junho",2017,"8.1.3.10","SEGUROS",1737.98,"PAGAMENTOS","8."]
["JUNHO/2017","Junho",2017,"8.1.3.12","MENSALIDADE-ABANORTE",1074,"PAGAMENTOS","8."]
["JUNHO/2017","Junho",2017,"8.1.3.13","MENSALIDADE-ACIJAN",88.7,"PAGAMENTOS","8."]
["JUNHO/2017","Junho",2017,"8.1.3.14","ASSINATURA (JORNAL, INTERNET)",25,"PAGAMENTOS","8."]
["JUNHO/2017","Junho",2017,"8.1.3.15","SUPORTE INFORMATICA",281.10000000000002,"PAGAMENTOS","8."]
["JUNHO/2017","Junho",2017,"8.1.3.17","MANUT. HIDRAULICA E ELETRICA",4333,"PAGAMENTOS","8."]
["JUNHO/2017","Junho",2017,"8.1.3.18","SERVICOS DE VIGILANCIA",140,"PAGAMENTOS","8."]
["JUNHO/2017","Junho",2017,"8.1.3.19","PADARIA E LANCHONETE",461.65,"PAGAMENTOS","8."]
["JUNHO/2017","Junho",2017,"8.1.3.20","OUTRAS DESP.ADMINISTRATIVAS",1874,"PAGAMENTOS","8."]
["JUNHO/2017","Junho",2017,"8.2.1.3","OUTRAS DESP.COM VENDAS",715,"PAGAMENTOS","8."]
["JUNHO/2017","Junho",2017,"8.2.1.4","DESCONTOS CONCEDIDOS",11571.93,"PAGAMENTOS","8."]
["JUNHO/2017","Junho",2017,"8.2.2.1","MANUTENCAO VEICULO",7165.5,"PAGAMENTOS","8."]
["JUNHO/2017","Junho",2017,"8.2.2.2","COMBUSTIVEL",6022.43,"PAGAMENTOS","8."]
["JUNHO/2017","Junho",2017,"8.2.2.6","ICMS SOBRE FRETE",7385.24,"PAGAMENTOS","8."]
["JUNHO/2017","Junho",2017,"8.2.2.7","FRETE TRANSPORTES",1000,"PAGAMENTOS","8."]
["JUNHO/2017","Junho",2017,"8.2.2.8","PERMISSAO TRANSITO",3153.47,"PAGAMENTOS","8."]
["JUNHO/2017","Junho",2017,"8.2.2.15","COMBUSTIVEL COOPERADOS",3480,"PAGAMENTOS","8."]
["JUNHO/2017","Junho",2017,"8.2.2.16","COMBUSTIVEL (OLEO DIESEL)",1440,"PAGAMENTOS","8."]
["JUNHO/2017","Junho",2017,"8.2.2.17","COMBUSTIVEL TERCEIROS",5208,"PAGAMENTOS","8."]
["JUNHO/2017","Junho",2017,"8.2.3.1","PROPAGANDA",null,"PAGAMENTOS","8."]
["JUNHO/2017","Junho",2017,"8.2.3.2","PATROCINIOS",600,"PAGAMENTOS","8."]
["JUNHO/2017","Junho",2017,"8.3.1.2","OUTRAS DESP.FINANCEIRAS",892.51,"PAGAMENTOS","8."]
["JUNHO/2017","Junho",2017,"8.4.1.3","IPTU",0,"PAGAMENTOS","8."]
["JUNHO/2017","Junho",2017,"8.4.1.4","OUTRAS DESP.TRIBUTARIAS",319.24,"PAGAMENTOS","8."]
["JUNHO/2017","Junho",2017,"10.1.1.3","OUTRAS REC.NAO OPERACIONAIS",193.55,"RECEITA NÃO OPERACIONAL","10"]
["JUNHO/2017","Junho",2017,"10.1.1.5","DESCONTOS OBTIDOS",1095.07,"RECEITA NÃO OPERACIONAL","10"]
["JUNHO/2017","Junho",2017,"11.1.1.1","DESPESAS NAO OPERACIONAIS",18.82,"PAGAMENTOS","11"]
["JUNHO/2017","Junho",2017,"11.1.1.2","PROVISAO P/ DEVEDORES DUVIDOSOS",8551.6299999999992,"PAGAMENTOS","11"]
["JUNHO/2017","Junho",2017,"11.1.1.6","FERRAMENTARIA",null,"PAGAMENTOS","11"]
["JUNHO/2017","Junho",2017,"11.1.1.8","FUNDO ABANORTE SIGATOKA NEGRA",2176,"PAGAMENTOS","11"]
["MAIO/2017","Maio",2017,"1.1.1.2","VL. TOTAL DOS CUPONS* A PRAZO",1202834.8500000001,"FATURAMENTO","1."]
["MAIO/2017","Maio",2017,"2.1.1.1","(CUST12) CUSTO DOS PRODUTOS VENDIDOS",1047235.57,"PAGAMENTOS","2."]
["MAIO/2017","Maio",2017,"4.1.1.1","PIS/COFINS",527.02,"PAGAMENTOS","4."]
["MAIO/2017","Maio",2017,"4.1.1.2","OUTROS IMPOSTOS",1954.75,"PAGAMENTOS","4."]
["MAIO/2017","Maio",2017,"6.1.1.2","CUSTO COM EMBALAGENS",57293.27,"PAGAMENTOS","6."]
["MAIO/2017","Maio",2017,"6.1.1.3","FUNRURAL",23906.55,"PAGAMENTOS","6."]
["MAIO/2017","Maio",2017,"8.1.1.1","FOPAG ADMINISTRATIVO",13587.23,"PAGAMENTOS","8."]
["MAIO/2017","Maio",2017,"8.1.1.2","FOPAG PESSOAL CAMARA/EMBALADORES",29669.74,"PAGAMENTOS","8."]
["MAIO/2017","Maio",2017,"8.1.1.4","EMPRESTIMOS A FUNCIONARIOS",600,"PAGAMENTOS","8."]
["MAIO/2017","Maio",2017,"8.1.1.6","RESCISAO CONTRATUAL",null,"PAGAMENTOS","8."]
["MAIO/2017","Maio",2017,"8.1.1.8","DESPESA COM VIAGEM",null,"PAGAMENTOS","8."]
["MAIO/2017","Maio",2017,"8.1.1.9","OUTRAS DESP. COM PESSOAL",3606.26,"PAGAMENTOS","8."]
["MAIO/2017","Maio",2017,"8.1.1.10","FERIAS FUNCIONARIOS",7004.8,"PAGAMENTOS","8."]
["MAIO/2017","Maio",2017,"8.1.1.11","DECIMO TERCEIRO SALARIO",2877.84,"PAGAMENTOS","8."]
["MAIO/2017","Maio",2017,"8.1.2.2","FGTS",4482.57,"PAGAMENTOS","8."]
["MAIO/2017","Maio",2017,"8.1.2.3","CONTRIBUICAO SOCIAL",3586.72,"PAGAMENTOS","8."]
["MAIO/2017","Maio",2017,"8.1.2.4","INSS ADMINISTRACAO/CAMARA",6191.11,"PAGAMENTOS","8."]
["MAIO/2017","Maio",2017,"8.1.2.5","INSS COLHEITADORES",4355.72,"PAGAMENTOS","8."]
["MAIO/2017","Maio",2017,"8.1.3.1","ENERGIA",1839.76,"PAGAMENTOS","8."]
["MAIO/2017","Maio",2017,"8.1.3.2","AGUA",68.95,"PAGAMENTOS","8."]
["MAIO/2017","Maio",2017,"8.1.3.3","TELEFONE FIXO",185.16,"PAGAMENTOS","8."]
["MAIO/2017","Maio",2017,"8.1.3.4","TELEFONE CELULAR",945.99,"PAGAMENTOS","8."]
["MAIO/2017","Maio",2017,"8.1.3.5","HONORARIOS CONTABEIS",2859,"PAGAMENTOS","8."]
["MAIO/2017","Maio",2017,"8.1.3.6","MATERIAL DE ESCRITORIO",478.3,"PAGAMENTOS","8."]
["MAIO/2017","Maio",2017,"8.1.3.7","MATERIAL DE LIMPEZA E CANTINA",404.69,"PAGAMENTOS","8."]
["MAIO/2017","Maio",2017,"8.1.3.9","CORREIO, ENCOMENDAS E CARTORIOS",null,"PAGAMENTOS","8."]
["MAIO/2017","Maio",2017,"8.1.3.10","SEGUROS",2419.81,"PAGAMENTOS","8."]
["MAIO/2017","Maio",2017,"8.1.3.12","MENSALIDADE-ABANORTE",1074,"PAGAMENTOS","8."]
["MAIO/2017","Maio",2017,"8.1.3.13","MENSALIDADE-ACIJAN",83.95,"PAGAMENTOS","8."]
["MAIO/2017","Maio",2017,"8.1.3.14","ASSINATURA (JORNAL, INTERNET)",25,"PAGAMENTOS","8."]
["MAIO/2017","Maio",2017,"8.1.3.15","SUPORTE INFORMATICA",281.10000000000002,"PAGAMENTOS","8."]
["MAIO/2017","Maio",2017,"8.1.3.17","MANUT. HIDRAULICA E ELETRICA",68.8,"PAGAMENTOS","8."]
["MAIO/2017","Maio",2017,"8.1.3.18","SERVICOS DE VIGILANCIA",140,"PAGAMENTOS","8."]
["MAIO/2017","Maio",2017,"8.1.3.19","PADARIA E LANCHONETE",487.35,"PAGAMENTOS","8."]
["MAIO/2017","Maio",2017,"8.1.3.20","OUTRAS DESP.ADMINISTRATIVAS",1874,"PAGAMENTOS","8."]
["MAIO/2017","Maio",2017,"8.2.1.3","OUTRAS DESP.COM VENDAS",2004.88,"PAGAMENTOS","8."]
["MAIO/2017","Maio",2017,"8.2.1.4","DESCONTOS CONCEDIDOS",40024.68,"PAGAMENTOS","8."]
["MAIO/2017","Maio",2017,"8.2.2.1","MANUTENCAO VEICULO",1440,"PAGAMENTOS","8."]
["MAIO/2017","Maio",2017,"8.2.2.2","COMBUSTIVEL",3052.47,"PAGAMENTOS","8."]
["MAIO/2017","Maio",2017,"8.2.2.6","ICMS SOBRE FRETE",7808.68,"PAGAMENTOS","8."]
["MAIO/2017","Maio",2017,"8.2.2.7","FRETE TRANSPORTES",2000,"PAGAMENTOS","8."]
["MAIO/2017","Maio",2017,"8.2.2.8","PERMISSAO TRANSITO",3478.57,"PAGAMENTOS","8."]
["MAIO/2017","Maio",2017,"8.2.2.15","COMBUSTIVEL COOPERADOS",3246,"PAGAMENTOS","8."]
["MAIO/2017","Maio",2017,"8.2.2.16","COMBUSTIVEL (OLEO DIESEL)",1788,"PAGAMENTOS","8."]
["MAIO/2017","Maio",2017,"8.2.2.17","COMBUSTIVEL TERCEIROS",4449,"PAGAMENTOS","8."]
["MAIO/2017","Maio",2017,"8.2.3.1","PROPAGANDA",null,"PAGAMENTOS","8."]
["MAIO/2017","Maio",2017,"8.2.3.2","PATROCINIOS",null,"PAGAMENTOS","8."]
["MAIO/2017","Maio",2017,"8.3.1.2","OUTRAS DESP.FINANCEIRAS",1083.5899999999999,"PAGAMENTOS","8."]
["MAIO/2017","Maio",2017,"8.4.1.3","IPTU",null,"PAGAMENTOS","8."]
["MAIO/2017","Maio",2017,"8.4.1.4","OUTRAS DESP.TRIBUTARIAS",249.87,"PAGAMENTOS","8."]
["MAIO/2017","Maio",2017,"10.1.1.3","OUTRAS REC.NAO OPERACIONAIS",4345.05,"RECEITA NÃO OPERACIONAL","10"]
["MAIO/2017","Maio",2017,"10.1.1.5","DESCONTOS OBTIDOS",2137.2800000000002,"RECEITA NÃO OPERACIONAL","10"]
["MAIO/2017","Maio",2017,"11.1.1.1","DESPESAS NAO OPERACIONAIS",20,"PAGAMENTOS","11"]
["MAIO/2017","Maio",2017,"11.1.1.2","PROVISAO P/ DEVEDORES DUVIDOSOS",9129.44,"PAGAMENTOS","11"]
["MAIO/2017","Maio",2017,"11.1.1.6","FERRAMENTARIA",225,"PAGAMENTOS","11"]
["MAIO/2017","Maio",2017,"11.1.1.8","FUNDO ABANORTE SIGATOKA NEGRA",1728,"PAGAMENTOS","11"]
["MAIO/2018","MAIO",2018,"1.1.1.2","VL. TOTAL DOS CUPONS* A PRAZO",804756.6,"FATURAMENTO","1."]
["MAIO/2018","MAIO",2018,"2.1.1.1","(CUST12) CUSTO DOS PRODUTOS VENDIDOS",674216,"PAGAMENTOS","2."]
["MAIO/2018","MAIO",2018,"4.1.1.1","PIS/COFINS",478.31,"PAGAMENTOS","4."]
["MAIO/2018","MAIO",2018,"4.1.1.2","OUTROS IMPOSTOS",532.75,"PAGAMENTOS","4."]
["MAIO/2018","MAIO",2018,"6.1.1.2","CUSTO COM EMBALAGENS",29130.2,"PAGAMENTOS","6."]
["MAIO/2018","MAIO",2018,"6.1.1.3","FUNRURAL",9972.9699999999993,"PAGAMENTOS","6."]
["MAIO/2018","MAIO",2018,"8.1.1.1","FOPAG ADMINISTRATIVO",14689.26,"PAGAMENTOS","8."]
["MAIO/2018","MAIO",2018,"8.1.1.2","FOPAG PESSOAL CAMARA/EMBALADORES",28702.89,"PAGAMENTOS","8."]
["MAIO/2018","MAIO",2018,"8.1.1.9","OUTRAS DESP. COM PESSOAL",1849.5,"PAGAMENTOS","8."]
["MAIO/2018","MAIO",2018,"8.1.1.10","FERIAS FUNCIONARIOS",2685.1,"PAGAMENTOS","8."]
["MAIO/2018","MAIO",2018,"8.1.1.11","DECIMO TERCEIRO SALARIO",1151.57,"PAGAMENTOS","8."]
["MAIO/2018","MAIO",2018,"8.1.2.2","FGTS",4086.59,"PAGAMENTOS","8."]
["MAIO/2018","MAIO",2018,"8.1.2.3","CONTRIBUICAO SOCIAL",3101.84,"PAGAMENTOS","8."]
["MAIO/2018","MAIO",2018,"8.1.2.4","INSS ADMINISTRACAO/CAMARA",6396.87,"PAGAMENTOS","8."]
["MAIO/2018","MAIO",2018,"8.1.2.5","INSS COLHEITADORES",3664.55,"PAGAMENTOS","8."]
["MAIO/2018","MAIO",2018,"8.1.3.1","ENERGIA",1067.58,"PAGAMENTOS","8."]
["MAIO/2018","MAIO",2018,"8.1.3.2","AGUA",78.040000000000006,"PAGAMENTOS","8."]
["MAIO/2018","MAIO",2018,"8.1.3.3","TELEFONE FIXO",65.87,"PAGAMENTOS","8."]
["MAIO/2018","MAIO",2018,"8.1.3.4","TELEFONE CELULAR",646.94000000000005,"PAGAMENTOS","8."]
["MAIO/2018","MAIO",2018,"8.1.3.5","HONORARIOS CONTABEIS",2980,"PAGAMENTOS","8."]
["MAIO/2018","MAIO",2018,"8.1.3.6","MATERIAL DE ESCRITORIO",45,"PAGAMENTOS","8."]
["MAIO/2018","MAIO",2018,"8.1.3.7","MATERIAL DE LIMPEZA E CANTINA",302.37,"PAGAMENTOS","8."]
["MAIO/2018","MAIO",2018,"8.1.3.9","CORREIO, ENCOMENDAS E CARTORIOS",12.53,"PAGAMENTOS","8."]
["MAIO/2018","MAIO",2018,"8.1.3.10","SEGUROS",1547.31,"PAGAMENTOS","8."]
["MAIO/2018","MAIO",2018,"8.1.3.12","MENSALIDADE-ABANORTE",1074,"PAGAMENTOS","8."]
["MAIO/2018","MAIO",2018,"8.1.3.13","MENSALIDADE-ACIJAN",78.8,"PAGAMENTOS","8."]
["MAIO/2018","MAIO",2018,"8.1.3.14","ASSINATURA (JORNAL, INTERNET)",25,"PAGAMENTOS","8."]
["MAIO/2018","MAIO",2018,"8.1.3.15","SUPORTE INFORMATICA",416.2,"PAGAMENTOS","8."]
["MAIO/2018","MAIO",2018,"8.1.3.16","MANUT.MAQ E EQUIP",120,"PAGAMENTOS","8."]
["MAIO/2018","MAIO",2018,"8.1.3.17","MANUT. HIDRAULICA E ELETRICA",148.30000000000001,"PAGAMENTOS","8."]
["MAIO/2018","MAIO",2018,"8.1.3.18","SERVICOS DE VIGILANCIA",150,"PAGAMENTOS","8."]
["MAIO/2018","MAIO",2018,"8.1.3.19","PADARIA E LANCHONETE",352.5,"PAGAMENTOS","8."]
["MAIO/2018","MAIO",2018,"8.1.3.20","OUTRAS DESP.ADMINISTRATIVAS",4694.88,"PAGAMENTOS","8."]
["MAIO/2018","MAIO",2018,"8.2.1.3","OUTRAS DESP.COM VENDAS",700,"PAGAMENTOS","8."]
["MAIO/2018","MAIO",2018,"8.2.2.1","MANUTENCAO VEICULO",1609.5,"PAGAMENTOS","8."]
["MAIO/2018","MAIO",2018,"8.2.2.2","COMBUSTIVEL",1715.78,"PAGAMENTOS","8."]
["MAIO/2018","MAIO",2018,"8.2.2.6","ICMS SOBRE FRETE",216.41,"PAGAMENTOS","8."]
["MAIO/2018","MAIO",2018,"8.2.2.7","FRETE TRANSPORTES",6278.89,"PAGAMENTOS","8."]
["MAIO/2018","MAIO",2018,"8.2.2.8","PERMISSAO TRANSITO",1788.05,"PAGAMENTOS","8."]
["MAIO/2018","MAIO",2018,"8.2.2.15","COMBUSTIVEL COOPERADOS",2696.4,"PAGAMENTOS","8."]
["MAIO/2018","MAIO",2018,"8.2.2.16","COMBUSTIVEL (OLEO DIESEL)",885.6,"PAGAMENTOS","8."]
["MAIO/2018","MAIO",2018,"8.2.2.17","COMBUSTIVEL TERCEIROS",781.2,"PAGAMENTOS","8."]
["MAIO/2018","MAIO",2018,"8.3.1.2","OUTRAS DESP.FINANCEIRAS",927.35,"PAGAMENTOS","8."]
["MAIO/2018","MAIO",2018,"8.4.1.4","OUTRAS DESP.TRIBUTARIAS",910.28,"PAGAMENTOS","8."]
["MAIO/2018","MAIO",2018,"10.1.1.3","OUTRAS REC.NAO OPERACIONAIS",4024.43,"RECEITA NÃO OPERACIONAL","10"]
["MAIO/2018","MAIO",2018,"10.1.1.5","DESCONTOS OBTIDOS",1063.75,"RECEITA NÃO OPERACIONAL","10"]
["MAIO/2018","MAIO",2018,"11.1.1.1","DESPESAS NAO OPERACIONAIS",80,"PAGAMENTOS","11"]
["MAIO/2018","MAIO",2018,"11.1.1.2","PROVISAO P/ DEVEDORES DUVIDOSOS",4664.84,"PAGAMENTOS","11"]
["MAIO/2018","MAIO",2018,"11.1.1.6","FERRAMENTARIA",435,"PAGAMENTOS","11"]
["MAIO/2018","MAIO",2018,"11.1.1.8","FUNDO ABANORTE SIGATOKA NEGRA",1376,"PAGAMENTOS","11"]
["MARÇO/2017","Março",2017,"1.1.1.2","VL. TOTAL DOS CUPONS* A PRAZO",1352426.55,"FATURAMENTO","1."]
["MARÇO/2017","Março",2017,"2.1.1.1","(CUST12) CUSTO DOS PRODUTOS VENDIDOS",1166897.2,"PAGAMENTOS","2."]
["MARÇO/2017","Março",2017,"4.1.1.1","PIS/COFINS",508.95,"PAGAMENTOS","4."]
["MARÇO/2017","Março",2017,"4.1.1.2","OUTROS IMPOSTOS",466.48,"PAGAMENTOS","4."]
["MARÇO/2017","Março",2017,"6.1.1.2","CUSTO COM EMBALAGENS",58849.84,"PAGAMENTOS","6."]
["MARÇO/2017","Março",2017,"6.1.1.3","FUNRURAL",25431.91,"PAGAMENTOS","6."]
["MARÇO/2017","Março",2017,"8.1.1.1","FOPAG ADMINISTRATIVO",13770.88,"PAGAMENTOS","8."]
["MARÇO/2017","Março",2017,"8.1.1.2","FOPAG PESSOAL CAMARA/EMBALADORES",27619.599999999999,"PAGAMENTOS","8."]
["MARÇO/2017","Março",2017,"8.1.1.4","EMPRESTIMOS A FUNCIONARIOS",600,"PAGAMENTOS","8."]
["MARÇO/2017","Março",2017,"8.1.1.6","RESCISAO CONTRATUAL",null,"PAGAMENTOS","8."]
["MARÇO/2017","Março",2017,"8.1.1.8","DESPESA COM VIAGEM",null,"PAGAMENTOS","8."]
["MARÇO/2017","Março",2017,"8.1.1.9","OUTRAS DESP. COM PESSOAL",3568.26,"PAGAMENTOS","8."]
["MARÇO/2017","Março",2017,"8.1.1.10","FERIAS FUNCIONARIOS",5193.5200000000004,"PAGAMENTOS","8."]
["MARÇO/2017","Março",2017,"8.1.1.11","DECIMO TERCEIRO SALARIO",2098.3000000000002,"PAGAMENTOS","8."]
["MARÇO/2017","Março",2017,"8.1.2.2","FGTS",4354.82,"PAGAMENTOS","8."]
["MARÇO/2017","Março",2017,"8.1.2.3","CONTRIBUICAO SOCIAL",null,"PAGAMENTOS","8."]
["MARÇO/2017","Março",2017,"8.1.2.4","INSS ADMINISTRACAO/CAMARA",6157.59,"PAGAMENTOS","8."]
["MARÇO/2017","Março",2017,"8.1.2.5","INSS COLHEITADORES",4174.7299999999996,"PAGAMENTOS","8."]
["MARÇO/2017","Março",2017,"8.1.3.1","ENERGIA",1627.38,"PAGAMENTOS","8."]
["MARÇO/2017","Março",2017,"8.1.3.2","AGUA",70.180000000000007,"PAGAMENTOS","8."]
["MARÇO/2017","Março",2017,"8.1.3.3","TELEFONE FIXO",186.33,"PAGAMENTOS","8."]
["MARÇO/2017","Março",2017,"8.1.3.4","TELEFONE CELULAR",1037.57,"PAGAMENTOS","8."]
["MARÇO/2017","Março",2017,"8.1.3.5","HONORARIOS CONTABEIS",2862.75,"PAGAMENTOS","8."]
["MARÇO/2017","Março",2017,"8.1.3.6","MATERIAL DE ESCRITORIO",75.5,"PAGAMENTOS","8."]
["MARÇO/2017","Março",2017,"8.1.3.7","MATERIAL DE LIMPEZA E CANTINA",345.81,"PAGAMENTOS","8."]
["MARÇO/2017","Março",2017,"8.1.3.9","CORREIO, ENCOMENDAS E CARTORIOS",null,"PAGAMENTOS","8."]
["MARÇO/2017","Março",2017,"8.1.3.10","SEGUROS",1220.9100000000001,"PAGAMENTOS","8."]
["MARÇO/2017","Março",2017,"8.1.3.12","MENSALIDADE-ABANORTE",1074,"PAGAMENTOS","8."]
["MARÇO/2017","Março",2017,"8.1.3.13","MENSALIDADE-ACIJAN",81.260000000000005,"PAGAMENTOS","8."]
["MARÇO/2017","Março",2017,"8.1.3.14","ASSINATURA (JORNAL, INTERNET)",125,"PAGAMENTOS","8."]
["MARÇO/2017","Março",2017,"8.1.3.15","SUPORTE INFORMATICA",281.10000000000002,"PAGAMENTOS","8."]
["MARÇO/2017","Março",2017,"8.1.3.17","MANUT. HIDRAULICA E ELETRICA",6441.7,"PAGAMENTOS","8."]
["MARÇO/2017","Março",2017,"8.1.3.18","SERVICOS DE VIGILANCIA",140,"PAGAMENTOS","8."]
["MARÇO/2017","Março",2017,"8.1.3.19","PADARIA E LANCHONETE",436.8,"PAGAMENTOS","8."]
["MARÇO/2017","Março",2017,"8.1.3.20","OUTRAS DESP.ADMINISTRATIVAS",1874,"PAGAMENTOS","8."]
["MARÇO/2017","Março",2017,"8.2.1.3","OUTRAS DESP.COM VENDAS",153.9,"PAGAMENTOS","8."]
["MARÇO/2017","Março",2017,"8.2.1.4","DESCONTOS CONCEDIDOS",11344.33,"PAGAMENTOS","8."]
["MARÇO/2017","Março",2017,"8.2.2.1","MANUTENCAO VEICULO",2215.92,"PAGAMENTOS","8."]
["MARÇO/2017","Março",2017,"8.2.2.2","COMBUSTIVEL",2669.41,"PAGAMENTOS","8."]
["MARÇO/2017","Março",2017,"8.2.2.6","ICMS SOBRE FRETE",6759.53,"PAGAMENTOS","8."]
["MARÇO/2017","Março",2017,"8.2.2.7","FRETE TRANSPORTES",null,"PAGAMENTOS","8."]
["MARÇO/2017","Março",2017,"8.2.2.8","PERMISSAO TRANSITO",3641.12,"PAGAMENTOS","8."]
["MARÇO/2017","Março",2017,"8.2.2.15","COMBUSTIVEL COOPERADOS",2160,"PAGAMENTOS","8."]
["MARÇO/2017","Março",2017,"8.2.2.16","COMBUSTIVEL (OLEO DIESEL)",3399,"PAGAMENTOS","8."]
["MARÇO/2017","Março",2017,"8.2.2.17","COMBUSTIVEL TERCEIROS",6861,"PAGAMENTOS","8."]
["MARÇO/2017","Março",2017,"8.2.3.1","PROPAGANDA",null,"PAGAMENTOS","8."]
["MARÇO/2017","Março",2017,"8.2.3.2","PATROCINIOS",null,"PAGAMENTOS","8."]
["MARÇO/2017","Março",2017,"8.3.1.2","OUTRAS DESP.FINANCEIRAS",1077.29,"PAGAMENTOS","8."]
["MARÇO/2017","Março",2017,"8.4.1.3","IPTU",null,"PAGAMENTOS","8."]
["MARÇO/2017","Março",2017,"8.4.1.4","OUTRAS DESP.TRIBUTARIAS",null,"PAGAMENTOS","8."]
["MARÇO/2017","Março",2017,"10.1.1.3","OUTRAS REC.NAO OPERACIONAIS",377,"RECEITA NÃO OPERACIONAL","10"]
["MARÇO/2017","Março",2017,"10.1.1.5","DESCONTOS OBTIDOS",1424.35,"RECEITA NÃO OPERACIONAL","10"]
["MARÇO/2017","Março",2017,"11.1.1.1","DESPESAS NAO OPERACIONAIS",null,"PAGAMENTOS","11"]
["MARÇO/2017","Março",2017,"11.1.1.2","PROVISAO P/ DEVEDORES DUVIDOSOS",5454.5,"PAGAMENTOS","11"]
["MARÇO/2017","Março",2017,"11.1.1.6","FERRAMENTARIA",550,"PAGAMENTOS","11"]
["MARÇO/2017","Março",2017,"11.1.1.8","FUNDO ABANORTE SIGATOKA NEGRA",1984,"PAGAMENTOS","11"]
["MARÇO/2018","Março","2018","1.1.1.2","VL. TOTAL DOS CUPONS* A PRAZO",1323267.3,"FATURAMENTO","1."]
["MARÇO/2018","Março","2018","2.1.1.1","(CUST12) CUSTO DOS PRODUTOS VENDIDOS",1114412.7,"PAGAMENTOS","2."]
["MARÇO/2018","Março","2018","4.1.1.1","PIS/COFINS",711.18,"PAGAMENTOS","4."]
["MARÇO/2018","Março","2018","4.1.1.2","OUTROS IMPOSTOS",3822.43,"PAGAMENTOS","4."]
["MARÇO/2018","Março","2018","6.1.1.2","CUSTO COM EMBALAGENS",41716.28,"PAGAMENTOS","6."]
["MARÇO/2018","Março","2018","6.1.1.3","FUNRURAL",15516.45,"PAGAMENTOS","6."]
["MARÇO/2018","Março","2018","8.1.1.1","FOPAG ADMINISTRATIVO",15032.04,"PAGAMENTOS","8."]
["MARÇO/2018","Março","2018","8.1.1.2","FOPAG PESSOAL CAMARA/EMBALADORES",29929.74,"PAGAMENTOS","8."]
["MARÇO/2018","Março","2018","8.1.1.6","RESCISAO CONTRATUAL",2656.47,"PAGAMENTOS","8."]
["MARÇO/2018","Março","2018","8.1.1.8","DESPESA COM VIAGEM",736,"PAGAMENTOS","8."]
["MARÇO/2018","Março","2018","8.1.1.9","OUTRAS DESP. COM PESSOAL",1475.5,"PAGAMENTOS","8."]
["MARÇO/2018","Março","2018","8.1.1.10","FERIAS FUNCIONARIOS",4291.07,"PAGAMENTOS","8."]
["MARÇO/2018","Março","2018","8.1.2.2","FGTS",12844.94,"PAGAMENTOS","8."]
["MARÇO/2018","Março","2018","8.1.2.4","INSS ADMINISTRACAO/CAMARA",6282.22,"PAGAMENTOS","8."]
["MARÇO/2018","Março","2018","8.1.2.5","INSS COLHEITADORES",4264.7,"PAGAMENTOS","8."]
["MARÇO/2018","Março","2018","8.1.3.1","ENERGIA",2144.06,"PAGAMENTOS","8."]
["MARÇO/2018","Março","2018","8.1.3.2","AGUA",69.52,"PAGAMENTOS","8."]
["MARÇO/2018","Março","2018","8.1.3.3","TELEFONE FIXO",65.87,"PAGAMENTOS","8."]
["MARÇO/2018","Março","2018","8.1.3.4","TELEFONE CELULAR",641.49,"PAGAMENTOS","8."]
["MARÇO/2018","Março","2018","8.1.3.5","HONORARIOS CONTABEIS",2980,"PAGAMENTOS","8."]
["MARÇO/2018","Março","2018","8.1.3.6","MATERIAL DE ESCRITORIO",175.85,"PAGAMENTOS","8."]
["MARÇO/2018","Março","2018","8.1.3.10","SEGUROS",1073.8,"PAGAMENTOS","8."]
["MARÇO/2018","Março","2018","8.1.3.14","ASSINATURA (JORNAL, INTERNET)",105,"PAGAMENTOS","8."]
["MARÇO/2018","Março","2018","8.1.3.15","SUPORTE INFORMATICA",286.2,"PAGAMENTOS","8."]
["MARÇO/2018","Março","2018","8.1.3.17","MANUT. HIDRAULICA E ELETRICA",30,"PAGAMENTOS","8."]
["MARÇO/2018","Março","2018","8.1.3.18","SERVICOS DE VIGILANCIA",150,"PAGAMENTOS","8."]
["MARÇO/2018","Março","2018","8.1.3.19","PADARIA E LANCHONETE",513.45000000000005,"PAGAMENTOS","8."]
["MARÇO/2018","Março","2018","8.1.3.20","OUTRAS DESP.ADMINISTRATIVAS",8495.3799999999992,"PAGAMENTOS","8."]
["MARÇO/2018","Março","2018","8.2.1.3","OUTRAS DESP.COM VENDAS",665.22,"PAGAMENTOS","8."]
["MARÇO/2018","Março","2018","8.2.1.4","DESCONTOS CONCEDIDOS",600,"PAGAMENTOS","8."]
["MARÇO/2018","Março","2018","8.2.2.1","MANUTENCAO VEICULO",1301.05,"PAGAMENTOS","8."]
["MARÇO/2018","Março","2018","8.2.2.2","COMBUSTIVEL",3177.73,"PAGAMENTOS","8."]
["MARÇO/2018","Março","2018","8.2.2.6","ICMS SOBRE FRETE",972.34,"PAGAMENTOS","8."]
["MARÇO/2018","Março","2018","8.2.2.7","FRETE TRANSPORTES",1200,"PAGAMENTOS","8."]
["MARÇO/2018","Março","2018","8.2.2.8","PERMISSAO TRANSITO",2860.88,"PAGAMENTOS","8."]
["MARÇO/2018","Março","2018","8.2.2.15","COMBUSTIVEL COOPERADOS",1951.6,"PAGAMENTOS","8."]
["MARÇO/2018","Março","2018","8.2.2.16","COMBUSTIVEL (OLEO DIESEL)",1931.2,"PAGAMENTOS","8."]
["MARÇO/2018","Março","2018","8.2.2.17","COMBUSTIVEL TERCEIROS",7167.2,"PAGAMENTOS","8."]
["MARÇO/2018","Março","2018","8.3.1.2","OUTRAS DESP.FINANCEIRAS",897.83,"PAGAMENTOS","8."]
["MARÇO/2018","Março","2018","8.4.1.4","OUTRAS DESP.TRIBUTARIAS",263.89999999999998,"PAGAMENTOS","8."]
["MARÇO/2018","Março","2018","10.1.1.3","OUTRAS REC.NAO OPERACIONAIS",155.38,"RECEITA NÃO OPERACIONAL","10"]
["MARÇO/2018","Março","2018","10.1.1.5","DESCONTOS OBTIDOS",1224.56,"RECEITA NÃO OPERACIONAL","10"]
["MARÇO/2018","Março","2018","11.1.1.1","DESPESAS NAO OPERACIONAIS",78,"PAGAMENTOS","11"]
["MARÇO/2018","Março","2018","11.1.1.2","PROVISAO P/ DEVEDORES DUVIDOSOS",6292.66,"PAGAMENTOS","11"]
["MARÇO/2018","Março","2018","11.1.1.8","FUNDO ABANORTE SIGATOKA NEGRA",1632,"PAGAMENTOS","11"]
["MARÇO/2018","Março","2018","8.1.3.12","MENSALIDADE-ABANORTE",1074,"PAGAMENTOS","8."]
["MARÇO/2018","Março","2018","8.1.3.13","MENSALIDADE-ACIJAN",78.8,"PAGAMENTOS","8."]
["MARÇO/2018","Março","2018","8.1.1.11","DECIMO TERCEIRO SALARIO",1768.29,"PAGAMENTOS","8."]
["NOVEMBRO/2017","Novembro",2017,"1.1.1.2","VL. TOTAL DOS CUPONS* A PRAZO",719459.05,"FATURAMENTO","1."]
["NOVEMBRO/2017","Novembro",2017,"2.1.1.1","(CUST12) CUSTO DOS PRODUTOS VENDIDOS",579459.19999999995,"PAGAMENTOS","2."]
["NOVEMBRO/2017","Novembro",2017,"4.1.1.1","PIS/COFINS",523.79999999999995,"PAGAMENTOS","4."]
["NOVEMBRO/2017","Novembro",2017,"4.1.1.2","OUTROS IMPOSTOS",1080.3699999999999,"PAGAMENTOS","4."]
["NOVEMBRO/2017","Novembro",2017,"6.1.1.2","CUSTO COM EMBALAGENS",42749.02,"PAGAMENTOS","6."]
["NOVEMBRO/2017","Novembro",2017,"6.1.1.3","FUNRURAL",12476.49,"PAGAMENTOS","6."]
["NOVEMBRO/2017","Novembro",2017,"8.1.1.1","FOPAG ADMINISTRATIVO",15187.99,"PAGAMENTOS","8."]
["NOVEMBRO/2017","Novembro",2017,"8.1.1.2","FOPAG PESSOAL CAMARA/EMBALADORES",28717.15,"PAGAMENTOS","8."]
["NOVEMBRO/2017","Novembro",2017,"8.1.1.4","EMPRESTIMOS A FUNCIONARIOS",2000,"PAGAMENTOS","8."]
["NOVEMBRO/2017","Novembro",2017,"8.1.1.6","RESCISAO CONTRATUAL",null,"PAGAMENTOS","8."]
["NOVEMBRO/2017","Novembro",2017,"8.1.1.8","DESPESA COM VIAGEM",562.34,"PAGAMENTOS","8."]
["NOVEMBRO/2017","Novembro",2017,"8.1.1.9","OUTRAS DESP. COM PESSOAL",1063.47,"PAGAMENTOS","8."]
["NOVEMBRO/2017","Novembro",2017,"8.1.1.10","FERIAS FUNCIONARIOS",4181.29,"PAGAMENTOS","8."]
["NOVEMBRO/2017","Novembro",2017,"8.1.1.11","DECIMO TERCEIRO SALARIO",6063.84,"PAGAMENTOS","8."]
["NOVEMBRO/2017","Novembro",2017,"8.1.2.2","FGTS",4458.07,"PAGAMENTOS","8."]
["NOVEMBRO/2017","Novembro",2017,"8.1.2.3","CONTRIBUICAO SOCIAL",null,"PAGAMENTOS","8."]
["NOVEMBRO/2017","Novembro",2017,"8.1.2.4","INSS ADMINISTRACAO/CAMARA",6318.71,"PAGAMENTOS","8."]
["NOVEMBRO/2017","Novembro",2017,"8.1.2.5","INSS COLHEITADORES",3768.79,"PAGAMENTOS","8."]
["NOVEMBRO/2017","Novembro",2017,"8.1.3.1","ENERGIA",1221.5,"PAGAMENTOS","8."]
["NOVEMBRO/2017","Novembro",2017,"8.1.3.2","AGUA",78.040000000000006,"PAGAMENTOS","8."]
["NOVEMBRO/2017","Novembro",2017,"8.1.3.3","TELEFONE FIXO",193.15,"PAGAMENTOS","8."]
["NOVEMBRO/2017","Novembro",2017,"8.1.3.4","TELEFONE CELULAR",656.25,"PAGAMENTOS","8."]
["NOVEMBRO/2017","Novembro",2017,"8.1.3.5","HONORARIOS CONTABEIS",2859,"PAGAMENTOS","8."]
["NOVEMBRO/2017","Novembro",2017,"8.1.3.6","MATERIAL DE ESCRITORIO",50,"PAGAMENTOS","8."]
["NOVEMBRO/2017","Novembro",2017,"8.1.3.7","MATERIAL DE LIMPEZA E CANTINA",425.52,"PAGAMENTOS","8."]
["NOVEMBRO/2017","Novembro",2017,"8.1.3.9","CORREIO, ENCOMENDAS E CARTORIOS",null,"PAGAMENTOS","8."]
["NOVEMBRO/2017","Novembro",2017,"8.1.3.10","SEGUROS",1947.82,"PAGAMENTOS","8."]
["NOVEMBRO/2017","Novembro",2017,"8.1.3.12","MENSALIDADE-ABANORTE",1074,"PAGAMENTOS","8."]
["NOVEMBRO/2017","Novembro",2017,"8.1.3.13","MENSALIDADE-ACIJAN",88.7,"PAGAMENTOS","8."]
["NOVEMBRO/2017","Novembro",2017,"8.1.3.14","ASSINATURA (JORNAL, INTERNET)",25,"PAGAMENTOS","8."]
["NOVEMBRO/2017","Novembro",2017,"8.1.3.15","SUPORTE INFORMATICA",478.1,"PAGAMENTOS","8."]
["NOVEMBRO/2017","Novembro",2017,"8.1.3.17","MANUT. HIDRAULICA E ELETRICA",350,"PAGAMENTOS","8."]
["NOVEMBRO/2017","Novembro",2017,"8.1.3.18","SERVICOS DE VIGILANCIA",140,"PAGAMENTOS","8."]
["NOVEMBRO/2017","Novembro",2017,"8.1.3.19","PADARIA E LANCHONETE",450.5,"PAGAMENTOS","8."]
["NOVEMBRO/2017","Novembro",2017,"8.1.3.20","OUTRAS DESP.ADMINISTRATIVAS",1874,"PAGAMENTOS","8."]
["NOVEMBRO/2017","Novembro",2017,"8.2.1.3","OUTRAS DESP.COM VENDAS",477.5,"PAGAMENTOS","8."]
["NOVEMBRO/2017","Novembro",2017,"8.2.1.4","DESCONTOS CONCEDIDOS",1023.07,"PAGAMENTOS","8."]
["NOVEMBRO/2017","Novembro",2017,"8.2.2.1","MANUTENCAO VEICULO",589,"PAGAMENTOS","8."]
["NOVEMBRO/2017","Novembro",2017,"8.2.2.2","COMBUSTIVEL",2589.9899999999998,"PAGAMENTOS","8."]
["NOVEMBRO/2017","Novembro",2017,"8.2.2.6","ICMS SOBRE FRETE",5622.75,"PAGAMENTOS","8."]
["NOVEMBRO/2017","Novembro",2017,"8.2.2.7","FRETE TRANSPORTES",null,"PAGAMENTOS","8."]
["NOVEMBRO/2017","Novembro",2017,"8.2.2.8","PERMISSAO TRANSITO",4193.79,"PAGAMENTOS","8."]
["NOVEMBRO/2017","Novembro",2017,"8.2.2.15","COMBUSTIVEL COOPERADOS",3648,"PAGAMENTOS","8."]
["NOVEMBRO/2017","Novembro",2017,"8.2.2.16","COMBUSTIVEL (OLEO DIESEL)",1331.2,"PAGAMENTOS","8."]
["NOVEMBRO/2017","Novembro",2017,"8.2.2.17","COMBUSTIVEL TERCEIROS",291.2,"PAGAMENTOS","8."]
["NOVEMBRO/2017","Novembro",2017,"8.2.3.1","PROPAGANDA",1246.2,"PAGAMENTOS","8."]
["NOVEMBRO/2017","Novembro",2017,"8.2.3.2","PATROCINIOS",null,"PAGAMENTOS","8."]
["NOVEMBRO/2017","Novembro",2017,"8.3.1.2","OUTRAS DESP.FINANCEIRAS",1191.94,"PAGAMENTOS","8."]
["NOVEMBRO/2017","Novembro",2017,"8.4.1.3","IPTU",1360,"PAGAMENTOS","8."]
["NOVEMBRO/2017","Novembro",2017,"8.4.1.4","OUTRAS DESP.TRIBUTARIAS",null,"PAGAMENTOS","8."]
["NOVEMBRO/2017","Novembro",2017,"10.1.1.3","OUTRAS REC.NAO OPERACIONAIS",null,"RECEITA NÃO OPERACIONAL","10"]
["NOVEMBRO/2017","Novembro",2017,"10.1.1.5","DESCONTOS OBTIDOS",534.33000000000004,"RECEITA NÃO OPERACIONAL","10"]
["NOVEMBRO/2017","Novembro",2017,"11.1.1.1","DESPESAS NAO OPERACIONAIS",15,"PAGAMENTOS","11"]
["NOVEMBRO/2017","Novembro",2017,"11.1.1.2","PROVISAO P/ DEVEDORES DUVIDOSOS",7854.41,"PAGAMENTOS","11"]
["NOVEMBRO/2017","Novembro",2017,"11.1.1.6","FERRAMENTARIA",null,"PAGAMENTOS","11"]
["NOVEMBRO/2017","Novembro",2017,"11.1.1.8","FUNDO ABANORTE SIGATOKA NEGRA",2432,"PAGAMENTOS","11"]
["OUTUBRO/2017","Outubro",2017,"1.1.1.2","VL. TOTAL DOS CUPONS* A PRAZO",628653.94999999995,"FATURAMENTO","1."]
["OUTUBRO/2017","Outubro",2017,"2.1.1.1","(CUST12) CUSTO DOS PRODUTOS VENDIDOS",494418.82,"PAGAMENTOS","2."]
["OUTUBRO/2017","Outubro",2017,"4.1.1.1","PIS/COFINS",495.89,"PAGAMENTOS","4."]
["OUTUBRO/2017","Outubro",2017,"4.1.1.2","OUTROS IMPOSTOS",1495.57,"PAGAMENTOS","4."]
["OUTUBRO/2017","Outubro",2017,"6.1.1.2","CUSTO COM EMBALAGENS",40776.82,"PAGAMENTOS","6."]
["OUTUBRO/2017","Outubro",2017,"6.1.1.3","FUNRURAL",9837.81,"PAGAMENTOS","6."]
["OUTUBRO/2017","Outubro",2017,"8.1.1.1","FOPAG ADMINISTRATIVO",14332.19,"PAGAMENTOS","8."]
["OUTUBRO/2017","Outubro",2017,"8.1.1.2","FOPAG PESSOAL CAMARA/EMBALADORES",28568.26,"PAGAMENTOS","8."]
["OUTUBRO/2017","Outubro",2017,"8.1.1.4","EMPRESTIMOS A FUNCIONARIOS",1200,"PAGAMENTOS","8."]
["OUTUBRO/2017","Outubro",2017,"8.1.1.6","RESCISAO CONTRATUAL",4585.18,"PAGAMENTOS","8."]
["OUTUBRO/2017","Outubro",2017,"8.1.1.8","DESPESA COM VIAGEM",null,"PAGAMENTOS","8."]
["OUTUBRO/2017","Outubro",2017,"8.1.1.9","OUTRAS DESP. COM PESSOAL",null,"PAGAMENTOS","8."]
["OUTUBRO/2017","Outubro",2017,"8.1.1.10","FERIAS FUNCIONARIOS",2321.16,"PAGAMENTOS","8."]
["OUTUBRO/2017","Outubro",2017,"8.1.1.11","DECIMO TERCEIRO SALARIO",null,"PAGAMENTOS","8."]
["OUTUBRO/2017","Outubro",2017,"8.1.2.2","FGTS",4222.5600000000004,"PAGAMENTOS","8."]
["OUTUBRO/2017","Outubro",2017,"8.1.2.3","CONTRIBUICAO SOCIAL",null,"PAGAMENTOS","8."]
["OUTUBRO/2017","Outubro",2017,"8.1.2.4","INSS ADMINISTRACAO/CAMARA",6195.73,"PAGAMENTOS","8."]
["OUTUBRO/2017","Outubro",2017,"8.1.2.5","INSS COLHEITADORES",3978.44,"PAGAMENTOS","8."]
["OUTUBRO/2017","Outubro",2017,"8.1.3.1","ENERGIA",1632.57,"PAGAMENTOS","8."]
["OUTUBRO/2017","Outubro",2017,"8.1.3.2","AGUA",95.1,"PAGAMENTOS","8."]
["OUTUBRO/2017","Outubro",2017,"8.1.3.3","TELEFONE FIXO",190.12,"PAGAMENTOS","8."]
["OUTUBRO/2017","Outubro",2017,"8.1.3.4","TELEFONE CELULAR",628.11,"PAGAMENTOS","8."]
["OUTUBRO/2017","Outubro",2017,"8.1.3.5","HONORARIOS CONTABEIS",2871.5,"PAGAMENTOS","8."]
["OUTUBRO/2017","Outubro",2017,"8.1.3.6","MATERIAL DE ESCRITORIO",283.8,"PAGAMENTOS","8."]
["OUTUBRO/2017","Outubro",2017,"8.1.3.7","MATERIAL DE LIMPEZA E CANTINA",371.89,"PAGAMENTOS","8."]
["OUTUBRO/2017","Outubro",2017,"8.1.3.9","CORREIO, ENCOMENDAS E CARTORIOS",null,"PAGAMENTOS","8."]
["OUTUBRO/2017","Outubro",2017,"8.1.3.10","SEGUROS",3712.37,"PAGAMENTOS","8."]
["OUTUBRO/2017","Outubro",2017,"8.1.3.12","MENSALIDADE-ABANORTE",1074,"PAGAMENTOS","8."]
["OUTUBRO/2017","Outubro",2017,"8.1.3.13","MENSALIDADE-ACIJAN",88.7,"PAGAMENTOS","8."]
["OUTUBRO/2017","Outubro",2017,"8.1.3.14","ASSINATURA (JORNAL, INTERNET)",25,"PAGAMENTOS","8."]
["OUTUBRO/2017","Outubro",2017,"8.1.3.15","SUPORTE INFORMATICA",351.1,"PAGAMENTOS","8."]
["OUTUBRO/2017","Outubro",2017,"8.1.3.17","MANUT. HIDRAULICA E ELETRICA",105.7,"PAGAMENTOS","8."]
["OUTUBRO/2017","Outubro",2017,"8.1.3.18","SERVICOS DE VIGILANCIA",140,"PAGAMENTOS","8."]
["OUTUBRO/2017","Outubro",2017,"8.1.3.19","PADARIA E LANCHONETE",570.95000000000005,"PAGAMENTOS","8."]
["OUTUBRO/2017","Outubro",2017,"8.1.3.20","OUTRAS DESP.ADMINISTRATIVAS",2083,"PAGAMENTOS","8."]
["OUTUBRO/2017","Outubro",2017,"8.2.1.3","OUTRAS DESP.COM VENDAS",905,"PAGAMENTOS","8."]
["OUTUBRO/2017","Outubro",2017,"8.2.1.4","DESCONTOS CONCEDIDOS",1390.5,"PAGAMENTOS","8."]
["OUTUBRO/2017","Outubro",2017,"8.2.2.1","MANUTENCAO VEICULO",2939.11,"PAGAMENTOS","8."]
["OUTUBRO/2017","Outubro",2017,"8.2.2.2","COMBUSTIVEL",2341.5300000000002,"PAGAMENTOS","8."]
["OUTUBRO/2017","Outubro",2017,"8.2.2.6","ICMS SOBRE FRETE",6852.5,"PAGAMENTOS","8."]
["OUTUBRO/2017","Outubro",2017,"8.2.2.7","FRETE TRANSPORTES",null,"PAGAMENTOS","8."]
["OUTUBRO/2017","Outubro",2017,"8.2.2.8","PERMISSAO TRANSITO",4063.75,"PAGAMENTOS","8."]
["OUTUBRO/2017","Outubro",2017,"8.2.2.15","COMBUSTIVEL COOPERADOS",2684.8,"PAGAMENTOS","8."]
["OUTUBRO/2017","Outubro",2017,"8.2.2.16","COMBUSTIVEL (OLEO DIESEL)",1020.8,"PAGAMENTOS","8."]
["OUTUBRO/2017","Outubro",2017,"8.2.2.17","COMBUSTIVEL TERCEIROS",3584,"PAGAMENTOS","8."]
["OUTUBRO/2017","Outubro",2017,"8.2.3.1","PROPAGANDA",null,"PAGAMENTOS","8."]
["OUTUBRO/2017","Outubro",2017,"8.2.3.2","PATROCINIOS",null,"PAGAMENTOS","8."]
["OUTUBRO/2017","Outubro",2017,"8.3.1.2","OUTRAS DESP.FINANCEIRAS",968.85,"PAGAMENTOS","8."]
["OUTUBRO/2017","Outubro",2017,"8.4.1.3","IPTU",1360,"PAGAMENTOS","8."]
["OUTUBRO/2017","Outubro",2017,"8.4.1.4","OUTRAS DESP.TRIBUTARIAS",351.18,"PAGAMENTOS","8."]
["OUTUBRO/2017","Outubro",2017,"10.1.1.3","OUTRAS REC.NAO OPERACIONAIS",4024.23,"RECEITA NÃO OPERACIONAL","10"]
["OUTUBRO/2017","Outubro",2017,"10.1.1.5","DESCONTOS OBTIDOS",1510.03,"RECEITA NÃO OPERACIONAL","10"]
["OUTUBRO/2017","Outubro",2017,"11.1.1.1","DESPESAS NAO OPERACIONAIS",55,"PAGAMENTOS","11"]
["OUTUBRO/2017","Outubro",2017,"11.1.1.2","PROVISAO P/ DEVEDORES DUVIDOSOS",8206.18,"PAGAMENTOS","11"]
["OUTUBRO/2017","Outubro",2017,"11.1.1.6","FERRAMENTARIA",null,"PAGAMENTOS","11"]
["OUTUBRO/2017","Outubro",2017,"11.1.1.8","FUNDO ABANORTE SIGATOKA NEGRA",2816,"PAGAMENTOS","11"]
["SETEMBRO/2017","Setembro",2017,"1.1.1.2","VL. TOTAL DOS CUPONS* A PRAZO",899596.5,"FATURAMENTO","1."]
["SETEMBRO/2017","Setembro",2017,"2.1.1.1","(CUST12) CUSTO DOS PRODUTOS VENDIDOS",738565.04,"PAGAMENTOS","2."]
["SETEMBRO/2017","Setembro",2017,"4.1.1.1","PIS/COFINS",523.79999999999995,"PAGAMENTOS","4."]
["SETEMBRO/2017","Setembro",2017,"4.1.1.2","OUTROS IMPOSTOS",1365.93,"PAGAMENTOS","4."]
["SETEMBRO/2017","Setembro",2017,"6.1.1.2","CUSTO COM EMBALAGENS",42041.29,"PAGAMENTOS","6."]
["SETEMBRO/2017","Setembro",2017,"6.1.1.3","FUNRURAL",16193.07,"PAGAMENTOS","6."]
["SETEMBRO/2017","Setembro",2017,"8.1.1.1","FOPAG ADMINISTRATIVO",12881.97,"PAGAMENTOS","8."]
["SETEMBRO/2017","Setembro",2017,"8.1.1.2","FOPAG PESSOAL CAMARA/EMBALADORES",31270.1,"PAGAMENTOS","8."]
["SETEMBRO/2017","Setembro",2017,"8.1.1.4","EMPRESTIMOS A FUNCIONARIOS",1200,"PAGAMENTOS","8."]
["SETEMBRO/2017","Setembro",2017,"8.1.1.6","RESCISAO CONTRATUAL",2502.96,"PAGAMENTOS","8."]
["SETEMBRO/2017","Setembro",2017,"8.1.1.8","DESPESA COM VIAGEM",null,"PAGAMENTOS","8."]
["SETEMBRO/2017","Setembro",2017,"8.1.1.9","OUTRAS DESP. COM PESSOAL",3510.51,"PAGAMENTOS","8."]
["SETEMBRO/2017","Setembro",2017,"8.1.1.10","FERIAS FUNCIONARIOS",4130.95,"PAGAMENTOS","8."]
["SETEMBRO/2017","Setembro",2017,"8.1.1.11","DECIMO TERCEIRO SALARIO",1707.27,"PAGAMENTOS","8."]
["SETEMBRO/2017","Setembro",2017,"8.1.2.2","FGTS",6699.35,"PAGAMENTOS","8."]
["SETEMBRO/2017","Setembro",2017,"8.1.2.3","CONTRIBUICAO SOCIAL",null,"PAGAMENTOS","8."]
["SETEMBRO/2017","Setembro",2017,"8.1.2.4","INSS ADMINISTRACAO/CAMARA",6359.98,"PAGAMENTOS","8."]
["SETEMBRO/2017","Setembro",2017,"8.1.2.5","INSS COLHEITADORES",4259.3900000000003,"PAGAMENTOS","8."]
["SETEMBRO/2017","Setembro",2017,"8.1.3.1","ENERGIA",1335.74,"PAGAMENTOS","8."]
["SETEMBRO/2017","Setembro",2017,"8.1.3.2","AGUA",78.040000000000006,"PAGAMENTOS","8."]
["SETEMBRO/2017","Setembro",2017,"8.1.3.3","TELEFONE FIXO",190.12,"PAGAMENTOS","8."]
["SETEMBRO/2017","Setembro",2017,"8.1.3.4","TELEFONE CELULAR",582.25,"PAGAMENTOS","8."]
["SETEMBRO/2017","Setembro",2017,"8.1.3.5","HONORARIOS CONTABEIS",2859,"PAGAMENTOS","8."]
["SETEMBRO/2017","Setembro",2017,"8.1.3.6","MATERIAL DE ESCRITORIO",119,"PAGAMENTOS","8."]
["SETEMBRO/2017","Setembro",2017,"8.1.3.7","MATERIAL DE LIMPEZA E CANTINA",403.15,"PAGAMENTOS","8."]
["SETEMBRO/2017","Setembro",2017,"8.1.3.9","CORREIO, ENCOMENDAS E CARTORIOS",null,"PAGAMENTOS","8."]
["SETEMBRO/2017","Setembro",2017,"8.1.3.10","SEGUROS",3712.43,"PAGAMENTOS","8."]
["SETEMBRO/2017","Setembro",2017,"8.1.3.12","MENSALIDADE-ABANORTE",1074,"PAGAMENTOS","8."]
["SETEMBRO/2017","Setembro",2017,"8.1.3.13","MENSALIDADE-ACIJAN",88.7,"PAGAMENTOS","8."]
["SETEMBRO/2017","Setembro",2017,"8.1.3.14","ASSINATURA (JORNAL, INTERNET)",25,"PAGAMENTOS","8."]
["SETEMBRO/2017","Setembro",2017,"8.1.3.15","SUPORTE INFORMATICA",281.10000000000002,"PAGAMENTOS","8."]
["SETEMBRO/2017","Setembro",2017,"8.1.3.17","MANUT. HIDRAULICA E ELETRICA",12.8,"PAGAMENTOS","8."]
["SETEMBRO/2017","Setembro",2017,"8.1.3.18","SERVICOS DE VIGILANCIA",140,"PAGAMENTOS","8."]
["SETEMBRO/2017","Setembro",2017,"8.1.3.19","PADARIA E LANCHONETE",520.41,"PAGAMENTOS","8."]
["SETEMBRO/2017","Setembro",2017,"8.1.3.20","OUTRAS DESP.ADMINISTRATIVAS",3070,"PAGAMENTOS","8."]
["SETEMBRO/2017","Setembro",2017,"8.2.1.3","OUTRAS DESP.COM VENDAS",1634.5,"PAGAMENTOS","8."]
["SETEMBRO/2017","Setembro",2017,"8.2.1.4","DESCONTOS CONCEDIDOS",275.61,"PAGAMENTOS","8."]
["SETEMBRO/2017","Setembro",2017,"8.2.2.1","MANUTENCAO VEICULO",927.2,"PAGAMENTOS","8."]
["SETEMBRO/2017","Setembro",2017,"8.2.2.2","COMBUSTIVEL",1613.07,"PAGAMENTOS","8."]
["SETEMBRO/2017","Setembro",2017,"8.2.2.6","ICMS SOBRE FRETE",4660.46,"PAGAMENTOS","8."]
["SETEMBRO/2017","Setembro",2017,"8.2.2.7","FRETE TRANSPORTES",null,"PAGAMENTOS","8."]
["SETEMBRO/2017","Setembro",2017,"8.2.2.8","PERMISSAO TRANSITO",3218.49,"PAGAMENTOS","8."]
["SETEMBRO/2017","Setembro",2017,"8.2.2.15","COMBUSTIVEL COOPERADOS",2151.4,"PAGAMENTOS","8."]
["SETEMBRO/2017","Setembro",2017,"8.2.2.16","COMBUSTIVEL (OLEO DIESEL)",1373.3,"PAGAMENTOS","8."]
["SETEMBRO/2017","Setembro",2017,"8.2.2.17","COMBUSTIVEL TERCEIROS",2077,"PAGAMENTOS","8."]
["SETEMBRO/2017","Setembro",2017,"8.2.3.1","PROPAGANDA",null,"PAGAMENTOS","8."]
["SETEMBRO/2017","Setembro",2017,"8.2.3.2","PATROCINIOS",null,"PAGAMENTOS","8."]
["SETEMBRO/2017","Setembro",2017,"8.3.1.2","OUTRAS DESP.FINANCEIRAS",1243.1099999999999,"PAGAMENTOS","8."]
["SETEMBRO/2017","Setembro",2017,"8.4.1.3","IPTU",1360,"PAGAMENTOS","8."]
["SETEMBRO/2017","Setembro",2017,"8.4.1.4","OUTRAS DESP.TRIBUTARIAS",null,"PAGAMENTOS","8."]
["SETEMBRO/2017","Setembro",2017,"10.1.1.3","OUTRAS REC.NAO OPERACIONAIS",4215.2700000000004,"RECEITA NÃO OPERACIONAL","10"]
["SETEMBRO/2017","Setembro",2017,"10.1.1.5","DESCONTOS OBTIDOS",1825.86,"RECEITA NÃO OPERACIONAL","10"]
["SETEMBRO/2017","Setembro",2017,"11.1.1.1","DESPESAS NAO OPERACIONAIS",755.22,"PAGAMENTOS","11"]
["SETEMBRO/2017","Setembro",2017,"11.1.1.2","PROVISAO P/ DEVEDORES DUVIDOSOS",8676.98,"PAGAMENTOS","11"]
["SETEMBRO/2017","Setembro",2017,"11.1.1.6","FERRAMENTARIA",null,"PAGAMENTOS","11"]
["SETEMBRO/2017","Setembro",2017,"11.1.1.8","FUNDO ABANORTE SIGATOKA NEGRA",1760,"PAGAMENTOS","11"]
["JUNHO/2018","JUNHO",2018,"1.1.1.2","VL. TOTAL DOS CUPONS* A PRAZO",883169.1,"FATURAMENTO","1."]
["JUNHO/2018","JUNHO",2018,"2.1.1.1","(CUST12) CUSTO DOS PRODUTOS VENDIDOS",683704,"PAGAMENTOS","2."]
["JUNHO/2018","JUNHO",2018,"4.1.1.1","PIS/COFINS",655.77,"PAGAMENTOS","4."]
["JUNHO/2018","JUNHO",2018,"4.1.1.2","OUTROS IMPOSTOS",651.34,"PAGAMENTOS","4."]
["JUNHO/2018","JUNHO",2018,"6.1.1.2","CUSTO COM EMBALAGENS",33896,"PAGAMENTOS","6."]
["JUNHO/2018","JUNHO",2018,"6.1.1.3","FUNRURAL",10508.04,"PAGAMENTOS","6."]
["JUNHO/2018","JUNHO",2018,"8.1.1.1","FOPAG ADMINISTRATIVO",15683.45,"PAGAMENTOS","8."]
["JUNHO/2018","JUNHO",2018,"8.1.1.2","FOPAG PESSOAL CAMARA/EMBALADORES",29949.47,"PAGAMENTOS","8."]
["JUNHO/2018","JUNHO",2018,"8.1.1.9","OUTRAS DESP. COM PESSOAL",703.75,"PAGAMENTOS","8."]
["JUNHO/2018","JUNHO",2018,"8.1.1.10","FERIAS FUNCIONARIOS",6872,"PAGAMENTOS","8."]
["JUNHO/2018","JUNHO",2018,"8.1.1.11","DECIMO TERCEIRO SALARIO",2849.81,"PAGAMENTOS","8."]
["JUNHO/2018","JUNHO",2018,"8.1.2.2","FGTS",4361.6400000000003,"PAGAMENTOS","8."]
["JUNHO/2018","JUNHO",2018,"8.1.2.4","INSS ADMINISTRACAO/CAMARA",6369.58,"PAGAMENTOS","8."]
["JUNHO/2018","JUNHO",2018,"8.1.2.5","INSS COLHEITADORES",4103.58,"PAGAMENTOS","8."]
["JUNHO/2018","JUNHO",2018,"8.1.3.1","ENERGIA",2335.87,"PAGAMENTOS","8."]
["JUNHO/2018","JUNHO",2018,"8.1.3.2","AGUA",52.46,"PAGAMENTOS","8."]
["JUNHO/2018","JUNHO",2018,"8.1.3.3","TELEFONE FIXO",67.83,"PAGAMENTOS","8."]
["JUNHO/2018","JUNHO",2018,"8.1.3.4","TELEFONE CELULAR",697.18,"PAGAMENTOS","8."]
["JUNHO/2018","JUNHO",2018,"8.1.3.5","HONORARIOS CONTABEIS",2910,"PAGAMENTOS","8."]
["JUNHO/2018","JUNHO",2018,"8.1.3.6","MATERIAL DE ESCRITORIO",333,"PAGAMENTOS","8."]
["JUNHO/2018","JUNHO",2018,"8.1.3.10","SEGUROS",1073.8,"PAGAMENTOS","8."]
["JUNHO/2018","JUNHO",2018,"8.1.3.12","MENSALIDADE-ABANORTE",1074,"PAGAMENTOS","8."]
["JUNHO/2018","JUNHO",2018,"8.1.3.13","MENSALIDADE-ACIJAN",78.8,"PAGAMENTOS","8."]
["JUNHO/2018","JUNHO",2018,"8.1.3.14","ASSINATURA (JORNAL, INTERNET)",25,"PAGAMENTOS","8."]
["JUNHO/2018","JUNHO",2018,"8.1.3.15","SUPORTE INFORMATICA",286.2,"PAGAMENTOS","8."]
["JUNHO/2018","JUNHO",2018,"8.1.3.17","MANUT. HIDRAULICA E ELETRICA",129.6,"PAGAMENTOS","8."]
["JUNHO/2018","JUNHO",2018,"8.1.3.18","SERVICOS DE VIGILANCIA",150,"PAGAMENTOS","8."]
["JUNHO/2018","JUNHO",2018,"8.1.3.19","PADARIA E LANCHONETE",282.98,"PAGAMENTOS","8."]
["JUNHO/2018","JUNHO",2018,"8.1.3.20","OUTRAS DESP.ADMINISTRATIVAS",1879.38,"PAGAMENTOS","8."]
["JUNHO/2018","JUNHO",2018,"8.2.1.4","DESCONTOS CONCEDIDOS",4291.2,"PAGAMENTOS","8."]
["JUNHO/2018","JUNHO",2018,"8.2.2.1","MANUTENCAO VEICULO",301.87,"PAGAMENTOS","8."]
["JUNHO/2018","JUNHO",2018,"8.2.2.2","COMBUSTIVEL",2874.32,"PAGAMENTOS","8."]
["JUNHO/2018","JUNHO",2018,"8.2.2.7","FRETE TRANSPORTES",4756.82,"PAGAMENTOS","8."]
["JUNHO/2018","JUNHO",2018,"8.2.2.8","PERMISSAO TRANSITO",3543.59,"PAGAMENTOS","8."]
["JUNHO/2018","JUNHO",2018,"8.2.2.15","COMBUSTIVEL COOPERADOS",2477.6,"PAGAMENTOS","8."]
["JUNHO/2018","JUNHO",2018,"8.2.2.16","COMBUSTIVEL (OLEO DIESEL)",1314.8,"PAGAMENTOS","8."]
["JUNHO/2018","JUNHO",2018,"8.2.2.17","COMBUSTIVEL TERCEIROS",2394,"PAGAMENTOS","8."]
["JUNHO/2018","JUNHO",2018,"8.3.1.2","OUTRAS DESP.FINANCEIRAS",1190.72,"PAGAMENTOS","8."]
["JUNHO/2018","JUNHO",2018,"8.4.1.4","OUTRAS DESP.TRIBUTARIAS",125.41,"PAGAMENTOS","8."]
["JUNHO/2018","JUNHO",2018,"10.1.1.3","OUTRAS REC.NAO OPERACIONAIS",177,"RECEITA NÃO OPERACIONAL","10"]
["JUNHO/2018","JUNHO",2018,"10.1.1.5","DESCONTOS OBTIDOS",4593,"RECEITA NÃO OPERACIONAL","10"]
["JUNHO/2018","JUNHO",2018,"11.1.1.2","PROVISAO P/ DEVEDORES DUVIDOSOS",8224.9699999999993,"PAGAMENTOS","11"]
["JUNHO/2018","JUNHO",2018,"11.1.1.6","FERRAMENTARIA",320,"PAGAMENTOS","11"]
["JUNHO/2018","JUNHO",2018,"11.1.1.8","FUNDO ABANORTE SIGATOKA NEGRA",1792,"PAGAMENTOS","11"]

{"sheet":"Importação","index":5,"n_rows":51,"n_cols":18,"rows_kept":51,"cut":false,"hidden":false,"merged":[[6,6,6,7],[13,6,13,7]]}
[null,"MENU"]
[]
[]
[]
[]
[]
[null,null,null,null,null,null,"  IMPORTAÇÃO DE DADOS"]
[null,null,null,null,null,null,null,"MÊS",null,"ANO",null,null,null,null,null,null,null,{"$f":"COUNTIF(Arquivo!A:A,CONCATENATE(H9,\"/\",J9))","v":47}]
[null,null,null,null,null,null,null,"JULHO",null,2018]
[]
[]
[]
[]
[null,null,null,null,null,null,"  EXCLUSÃO DE DADOS"]
[null,null,null,null,null,null,null,"MÊS",null,"ANO",null,null,null,null,null,null,null,{"$f":"COUNTIF(Arquivo!A:A,CONCATENATE(H16,\"/\",J16))","v":44}]
[null,null,null,null,null,null,null,"JUNHO",null,2018]
[]
[]
[]
[]
[]
[]
[]
[]
[]
[]
[]
[]
[]
[]
[]
[]
[]
[]
[]
[]
[]
[]
[]
[null,null,null,null,null,null,null,"JANEIRO"]
[null,null,null,null,null,null,null,"FEVEREIRO"]
[null,null,null,null,null,null,null,"MARÇO"]
[null,null,null,null,null,null,null,"ABRIL"]
[null,null,null,null,null,null,null,"MAIO"]
[null,null,null,null,null,null,null,"JUNHO"]
[null,null,null,null,null,null,null,"JULHO"]
[null,null,null,null,null,null,null,"AGOSTO"]
[null,null,null,null,null,null,null,"SETEMBRO"]
[null,null,null,null,null,null,null,"OUTUBRO"]
[null,null,null,null,null,null,null,"NOVEMBRO"]
[null,null,null,null,null,null,null,"DEZEMBRO"]

{"sheet":"Plano de Contas","index":6,"n_rows":184,"n_cols":10,"rows_kept":184,"cut":false,"hidden":false,"merged":[[3,1,3,4],[3,8,3,9],[4,8,4,9]]}
[null,"CADASTRAMENTO DE CONTAS"]
[]
[]
[null,"PLANO DE CONTAS",null,null,null,null,null,null,"IDENTIFICADOR DE CONTAS NÃO CADASTRADAS"]
[null,"ESTRUTURA","CÓDIGO","DESCRIÇÃO","TIPO",null,null,null,{"$f":"IF(COUNTIF(J7:J190,\"CONTA NÃO CADASTRADA\")>0,\"ATENÇÃO! FAVOR EFETUAR O CADASTRAMENTO DE CONTAS\",\"\")","v":""}]
[null,null,null,"(+) RECEITA BRUTA",null,null,null,null,"ESTRUTURA","DESCRIÇÃO"]
[null,"1.1.1.1","(000003)","REC. VENDAS A VISTA",null,null,null,null,1,{"$f":"IF(LEN(I7)>6,IFERROR((VLOOKUP($I7,$B$5:$E$200,3,FALSE)),\"CONTA NÃO CADASTRADA\"),\"\")","v":""}]
[null,"1.1.1.2","(CUST04)","VL. TOTAL DOS CUPONS* A PRAZO",null,null,null,null,"1.1",{"$f":"IF(LEN(I8)>6,IFERROR((VLOOKUP($I8,$B$5:$E$200,3,FALSE)),\"CONTA NÃO CADASTRADA\"),\"\")","v":""}]
[null,null,null,null,null,null,null,null,"1.1.1",""]
[null,null,null,null,null,null,null,null,"1.1.1.2","VL. TOTAL DOS CUPONS* A PRAZO"]
[null,null,null,null,null,null,null,null,2,""]
[null,null,null,null,null,null,null,null,"2.1",""]
[null,null,null,null,null,null,null,null,"2.1.1",""]
[null,null,null,"(-) IMPOSTOS E DEDUÇÕES",null,null,null,null,"2.1.1.1","(CUST12) CUSTO DOS PRODUTOS VENDIDOS"]
[null,"4.1.1.1","(000005)","PIS/COFINS","CV",null,null,null,3,""]
[null,"4.1.1.2","(000007)","OUTROS IMPOSTOS","CV",null,null,null,4,""]
[null,null,null,null,null,null,null,null,"4.1",""]
[null,null,null,null,null,null,null,null,"4.1.1",""]
[null,null,null,null,null,null,null,null,"4.1.1.1","PIS/COFINS"]
[null,null,null,null,null,null,null,null,"4.1.1.2","OUTROS IMPOSTOS"]
[null,null,null,null,null,null,null,null,5,""]
[null,null,null,null,null,null,null,null,6,""]
[null,null,null,"(-) CUSTO MERCADORIA VENDIDA",null,null,null,null,"6.1",""]
[null,"2.1.1.1","(CUST12)","(CUST12) CUSTO DOS PRODUTOS VENDIDOS","CV",null,null,null,"6.1.1",""]
[null,"6.1.1.1","(000078)","OUTROS CUSTOS DIRETOS","CV",null,null,null,"6.1.1.2","CUSTO COM EMBALAGENS"]
[null,"6.1.1.2","(000085)","CUSTO COM EMBALAGENS","CV",null,null,null,"6.1.1.3","FUNRURAL"]
[null,"6.1.1.4","(000075)","OUTROS CUSTOS COM EMBALAGEM","CV",null,null,null,7,""]
[null,null,null,null,null,null,null,null,8,""]
[null,null,null,null,null,null,null,null,"8.1",""]
[null,null,null,null,null,null,null,null,"8.1.1",""]
[null,null,null,null,null,null,null,null,"8.1.1.1","FOPAG ADMINISTRATIVO"]
[null,null,null,null,null,null,null,null,"8.1.1.2","FOPAG PESSOAL CAMARA/EMBALADORES"]
[null,null,null,"DESPESAS COM PESSOAL",null,null,null,null,"8.1.1.9","OUTRAS DESP. COM PESSOAL"]
[null,"8.1.1.1","(000016)","FOPAG ADMINISTRATIVO","CF",null,null,null,"8.1.1.10","FERIAS FUNCIONARIOS"]
[null,"8.1.1.2","(000017)","FOPAG PESSOAL CAMARA/EMBALADORES","CF",null,null,null,"8.1.1.11","DECIMO TERCEIRO SALARIO"]
[null,"8.1.1.3","(000018)","HONORARIOS DIRETORIA","CF",null,null,null,"8.1.2",""]
[null,"8.1.1.5","(000020)","EMBALADORES","CV",null,null,null,"8.1.2.2","FGTS"]
[null,"8.1.1.6","(000021)","RESCISAO CONTRATUAL","CV",null,null,null,"8.1.2.4","INSS ADMINISTRACAO/CAMARA"]
[null,"8.1.1.7","(000076)","TREINAMENTO DE PESSOAL","CV",null,null,null,"8.1.2.5","INSS COLHEITADORES"]
[null,"8.1.1.8","(000077)","DESPESA COM VIAGEM","CV",null,null,null,"8.1.3",""]
[null,"8.1.1.9","(000071)","OUTRAS DESP. COM PESSOAL","CV",null,null,null,"8.1.3.1","ENERGIA"]
[null,"8.1.1.10","(000098)","FERIAS FUNCIONARIOS","CF",null,null,null,"8.1.3.2","AGUA"]
[null,"8.1.1.11","(000101)","DECIMO TERCEIRO SALARIO","CF",null,null,null,"8.1.3.3","TELEFONE FIXO"]
[null,"8.1.1.12","(000115)","DISTRIBUICAO DE PLR FUNCIONARIOS","CV",null,null,null,"8.1.3.4","TELEFONE CELULAR"]
[null,"8.1.2.1","(000022)","INSS","CF",null,null,null,"8.1.3.5","HONORARIOS CONTABEIS"]
[null,"8.1.2.2","(000023)","FGTS","CF",null,null,null,"8.1.3.6","MATERIAL DE ESCRITORIO"]
[null,"8.1.2.3","(000024)","CONTRIBUICAO SOCIAL","CF",null,null,null,"8.1.3.10","SEGUROS"]
[null,"8.1.2.4","(000090)","INSS ADMINISTRACAO/CAMARA","CF",null,null,null,"8.1.3.12","MENSALIDADE-ABANORTE"]
[null,"8.1.2.5","(000091)","INSS COLHEITADORES","CF",null,null,null,"8.1.3.13","MENSALIDADE-ACIJAN"]
[null,"8.4.1.2","(000057)","BRINDES C/ APOSENTADORIA FUNCIONARIOS","CV",null,null,null,"8.1.3.14","ASSINATURA (JORNAL, INTERNET)"]
[null,"6.1.1.3","(000068)","FUNRURAL","CV",null,null,null,"8.1.3.15","SUPORTE INFORMATICA"]
[null,null,null,null,null,null,null,null,"8.1.3.17","MANUT. HIDRAULICA E ELETRICA"]
[null,null,null,null,null,null,null,null,"8.1.3.18","SERVICOS DE VIGILANCIA"]
[null,null,null,null,null,null,null,null,"8.1.3.19","PADARIA E LANCHONETE"]
[null,null,null,null,null,null,null,null,"8.1.3.20","OUTRAS DESP.ADMINISTRATIVAS"]
[null,null,null,"DESPESAS ADMINISTRATIVAS",null,null,null,null,"8.2",""]
[null,"8.1.3.1","(000025)","ENERGIA","CF",null,null,null,"8.2.1",""]
[null,"8.1.3.2","(000026)","AGUA","CF",null,null,null,"8.2.1.4","DESCONTOS CONCEDIDOS"]
[null,"8.1.3.3","(000027)","TELEFONE FIXO","CF",null,null,null,"8.2.2",""]
[null,"8.1.3.4","(000028)","TELEFONE CELULAR","CF",null,null,null,"8.2.2.1","MANUTENCAO VEICULO"]
[null,"8.1.3.5","(000029)","HONORARIOS CONTABEIS","CF",null,null,null,"8.2.2.2","COMBUSTIVEL"]
[null,"8.1.3.6","(000030)","MATERIAL DE ESCRITORIO","CV",null,null,null,"8.2.2.7","FRETE TRANSPORTES"]
[null,"8.1.3.7","(000031)","MATERIAL DE LIMPEZA E CANTINA","CF",null,null,null,"8.2.2.8","PERMISSAO TRANSITO"]
[null,"8.1.3.8","(000032)","ALUGUEIS E ARRENDAMENTOS","CF",null,null,null,"8.2.2.15","COMBUSTIVEL COOPERADOS"]
[null,"8.1.3.9","(000033)","CORREIO, ENCOMENDAS E CARTORIOS","CV",null,null,null,"8.2.2.16","COMBUSTIVEL (OLEO DIESEL)"]
[null,"8.1.3.10","(000034)","SEGUROS","CF",null,null,null,"8.2.2.17","COMBUSTIVEL TERCEIROS"]
[null,"8.1.3.11","(000035)","COMODATO-ABANORTE","CF",null,null,null,"8.3",""]
[null,"8.1.3.12","(000036)","MENSALIDADE-ABANORTE","CF",null,null,null,"8.3.1",""]
[null,"8.1.3.13","(000037)","MENSALIDADE-ACIJAN","CF",null,null,null,"8.3.1.2","OUTRAS DESP.FINANCEIRAS"]
[null,"8.1.3.14","(000038)","ASSINATURA (JORNAL, INTERNET)","CF",null,null,null,"8.4",""]
[null,"8.1.3.15","(000039)","SUPORTE INFORMATICA","CV",null,null,null,"8.4.1",""]
[null,"8.1.3.16","(000040)","MANUT.MAQ E EQUIP","CV",null,null,null,"8.4.1.4",{"$f":"IF(LEN(I72)>6,IFERROR((VLOOKUP($I72,$B$5:$E$200,3,FALSE)),\"CONTA NÃO CADASTRADA\"),\"\")","v":"OUTRAS DESP.TRIBUTARIAS"}]
[null,"8.1.3.17","(000070)","MANUT. HIDRAULICA E ELETRICA","CV",null,null,null,9,""]
[null,"8.1.3.18","(000073)","SERVICOS DE VIGILANCIA","CF",null,null,null,10,""]
[null,"8.1.3.19","(000074)","PADARIA E LANCHONETE","CV",null,null,null,"10.1",""]
[null,"8.1.3.20","(000041)","OUTRAS DESP.ADMINISTRATIVAS","CV",null,null,null,"10.1.1",""]
[null,"11.1.1.8","(000105)","FUNDO ABANORTE SIGATOKA NEGRA","CF",null,null,null,"10.1.1.3","OUTRAS REC.NAO OPERACIONAIS"]
[null,"8.2.2.15","(000102)","COMBUSTIVEL COOPERADOS","CV",null,null,null,"10.1.1.5","DESCONTOS OBTIDOS"]
[null,null,null,null,null,null,null,null,11,""]
[null,null,null,null,null,null,null,null,"11.1",""]
[null,null,null,null,null,null,null,null,"11.1.1",""]
[null,null,null,"DESPESAS COMERCIAIS",null,null,null,null,"11.1.1.2","PROVISAO P/ DEVEDORES DUVIDOSOS"]
[null,"8.2.1.1","(000042)","COMISSAO VENDEDORES","CV",null,null,null,"11.1.1.6","FERRAMENTARIA"]
[null,"8.2.1.2","(000043)","AJUDA DE CUSTO","CV",null,null,null,"11.1.1.8","FUNDO ABANORTE SIGATOKA NEGRA"]
[null,"8.2.1.3","(000044)","OUTRAS DESP.COM VENDAS","CV",null,null,null,12,""]
[null,null,null,null,null,null,null,null,14,""]
[null,null,null,null,null,null,null,null,null,""]
[null,null,null,null,null,null,null,null,null,""]
[null,null,null,null,null,null,null,null,null,""]
[null,null,null,null,null,null,null,null,null,""]
[null,null,null,"DESPESAS COM TRANSPORTE",null,null,null,null,null,""]
[null,"8.2.2.1","(000045)","MANUTENCAO VEICULO","CV",null,null,null,null,""]
[null,"8.2.2.2","(000046)","COMBUSTIVEL","CV"]
[null,"8.2.2.3","(000047)","PECAS E REPAROS","CV"]
[null,"8.2.2.4","(000048)","BALDEIO","CV"]
[null,"8.2.2.5","(000069)","BALSA","CV"]
[null,"8.2.2.6","(000006)","ICMS SOBRE FRETE","CV"]
[null,"8.2.2.7","(000080)","FRETE TRANSPORTES","CV"]
[null,"8.2.2.8","(000067)","PERMISSAO TRANSITO","CV"]
[null,"8.2.2.9","(000092)","MANUTENCAO CAMINHAO HMG 0033","CV"]
[null,"8.2.2.10","(000093)","MANUTENCAO CAMINHAO VW GMB-9576","CV"]
[null,"8.2.2.11","(000094)","MANUTENCAO MOTO GVZ 8529","CV"]
[null,"8.2.2.12","(000095)","MANUTENCAO MOTO HAC 6345","CV"]
[null,"8.2.2.13","(000099)","MANUT. UNO MILLE EX PLACA GMG-8644","CV"]
[null,"8.2.2.14","(000100)","MANUTENCAO MOTO HAW 9706","CV"]
[null,"8.2.2.16","(000103)","COMBUSTIVEL (OLEO DIESEL)","CV"]
[null,"8.2.2.17","(000104)","COMBUSTIVEL TERCEIROS","CV"]
[null,"8.2.2.18","(000108)","MANUTENCAO MOTO HBT-8219","CV"]
[null,"8.2.2.19","(000109)","MANUTENCAO CAMINHAO GUR 3478","CV"]
[null,"8.2.2.20","(000110)","MANUTENCAO MOTO YBR HDE 4759","CV"]
[null,"8.2.2.21","(000111)","MANUTENCAO MOTO XTZ AZUL HDU-8042","CV"]
[null,"8.2.2.22","(000112)","MANUTENCAO MOTO YBR 125 K HDU 9298","CV"]
[null,"8.2.2.23","(000113)","MANUTENCAO MOTO XTZ PRETA PLACA HKG-2418","CV"]
[]
[]
[]
[]
[]
[]
[null,null,null,"DESPESAS COM MARKETING"]
[null,"8.2.3.1","(000049)","PROPAGANDA","CV"]
[null,"8.2.3.2","(000050)","PATROCINIOS","CV"]
[null,"8.2.3.3","(000051)","DOACOES","CV"]
[null,"8.2.3.4","(000052)","PESQUISA NOVOS PRODUTOS","CV"]
[null,"8.2.3.5","(000053)","OUTRAS DESP.COM MARKETING","CV"]
[]
[]
[]
[]
[]
[null,null,null,"DESPESAS TRIBUTARIAS"]
[null,"8.4.1.3","(000058)","IPTU","CF"]
[null,"8.4.1.4","(000059)","OUTRAS DESP.TRIBUTARIAS","CV"]
[]
[]
[]
[]
[]
[null,null,null,"DESPESAS FINANCEIRAS"]
[null,"8.3.1.1","(000054)","JUROS","CV"]
[null,"8.3.1.2","(000055)","OUTRAS DESP.FINANCEIRAS","CV"]
[null,"8.2.1.4","(000106)","DESCONTOS CONCEDIDOS","CV"]
[null,"8.4.1.1","(000056)","CPMF","CV"]
[]
[]
[]
[]
[]
[null,null,null,"(+) RECEITAS NAO OPERACIONAIS"]
[null,"10.1.1.1","(000060)","RECEITAS FINANCEIRAS"]
[null,"10.1.1.3","(000062)","OUTRAS REC.NAO OPERACIONAIS"]
[null,"10.1.1.4","(000086)","COMPLEMENTO NOTAS"]
[null,"10.1.1.5","(000107)","DESCONTOS OBTIDOS"]
[]
[]
[]
[]
[]
[null,null,null,"(-) DESPESAS NAO OPERACIONAIS"]
[null,"11.1.1.1","(000063)","DESPESAS NAO OPERACIONAIS","CV"]
[null,"11.1.1.6","(000096)","FERRAMENTARIA","CV"]
[]
[]
[]
[]
[]
[null,null,null,"(-) DEDUÇÕES SOBRE LUCRO"]
[null,"13.1.1.1","(000064)","IMPOSTO S/ LUCRO","CV"]
[]
[]
[]
[null,null,null,"CAPTAÇÕES E RESERVAS"]
[null,"11.1.1.2","(000084)","PROVISAO P/ DEVEDORES DUVIDOSOS"]
[null,"11.1.1.4","(000088)","FUNDO P/ COMERCIALIZACAO"]
[null,"11.1.1.5","(000089)","FUNDO PARA MANUTENCAO CAMARA"]
[null,"11.1.1.7","(000097)","INTEGRALIZACAO DE CAPITAL"]
[]
[]
[]
[]
[]
[]
[null,null,null,"CRÉDITOS A RECEBER"]
[null,"8.1.1.4","(000019)","EMPRESTIMOS A FUNCIONARIOS"]

{"sheet":"Resumo vendas","index":7,"n_rows":81,"n_cols":9,"rows_kept":81,"cut":false,"hidden":false,"merged":[[3,1,3,4]]}
[null,"RESUMO"]
[]
[]
[null,"VENDAS E PAGAMENTOS"]
[null,"MÊS","ANO","ITEM","VALOR"]
[null,"Abril",2017,"Receita Total",1760130.35,null,"Receita Total",null,"Janeiro"]
[null,"Abril",2017,"Custos Totais",1742611.74,null,"Custos Totais",null,"Fevereiro"]
[null,"Abril",2017,"Caixa banana cooperado",37527,null,"Caixa banana cooperado",null,"Março"]
[null,"Abril",2017,"Caixa banana não cooperado",7936,null,"Caixa banana não cooperado",null,"Abril"]
[null,"Agosto",2017,"Receita Total",914126.2,null,null,null,"Maio"]
[null,"Agosto",2017,"Custos Totais",914731.52000000002,null,null,null,"Junho"]
[null,"Agosto",2017,"Caixa banana cooperado",31479,null,null,null,"Julho"]
[null,"Agosto",2017,"Caixa banana não cooperado",9496,null,null,null,"Agosto"]
[null,"Dezembro",2017,"Receita Total",889893.35,null,null,null,"Setembro"]
[null,"Dezembro",2017,"Custos Totais",944306.68,null,null,null,"Outubro"]
[null,"Dezembro",2017,"Caixa banana cooperado",28283,null,null,null,"Novembro"]
[null,"Dezembro",2017,"Caixa banana não cooperado",7121,null,null,null,"Dezembro"]
[null,"Fevereiro",2017,"Receita Total",1053098.05]
[null,"Fevereiro",2017,"Custos Totais",1064098.48]
[null,"Fevereiro",2017,"Caixa banana cooperado",20950]
[null,"Fevereiro",2017,"Caixa banana não cooperado",7574]
[null,"Janeiro",2017,"Receita Total",1139265.1000000001]
[null,"Janeiro",2017,"Custos Totais",1170438]
[null,"Janeiro",2017,"Caixa banana cooperado",21094]
[null,"Janeiro",2017,"Caixa banana não cooperado",7204]
[null,"Julho",2017,"Receita Total",696869]
[null,"Julho",2017,"Custos Totais",720868.46]
[null,"Julho",2017,"Caixa banana cooperado",32081]
[null,"Julho",2017,"Caixa banana não cooperado",8627]
[null,"Junho",2017,"Receita Total",843373.35]
[null,"Junho",2017,"Custos Totais",905610.84]
[null,"Junho",2017,"Caixa banana cooperado",34174]
[null,"Junho",2017,"Caixa banana não cooperado",5825]
[null,"Maio",2017,"Receita Total",1202834.8500000001]
[null,"Maio",2017,"Custos Totais",1295360.8600000001]
[null,"Maio",2017,"Caixa banana cooperado",36842]
[null,"Maio",2017,"Caixa banana não cooperado",5596]
[null,"Março",2017,"Receita Total",1352426.55]
[null,"Março",2017,"Custos Totais",1384041.02]
[null,"Março",2017,"Caixa banana cooperado",27294]
[null,"Março",2017,"Caixa banana não cooperado",8911]
[null,"Novembro",2017,"Receita Total",719459.05]
[null,"Novembro",2017,"Custos Totais",753853.83]
[null,"Novembro",2017,"Caixa banana cooperado",39186]
[null,"Novembro",2017,"Caixa banana não cooperado",9720]
[null,"Outubro",2017,"Receita Total",628653.94999999995]
[null,"Outubro",2017,"Custos Totais",660657.28]
[null,"Outubro",2017,"Caixa banana cooperado",42512]
[null,"Outubro",2017,"Caixa banana não cooperado",8462]
[null,"Setembro",2017,"Receita Total",899596.5]
[null,"Setembro",2017,"Custos Totais",913388.56]
[null,"Setembro",2017,"Caixa banana cooperado",34797]
[null,"Setembro",2017,"Caixa banana não cooperado",5897]
[null,"Fevereiro",2018,"Receita Total",821530.1]
[null,"Fevereiro",2018,"Custos Totais",681415.88]
[null,"Fevereiro",2018,"Caixa banana cooperado",21233]
[null,"Fevereiro",2018,"Caixa banana não cooperado",7251]
[null,"Janeiro",2018,"Receita Total",960626.8]
[null,"Janeiro",2018,"Custos Totais",964447.05]
[null,"Janeiro",2018,"Caixa banana cooperado",28781]
[null,"Janeiro",2018,"Caixa banana não cooperado",5311]
[null,"Março",2018,"Receita Total",1323267.3]
[null,"Março",2018,"Custos Totais",1302955.1000000001]
[null,"Março",2018,"Caixa banana cooperado",31352]
[null,"Março",2018,"Caixa banana não cooperado",6349]
[null,"Abril",2018,"Receita Total",1008922.75]
[null,"Abril",2018,"Custos Totais",1001791.9]
[null,"Abril",2018,"Caixa banana cooperado",28213]
[null,"Abril",2018,"Caixa banana não cooperado",5335]
[null,"Maio",2018,"Receita Total",804756.6]
[null,"Maio",2018,"Custos Totais",814440.84]
[null,"Maio",2018,"Caixa banana cooperado",22235]
[null,"Maio",2018,"Caixa banana não cooperado",3285]
[null,"Junho",2018,"Receita Total",883169.1]
[null,"Junho",2018,"Custos Totais",840521.83]
[null,"Junho",2018,"Caixa banana cooperado",39986]
[null,"Junho",2018,"Caixa banana não cooperado",296]
[null,"Julho",2018,"Receita Total",608346.94999999995]
[null,"Julho",2018,"Custos Totais",574230.49]
[null,"Julho",2018,"Caixa banana cooperado",35506]
[null,"Julho",2018,"Caixa banana não cooperado",748]

{"sheet":"Demonstrativo","index":8,"n_rows":267,"n_cols":34,"rows_kept":267,"cut":false,"hidden":false,"merged":[[1,6,1,7],[2,6,2,7],[216,27,216,28],[216,29,216,30],[216,15,216,16],[216,17,216,18],[216,19,216,20],[216,21,216,22],[216,23,216,24],[216,25,216,26],[216,13,216,14],[211,21,211,22],[211,23,211,24],[211,25,211,26],[211,27,211,28],[211,29,211,30],[216,2,216,4],[216,5,216,6],[216,7,216,8],[216,9,216,10],[216,11,216,12],[214,2,214,4],[206,29,206,30],[211,2,211,4],[211,5,211,6],[211,7,211,8],[211,9,211,10],[211,11,211,12],[211,13,211,14],[211,15,211,16],[211,17,211,18],[211,19,211,20],[206,17,206,18],[206,19,206,20],[206,21,206,22],[206,23,206,24],[206,25,206,26],[206,27,206,28],[205,25,205,26],[205,27,205,28],[205,29,205,30],[206,2,206,4],[206,5,206,6],[206,7,206,8],[206,9,206,10],[206,11,206,12],[206,13,206,14],[206,15,206,16],[205,13,205,14],[205,15,205,16],[205,17,205,18],[205,19,205,20],[205,21,205,22],[205,23,205,24],[7,27,7,28],[7,29,7,30],[7,19,7,20],[7,21,7,22],[7,23,7,24],[7,25,7,26],[8,2,8,4],[200,2,200,4],[203,2,203,4],[205,2,205,4],[205,5,205,6],[205,7,205,8],[205,9,205,10],[205,11,205,12],[7,15,7,16],[7,17,7,18],[7,13,7,14],[7,2,7,4],[7,5,7,6],[7,7,7,8],[7,9,7,10],[7,11,7,12]]}
[null,"DEMONSTRATIVO DE RESULTADO GERENCIAL"]
[null,null,null,null,null,null,"MODO DE VISUALIZAÇÃO",null,null,null,null,null,null,null,null,null,null,null,null,null,null,"CUSTO FIXO","CF"]
[null,null,null,null,null,null,"CUSTOS TOTAIS",null,null,null,null,null,null,null,null,null,"ANÁLISE CUSTOS (CONSIDERAR CMV, IMPOSTOS E DEDUÇÕES)",null,null,null,"% S/RB","CUSTO VARIÁVEL","CV",{"$f":"VLOOKUP(G3,V2:W4,2,FALSE)","v":"CT"}]
[null,null,null,null,null,null,null,null,null,null,null,null,null,null,null,null,"ANÁLISE CUSTOS (DESCONSIDERAR CMV, IMPOSTOS E DEDUÇÕES)",null,null,null,"% S/SOMA","CUSTOS TOTAIS","CT"]
[null,null,null,null,null,null,1,null,2,null,3,null,4,null,5,null,6,null,7,null,8,null,9,null,10,null,11,null,12]
[null,null,null,null,null,"JANEIRO",2018,"FEVEREIRO",2018,"MARÇO",2018,"ABRIL",2018,"MAIO",2018,"JUNHO",2018,"JULHO",2018]
[]
[null,null,{"$f":"IF(X3=\"CT\",\"DEMONSTRATIVO DE RESULTADO GERENCIAL\",CONCATENATE(\"ANÁLISE DE \",G3))","v":"DEMONSTRATIVO DE RESULTADO GERENCIAL"},null,null,{"$f":"CONCATENATE(F$6,\"/\",G$6)","v":"JANEIRO/2018"},null,{"$f":"CONCATENATE(H$6,\"/\",I$6)","v":"FEVEREIRO/2018"},null,{"$f":"CONCATENATE(J$6,\"/\",K$6)","v":"MARÇO/2018"},null,{"$f":"CONCATENATE(L$6,\"/\",M$6)","v":"ABRIL/2018"},null,{"$f":"CONCATENATE(N$6,\"/\",O$6)","v":"MAIO/2018"},null,{"$f":"CONCATENATE(P$6,\"/\",Q$6)","v":"JUNHO/2018"},null,{"$f":"CONCATENATE(R$6,\"/\",S$6)","v":"JULHO/2018"},null,{"$f":"CONCATENATE(T$6,\"/\",U$6)","v":"/"},null,{"$f":"CONCATENATE(V$6,\"/\",W$6)","v":"/"},null,{"$f":"CONCATENATE(X$6,\"/\",Y$6)","v":"/"},null,{"$f":"CONCATENATE(Z$6,\"/\",AA$6)","v":"/"},null,{"$f":"CONCATENATE(AB$6,\"/\",AC$6)","v":"/"},null,"CONSOLIDADO"]
[null,null,{"$f":"IF(E4=\"\",\"\",E4)","v":""},null,null,"(R$)","(%)","(R$)","(%)","(R$)","(%)","(R$)","(%)","(R$)","(%)","(R$)","(%)","(R$)","(%)","(R$)","(%)","(R$)","(%)","(R$)","(%)","(R$)","(%)","(R$)","(%)","(R$)","(%)"]
[null,null,null,"(+) RECEITA BRUTA",null,{"$f":"SUM(F11:F17)","v":960626.8},1,821530.1,1,1323267.3,1,1008922.75,1,804756.6,1,883169.1,1,608346.94999999995,1,0,0,0,0,0,0,0,0,0,0,6410619.5999999996,1,null,null,{"$f":"IF(AND($X$3=\"CT\",AD10<>0),\"X\",\"\")","v":"X"}]
[null,null,{"$f":"IF('Plano de Contas'!B7=\"\",\"\",'Plano de Contas'!B7)","v":"1.1.1.1"},null,{"$f":"IF($C11=\"\",\"\",VLOOKUP($C11,'Plano de Contas'!$B$2:$E$200,3,FALSE))","v":"REC. VENDAS A VISTA"},{"$f":"IFERROR((SUMIFS(Arquivo!$F$2:$F$20000,Arquivo!$B$2:$B$20000,F$6,Arquivo!$C$2:$C$20000,G$6,Arquivo!$D$2:$D$20000,$C11)),0)","v":0},{"$f":"IFERROR((F11/F$10),0)","v":0},{"$f":"IFERROR((SUMIFS(Arquivo!$F$2:$F$20000,Arquivo!$B$2:$B$20000,H$6,Arquivo!$C$2:$C$20000,I$6,Arquivo!$D$2:$D$20000,$C11)),0)","v":0},{"$f":"IFERROR((H11/H$10),0)","v":0},{"$f":"IFERROR((SUMIFS(Arquivo!$F$2:$F$20000,Arquivo!$B$2:$B$20000,J$6,Arquivo!$C$2:$C$20000,K$6,Arquivo!$D$2:$D$20000,$C11)),0)","v":0},{"$f":"IFERROR((J11/J$10),0)","v":0},{"$f":"IFERROR((SUMIFS(Arquivo!$F$2:$F$20000,Arquivo!$B$2:$B$20000,L$6,Arquivo!$C$2:$C$20000,M$6,Arquivo!$D$2:$D$20000,$C11)),0)","v":0},{"$f":"IFERROR((L11/L$10),0)","v":0},{"$f":"IFERROR((SUMIFS(Arquivo!$F$2:$F$20000,Arquivo!$B$2:$B$20000,N$6,Arquivo!$C$2:$C$20000,O$6,Arquivo!$D$2:$D$20000,$C11)),0)","v":0},{"$f":"IFERROR((N11/N$10),0)","v":0},{"$f":"IFERROR((SUMIFS(Arquivo!$F$2:$F$20000,Arquivo!$B$2:$B$20000,P$6,Arquivo!$C$2:$C$20000,Q$6,Arquivo!$D$2:$D$20000,$C11)),0)","v":0},{"$f":"IFERROR((P11/P$10),0)","v":0},{"$f":"IFERROR((SUMIFS(Arquivo!$F$2:$F$20000,Arquivo!$B$2:$B$20000,R$6,Arquivo!$C$2:$C$20000,S$6,Arquivo!$D$2:$D$20000,$C11)),0)","v":0},{"$f":"IFERROR((R11/R$10),0)","v":0},{"$f":"IFERROR((SUMIFS(Arquivo!$F$2:$F$20000,Arquivo!$B$2:$B$20000,T$6,Arquivo!$C$2:$C$20000,U$6,Arquivo!$D$2:$D$20000,$C11)),0)","v":0},{"$f":"IFERROR((T11/T$10),0)","v":0},{"$f":"IFERROR((SUMIFS(Arquivo!$F$2:$F$20000,Arquivo!$B$2:$B$20000,V$6,Arquivo!$C$2:$C$20000,W$6,Arquivo!$D$2:$D$20000,$C11)),0)","v":0},{"$f":"IFERROR((V11/V$10),0)","v":0},{"$f":"IFERROR((SUMIFS(Arquivo!$F$2:$F$20000,Arquivo!$B$2:$B$20000,X$6,Arquivo!$C$2:$C$20000,Y$6,Arquivo!$D$2:$D$20000,$C11)),0)","v":0},{"$f":"IFERROR((X11/X$10),0)","v":0},{"$f":"IFERROR((SUMIFS(Arquivo!$F$2:$F$20000,Arquivo!$B$2:$B$20000,Z$6,Arquivo!$C$2:$C$20000,AA$6,Arquivo!$D$2:$D$20000,$C11)),0)","v":0},{"$f":"IFERROR((Z11/Z$10),0)","v":0},{"$f":"IFERROR((SUMIFS(Arquivo!$F$2:$F$20000,Arquivo!$B$2:$B$20000,AB$6,Arquivo!$C$2:$C$20000,AC$6,Arquivo!$D$2:$D$20000,$C11)),0)","v":0},{"$f":"IFERROR((AB11/AB$10),0)","v":0},{"$f":"F11+H11+J11+L11+N11+P11+R11+T11+V11+X11+Z11+AB11","v":0},{"$f":"IFERROR((AD11/AD$10),0)","v":0},null,null,""]
[null,null,{"$f":"IF('Plano de Contas'!B8=\"\",\"\",'Plano de Contas'!B8)","v":"1.1.1.2"},null,{"$f":"IF($C12=\"\",\"\",VLOOKUP($C12,'Plano de Contas'!$B$2:$E$200,3,FALSE))","v":"VL. TOTAL DOS CUPONS* A PRAZO"},{"$f":"IFERROR((SUMIFS(Arquivo!$F$2:$F$20000,Arquivo!$B$2:$B$20000,F$6,Arquivo!$C$2:$C$20000,G$6,Arquivo!$D$2:$D$20000,$C12)),0)","v":960626.8},1,{"$f":"IFERROR((SUMIFS(Arquivo!$F$2:$F$20000,Arquivo!$B$2:$B$20000,H$6,Arquivo!$C$2:$C$20000,I$6,Arquivo!$D$2:$D$20000,$C12)),0)","v":821530.1},1,{"$f":"IFERROR((SUMIFS(Arquivo!$F$2:$F$20000,Arquivo!$B$2:$B$20000,J$6,Arquivo!$C$2:$C$20000,K$6,Arquivo!$D$2:$D$20000,$C12)),0)","v":1323267.3},1,{"$f":"IFERROR((SUMIFS(Arquivo!$F$2:$F$20000,Arquivo!$B$2:$B$20000,L$6,Arquivo!$C$2:$C$20000,M$6,Arquivo!$D$2:$D$20000,$C12)),0)","v":1008922.75},1,{"$f":"IFERROR((SUMIFS(Arquivo!$F$2:$F$20000,Arquivo!$B$2:$B$20000,N$6,Arquivo!$C$2:$C$20000,O$6,Arquivo!$D$2:$D$20000,$C12)),0)","v":804756.6},1,{"$f":"IFERROR((SUMIFS(Arquivo!$F$2:$F$20000,Arquivo!$B$2:$B$20000,P$6,Arquivo!$C$2:$C$20000,Q$6,Arquivo!$D$2:$D$20000,$C12)),0)","v":883169.1},1,{"$f":"IFERROR((SUMIFS(Arquivo!$F$2:$F$20000,Arquivo!$B$2:$B$20000,R$6,Arquivo!$C$2:$C$20000,S$6,Arquivo!$D$2:$D$20000,$C12)),0)","v":608346.94999999995},1,{"$f":"IFERROR((SUMIFS(Arquivo!$F$2:$F$20000,Arquivo!$B$2:$B$20000,T$6,Arquivo!$C$2:$C$20000,U$6,Arquivo!$D$2:$D$20000,$C12)),0)","v":0},0,{"$f":"IFERROR((SUMIFS(Arquivo!$F$2:$F$20000,Arquivo!$B$2:$B$20000,V$6,Arquivo!$C$2:$C$20000,W$6,Arquivo!$D$2:$D$20000,$C12)),0)","v":0},0,{"$f":"IFERROR((SUMIFS(Arquivo!$F$2:$F$20000,Arquivo!$B$2:$B$20000,X$6,Arquivo!$C$2:$C$20000,Y$6,Arquivo!$D$2:$D$20000,$C12)),0)","v":0},0,{"$f":"IFERROR((SUMIFS(Arquivo!$F$2:$F$20000,Arquivo!$B$2:$B$20000,Z$6,Arquivo!$C$2:$C$20000,AA$6,Arquivo!$D$2:$D$20000,$C12)),0)","v":0},0,{"$f":"IFERROR((SUMIFS(Arquivo!$F$2:$F$20000,Arquivo!$B$2:$B$20000,AB$6,Arquivo!$C$2:$C$20000,AC$6,Arquivo!$D$2:$D$20000,$C12)),0)","v":0},0,{"$f":"F12+H12+J12+L12+N12+P12+R12+T12+V12+X12+Z12+AB12","v":6410619.5999999996},1,null,null,"X"]
[null,null,{"$f":"IF('Plano de Contas'!B9=\"\",\"\",'Plano de Contas'!B9)","v":""},null,{"$f":"IF($C13=\"\",\"\",VLOOKUP($C13,'Plano de Contas'!$B$2:$E$200,3,FALSE))","v":""},{"$f":"IFERROR((SUMIFS(Arquivo!$F$2:$F$20000,Arquivo!$B$2:$B$20000,F$6,Arquivo!$C$2:$C$20000,G$6,Arquivo!$D$2:$D$20000,$C13)),0)","v":0},0,{"$f":"IFERROR((SUMIFS(Arquivo!$F$2:$F$20000,Arquivo!$B$2:$B$20000,H$6,Arquivo!$C$2:$C$20000,I$6,Arquivo!$D$2:$D$20000,$C13)),0)","v":0},0,{"$f":"IFERROR((SUMIFS(Arquivo!$F$2:$F$20000,Arquivo!$B$2:$B$20000,J$6,Arquivo!$C$2:$C$20000,K$6,Arquivo!$D$2:$D$20000,$C13)),0)","v":0},0,{"$f":"IFERROR((SUMIFS(Arquivo!$F$2:$F$20000,Arquivo!$B$2:$B$20000,L$6,Arquivo!$C$2:$C$20000,M$6,Arquivo!$D$2:$D$20000,$C13)),0)","v":0},0,{"$f":"IFERROR((SUMIFS(Arquivo!$F$2:$F$20000,Arquivo!$B$2:$B$20000,N$6,Arquivo!$C$2:$C$20000,O$6,Arquivo!$D$2:$D$20000,$C13)),0)","v":0},0,{"$f":"IFERROR((SUMIFS(Arquivo!$F$2:$F$20000,Arquivo!$B$2:$B$20000,P$6,Arquivo!$C$2:$C$20000,Q$6,Arquivo!$D$2:$D$20000,$C13)),0)","v":0},0,{"$f":"IFERROR((SUMIFS(Arquivo!$F$2:$F$20000,Arquivo!$B$2:$B$20000,R$6,Arquivo!$C$2:$C$20000,S$6,Arquivo!$D$2:$D$20000,$C13)),0)","v":0},0,{"$f":"IFERROR((SUMIFS(Arquivo!$F$2:$F$20000,Arquivo!$B$2:$B$20000,T$6,Arquivo!$C$2:$C$20000,U$6,Arquivo!$D$2:$D$20000,$C13)),0)","v":0},0,{"$f":"IFERROR((SUMIFS(Arquivo!$F$2:$F$20000,Arquivo!$B$2:$B$20000,V$6,Arquivo!$C$2:$C$20000,W$6,Arquivo!$D$2:$D$20000,$C13)),0)","v":0},0,{"$f":"IFERROR((SUMIFS(Arquivo!$F$2:$F$20000,Arquivo!$B$2:$B$20000,X$6,Arquivo!$C$2:$C$20000,Y$6,Arquivo!$D$2:$D$20000,$C13)),0)","v":0},0,{"$f":"IFERROR((SUMIFS(Arquivo!$F$2:$F$20000,Arquivo!$B$2:$B$20000,Z$6,Arquivo!$C$2:$C$20000,AA$6,Arquivo!$D$2:$D$20000,$C13)),0)","v":0},0,{"$f":"IFERROR((SUMIFS(Arquivo!$F$2:$F$20000,Arquivo!$B$2:$B$20000,AB$6,Arquivo!$C$2:$C$20000,AC$6,Arquivo!$D$2:$D$20000,$C13)),0)","v":0},0,0,0,null,null,""]
[null,null,{"$f":"IF('Plano de Contas'!B11=\"\",\"\",'Plano de Contas'!B11)","v":""},null,{"$f":"IF($C14=\"\",\"\",VLOOKUP($C14,'Plano de Contas'!$B$2:$E$200,3,FALSE))","v":""},{"$f":"IFERROR((SUMIFS(Arquivo!$F$2:$F$20000,Arquivo!$B$2:$B$20000,F$6,Arquivo!$C$2:$C$20000,G$6,Arquivo!$D$2:$D$20000,$C14)),0)","v":0},0,{"$f":"IFERROR((SUMIFS(Arquivo!$F$2:$F$20000,Arquivo!$B$2:$B$20000,H$6,Arquivo!$C$2:$C$20000,I$6,Arquivo!$D$2:$D$20000,$C14)),0)","v":0},0,{"$f":"IFERROR((SUMIFS(Arquivo!$F$2:$F$20000,Arquivo!$B$2:$B$20000,J$6,Arquivo!$C$2:$C$20000,K$6,Arquivo!$D$2:$D$20000,$C14)),0)","v":0},0,{"$f":"IFERROR((SUMIFS(Arquivo!$F$2:$F$20000,Arquivo!$B$2:$B$20000,L$6,Arquivo!$C$2:$C$20000,M$6,Arquivo!$D$2:$D$20000,$C14)),0)","v":0},0,{"$f":"IFERROR((SUMIFS(Arquivo!$F$2:$F$20000,Arquivo!$B$2:$B$20000,N$6,Arquivo!$C$2:$C$20000,O$6,Arquivo!$D$2:$D$20000,$C14)),0)","v":0},0,{"$f":"IFERROR((SUMIFS(Arquivo!$F$2:$F$20000,Arquivo!$B$2:$B$20000,P$6,Arquivo!$C$2:$C$20000,Q$6,Arquivo!$D$2:$D$20000,$C14)),0)","v":0},0,{"$f":"IFERROR((SUMIFS(Arquivo!$F$2:$F$20000,Arquivo!$B$2:$B$20000,R$6,Arquivo!$C$2:$C$20000,S$6,Arquivo!$D$2:$D$20000,$C14)),0)","v":0},0,{"$f":"IFERROR((SUMIFS(Arquivo!$F$2:$F$20000,Arquivo!$B$2:$B$20000,T$6,Arquivo!$C$2:$C$20000,U$6,Arquivo!$D$2:$D$20000,$C14)),0)","v":0},0,{"$f":"IFERROR((SUMIFS(Arquivo!$F$2:$F$20000,Arquivo!$B$2:$B$20000,V$6,Arquivo!$C$2:$C$20000,W$6,Arquivo!$D$2:$D$20000,$C14)),0)","v":0},0,{"$f":"IFERROR((SUMIFS(Arquivo!$F$2:$F$20000,Arquivo!$B$2:$B$20000,X$6,Arquivo!$C$2:$C$20000,Y$6,Arquivo!$D$2:$D$20000,$C14)),0)","v":0},0,{"$f":"IFERROR((SUMIFS(Arquivo!$F$2:$F$20000,Arquivo!$B$2:$B$20000,Z$6,Arquivo!$C$2:$C$20000,AA$6,Arquivo!$D$2:$D$20000,$C14)),0)","v":0},0,{"$f":"IFERROR((SUMIFS(Arquivo!$F$2:$F$20000,Arquivo!$B$2:$B$20000,AB$6,Arquivo!$C$2:$C$20000,AC$6,Arquivo!$D$2:$D$20000,$C14)),0)","v":0},0,0,0,null,null,""]
[null,null,{"$f":"IF('Plano de Contas'!B12=\"\",\"\",'Plano de Contas'!B12)","v":""},null,{"$f":"IF($C15=\"\",\"\",VLOOKUP($C15,'Plano de Contas'!$B$2:$E$200,3,FALSE))","v":""},{"$f":"IFERROR((SUMIFS(Arquivo!$F$2:$F$20000,Arquivo!$B$2:$B$20000,F$6,Arquivo!$C$2:$C$20000,G$6,Arquivo!$D$2:$D$20000,$C15)),0)","v":0},0,{"$f":"IFERROR((SUMIFS(Arquivo!$F$2:$F$20000,Arquivo!$B$2:$B$20000,H$6,Arquivo!$C$2:$C$20000,I$6,Arquivo!$D$2:$D$20000,$C15)),0)","v":0},0,{"$f":"IFERROR((SUMIFS(Arquivo!$F$2:$F$20000,Arquivo!$B$2:$B$20000,J$6,Arquivo!$C$2:$C$20000,K$6,Arquivo!$D$2:$D$20000,$C15)),0)","v":0},0,{"$f":"IFERROR((SUMIFS(Arquivo!$F$2:$F$20000,Arquivo!$B$2:$B$20000,L$6,Arquivo!$C$2:$C$20000,M$6,Arquivo!$D$2:$D$20000,$C15)),0)","v":0},0,{"$f":"IFERROR((SUMIFS(Arquivo!$F$2:$F$20000,Arquivo!$B$2:$B$20000,N$6,Arquivo!$C$2:$C$20000,O$6,Arquivo!$D$2:$D$20000,$C15)),0)","v":0},0,{"$f":"IFERROR((SUMIFS(Arquivo!$F$2:$F$20000,Arquivo!$B$2:$B$20000,P$6,Arquivo!$C$2:$C$20000,Q$6,Arquivo!$D$2:$D$20000,$C15)),0)","v":0},0,{"$f":"IFERROR((SUMIFS(Arquivo!$F$2:$F$20000,Arquivo!$B$2:$B$20000,R$6,Arquivo!$C$2:$C$20000,S$6,Arquivo!$D$2:$D$20000,$C15)),0)","v":0},0,{"$f":"IFERROR((SUMIFS(Arquivo!$F$2:$F$20000,Arquivo!$B$2:$B$20000,T$6,Arquivo!$C$2:$C$20000,U$6,Arquivo!$D$2:$D$20000,$C15)),0)","v":0},0,{"$f":"IFERROR((SUMIFS(Arquivo!$F$2:$F$20000,Arquivo!$B$2:$B$20000,V$6,Arquivo!$C$2:$C$20000,W$6,Arquivo!$D$2:$D$20000,$C15)),0)","v":0},0,{"$f":"IFERROR((SUMIFS(Arquivo!$F$2:$F$20000,Arquivo!$B$2:$B$20000,X$6,Arquivo!$C$2:$C$20000,Y$6,Arquivo!$D$2:$D$20000,$C15)),0)","v":0},0,{"$f":"IFERROR((SUMIFS(Arquivo!$F$2:$F$20000,Arquivo!$B$2:$B$20000,Z$6,Arquivo!$C$2:$C$20000,AA$6,Arquivo!$D$2:$D$20000,$C15)),0)","v":0},0,{"$f":"IFERROR((SUMIFS(Arquivo!$F$2:$F$20000,Arquivo!$B$2:$B$20000,AB$6,Arquivo!$C$2:$C$20000,AC$6,Arquivo!$D$2:$D$20000,$C15)),0)","v":0},0,0,0,null,null,""]
[null,null,{"$f":"IF('Plano de Contas'!B13=\"\",\"\",'Plano de Contas'!B13)","v":""},null,{"$f":"IF($C16=\"\",\"\",VLOOKUP($C16,'Plano de Contas'!$B$2:$E$200,3,FALSE))","v":""},{"$f":"IFERROR((SUMIFS(Arquivo!$F$2:$F$20000,Arquivo!$B$2:$B$20000,F$6,Arquivo!$C$2:$C$20000,G$6,Arquivo!$D$2:$D$20000,$C16)),0)","v":0},0,{"$f":"IFERROR((SUMIFS(Arquivo!$F$2:$F$20000,Arquivo!$B$2:$B$20000,H$6,Arquivo!$C$2:$C$20000,I$6,Arquivo!$D$2:$D$20000,$C16)),0)","v":0},0,{"$f":"IFERROR((SUMIFS(Arquivo!$F$2:$F$20000,Arquivo!$B$2:$B$20000,J$6,Arquivo!$C$2:$C$20000,K$6,Arquivo!$D$2:$D$20000,$C16)),0)","v":0},0,{"$f":"IFERROR((SUMIFS(Arquivo!$F$2:$F$20000,Arquivo!$B$2:$B$20000,L$6,Arquivo!$C$2:$C$20000,M$6,Arquivo!$D$2:$D$20000,$C16)),0)","v":0},0,{"$f":"IFERROR((SUMIFS(Arquivo!$F$2:$F$20000,Arquivo!$B$2:$B$20000,N$6,Arquivo!$C$2:$C$20000,O$6,Arquivo!$D$2:$D$20000,$C16)),0)","v":0},0,{"$f":"IFERROR((SUMIFS(Arquivo!$F$2:$F$20000,Arquivo!$B$2:$B$20000,P$6,Arquivo!$C$2:$C$20000,Q$6,Arquivo!$D$2:$D$20000,$C16)),0)","v":0},0,{"$f":"IFERROR((SUMIFS(Arquivo!$F$2:$F$20000,Arquivo!$B$2:$B$20000,R$6,Arquivo!$C$2:$C$20000,S$6,Arquivo!$D$2:$D$20000,$C16)),0)","v":0},0,{"$f":"IFERROR((SUMIFS(Arquivo!$F$2:$F$20000,Arquivo!$B$2:$B$20000,T$6,Arquivo!$C$2:$C$20000,U$6,Arquivo!$D$2:$D$20000,$C16)),0)","v":0},0,{"$f":"IFERROR((SUMIFS(Arquivo!$F$2:$F$20000,Arquivo!$B$2:$B$20000,V$6,Arquivo!$C$2:$C$20000,W$6,Arquivo!$D$2:$D$20000,$C16)),0)","v":0},0,{"$f":"IFERROR((SUMIFS(Arquivo!$F$2:$F$20000,Arquivo!$B$2:$B$20000,X$6,Arquivo!$C$2:$C$20000,Y$6,Arquivo!$D$2:$D$20000,$C16)),0)","v":0},0,{"$f":"IFERROR((SUMIFS(Arquivo!$F$2:$F$20000,Arquivo!$B$2:$B$20000,Z$6,Arquivo!$C$2:$C$20000,AA$6,Arquivo!$D$2:$D$20000,$C16)),0)","v":0},0,{"$f":"IFERROR((SUMIFS(Arquivo!$F$2:$F$20000,Arquivo!$B$2:$B$20000,AB$6,Arquivo!$C$2:$C$20000,AC$6,Arquivo!$D$2:$D$20000,$C16)),0)","v":0},0,0,0,null,null,""]
[null,null,null,null,null,null,null,null,null,null,null,null,null,null,null,null,null,null,null,null,null,null,null,null,null,null,null,null,null,null,null,null,null,{"$f":"IF(AND($X$3=\"CT\",AD10<>0),\"X\",\"\")","v":"X"}]
[null,null,null,"(-) IMPOSTOS E DEDUÇÕES",null,{"$f":"SUBTOTAL(9,F19:F27)","v":3824.64},{"$f":"IFERROR((F18/IF($X$3=\"CT\",F$10,F$18)),0)","v":3.9814004772717147E-3},{"$f":"SUBTOTAL(9,H19:H27)","v":3383.57},{"$f":"IFERROR((H18/IF($X$3=\"CT\",H$10,H$18)),0)","v":4.1186196342653794E-3},{"$f":"SUBTOTAL(9,J19:J27)","v":4533.6099999999997},{"$f":"IFERROR((J18/IF($X$3=\"CT\",J$10,J$18)),0)","v":3.4260727216640203E-3},{"$f":"SUBTOTAL(9,L19:L27)","v":2850.3199999999997},{"$f":"IFERROR((L18/IF($X$3=\"CT\",L$10,L$18)),0)","v":2.8251122298510959E-3},{"$f":"SUBTOTAL(9,N19:N27)","v":1011.06},{"$f":"IFERROR((N18/IF($X$3=\"CT\",N$10,N$18)),0)","v":1.2563550270976343E-3},{"$f":"SUBTOTAL(9,P19:P27)","v":1307.1100000000001},{"$f":"IFERROR((P18/IF($X$3=\"CT\",P$10,P$18)),0)","v":1.4800223422671832E-3},{"$f":"SUBTOTAL(9,R19:R27)","v":964.41000000000008},{"$f":"IFERROR((R18/IF($X$3=\"CT\",R$10,R$18)),0)","v":1.5852960222780769E-3},{"$f":"SUBTOTAL(9,T19:T27)","v":0},{"$f":"IFERROR((T18/IF($X$3=\"CT\",T$10,T$18)),0)","v":0},{"$f":"SUBTOTAL(9,V19:V27)","v":0},{"$f":"IFERROR((V18/IF($X$3=\"CT\",V$10,V$18)),0)","v":0},{"$f":"SUBTOTAL(9,X19:X27)","v":0},{"$f":"IFERROR((X18/IF($X$3=\"CT\",X$10,X$18)),0)","v":0},{"$f":"SUBTOTAL(9,Z19:Z27)","v":0},{"$f":"IFERROR((Z18/IF($X$3=\"CT\",Z$10,Z$18)),0)","v":0},{"$f":"SUBTOTAL(9,AB19:AB27)","v":0},{"$f":"IFERROR((AB18/IF($X$3=\"CT\",AB$10,AB$18)),0)","v":0},{"$f":"SUBTOTAL(9,AD19:AD27)","v":17874.719999999998},{"$f":"IFERROR((AD18/IF($X$3=\"CT\",AD$10,AD$18)),0)","v":2.7882983417078745E-3},null,null,{"$f":"IF(COUNTIF(AH19:AH26,\"X\")>0,\"X\",\"\")","v":"X"}]
[null,null,{"$f":"IF('Plano de Contas'!B15=\"\",\"\",'Plano de Contas'!B15)","v":"4.1.1.1"},{"$f":"IF($C19=\"\",\"\",VLOOKUP($C19,'Plano de Contas'!$B$2:$E$200,4,FALSE))","v":"CV"},{"$f":"IF($C19=\"\",\"\",VLOOKUP($C19,'Plano de Contas'!$B$2:$E$200,3,FALSE))","v":"PIS/COFINS"},{"$f":"IFERROR((SUMIFS(Arquivo!$F$2:$F$20000,Arquivo!$B$2:$B$20000,F$6,Arquivo!$C$2:$C$20000,G$6,Arquivo!$D$2:$D$20000,$C19)),0)","v":452.69},4.712444000104931E-4,{"$f":"IFERROR((SUMIFS(Arquivo!$F$2:$F$20000,Arquivo!$B$2:$B$20000,H$6,Arquivo!$C$2:$C$20000,I$6,Arquivo!$D$2:$D$20000,$C19)),0)","v":538.96},6.5604413033679479E-4,{"$f":"IFERROR((SUMIFS(Arquivo!$F$2:$F$20000,Arquivo!$B$2:$B$20000,J$6,Arquivo!$C$2:$C$20000,K$6,Arquivo!$D$2:$D$20000,$C19)),0)","v":711.18},5.3744243509984716E-4,{"$f":"IFERROR((SUMIFS(Arquivo!$F$2:$F$20000,Arquivo!$B$2:$B$20000,L$6,Arquivo!$C$2:$C$20000,M$6,Arquivo!$D$2:$D$20000,$C19)),0)","v":701.35},6.951473737706876E-4,{"$f":"IFERROR((SUMIFS(Arquivo!$F$2:$F$20000,Arquivo!$B$2:$B$20000,N$6,Arquivo!$C$2:$C$20000,O$6,Arquivo!$D$2:$D$20000,$C19)),0)","v":478.31},5.9435362195227727E-4,{"$f":"IFERROR((SUMIFS(Arquivo!$F$2:$F$20000,Arquivo!$B$2:$B$20000,P$6,Arquivo!$C$2:$C$20000,Q$6,Arquivo!$D$2:$D$20000,$C19)),0)","v":655.77},7.4251918460462442E-4,{"$f":"IFERROR((SUMIFS(Arquivo!$F$2:$F$20000,Arquivo!$B$2:$B$20000,R$6,Arquivo!$C$2:$C$20000,S$6,Arquivo!$D$2:$D$20000,$C19)),0)","v":512.45000000000005},8.4236470652150077E-4,{"$f":"IFERROR((SUMIFS(Arquivo!$F$2:$F$20000,Arquivo!$B$2:$B$20000,T$6,Arquivo!$C$2:$C$20000,U$6,Arquivo!$D$2:$D$20000,$C19)),0)","v":0},0,{"$f":"IFERROR((SUMIFS(Arquivo!$F$2:$F$20000,Arquivo!$B$2:$B$20000,V$6,Arquivo!$C$2:$C$20000,W$6,Arquivo!$D$2:$D$20000,$C19)),0)","v":0},0,{"$f":"IFERROR((SUMIFS(Arquivo!$F$2:$F$20000,Arquivo!$B$2:$B$20000,X$6,Arquivo!$C$2:$C$20000,Y$6,Arquivo!$D$2:$D$20000,$C19)),0)","v":0},0,{"$f":"IFERROR((SUMIFS(Arquivo!$F$2:$F$20000,Arquivo!$B$2:$B$20000,Z$6,Arquivo!$C$2:$C$20000,AA$6,Arquivo!$D$2:$D$20000,$C19)),0)","v":0},0,{"$f":"IFERROR((SUMIFS(Arquivo!$F$2:$F$20000,Arquivo!$B$2:$B$20000,AB$6,Arquivo!$C$2:$C$20000,AC$6,Arquivo!$D$2:$D$20000,$C19)),0)","v":0},0,{"$f":"F19+H19+J19+L19+N19+P19+R19+T19+V19+X19+Z19+AB19","v":4050.71},6.3187495948129578E-4,null,null,{"$f":"IF($AD19=0,\"\",IF($X$3=\"CT\",\"X\",IF($X$3=$D19,\"X\",\"\")))","v":"X"}]
[null,null,{"$f":"IF('Plano de Contas'!B16=\"\",\"\",'Plano de Contas'!B16)","v":"4.1.1.2"},{"$f":"IF($C20=\"\",\"\",VLOOKUP($C20,'Plano de Contas'!$B$2:$E$200,4,FALSE))","v":"CV"},{"$f":"IF($C20=\"\",\"\",VLOOKUP($C20,'Plano de Contas'!$B$2:$E$200,3,FALSE))","v":"OUTROS IMPOSTOS"},{"$f":"IFERROR((SUMIFS(Arquivo!$F$2:$F$20000,Arquivo!$B$2:$B$20000,F$6,Arquivo!$C$2:$C$20000,G$6,Arquivo!$D$2:$D$20000,$C20)),0)","v":3371.95},3.5101560772612212E-3,{"$f":"IFERROR((SUMIFS(Arquivo!$F$2:$F$20000,Arquivo!$B$2:$B$20000,H$6,Arquivo!$C$2:$C$20000,I$6,Arquivo!$D$2:$D$20000,$C20)),0)","v":2844.61},3.462575503928584E-3,{"$f":"IFERROR((SUMIFS(Arquivo!$F$2:$F$20000,Arquivo!$B$2:$B$20000,J$6,Arquivo!$C$2:$C$20000,K$6,Arquivo!$D$2:$D$20000,$C20)),0)","v":3822.43},2.8886302865641731E-3,{"$f":"IFERROR((SUMIFS(Arquivo!$F$2:$F$20000,Arquivo!$B$2:$B$20000,L$6,Arquivo!$C$2:$C$20000,M$6,Arquivo!$D$2:$D$20000,$C20)),0)","v":2148.9699999999998},2.1299648560804082E-3,{"$f":"IFERROR((SUMIFS(Arquivo!$F$2:$F$20000,Arquivo!$B$2:$B$20000,N$6,Arquivo!$C$2:$C$20000,O$6,Arquivo!$D$2:$D$20000,$C20)),0)","v":532.75},6.6200140514535699E-4,{"$f":"IFERROR((SUMIFS(Arquivo!$F$2:$F$20000,Arquivo!$B$2:$B$20000,P$6,Arquivo!$C$2:$C$20000,Q$6,Arquivo!$D$2:$D$20000,$C20)),0)","v":651.34},7.3750315766255871E-4,{"$f":"IFERROR((SUMIFS(Arquivo!$F$2:$F$20000,Arquivo!$B$2:$B$20000,R$6,Arquivo!$C$2:$C$20000,S$6,Arquivo!$D$2:$D$20000,$C20)),0)","v":451.96},7.4293131575657611E-4,{"$f":"IFERROR((SUMIFS(Arquivo!$F$2:$F$20000,Arquivo!$B$2:$B$20000,T$6,Arquivo!$C$2:$C$20000,U$6,Arquivo!$D$2:$D$20000,$C20)),0)","v":0},0,{"$f":"IFERROR((SUMIFS(Arquivo!$F$2:$F$20000,Arquivo!$B$2:$B$20000,V$6,Arquivo!$C$2:$C$20000,W$6,Arquivo!$D$2:$D$20000,$C20)),0)","v":0},0,{"$f":"IFERROR((SUMIFS(Arquivo!$F$2:$F$20000,Arquivo!$B$2:$B$20000,X$6,Arquivo!$C$2:$C$20000,Y$6,Arquivo!$D$2:$D$20000,$C20)),0)","v":0},0,{"$f":"IFERROR((SUMIFS(Arquivo!$F$2:$F$20000,Arquivo!$B$2:$B$20000,Z$6,Arquivo!$C$2:$C$20000,AA$6,Arquivo!$D$2:$D$20000,$C20)),0)","v":0},0,{"$f":"IFERROR((SUMIFS(Arquivo!$F$2:$F$20000,Arquivo!$B$2:$B$20000,AB$6,Arquivo!$C$2:$C$20000,AC$6,Arquivo!$D$2:$D$20000,$C20)),0)","v":0},0,13824.009999999998,2.1564233822265791E-3,null,null,"X"]
[null,null,{"$f":"IF('Plano de Contas'!B17=\"\",\"\",'Plano de Contas'!B17)","v":""},{"$f":"IF($C21=\"\",\"\",VLOOKUP($C21,'Plano de Contas'!$B$2:$E$200,4,FALSE))","v":""},{"$f":"IF($C21=\"\",\"\",VLOOKUP($C21,'Plano de Contas'!$B$2:$E$200,3,FALSE))","v":""},{"$f":"IFERROR((SUMIFS(Arquivo!$F$2:$F$20000,Arquivo!$B$2:$B$20000,F$6,Arquivo!$C$2:$C$20000,G$6,Arquivo!$D$2:$D$20000,$C21)),0)","v":0},0,{"$f":"IFERROR((SUMIFS(Arquivo!$F$2:$F$20000,Arquivo!$B$2:$B$20000,H$6,Arquivo!$C$2:$C$20000,I$6,Arquivo!$D$2:$D$20000,$C21)),0)","v":0},0,{"$f":"IFERROR((SUMIFS(Arquivo!$F$2:$F$20000,Arquivo!$B$2:$B$20000,J$6,Arquivo!$C$2:$C$20000,K$6,Arquivo!$D$2:$D$20000,$C21)),0)","v":0},0,{"$f":"IFERROR((SUMIFS(Arquivo!$F$2:$F$20000,Arquivo!$B$2:$B$20000,L$6,Arquivo!$C$2:$C$20000,M$6,Arquivo!$D$2:$D$20000,$C21)),0)","v":0},0,{"$f":"IFERROR((SUMIFS(Arquivo!$F$2:$F$20000,Arquivo!$B$2:$B$20000,N$6,Arquivo!$C$2:$C$20000,O$6,Arquivo!$D$2:$D$20000,$C21)),0)","v":0},0,{"$f":"IFERROR((SUMIFS(Arquivo!$F$2:$F$20000,Arquivo!$B$2:$B$20000,P$6,Arquivo!$C$2:$C$20000,Q$6,Arquivo!$D$2:$D$20000,$C21)),0)","v":0},0,{"$f":"IFERROR((SUMIFS(Arquivo!$F$2:$F$20000,Arquivo!$B$2:$B$20000,R$6,Arquivo!$C$2:$C$20000,S$6,Arquivo!$D$2:$D$20000,$C21)),0)","v":0},0,{"$f":"IFERROR((SUMIFS(Arquivo!$F$2:$F$20000,Arquivo!$B$2:$B$20000,T$6,Arquivo!$C$2:$C$20000,U$6,Arquivo!$D$2:$D$20000,$C21)),0)","v":0},0,{"$f":"IFERROR((SUMIFS(Arquivo!$F$2:$F$20000,Arquivo!$B$2:$B$20000,V$6,Arquivo!$C$2:$C$20000,W$6,Arquivo!$D$2:$D$20000,$C21)),0)","v":0},0,{"$f":"IFERROR((SUMIFS(Arquivo!$F$2:$F$20000,Arquivo!$B$2:$B$20000,X$6,Arquivo!$C$2:$C$20000,Y$6,Arquivo!$D$2:$D$20000,$C21)),0)","v":0},0,{"$f":"IFERROR((SUMIFS(Arquivo!$F$2:$F$20000,Arquivo!$B$2:$B$20000,Z$6,Arquivo!$C$2:$C$20000,AA$6,Arquivo!$D$2:$D$20000,$C21)),0)","v":0},0,{"$f":"IFERROR((SUMIFS(Arquivo!$F$2:$F$20000,Arquivo!$B$2:$B$20000,AB$6,Arquivo!$C$2:$C$20000,AC$6,Arquivo!$D$2:$D$20000,$C21)),0)","v":0},0,0,0,null,null,""]
[null,null,{"$f":"IF('Plano de Contas'!B18=\"\",\"\",'Plano de Contas'!B18)","v":""},{"$f":"IF($C22=\"\",\"\",VLOOKUP($C22,'Plano de Contas'!$B$2:$E$200,4,FALSE))","v":""},{"$f":"IF($C22=\"\",\"\",VLOOKUP($C22,'Plano de Contas'!$B$2:$E$200,3,FALSE))","v":""},{"$f":"IFERROR((SUMIFS(Arquivo!$F$2:$F$20000,Arquivo!$B$2:$B$20000,F$6,Arquivo!$C$2:$C$20000,G$6,Arquivo!$D$2:$D$20000,$C22)),0)","v":0},0,{"$f":"IFERROR((SUMIFS(Arquivo!$F$2:$F$20000,Arquivo!$B$2:$B$20000,H$6,Arquivo!$C$2:$C$20000,I$6,Arquivo!$D$2:$D$20000,$C22)),0)","v":0},0,{"$f":"IFERROR((SUMIFS(Arquivo!$F$2:$F$20000,Arquivo!$B$2:$B$20000,J$6,Arquivo!$C$2:$C$20000,K$6,Arquivo!$D$2:$D$20000,$C22)),0)","v":0},0,{"$f":"IFERROR((SUMIFS(Arquivo!$F$2:$F$20000,Arquivo!$B$2:$B$20000,L$6,Arquivo!$C$2:$C$20000,M$6,Arquivo!$D$2:$D$20000,$C22)),0)","v":0},0,{"$f":"IFERROR((SUMIFS(Arquivo!$F$2:$F$20000,Arquivo!$B$2:$B$20000,N$6,Arquivo!$C$2:$C$20000,O$6,Arquivo!$D$2:$D$20000,$C22)),0)","v":0},0,{"$f":"IFERROR((SUMIFS(Arquivo!$F$2:$F$20000,Arquivo!$B$2:$B$20000,P$6,Arquivo!$C$2:$C$20000,Q$6,Arquivo!$D$2:$D$20000,$C22)),0)","v":0},0,{"$f":"IFERROR((SUMIFS(Arquivo!$F$2:$F$20000,Arquivo!$B$2:$B$20000,R$6,Arquivo!$C$2:$C$20000,S$6,Arquivo!$D$2:$D$20000,$C22)),0)","v":0},0,{"$f":"IFERROR((SUMIFS(Arquivo!$F$2:$F$20000,Arquivo!$B$2:$B$20000,T$6,Arquivo!$C$2:$C$20000,U$6,Arquivo!$D$2:$D$20000,$C22)),0)","v":0},0,{"$f":"IFERROR((SUMIFS(Arquivo!$F$2:$F$20000,Arquivo!$B$2:$B$20000,V$6,Arquivo!$C$2:$C$20000,W$6,Arquivo!$D$2:$D$20000,$C22)),0)","v":0},0,{"$f":"IFERROR((SUMIFS(Arquivo!$F$2:$F$20000,Arquivo!$B$2:$B$20000,X$6,Arquivo!$C$2:$C$20000,Y$6,Arquivo!$D$2:$D$20000,$C22)),0)","v":0},0,{"$f":"IFERROR((SUMIFS(Arquivo!$F$2:$F$20000,Arquivo!$B$2:$B$20000,Z$6,Arquivo!$C$2:$C$20000,AA$6,Arquivo!$D$2:$D$20000,$C22)),0)","v":0},0,{"$f":"IFERROR((SUMIFS(Arquivo!$F$2:$F$20000,Arquivo!$B$2:$B$20000,AB$6,Arquivo!$C$2:$C$20000,AC$6,Arquivo!$D$2:$D$20000,$C22)),0)","v":0},0,0,0,null,null,""]
[null,null,{"$f":"IF('Plano de Contas'!B19=\"\",\"\",'Plano de Contas'!B19)","v":""},{"$f":"IF($C23=\"\",\"\",VLOOKUP($C23,'Plano de Contas'!$B$2:$E$200,4,FALSE))","v":""},{"$f":"IF($C23=\"\",\"\",VLOOKUP($C23,'Plano de Contas'!$B$2:$E$200,3,FALSE))","v":""},{"$f":"IFERROR((SUMIFS(Arquivo!$F$2:$F$20000,Arquivo!$B$2:$B$20000,F$6,Arquivo!$C$2:$C$20000,G$6,Arquivo!$D$2:$D$20000,$C23)),0)","v":0},0,{"$f":"IFERROR((SUMIFS(Arquivo!$F$2:$F$20000,Arquivo!$B$2:$B$20000,H$6,Arquivo!$C$2:$C$20000,I$6,Arquivo!$D$2:$D$20000,$C23)),0)","v":0},0,{"$f":"IFERROR((SUMIFS(Arquivo!$F$2:$F$20000,Arquivo!$B$2:$B$20000,J$6,Arquivo!$C$2:$C$20000,K$6,Arquivo!$D$2:$D$20000,$C23)),0)","v":0},0,{"$f":"IFERROR((SUMIFS(Arquivo!$F$2:$F$20000,Arquivo!$B$2:$B$20000,L$6,Arquivo!$C$2:$C$20000,M$6,Arquivo!$D$2:$D$20000,$C23)),0)","v":0},0,{"$f":"IFERROR((SUMIFS(Arquivo!$F$2:$F$20000,Arquivo!$B$2:$B$20000,N$6,Arquivo!$C$2:$C$20000,O$6,Arquivo!$D$2:$D$20000,$C23)),0)","v":0},0,{"$f":"IFERROR((SUMIFS(Arquivo!$F$2:$F$20000,Arquivo!$B$2:$B$20000,P$6,Arquivo!$C$2:$C$20000,Q$6,Arquivo!$D$2:$D$20000,$C23)),0)","v":0},0,{"$f":"IFERROR((SUMIFS(Arquivo!$F$2:$F$20000,Arquivo!$B$2:$B$20000,R$6,Arquivo!$C$2:$C$20000,S$6,Arquivo!$D$2:$D$20000,$C23)),0)","v":0},0,{"$f":"IFERROR((SUMIFS(Arquivo!$F$2:$F$20000,Arquivo!$B$2:$B$20000,T$6,Arquivo!$C$2:$C$20000,U$6,Arquivo!$D$2:$D$20000,$C23)),0)","v":0},0,{"$f":"IFERROR((SUMIFS(Arquivo!$F$2:$F$20000,Arquivo!$B$2:$B$20000,V$6,Arquivo!$C$2:$C$20000,W$6,Arquivo!$D$2:$D$20000,$C23)),0)","v":0},0,{"$f":"IFERROR((SUMIFS(Arquivo!$F$2:$F$20000,Arquivo!$B$2:$B$20000,X$6,Arquivo!$C$2:$C$20000,Y$6,Arquivo!$D$2:$D$20000,$C23)),0)","v":0},0,{"$f":"IFERROR((SUMIFS(Arquivo!$F$2:$F$20000,Arquivo!$B$2:$B$20000,Z$6,Arquivo!$C$2:$C$20000,AA$6,Arquivo!$D$2:$D$20000,$C23)),0)","v":0},0,{"$f":"IFERROR((SUMIFS(Arquivo!$F$2:$F$20000,Arquivo!$B$2:$B$20000,AB$6,Arquivo!$C$2:$C$20000,AC$6,Arquivo!$D$2:$D$20000,$C23)),0)","v":0},0,0,0,null,null,""]
[null,null,{"$f":"IF('Plano de Contas'!B20=\"\",\"\",'Plano de Contas'!B20)","v":""},{"$f":"IF($C24=\"\",\"\",VLOOKUP($C24,'Plano de Contas'!$B$2:$E$200,4,FALSE))","v":""},{"$f":"IF($C24=\"\",\"\",VLOOKUP($C24,'Plano de Contas'!$B$2:$E$200,3,FALSE))","v":""},{"$f":"IFERROR((SUMIFS(Arquivo!$F$2:$F$20000,Arquivo!$B$2:$B$20000,F$6,Arquivo!$C$2:$C$20000,G$6,Arquivo!$D$2:$D$20000,$C24)),0)","v":0},0,{"$f":"IFERROR((SUMIFS(Arquivo!$F$2:$F$20000,Arquivo!$B$2:$B$20000,H$6,Arquivo!$C$2:$C$20000,I$6,Arquivo!$D$2:$D$20000,$C24)),0)","v":0},0,{"$f":"IFERROR((SUMIFS(Arquivo!$F$2:$F$20000,Arquivo!$B$2:$B$20000,J$6,Arquivo!$C$2:$C$20000,K$6,Arquivo!$D$2:$D$20000,$C24)),0)","v":0},0,{"$f":"IFERROR((SUMIFS(Arquivo!$F$2:$F$20000,Arquivo!$B$2:$B$20000,L$6,Arquivo!$C$2:$C$20000,M$6,Arquivo!$D$2:$D$20000,$C24)),0)","v":0},0,{"$f":"IFERROR((SUMIFS(Arquivo!$F$2:$F$20000,Arquivo!$B$2:$B$20000,N$6,Arquivo!$C$2:$C$20000,O$6,Arquivo!$D$2:$D$20000,$C24)),0)","v":0},0,{"$f":"IFERROR((SUMIFS(Arquivo!$F$2:$F$20000,Arquivo!$B$2:$B$20000,P$6,Arquivo!$C$2:$C$20000,Q$6,Arquivo!$D$2:$D$20000,$C24)),0)","v":0},0,{"$f":"IFERROR((SUMIFS(Arquivo!$F$2:$F$20000,Arquivo!$B$2:$B$20000,R$6,Arquivo!$C$2:$C$20000,S$6,Arquivo!$D$2:$D$20000,$C24)),0)","v":0},0,{"$f":"IFERROR((SUMIFS(Arquivo!$F$2:$F$20000,Arquivo!$B$2:$B$20000,T$6,Arquivo!$C$2:$C$20000,U$6,Arquivo!$D$2:$D$20000,$C24)),0)","v":0},0,{"$f":"IFERROR((SUMIFS(Arquivo!$F$2:$F$20000,Arquivo!$B$2:$B$20000,V$6,Arquivo!$C$2:$C$20000,W$6,Arquivo!$D$2:$D$20000,$C24)),0)","v":0},0,{"$f":"IFERROR((SUMIFS(Arquivo!$F$2:$F$20000,Arquivo!$B$2:$B$20000,X$6,Arquivo!$C$2:$C$20000,Y$6,Arquivo!$D$2:$D$20000,$C24)),0)","v":0},0,{"$f":"IFERROR((SUMIFS(Arquivo!$F$2:$F$20000,Arquivo!$B$2:$B$20000,Z$6,Arquivo!$C$2:$C$20000,AA$6,Arquivo!$D$2:$D$20000,$C24)),0)","v":0},0,{"$f":"IFERROR((SUMIFS(Arquivo!$F$2:$F$20000,Arquivo!$B$2:$B$20000,AB$6,Arquivo!$C$2:$C$20000,AC$6,Arquivo!$D$2:$D$20000,$C24)),0)","v":0},0,0,0,null,null,""]
[null,null,{"$f":"IF('Plano de Contas'!B21=\"\",\"\",'Plano de Contas'!B21)","v":""},{"$f":"IF($C25=\"\",\"\",VLOOKUP($C25,'Plano de Contas'!$B$2:$E$200,4,FALSE))","v":""},{"$f":"IF($C25=\"\",\"\",VLOOKUP($C25,'Plano de Contas'!$B$2:$E$200,3,FALSE))","v":""},{"$f":"IFERROR((SUMIFS(Arquivo!$F$2:$F$20000,Arquivo!$B$2:$B$20000,F$6,Arquivo!$C$2:$C$20000,G$6,Arquivo!$D$2:$D$20000,$C25)),0)","v":0},0,{"$f":"IFERROR((SUMIFS(Arquivo!$F$2:$F$20000,Arquivo!$B$2:$B$20000,H$6,Arquivo!$C$2:$C$20000,I$6,Arquivo!$D$2:$D$20000,$C25)),0)","v":0},0,{"$f":"IFERROR((SUMIFS(Arquivo!$F$2:$F$20000,Arquivo!$B$2:$B$20000,J$6,Arquivo!$C$2:$C$20000,K$6,Arquivo!$D$2:$D$20000,$C25)),0)","v":0},0,{"$f":"IFERROR((SUMIFS(Arquivo!$F$2:$F$20000,Arquivo!$B$2:$B$20000,L$6,Arquivo!$C$2:$C$20000,M$6,Arquivo!$D$2:$D$20000,$C25)),0)","v":0},0,{"$f":"IFERROR((SUMIFS(Arquivo!$F$2:$F$20000,Arquivo!$B$2:$B$20000,N$6,Arquivo!$C$2:$C$20000,O$6,Arquivo!$D$2:$D$20000,$C25)),0)","v":0},0,{"$f":"IFERROR((SUMIFS(Arquivo!$F$2:$F$20000,Arquivo!$B$2:$B$20000,P$6,Arquivo!$C$2:$C$20000,Q$6,Arquivo!$D$2:$D$20000,$C25)),0)","v":0},0,{"$f":"IFERROR((SUMIFS(Arquivo!$F$2:$F$20000,Arquivo!$B$2:$B$20000,R$6,Arquivo!$C$2:$C$20000,S$6,Arquivo!$D$2:$D$20000,$C25)),0)","v":0},0,{"$f":"IFERROR((SUMIFS(Arquivo!$F$2:$F$20000,Arquivo!$B$2:$B$20000,T$6,Arquivo!$C$2:$C$20000,U$6,Arquivo!$D$2:$D$20000,$C25)),0)","v":0},0,{"$f":"IFERROR((SUMIFS(Arquivo!$F$2:$F$20000,Arquivo!$B$2:$B$20000,V$6,Arquivo!$C$2:$C$20000,W$6,Arquivo!$D$2:$D$20000,$C25)),0)","v":0},0,{"$f":"IFERROR((SUMIFS(Arquivo!$F$2:$F$20000,Arquivo!$B$2:$B$20000,X$6,Arquivo!$C$2:$C$20000,Y$6,Arquivo!$D$2:$D$20000,$C25)),0)","v":0},0,{"$f":"IFERROR((SUMIFS(Arquivo!$F$2:$F$20000,Arquivo!$B$2:$B$20000,Z$6,Arquivo!$C$2:$C$20000,AA$6,Arquivo!$D$2:$D$20000,$C25)),0)","v":0},0,{"$f":"IFERROR((SUMIFS(Arquivo!$F$2:$F$20000,Arquivo!$B$2:$B$20000,AB$6,Arquivo!$C$2:$C$20000,AC$6,Arquivo!$D$2:$D$20000,$C25)),0)","v":0},0,0,0,null,null,""]
[null,null,{"$f":"IF('Plano de Contas'!B22=\"\",\"\",'Plano de Contas'!B22)","v":""},{"$f":"IF($C26=\"\",\"\",VLOOKUP($C26,'Plano de Contas'!$B$2:$E$200,4,FALSE))","v":""},{"$f":"IF($C26=\"\",\"\",VLOOKUP($C26,'Plano de Contas'!$B$2:$E$200,3,FALSE))","v":""},{"$f":"IFERROR((SUMIFS(Arquivo!$F$2:$F$20000,Arquivo!$B$2:$B$20000,F$6,Arquivo!$C$2:$C$20000,G$6,Arquivo!$D$2:$D$20000,$C26)),0)","v":0},0,{"$f":"IFERROR((SUMIFS(Arquivo!$F$2:$F$20000,Arquivo!$B$2:$B$20000,H$6,Arquivo!$C$2:$C$20000,I$6,Arquivo!$D$2:$D$20000,$C26)),0)","v":0},0,{"$f":"IFERROR((SUMIFS(Arquivo!$F$2:$F$20000,Arquivo!$B$2:$B$20000,J$6,Arquivo!$C$2:$C$20000,K$6,Arquivo!$D$2:$D$20000,$C26)),0)","v":0},0,{"$f":"IFERROR((SUMIFS(Arquivo!$F$2:$F$20000,Arquivo!$B$2:$B$20000,L$6,Arquivo!$C$2:$C$20000,M$6,Arquivo!$D$2:$D$20000,$C26)),0)","v":0},0,{"$f":"IFERROR((SUMIFS(Arquivo!$F$2:$F$20000,Arquivo!$B$2:$B$20000,N$6,Arquivo!$C$2:$C$20000,O$6,Arquivo!$D$2:$D$20000,$C26)),0)","v":0},0,{"$f":"IFERROR((SUMIFS(Arquivo!$F$2:$F$20000,Arquivo!$B$2:$B$20000,P$6,Arquivo!$C$2:$C$20000,Q$6,Arquivo!$D$2:$D$20000,$C26)),0)","v":0},0,{"$f":"IFERROR((SUMIFS(Arquivo!$F$2:$F$20000,Arquivo!$B$2:$B$20000,R$6,Arquivo!$C$2:$C$20000,S$6,Arquivo!$D$2:$D$20000,$C26)),0)","v":0},0,{"$f":"IFERROR((SUMIFS(Arquivo!$F$2:$F$20000,Arquivo!$B$2:$B$20000,T$6,Arquivo!$C$2:$C$20000,U$6,Arquivo!$D$2:$D$20000,$C26)),0)","v":0},0,{"$f":"IFERROR((SUMIFS(Arquivo!$F$2:$F$20000,Arquivo!$B$2:$B$20000,V$6,Arquivo!$C$2:$C$20000,W$6,Arquivo!$D$2:$D$20000,$C26)),0)","v":0},0,{"$f":"IFERROR((SUMIFS(Arquivo!$F$2:$F$20000,Arquivo!$B$2:$B$20000,X$6,Arquivo!$C$2:$C$20000,Y$6,Arquivo!$D$2:$D$20000,$C26)),0)","v":0},0,{"$f":"IFERROR((SUMIFS(Arquivo!$F$2:$F$20000,Arquivo!$B$2:$B$20000,Z$6,Arquivo!$C$2:$C$20000,AA$6,Arquivo!$D$2:$D$20000,$C26)),0)","v":0},0,{"$f":"IFERROR((SUMIFS(Arquivo!$F$2:$F$20000,Arquivo!$B$2:$B$20000,AB$6,Arquivo!$C$2:$C$20000,AC$6,Arquivo!$D$2:$D$20000,$C26)),0)","v":0},0,0,0,null,null,""]
[null,null,null,null,"",null,null,null,null,null,null,null,null,null,null,null,null,null,null,null,null,null,null,null,null,null,null,null,null,null,null,null,null,{"$f":"IF(AH18=\"\",\"\",\"X\")","v":"X"}]
[null,null,null,"(=) RECEITA OPERACIONAL LÍQUIDA",null,{"$f":"F10-F18","v":956802.16},{"$f":"IFERROR((F28/F$10),0)","v":0.99601859952272831},{"$f":"H10-H18","v":818146.53},{"$f":"IFERROR((H28/H$10),0)","v":0.9958813803657347},{"$f":"J10-J18","v":1318733.69},{"$f":"IFERROR((J28/J$10),0)","v":0.99657392727833594},{"$f":"L10-L18","v":1006072.43},{"$f":"IFERROR((L28/L$10),0)","v":0.99717488777014895},{"$f":"N10-N18","v":803745.53999999992},{"$f":"IFERROR((N28/N$10),0)","v":0.99874364497290224},{"$f":"P10-P18","v":881861.99},{"$f":"IFERROR((P28/P$10),0)","v":0.99851997765773282},{"$f":"R10-R18","v":607382.53999999992},{"$f":"IFERROR((R28/R$10),0)","v":0.99841470397772192},{"$f":"T10-T18","v":0},{"$f":"IFERROR((T28/T$10),0)","v":0},{"$f":"V10-V18","v":0},{"$f":"IFERROR((V28/V$10),0)","v":0},{"$f":"X10-X18","v":0},{"$f":"IFERROR((X28/X$10),0)","v":0},{"$f":"Z10-Z18","v":0},{"$f":"IFERROR((Z28/Z$10),0)","v":0},{"$f":"AB10-AB18","v":0},{"$f":"IFERROR((AB28/AB$10),0)","v":0},{"$f":"AD10-AD18","v":6392744.8799999999},{"$f":"IFERROR((AD28/AD$10),0)","v":0.9972117016582922},null,null,{"$f":"IF(AND($X$3=\"CT\",AD28<>0),\"X\",\"\")","v":"X"}]
[null,null,null,null,null,null,null,null,null,null,null,null,null,null,null,null,null,null,null,null,null,null,null,null,null,null,null,null,null,null,null,null,null,{"$f":"IF(AH28=\"\",\"\",\"X\")","v":"X"}]
[null,null,null,"(-) CMV - CUSTO MERCADORIA VENDIDA",null,{"$f":"SUBTOTAL(9,F31:F40)","v":862188.61},{"$f":"IFERROR((F30/IF($X$3=\"CT\",F$10,F$30)),0)","v":0.89752712499797005},{"$f":"SUBTOTAL(9,H31:H40)","v":710927.49},{"$f":"IFERROR((H30/IF($X$3=\"CT\",H$10,H$30)),0)","v":0.86536998461772729},{"$f":"SUBTOTAL(9,J31:J40)","v":1156128.98},{"$f":"IFERROR((J30/IF($X$3=\"CT\",J$10,J$30)),0)","v":0.87369269988006193},{"$f":"SUBTOTAL(9,L31:L40)","v":867035.76},{"$f":"IFERROR((L30/IF($X$3=\"CT\",L$10,L$30)),0)","v":0.85936783564450303},{"$f":"SUBTOTAL(9,N31:N40)","v":703346.2},{"$f":"IFERROR((N30/IF($X$3=\"CT\",N$10,N$30)),0)","v":0.87398624627620325},{"$f":"SUBTOTAL(9,P31:P40)","v":717600},{"$f":"IFERROR((P30/IF($X$3=\"CT\",P$10,P$30)),0)","v":0.81252842745517251},{"$f":"SUBTOTAL(9,R31:R40)","v":444274.46},{"$f":"IFERROR((R30/IF($X$3=\"CT\",R$10,R$30)),0)","v":0.73029783415532867},{"$f":"SUBTOTAL(9,T31:T40)","v":0},{"$f":"IFERROR((T30/IF($X$3=\"CT\",T$10,T$30)),0)","v":0},{"$f":"SUBTOTAL(9,V31:V40)","v":0},{"$f":"IFERROR((V30/IF($X$3=\"CT\",V$10,V$30)),0)","v":0},{"$f":"SUBTOTAL(9,X31:X40)","v":0},{"$f":"IFERROR((X30/IF($X$3=\"CT\",X$10,X$30)),0)","v":0},{"$f":"SUBTOTAL(9,Z31:Z40)","v":0},{"$f":"IFERROR((Z30/IF($X$3=\"CT\",Z$10,Z$30)),0)","v":0},{"$f":"SUBTOTAL(9,AB31:AB40)","v":0},{"$f":"IFERROR((AB30/IF($X$3=\"CT\",AB$10,AB$30)),0)","v":0},{"$f":"SUBTOTAL(9,AD31:AD40)","v":5461501.5},{"$f":"IFERROR((AD30/IF($X$3=\"CT\",AD$10,AD$30)),0)","v":0.85194596478630558},null,null,{"$f":"IF(COUNTIF(AH31:AH39,\"X\")>0,\"X\",\"\")","v":"X"}]
[null,null,{"$f":"IF('Plano de Contas'!B24=\"\",\"\",'Plano de Contas'!B24)","v":"2.1.1.1"},{"$f":"IF($C31=\"\",\"\",VLOOKUP($C31,'Plano de Contas'!$B$2:$E$200,4,FALSE))","v":"CV"},{"$f":"IF($C31=\"\",\"\",VLOOKUP($C31,'Plano de Contas'!$B$2:$E$200,3,FALSE))","v":"(CUST12) CUSTO DOS PRODUTOS VENDIDOS"},{"$f":"IFERROR((SUMIFS(Arquivo!$F$2:$F$20000,Arquivo!$B$2:$B$20000,F$6,Arquivo!$C$2:$C$20000,G$6,Arquivo!$D$2:$D$20000,$C31)),0)","v":831805.22},0.86589841132893641,{"$f":"IFERROR((SUMIFS(Arquivo!$F$2:$F$20000,Arquivo!$B$2:$B$20000,H$6,Arquivo!$C$2:$C$20000,I$6,Arquivo!$D$2:$D$20000,$C31)),0)","v":681415.88},0.82944724727675834,{"$f":"IFERROR((SUMIFS(Arquivo!$F$2:$F$20000,Arquivo!$B$2:$B$20000,J$6,Arquivo!$C$2:$C$20000,K$6,Arquivo!$D$2:$D$20000,$C31)),0)","v":1114412.7},0.84216748951629039,{"$f":"IFERROR((SUMIFS(Arquivo!$F$2:$F$20000,Arquivo!$B$2:$B$20000,L$6,Arquivo!$C$2:$C$20000,M$6,Arquivo!$D$2:$D$20000,$C31)),0)","v":831438.8},0.82408568941477434,{"$f":"IFERROR((SUMIFS(Arquivo!$F$2:$F$20000,Arquivo!$B$2:$B$20000,N$6,Arquivo!$C$2:$C$20000,O$6,Arquivo!$D$2:$D$20000,$C31)),0)","v":674216},0.83778871773154773,{"$f":"IFERROR((SUMIFS(Arquivo!$F$2:$F$20000,Arquivo!$B$2:$B$20000,P$6,Arquivo!$C$2:$C$20000,Q$6,Arquivo!$D$2:$D$20000,$C31)),0)","v":683704},0.77414846148942484,{"$f":"IFERROR((SUMIFS(Arquivo!$F$2:$F$20000,Arquivo!$B$2:$B$20000,R$6,Arquivo!$C$2:$C$20000,S$6,Arquivo!$D$2:$D$20000,$C31)),0)","v":411915.2},0.67710572067469077,{"$f":"IFERROR((SUMIFS(Arquivo!$F$2:$F$20000,Arquivo!$B$2:$B$20000,T$6,Arquivo!$C$2:$C$20000,U$6,Arquivo!$D$2:$D$20000,$C31)),0)","v":0},0,{"$f":"IFERROR((SUMIFS(Arquivo!$F$2:$F$20000,Arquivo!$B$2:$B$20000,V$6,Arquivo!$C$2:$C$20000,W$6,Arquivo!$D$2:$D$20000,$C31)),0)","v":0},0,{"$f":"IFERROR((SUMIFS(Arquivo!$F$2:$F$20000,Arquivo!$B$2:$B$20000,X$6,Arquivo!$C$2:$C$20000,Y$6,Arquivo!$D$2:$D$20000,$C31)),0)","v":0},0,{"$f":"IFERROR((SUMIFS(Arquivo!$F$2:$F$20000,Arquivo!$B$2:$B$20000,Z$6,Arquivo!$C$2:$C$20000,AA$6,Arquivo!$D$2:$D$20000,$C31)),0)","v":0},0,{"$f":"IFERROR((SUMIFS(Arquivo!$F$2:$F$20000,Arquivo!$B$2:$B$20000,AB$6,Arquivo!$C$2:$C$20000,AC$6,Arquivo!$D$2:$D$20000,$C31)),0)","v":0},0,{"$f":"F31+H31+J31+L31+N31+P31+R31+T31+V31+X31+Z31+AB31","v":5228907.8},0.81566340326916298,null,null,{"$f":"IF($AD31=0,\"\",IF($X$3=\"CT\",\"X\",IF($X$3=$D31,\"X\",\"\")))","v":"X"}]
[null,null,{"$f":"IF('Plano de Contas'!B25=\"\",\"\",'Plano de Contas'!B25)","v":"6.1.1.1"},{"$f":"IF($C32=\"\",\"\",VLOOKUP($C32,'Plano de Contas'!$B$2:$E$200,4,FALSE))","v":"CV"},{"$f":"IF($C32=\"\",\"\",VLOOKUP($C32,'Plano de Contas'!$B$2:$E$200,3,FALSE))","v":"OUTROS CUSTOS DIRETOS"},{"$f":"IFERROR((SUMIFS(Arquivo!$F$2:$F$20000,Arquivo!$B$2:$B$20000,F$6,Arquivo!$C$2:$C$20000,G$6,Arquivo!$D$2:$D$20000,$C32)),0)","v":0},0,{"$f":"IFERROR((SUMIFS(Arquivo!$F$2:$F$20000,Arquivo!$B$2:$B$20000,H$6,Arquivo!$C$2:$C$20000,I$6,Arquivo!$D$2:$D$20000,$C32)),0)","v":0},0,{"$f":"IFERROR((SUMIFS(Arquivo!$F$2:$F$20000,Arquivo!$B$2:$B$20000,J$6,Arquivo!$C$2:$C$20000,K$6,Arquivo!$D$2:$D$20000,$C32)),0)","v":0},0,{"$f":"IFERROR((SUMIFS(Arquivo!$F$2:$F$20000,Arquivo!$B$2:$B$20000,L$6,Arquivo!$C$2:$C$20000,M$6,Arquivo!$D$2:$D$20000,$C32)),0)","v":0},0,{"$f":"IFERROR((SUMIFS(Arquivo!$F$2:$F$20000,Arquivo!$B$2:$B$20000,N$6,Arquivo!$C$2:$C$20000,O$6,Arquivo!$D$2:$D$20000,$C32)),0)","v":0},0,{"$f":"IFERROR((SUMIFS(Arquivo!$F$2:$F$20000,Arquivo!$B$2:$B$20000,P$6,Arquivo!$C$2:$C$20000,Q$6,Arquivo!$D$2:$D$20000,$C32)),0)","v":0},0,{"$f":"IFERROR((SUMIFS(Arquivo!$F$2:$F$20000,Arquivo!$B$2:$B$20000,R$6,Arquivo!$C$2:$C$20000,S$6,Arquivo!$D$2:$D$20000,$C32)),0)","v":0},0,{"$f":"IFERROR((SUMIFS(Arquivo!$F$2:$F$20000,Arquivo!$B$2:$B$20000,T$6,Arquivo!$C$2:$C$20000,U$6,Arquivo!$D$2:$D$20000,$C32)),0)","v":0},0,{"$f":"IFERROR((SUMIFS(Arquivo!$F$2:$F$20000,Arquivo!$B$2:$B$20000,V$6,Arquivo!$C$2:$C$20000,W$6,Arquivo!$D$2:$D$20000,$C32)),0)","v":0},0,{"$f":"IFERROR((SUMIFS(Arquivo!$F$2:$F$20000,Arquivo!$B$2:$B$20000,X$6,Arquivo!$C$2:$C$20000,Y$6,Arquivo!$D$2:$D$20000,$C32)),0)","v":0},0,{"$f":"IFERROR((SUMIFS(Arquivo!$F$2:$F$20000,Arquivo!$B$2:$B$20000,Z$6,Arquivo!$C$2:$C$20000,AA$6,Arquivo!$D$2:$D$20000,$C32)),0)","v":0},0,{"$f":"IFERROR((SUMIFS(Arquivo!$F$2:$F$20000,Arquivo!$B$2:$B$20000,AB$6,Arquivo!$C$2:$C$20000,AC$6,Arquivo!$D$2:$D$20000,$C32)),0)","v":0},0,0,0,null,null,""]
[null,null,{"$f":"IF('Plano de Contas'!B26=\"\",\"\",'Plano de Contas'!B26)","v":"6.1.1.2"},{"$f":"IF($C33=\"\",\"\",VLOOKUP($C33,'Plano de Contas'!$B$2:$E$200,4,FALSE))","v":"CV"},{"$f":"IF($C33=\"\",\"\",VLOOKUP($C33,'Plano de Contas'!$B$2:$E$200,3,FALSE))","v":"CUSTO COM EMBALAGENS"},{"$f":"IFERROR((SUMIFS(Arquivo!$F$2:$F$20000,Arquivo!$B$2:$B$20000,F$6,Arquivo!$C$2:$C$20000,G$6,Arquivo!$D$2:$D$20000,$C33)),0)","v":30383.39},3.1628713669033588E-2,{"$f":"IFERROR((SUMIFS(Arquivo!$F$2:$F$20000,Arquivo!$B$2:$B$20000,H$6,Arquivo!$C$2:$C$20000,I$6,Arquivo!$D$2:$D$20000,$C33)),0)","v":29511.61},3.5922737340969006E-2,{"$f":"IFERROR((SUMIFS(Arquivo!$F$2:$F$20000,Arquivo!$B$2:$B$20000,J$6,Arquivo!$C$2:$C$20000,K$6,Arquivo!$D$2:$D$20000,$C33)),0)","v":41716.28},3.1525210363771553E-2,{"$f":"IFERROR((SUMIFS(Arquivo!$F$2:$F$20000,Arquivo!$B$2:$B$20000,L$6,Arquivo!$C$2:$C$20000,M$6,Arquivo!$D$2:$D$20000,$C33)),0)","v":35596.959999999999},3.5282146229728688E-2,{"$f":"IFERROR((SUMIFS(Arquivo!$F$2:$F$20000,Arquivo!$B$2:$B$20000,N$6,Arquivo!$C$2:$C$20000,O$6,Arquivo!$D$2:$D$20000,$C33)),0)","v":29130.2},3.6197528544655619E-2,{"$f":"IFERROR((SUMIFS(Arquivo!$F$2:$F$20000,Arquivo!$B$2:$B$20000,P$6,Arquivo!$C$2:$C$20000,Q$6,Arquivo!$D$2:$D$20000,$C33)),0)","v":33896},3.8379965965747671E-2,{"$f":"IFERROR((SUMIFS(Arquivo!$F$2:$F$20000,Arquivo!$B$2:$B$20000,R$6,Arquivo!$C$2:$C$20000,S$6,Arquivo!$D$2:$D$20000,$C33)),0)","v":32359.26},5.319211348063798E-2,{"$f":"IFERROR((SUMIFS(Arquivo!$F$2:$F$20000,Arquivo!$B$2:$B$20000,T$6,Arquivo!$C$2:$C$20000,U$6,Arquivo!$D$2:$D$20000,$C33)),0)","v":0},0,{"$f":"IFERROR((SUMIFS(Arquivo!$F$2:$F$20000,Arquivo!$B$2:$B$20000,V$6,Arquivo!$C$2:$C$20000,W$6,Arquivo!$D$2:$D$20000,$C33)),0)","v":0},0,{"$f":"IFERROR((SUMIFS(Arquivo!$F$2:$F$20000,Arquivo!$B$2:$B$20000,X$6,Arquivo!$C$2:$C$20000,Y$6,Arquivo!$D$2:$D$20000,$C33)),0)","v":0},0,{"$f":"IFERROR((SUMIFS(Arquivo!$F$2:$F$20000,Arquivo!$B$2:$B$20000,Z$6,Arquivo!$C$2:$C$20000,AA$6,Arquivo!$D$2:$D$20000,$C33)),0)","v":0},0,{"$f":"IFERROR((SUMIFS(Arquivo!$F$2:$F$20000,Arquivo!$B$2:$B$20000,AB$6,Arquivo!$C$2:$C$20000,AC$6,Arquivo!$D$2:$D$20000,$C33)),0)","v":0},0,232593.7,3.6282561517142591E-2,null,null,"X"]
[null,null,{"$f":"IF('Plano de Contas'!B27=\"\",\"\",'Plano de Contas'!B27)","v":"6.1.1.4"},{"$f":"IF($C34=\"\",\"\",VLOOKUP($C34,'Plano de Contas'!$B$2:$E$200,4,FALSE))","v":"CV"},{"$f":"IF($C34=\"\",\"\",VLOOKUP($C34,'Plano de Contas'!$B$2:$E$200,3,FALSE))","v":"OUTROS CUSTOS COM EMBALAGEM"},{"$f":"IFERROR((SUMIFS(Arquivo!$F$2:$F$20000,Arquivo!$B$2:$B$20000,F$6,Arquivo!$C$2:$C$20000,G$6,Arquivo!$D$2:$D$20000,$C34)),0)","v":0},0,{"$f":"IFERROR((SUMIFS(Arquivo!$F$2:$F$20000,Arquivo!$B$2:$B$20000,H$6,Arquivo!$C$2:$C$20000,I$6,Arquivo!$D$2:$D$20000,$C34)),0)","v":0},0,{"$f":"IFERROR((SUMIFS(Arquivo!$F$2:$F$20000,Arquivo!$B$2:$B$20000,J$6,Arquivo!$C$2:$C$20000,K$6,Arquivo!$D$2:$D$20000,$C34)),0)","v":0},0,{"$f":"IFERROR((SUMIFS(Arquivo!$F$2:$F$20000,Arquivo!$B$2:$B$20000,L$6,Arquivo!$C$2:$C$20000,M$6,Arquivo!$D$2:$D$20000,$C34)),0)","v":0},0,{"$f":"IFERROR((SUMIFS(Arquivo!$F$2:$F$20000,Arquivo!$B$2:$B$20000,N$6,Arquivo!$C$2:$C$20000,O$6,Arquivo!$D$2:$D$20000,$C34)),0)","v":0},0,{"$f":"IFERROR((SUMIFS(Arquivo!$F$2:$F$20000,Arquivo!$B$2:$B$20000,P$6,Arquivo!$C$2:$C$20000,Q$6,Arquivo!$D$2:$D$20000,$C34)),0)","v":0},0,{"$f":"IFERROR((SUMIFS(Arquivo!$F$2:$F$20000,Arquivo!$B$2:$B$20000,R$6,Arquivo!$C$2:$C$20000,S$6,Arquivo!$D$2:$D$20000,$C34)),0)","v":0},0,{"$f":"IFERROR((SUMIFS(Arquivo!$F$2:$F$20000,Arquivo!$B$2:$B$20000,T$6,Arquivo!$C$2:$C$20000,U$6,Arquivo!$D$2:$D$20000,$C34)),0)","v":0},0,{"$f":"IFERROR((SUMIFS(Arquivo!$F$2:$F$20000,Arquivo!$B$2:$B$20000,V$6,Arquivo!$C$2:$C$20000,W$6,Arquivo!$D$2:$D$20000,$C34)),0)","v":0},0,{"$f":"IFERROR((SUMIFS(Arquivo!$F$2:$F$20000,Arquivo!$B$2:$B$20000,X$6,Arquivo!$C$2:$C$20000,Y$6,Arquivo!$D$2:$D$20000,$C34)),0)","v":0},0,{"$f":"IFERROR((SUMIFS(Arquivo!$F$2:$F$20000,Arquivo!$B$2:$B$20000,Z$6,Arquivo!$C$2:$C$20000,AA$6,Arquivo!$D$2:$D$20000,$C34)),0)","v":0},0,{"$f":"IFERROR((SUMIFS(Arquivo!$F$2:$F$20000,Arquivo!$B$2:$B$20000,AB$6,Arquivo!$C$2:$C$20000,AC$6,Arquivo!$D$2:$D$20000,$C34)),0)","v":0},0,0,0,null,null,""]
[null,null,{"$f":"IF('Plano de Contas'!B28=\"\",\"\",'Plano de Contas'!B28)","v":""},{"$f":"IF($C35=\"\",\"\",VLOOKUP($C35,'Plano de Contas'!$B$2:$E$200,4,FALSE))","v":""},{"$f":"IF($C35=\"\",\"\",VLOOKUP($C35,'Plano de Contas'!$B$2:$E$200,3,FALSE))","v":""},{"$f":"IFERROR((SUMIFS(Arquivo!$F$2:$F$20000,Arquivo!$B$2:$B$20000,F$6,Arquivo!$C$2:$C$20000,G$6,Arquivo!$D$2:$D$20000,$C35)),0)","v":0},0,{"$f":"IFERROR((SUMIFS(Arquivo!$F$2:$F$20000,Arquivo!$B$2:$B$20000,H$6,Arquivo!$C$2:$C$20000,I$6,Arquivo!$D$2:$D$20000,$C35)),0)","v":0},0,{"$f":"IFERROR((SUMIFS(Arquivo!$F$2:$F$20000,Arquivo!$B$2:$B$20000,J$6,Arquivo!$C$2:$C$20000,K$6,Arquivo!$D$2:$D$20000,$C35)),0)","v":0},0,{"$f":"IFERROR((SUMIFS(Arquivo!$F$2:$F$20000,Arquivo!$B$2:$B$20000,L$6,Arquivo!$C$2:$C$20000,M$6,Arquivo!$D$2:$D$20000,$C35)),0)","v":0},0,{"$f":"IFERROR((SUMIFS(Arquivo!$F$2:$F$20000,Arquivo!$B$2:$B$20000,N$6,Arquivo!$C$2:$C$20000,O$6,Arquivo!$D$2:$D$20000,$C35)),0)","v":0},0,{"$f":"IFERROR((SUMIFS(Arquivo!$F$2:$F$20000,Arquivo!$B$2:$B$20000,P$6,Arquivo!$C$2:$C$20000,Q$6,Arquivo!$D$2:$D$20000,$C35)),0)","v":0},0,{"$f":"IFERROR((SUMIFS(Arquivo!$F$2:$F$20000,Arquivo!$B$2:$B$20000,R$6,Arquivo!$C$2:$C$20000,S$6,Arquivo!$D$2:$D$20000,$C35)),0)","v":0},0,{"$f":"IFERROR((SUMIFS(Arquivo!$F$2:$F$20000,Arquivo!$B$2:$B$20000,T$6,Arquivo!$C$2:$C$20000,U$6,Arquivo!$D$2:$D$20000,$C35)),0)","v":0},0,{"$f":"IFERROR((SUMIFS(Arquivo!$F$2:$F$20000,Arquivo!$B$2:$B$20000,V$6,Arquivo!$C$2:$C$20000,W$6,Arquivo!$D$2:$D$20000,$C35)),0)","v":0},0,{"$f":"IFERROR((SUMIFS(Arquivo!$F$2:$F$20000,Arquivo!$B$2:$B$20000,X$6,Arquivo!$C$2:$C$20000,Y$6,Arquivo!$D$2:$D$20000,$C35)),0)","v":0},0,{"$f":"IFERROR((SUMIFS(Arquivo!$F$2:$F$20000,Arquivo!$B$2:$B$20000,Z$6,Arquivo!$C$2:$C$20000,AA$6,Arquivo!$D$2:$D$20000,$C35)),0)","v":0},0,{"$f":"IFERROR((SUMIFS(Arquivo!$F$2:$F$20000,Arquivo!$B$2:$B$20000,AB$6,Arquivo!$C$2:$C$20000,AC$6,Arquivo!$D$2:$D$20000,$C35)),0)","v":0},0,0,0,null,null,""]
[null,null,{"$f":"IF('Plano de Contas'!B29=\"\",\"\",'Plano de Contas'!B29)","v":""},{"$f":"IF($C36=\"\",\"\",VLOOKUP($C36,'Plano de Contas'!$B$2:$E$200,4,FALSE))","v":""},{"$f":"IF($C36=\"\",\"\",VLOOKUP($C36,'Plano de Contas'!$B$2:$E$200,3,FALSE))","v":""},{"$f":"IFERROR((SUMIFS(Arquivo!$F$2:$F$20000,Arquivo!$B$2:$B$20000,F$6,Arquivo!$C$2:$C$20000,G$6,Arquivo!$D$2:$D$20000,$C36)),0)","v":0},0,{"$f":"IFERROR((SUMIFS(Arquivo!$F$2:$F$20000,Arquivo!$B$2:$B$20000,H$6,Arquivo!$C$2:$C$20000,I$6,Arquivo!$D$2:$D$20000,$C36)),0)","v":0},0,{"$f":"IFERROR((SUMIFS(Arquivo!$F$2:$F$20000,Arquivo!$B$2:$B$20000,J$6,Arquivo!$C$2:$C$20000,K$6,Arquivo!$D$2:$D$20000,$C36)),0)","v":0},0,{"$f":"IFERROR((SUMIFS(Arquivo!$F$2:$F$20000,Arquivo!$B$2:$B$20000,L$6,Arquivo!$C$2:$C$20000,M$6,Arquivo!$D$2:$D$20000,$C36)),0)","v":0},0,{"$f":"IFERROR((SUMIFS(Arquivo!$F$2:$F$20000,Arquivo!$B$2:$B$20000,N$6,Arquivo!$C$2:$C$20000,O$6,Arquivo!$D$2:$D$20000,$C36)),0)","v":0},0,{"$f":"IFERROR((SUMIFS(Arquivo!$F$2:$F$20000,Arquivo!$B$2:$B$20000,P$6,Arquivo!$C$2:$C$20000,Q$6,Arquivo!$D$2:$D$20000,$C36)),0)","v":0},0,{"$f":"IFERROR((SUMIFS(Arquivo!$F$2:$F$20000,Arquivo!$B$2:$B$20000,R$6,Arquivo!$C$2:$C$20000,S$6,Arquivo!$D$2:$D$20000,$C36)),0)","v":0},0,{"$f":"IFERROR((SUMIFS(Arquivo!$F$2:$F$20000,Arquivo!$B$2:$B$20000,T$6,Arquivo!$C$2:$C$20000,U$6,Arquivo!$D$2:$D$20000,$C36)),0)","v":0},0,{"$f":"IFERROR((SUMIFS(Arquivo!$F$2:$F$20000,Arquivo!$B$2:$B$20000,V$6,Arquivo!$C$2:$C$20000,W$6,Arquivo!$D$2:$D$20000,$C36)),0)","v":0},0,{"$f":"IFERROR((SUMIFS(Arquivo!$F$2:$F$20000,Arquivo!$B$2:$B$20000,X$6,Arquivo!$C$2:$C$20000,Y$6,Arquivo!$D$2:$D$20000,$C36)),0)","v":0},0,{"$f":"IFERROR((SUMIFS(Arquivo!$F$2:$F$20000,Arquivo!$B$2:$B$20000,Z$6,Arquivo!$C$2:$C$20000,AA$6,Arquivo!$D$2:$D$20000,$C36)),0)","v":0},0,{"$f":"IFERROR((SUMIFS(Arquivo!$F$2:$F$20000,Arquivo!$B$2:$B$20000,AB$6,Arquivo!$C$2:$C$20000,AC$6,Arquivo!$D$2:$D$20000,$C36)),0)","v":0},0,0,0,null,null,""]
[null,null,{"$f":"IF('Plano de Contas'!B30=\"\",\"\",'Plano de Contas'!B30)","v":""},{"$f":"IF($C37=\"\",\"\",VLOOKUP($C37,'Plano de Contas'!$B$2:$E$200,4,FALSE))","v":""},{"$f":"IF($C37=\"\",\"\",VLOOKUP($C37,'Plano de Contas'!$B$2:$E$200,3,FALSE))","v":""},{"$f":"IFERROR((SUMIFS(Arquivo!$F$2:$F$20000,Arquivo!$B$2:$B$20000,F$6,Arquivo!$C$2:$C$20000,G$6,Arquivo!$D$2:$D$20000,$C37)),0)","v":0},0,{"$f":"IFERROR((SUMIFS(Arquivo!$F$2:$F$20000,Arquivo!$B$2:$B$20000,H$6,Arquivo!$C$2:$C$20000,I$6,Arquivo!$D$2:$D$20000,$C37)),0)","v":0},0,{"$f":"IFERROR((SUMIFS(Arquivo!$F$2:$F$20000,Arquivo!$B$2:$B$20000,J$6,Arquivo!$C$2:$C$20000,K$6,Arquivo!$D$2:$D$20000,$C37)),0)","v":0},0,{"$f":"IFERROR((SUMIFS(Arquivo!$F$2:$F$20000,Arquivo!$B$2:$B$20000,L$6,Arquivo!$C$2:$C$20000,M$6,Arquivo!$D$2:$D$20000,$C37)),0)","v":0},0,{"$f":"IFERROR((SUMIFS(Arquivo!$F$2:$F$20000,Arquivo!$B$2:$B$20000,N$6,Arquivo!$C$2:$C$20000,O$6,Arquivo!$D$2:$D$20000,$C37)),0)","v":0},0,{"$f":"IFERROR((SUMIFS(Arquivo!$F$2:$F$20000,Arquivo!$B$2:$B$20000,P$6,Arquivo!$C$2:$C$20000,Q$6,Arquivo!$D$2:$D$20000,$C37)),0)","v":0},0,{"$f":"IFERROR((SUMIFS(Arquivo!$F$2:$F$20000,Arquivo!$B$2:$B$20000,R$6,Arquivo!$C$2:$C$20000,S$6,Arquivo!$D$2:$D$20000,$C37)),0)","v":0},0,{"$f":"IFERROR((SUMIFS(Arquivo!$F$2:$F$20000,Arquivo!$B$2:$B$20000,T$6,Arquivo!$C$2:$C$20000,U$6,Arquivo!$D$2:$D$20000,$C37)),0)","v":0},0,{"$f":"IFERROR((SUMIFS(Arquivo!$F$2:$F$20000,Arquivo!$B$2:$B$20000,V$6,Arquivo!$C$2:$C$20000,W$6,Arquivo!$D$2:$D$20000,$C37)),0)","v":0},0,{"$f":"IFERROR((SUMIFS(Arquivo!$F$2:$F$20000,Arquivo!$B$2:$B$20000,X$6,Arquivo!$C$2:$C$20000,Y$6,Arquivo!$D$2:$D$20000,$C37)),0)","v":0},0,{"$f":"IFERROR((SUMIFS(Arquivo!$F$2:$F$20000,Arquivo!$B$2:$B$20000,Z$6,Arquivo!$C$2:$C$20000,AA$6,Arquivo!$D$2:$D$20000,$C37)),0)","v":0},0,{"$f":"IFERROR((SUMIFS(Arquivo!$F$2:$F$20000,Arquivo!$B$2:$B$20000,AB$6,Arquivo!$C$2:$C$20000,AC$6,Arquivo!$D$2:$D$20000,$C37)),0)","v":0},0,0,0,null,null,""]
[null,null,{"$f":"IF('Plano de Contas'!B31=\"\",\"\",'Plano de Contas'!B31)","v":""},{"$f":"IF($C38=\"\",\"\",VLOOKUP($C38,'Plano de Contas'!$B$2:$E$200,4,FALSE))","v":""},{"$f":"IF($C38=\"\",\"\",VLOOKUP($C38,'Plano de Contas'!$B$2:$E$200,3,FALSE))","v":""},{"$f":"IFERROR((SUMIFS(Arquivo!$F$2:$F$20000,Arquivo!$B$2:$B$20000,F$6,Arquivo!$C$2:$C$20000,G$6,Arquivo!$D$2:$D$20000,$C38)),0)","v":0},0,{"$f":"IFERROR((SUMIFS(Arquivo!$F$2:$F$20000,Arquivo!$B$2:$B$20000,H$6,Arquivo!$C$2:$C$20000,I$6,Arquivo!$D$2:$D$20000,$C38)),0)","v":0},0,{"$f":"IFERROR((SUMIFS(Arquivo!$F$2:$F$20000,Arquivo!$B$2:$B$20000,J$6,Arquivo!$C$2:$C$20000,K$6,Arquivo!$D$2:$D$20000,$C38)),0)","v":0},0,{"$f":"IFERROR((SUMIFS(Arquivo!$F$2:$F$20000,Arquivo!$B$2:$B$20000,L$6,Arquivo!$C$2:$C$20000,M$6,Arquivo!$D$2:$D$20000,$C38)),0)","v":0},0,{"$f":"IFERROR((SUMIFS(Arquivo!$F$2:$F$20000,Arquivo!$B$2:$B$20000,N$6,Arquivo!$C$2:$C$20000,O$6,Arquivo!$D$2:$D$20000,$C38)),0)","v":0},0,{"$f":"IFERROR((SUMIFS(Arquivo!$F$2:$F$20000,Arquivo!$B$2:$B$20000,P$6,Arquivo!$C$2:$C$20000,Q$6,Arquivo!$D$2:$D$20000,$C38)),0)","v":0},0,{"$f":"IFERROR((SUMIFS(Arquivo!$F$2:$F$20000,Arquivo!$B$2:$B$20000,R$6,Arquivo!$C$2:$C$20000,S$6,Arquivo!$D$2:$D$20000,$C38)),0)","v":0},0,{"$f":"IFERROR((SUMIFS(Arquivo!$F$2:$F$20000,Arquivo!$B$2:$B$20000,T$6,Arquivo!$C$2:$C$20000,U$6,Arquivo!$D$2:$D$20000,$C38)),0)","v":0},0,{"$f":"IFERROR((SUMIFS(Arquivo!$F$2:$F$20000,Arquivo!$B$2:$B$20000,V$6,Arquivo!$C$2:$C$20000,W$6,Arquivo!$D$2:$D$20000,$C38)),0)","v":0},0,{"$f":"IFERROR((SUMIFS(Arquivo!$F$2:$F$20000,Arquivo!$B$2:$B$20000,X$6,Arquivo!$C$2:$C$20000,Y$6,Arquivo!$D$2:$D$20000,$C38)),0)","v":0},0,{"$f":"IFERROR((SUMIFS(Arquivo!$F$2:$F$20000,Arquivo!$B$2:$B$20000,Z$6,Arquivo!$C$2:$C$20000,AA$6,Arquivo!$D$2:$D$20000,$C38)),0)","v":0},0,{"$f":"IFERROR((SUMIFS(Arquivo!$F$2:$F$20000,Arquivo!$B$2:$B$20000,AB$6,Arquivo!$C$2:$C$20000,AC$6,Arquivo!$D$2:$D$20000,$C38)),0)","v":0},0,0,0,null,null,""]
[null,null,{"$f":"IF('Plano de Contas'!B32=\"\",\"\",'Plano de Contas'!B32)","v":""},{"$f":"IF($C39=\"\",\"\",VLOOKUP($C39,'Plano de Contas'!$B$2:$E$200,4,FALSE))","v":""},{"$f":"IF($C39=\"\",\"\",VLOOKUP($C39,'Plano de Contas'!$B$2:$E$200,3,FALSE))","v":""},{"$f":"IFERROR((SUMIFS(Arquivo!$F$2:$F$20000,Arquivo!$B$2:$B$20000,F$6,Arquivo!$C$2:$C$20000,G$6,Arquivo!$D$2:$D$20000,$C39)),0)","v":0},0,{"$f":"IFERROR((SUMIFS(Arquivo!$F$2:$F$20000,Arquivo!$B$2:$B$20000,H$6,Arquivo!$C$2:$C$20000,I$6,Arquivo!$D$2:$D$20000,$C39)),0)","v":0},0,{"$f":"IFERROR((SUMIFS(Arquivo!$F$2:$F$20000,Arquivo!$B$2:$B$20000,J$6,Arquivo!$C$2:$C$20000,K$6,Arquivo!$D$2:$D$20000,$C39)),0)","v":0},0,{"$f":"IFERROR((SUMIFS(Arquivo!$F$2:$F$20000,Arquivo!$B$2:$B$20000,L$6,Arquivo!$C$2:$C$20000,M$6,Arquivo!$D$2:$D$20000,$C39)),0)","v":0},0,{"$f":"IFERROR((SUMIFS(Arquivo!$F$2:$F$20000,Arquivo!$B$2:$B$20000,N$6,Arquivo!$C$2:$C$20000,O$6,Arquivo!$D$2:$D$20000,$C39)),0)","v":0},0,{"$f":"IFERROR((SUMIFS(Arquivo!$F$2:$F$20000,Arquivo!$B$2:$B$20000,P$6,Arquivo!$C$2:$C$20000,Q$6,Arquivo!$D$2:$D$20000,$C39)),0)","v":0},0,{"$f":"IFERROR((SUMIFS(Arquivo!$F$2:$F$20000,Arquivo!$B$2:$B$20000,R$6,Arquivo!$C$2:$C$20000,S$6,Arquivo!$D$2:$D$20000,$C39)),0)","v":0},0,{"$f":"IFERROR((SUMIFS(Arquivo!$F$2:$F$20000,Arquivo!$B$2:$B$20000,T$6,Arquivo!$C$2:$C$20000,U$6,Arquivo!$D$2:$D$20000,$C39)),0)","v":0},0,{"$f":"IFERROR((SUMIFS(Arquivo!$F$2:$F$20000,Arquivo!$B$2:$B$20000,V$6,Arquivo!$C$2:$C$20000,W$6,Arquivo!$D$2:$D$20000,$C39)),0)","v":0},0,{"$f":"IFERROR((SUMIFS(Arquivo!$F$2:$F$20000,Arquivo!$B$2:$B$20000,X$6,Arquivo!$C$2:$C$20000,Y$6,Arquivo!$D$2:$D$20000,$C39)),0)","v":0},0,{"$f":"IFERROR((SUMIFS(Arquivo!$F$2:$F$20000,Arquivo!$B$2:$B$20000,Z$6,Arquivo!$C$2:$C$20000,AA$6,Arquivo!$D$2:$D$20000,$C39)),0)","v":0},0,{"$f":"IFERROR((SUMIFS(Arquivo!$F$2:$F$20000,Arquivo!$B$2:$B$20000,AB$6,Arquivo!$C$2:$C$20000,AC$6,Arquivo!$D$2:$D$20000,$C39)),0)","v":0},0,0,0,null,null,""]
[null,null,null,null,null,null,null,null,null,null,null,null,null,null,null,null,null,null,null,null,null,null,null,null,null,null,null,null,null,null,null,null,null,{"$f":"IF(AH30=\"\",\"\",\"X\")","v":"X"}]
[null,null,null,"(=) LUCRO BRUTO",null,{"$f":"F28-F30","v":94613.550000000047},{"$f":"IFERROR((F41/F$10),0)","v":9.849147452475826E-2},{"$f":"H28-H30","v":107219.04000000004},{"$f":"IFERROR((H41/H$10),0)","v":0.13051139574800733},{"$f":"J28-J30","v":162604.70999999996},{"$f":"IFERROR((J41/J$10),0)","v":0.12288122739827392},{"$f":"L28-L30","v":139036.67000000004},{"$f":"IFERROR((L41/L$10),0)","v":0.13780705212564592},{"$f":"N28-N30","v":100399.33999999997},{"$f":"IFERROR((N41/N$10),0)","v":0.12475739869669907},{"$f":"P28-P30","v":164261.99},{"$f":"IFERROR((P41/P$10),0)","v":0.18599155020256031},{"$f":"R28-R30","v":163108.0799999999},{"$f":"IFERROR((R41/R$10),0)","v":0.26811686982239313},{"$f":"T28-T30","v":0},{"$f":"IFERROR((T41/T$10),0)","v":0},{"$f":"V28-V30","v":0},{"$f":"IFERROR((V41/V$10),0)","v":0},{"$f":"X28-X30","v":0},{"$f":"IFERROR((X41/X$10),0)","v":0},{"$f":"Z28-Z30","v":0},{"$f":"IFERROR((Z41/Z$10),0)","v":0},{"$f":"AB28-AB30","v":0},{"$f":"IFERROR((AB41/AB$10),0)","v":0},{"$f":"AD28-AD30","v":931243.37999999989},{"$f":"IFERROR((AD41/AD$10),0)","v":0.1452657368719866},null,null,{"$f":"IF(AND($X$3=\"CT\",AD41<>0),\"X\",\"\")","v":"X"}]
[null,null,null,null,null,null,null,null,null,null,null,null,null,null,null,null,null,null,null,null,null,null,null,null,null,null,null,null,null,null,null,null,null,{"$f":"IF(AH41=\"\",\"\",\"X\")","v":"X"}]
[null,null,null,"(-) CUSTO OPERACIONAL TOTAL",null,{"$f":"F45+F69+F96+F106+F136+F148+F157","v":105000.99999999999},{"$f":"IFERROR((F43/F$10),0)","v":0.1093046748227303},{"$f":"H45+H69+H96+H106+H136+H148+H157","v":111409.50000000001},{"$f":"IFERROR((H43/H$10),0)","v":0.13561219485445514},{"$f":"J45+J69+J96+J106+J136+J148+J157","v":137301.78999999998},{"$f":"IFERROR((J43/J$10),0)","v":0.10375967878900957},{"$f":"L45+L69+L96+L106+L136+L148+L157","v":134723.04},{"$f":"IFERROR((L43/L$10),0)","v":0.13353157117331332},{"$f":"N45+N69+N96+N106+N136+N148+N157","v":109991.92000000001},{"$f":"IFERROR((N43/N$10),0)","v":0.13667725123347857},{"$f":"P45+P69+P96+P106+P136+P148+P157","v":117839.75},{"$f":"IFERROR((P43/P$10),0)","v":0.13342829815943516},{"$f":"R45+R69+R96+R106+R136+R148+R157","v":121128.40000000001},{"$f":"IFERROR((R43/R$10),0)","v":0.19911072127508819},{"$f":"T45+T69+T96+T106+T136+T148+T157","v":0},{"$f":"IFERROR((T43/T$10),0)","v":0},{"$f":"V45+V69+V96+V106+V136+V148+V157","v":0},{"$f":"IFERROR((V43/V$10),0)","v":0},{"$f":"X45+X69+X96+X106+X136+X148+X157","v":0},{"$f":"IFERROR((X43/X$10),0)","v":0},{"$f":"Z45+Z69+Z96+Z106+Z136+Z148+Z157","v":0},{"$f":"IFERROR((Z43/Z$10),0)","v":0},{"$f":"AB45+AB69+AB96+AB106+AB136+AB148+AB157","v":0},{"$f":"IFERROR((AB43/AB$10),0)","v":0},{"$f":"AD45+AD69+AD96+AD106+AD136+AD148+AD157","v":837395.39999999991},{"$f":"IFERROR((AD43/AD$10),0)","v":0.13062628142839733},null,null,{"$f":"IF(AND($X$3=\"CT\",AD43<>0),\"X\",\"\")","v":"X"}]
[null,null,null,null,null,null,null,null,null,null,null,null,null,null,null,null,null,null,null,null,null,null,null,null,null,null,null,null,null,{"$f":"AD45/AD43","v":0.68203645494111864},null,null,null,{"$f":"IF(AH43=\"\",\"\",\"X\")","v":"X"}]
[null,null,null,"DESPESAS COM PESSOAL",null,{"$f":"SUBTOTAL(9,F46:F68)","v":71142.490000000005},{"$f":"IFERROR((F45/IF($X$3=\"CT\",F$10,F$45)),0)","v":7.4058406448789485E-2},{"$f":"SUBTOTAL(9,H46:H68)","v":83041.400000000009},{"$f":"IFERROR((H45/IF($X$3=\"CT\",H$10,H$45)),0)","v":0.1010813846017328},{"$f":"SUBTOTAL(9,J46:J68)","v":94797.42},{"$f":"IFERROR((J45/IF($X$3=\"CT\",J$10,J$45)),0)","v":7.1638904702020514E-2},{"$f":"SUBTOTAL(9,L46:L68)","v":83525.69},{"$f":"IFERROR((L45/IF($X$3=\"CT\",L$10,L$45)),0)","v":8.2787002275446761E-2},{"$f":"SUBTOTAL(9,N46:N68)","v":76301.14},{"$f":"IFERROR((N45/IF($X$3=\"CT\",N$10,N$45)),0)","v":9.4812692433960774E-2},{"$f":"SUBTOTAL(9,P46:P68)","v":81401.320000000007},{"$f":"IFERROR((P45/IF($X$3=\"CT\",P$10,P$45)),0)","v":9.2169574320478384E-2},{"$f":"SUBTOTAL(9,R46:R68)","v":80924.73000000001},{"$f":"IFERROR((R45/IF($X$3=\"CT\",R$10,R$45)),0)","v":0.13302397587429346},{"$f":"SUBTOTAL(9,T46:T68)","v":0},{"$f":"IFERROR((T45/IF($X$3=\"CT\",T$10,T$45)),0)","v":0},{"$f":"SUBTOTAL(9,V46:V68)","v":0},{"$f":"IFERROR((V45/IF($X$3=\"CT\",V$10,V$45)),0)","v":0},{"$f":"SUBTOTAL(9,X46:X68)","v":0},{"$f":"IFERROR((X45/IF($X$3=\"CT\",X$10,X$45)),0)","v":0},{"$f":"SUBTOTAL(9,Z46:Z68)","v":0},{"$f":"IFERROR((Z45/IF($X$3=\"CT\",Z$10,Z$45)),0)","v":0},{"$f":"SUBTOTAL(9,AB46:AB68)","v":0},{"$f":"IFERROR((AB45/IF($X$3=\"CT\",AB$10,AB$45)),0)","v":0},{"$f":"SUBTOTAL(9,AD46:AD68)","v":571134.18999999994},{"$f":"IFERROR((AD45/IF($X$3=\"CT\",AD$10,AD$45)),0)","v":8.9091885907565005E-2},null,null,{"$f":"IF(COUNTIF(AH46:AH67,\"X\")>0,\"X\",\"\")","v":"X"}]
[null,null,{"$f":"IF('Plano de Contas'!B34=\"\",\"\",'Plano de Contas'!B34)","v":"8.1.1.1"},{"$f":"IF($C46=\"\",\"\",VLOOKUP($C46,'Plano de Contas'!$B$2:$E$200,4,FALSE))","v":"CF"},{"$f":"IF($C46=\"\",\"\",VLOOKUP($C46,'Plano de Contas'!$B$2:$E$200,3,FALSE))","v":"FOPAG ADMINISTRATIVO"},{"$f":"IFERROR((SUMIFS(Arquivo!$F$2:$F$20000,Arquivo!$B$2:$B$20000,F$6,Arquivo!$C$2:$C$20000,G$6,Arquivo!$D$2:$D$20000,$C46)),0)","v":13332.14},1.3878584274350871E-2,{"$f":"IFERROR((SUMIFS(Arquivo!$F$2:$F$20000,Arquivo!$B$2:$B$20000,H$6,Arquivo!$C$2:$C$20000,I$6,Arquivo!$D$2:$D$20000,$C46)),0)","v":14978.95},1.8232989880711616E-2,{"$f":"IFERROR((SUMIFS(Arquivo!$F$2:$F$20000,Arquivo!$B$2:$B$20000,J$6,Arquivo!$C$2:$C$20000,K$6,Arquivo!$D$2:$D$20000,$C46)),0)","v":15032.04},1.1359791026348192E-2,{"$f":"IFERROR((SUMIFS(Arquivo!$F$2:$F$20000,Arquivo!$B$2:$B$20000,L$6,Arquivo!$C$2:$C$20000,M$6,Arquivo!$D$2:$D$20000,$C46)),0)","v":13772.64},1.3650836994209914E-2,{"$f":"IFERROR((SUMIFS(Arquivo!$F$2:$F$20000,Arquivo!$B$2:$B$20000,N$6,Arquivo!$C$2:$C$20000,O$6,Arquivo!$D$2:$D$20000,$C46)),0)","v":14689.26},1.8253046946120108E-2,{"$f":"IFERROR((SUMIFS(Arquivo!$F$2:$F$20000,Arquivo!$B$2:$B$20000,P$6,Arquivo!$C$2:$C$20000,Q$6,Arquivo!$D$2:$D$20000,$C46)),0)","v":15683.45},1.7758150732402212E-2,{"$f":"IFERROR((SUMIFS(Arquivo!$F$2:$F$20000,Arquivo!$B$2:$B$20000,R$6,Arquivo!$C$2:$C$20000,S$6,Arquivo!$D$2:$D$20000,$C46)),0)","v":13043.39},2.1440709121661579E-2,{"$f":"IFERROR((SUMIFS(Arquivo!$F$2:$F$20000,Arquivo!$B$2:$B$20000,T$6,Arquivo!$C$2:$C$20000,U$6,Arquivo!$D$2:$D$20000,$C46)),0)","v":0},0,{"$f":"IFERROR((SUMIFS(Arquivo!$F$2:$F$20000,Arquivo!$B$2:$B$20000,V$6,Arquivo!$C$2:$C$20000,W$6,Arquivo!$D$2:$D$20000,$C46)),0)","v":0},0,{"$f":"IFERROR((SUMIFS(Arquivo!$F$2:$F$20000,Arquivo!$B$2:$B$20000,X$6,Arquivo!$C$2:$C$20000,Y$6,Arquivo!$D$2:$D$20000,$C46)),0)","v":0},0,{"$f":"IFERROR((SUMIFS(Arquivo!$F$2:$F$20000,Arquivo!$B$2:$B$20000,Z$6,Arquivo!$C$2:$C$20000,AA$6,Arquivo!$D$2:$D$20000,$C46)),0)","v":0},0,{"$f":"IFERROR((SUMIFS(Arquivo!$F$2:$F$20000,Arquivo!$B$2:$B$20000,AB$6,Arquivo!$C$2:$C$20000,AC$6,Arquivo!$D$2:$D$20000,$C46)),0)","v":0},0,{"$f":"F46+H46+J46+L46+N46+P46+R46+T46+V46+X46+Z46+AB46","v":100531.87},1.5682083210802274E-2,null,null,{"$f":"IF($AD46=0,\"\",IF($X$3=\"CT\",\"X\",IF($X$3=$D46,\"X\",\"\")))","v":"X"}]
[null,null,{"$f":"IF('Plano de Contas'!B35=\"\",\"\",'Plano de Contas'!B35)","v":"8.1.1.2"},{"$f":"IF($C47=\"\",\"\",VLOOKUP($C47,'Plano de Contas'!$B$2:$E$200,4,FALSE))","v":"CF"},{"$f":"IF($C47=\"\",\"\",VLOOKUP($C47,'Plano de Contas'!$B$2:$E$200,3,FALSE))","v":"FOPAG PESSOAL CAMARA/EMBALADORES"},{"$f":"IFERROR((SUMIFS(Arquivo!$F$2:$F$20000,Arquivo!$B$2:$B$20000,F$6,Arquivo!$C$2:$C$20000,G$6,Arquivo!$D$2:$D$20000,$C47)),0)","v":28561.72},2.9732378900942592E-2,{"$f":"IFERROR((SUMIFS(Arquivo!$F$2:$F$20000,Arquivo!$B$2:$B$20000,H$6,Arquivo!$C$2:$C$20000,I$6,Arquivo!$D$2:$D$20000,$C47)),0)","v":33933.78},4.1305583325553133E-2,{"$f":"IFERROR((SUMIFS(Arquivo!$F$2:$F$20000,Arquivo!$B$2:$B$20000,J$6,Arquivo!$C$2:$C$20000,K$6,Arquivo!$D$2:$D$20000,$C47)),0)","v":29929.74},2.2618060614057342E-2,{"$f":"IFERROR((SUMIFS(Arquivo!$F$2:$F$20000,Arquivo!$B$2:$B$20000,L$6,Arquivo!$C$2:$C$20000,M$6,Arquivo!$D$2:$D$20000,$C47)),0)","v":29961.53},2.9696555063308861E-2,{"$f":"IFERROR((SUMIFS(Arquivo!$F$2:$F$20000,Arquivo!$B$2:$B$20000,N$6,Arquivo!$C$2:$C$20000,O$6,Arquivo!$D$2:$D$20000,$C47)),0)","v":28702.89},3.5666548121506554E-2,{"$f":"IFERROR((SUMIFS(Arquivo!$F$2:$F$20000,Arquivo!$B$2:$B$20000,P$6,Arquivo!$C$2:$C$20000,Q$6,Arquivo!$D$2:$D$20000,$C47)),0)","v":29949.47},3.3911365331961908E-2,{"$f":"IFERROR((SUMIFS(Arquivo!$F$2:$F$20000,Arquivo!$B$2:$B$20000,R$6,Arquivo!$C$2:$C$20000,S$6,Arquivo!$D$2:$D$20000,$C47)),0)","v":30641.47},5.0368412301565746E-2,{"$f":"IFERROR((SUMIFS(Arquivo!$F$2:$F$20000,Arquivo!$B$2:$B$20000,T$6,Arquivo!$C$2:$C$20000,U$6,Arquivo!$D$2:$D$20000,$C47)),0)","v":0},0,{"$f":"IFERROR((SUMIFS(Arquivo!$F$2:$F$20000,Arquivo!$B$2:$B$20000,V$6,Arquivo!$C$2:$C$20000,W$6,Arquivo!$D$2:$D$20000,$C47)),0)","v":0},0,{"$f":"IFERROR((SUMIFS(Arquivo!$F$2:$F$20000,Arquivo!$B$2:$B$20000,X$6,Arquivo!$C$2:$C$20000,Y$6,Arquivo!$D$2:$D$20000,$C47)),0)","v":0},0,{"$f":"IFERROR((SUMIFS(Arquivo!$F$2:$F$20000,Arquivo!$B$2:$B$20000,Z$6,Arquivo!$C$2:$C$20000,AA$6,Arquivo!$D$2:$D$20000,$C47)),0)","v":0},0,{"$f":"IFERROR((SUMIFS(Arquivo!$F$2:$F$20000,Arquivo!$B$2:$B$20000,AB$6,Arquivo!$C$2:$C$20000,AC$6,Arquivo!$D$2:$D$20000,$C47)),0)","v":0},0,211680.6,3.3020302748894975E-2,null,null,"X"]
[null,null,{"$f":"IF('Plano de Contas'!B36=\"\",\"\",'Plano de Contas'!B36)","v":"8.1.1.3"},{"$f":"IF($C48=\"\",\"\",VLOOKUP($C48,'Plano de Contas'!$B$2:$E$200,4,FALSE))","v":"CF"},{"$f":"IF($C48=\"\",\"\",VLOOKUP($C48,'Plano de Contas'!$B$2:$E$200,3,FALSE))","v":"HONORARIOS DIRETORIA"},{"$f":"IFERROR((SUMIFS(Arquivo!$F$2:$F$20000,Arquivo!$B$2:$B$20000,F$6,Arquivo!$C$2:$C$20000,G$6,Arquivo!$D$2:$D$20000,$C48)),0)","v":0},0,{"$f":"IFERROR((SUMIFS(Arquivo!$F$2:$F$20000,Arquivo!$B$2:$B$20000,H$6,Arquivo!$C$2:$C$20000,I$6,Arquivo!$D$2:$D$20000,$C48)),0)","v":0},0,{"$f":"IFERROR((SUMIFS(Arquivo!$F$2:$F$20000,Arquivo!$B$2:$B$20000,J$6,Arquivo!$C$2:$C$20000,K$6,Arquivo!$D$2:$D$20000,$C48)),0)","v":0},0,{"$f":"IFERROR((SUMIFS(Arquivo!$F$2:$F$20000,Arquivo!$B$2:$B$20000,L$6,Arquivo!$C$2:$C$20000,M$6,Arquivo!$D$2:$D$20000,$C48)),0)","v":0},0,{"$f":"IFERROR((SUMIFS(Arquivo!$F$2:$F$20000,Arquivo!$B$2:$B$20000,N$6,Arquivo!$C$2:$C$20000,O$6,Arquivo!$D$2:$D$20000,$C48)),0)","v":0},0,{"$f":"IFERROR((SUMIFS(Arquivo!$F$2:$F$20000,Arquivo!$B$2:$B$20000,P$6,Arquivo!$C$2:$C$20000,Q$6,Arquivo!$D$2:$D$20000,$C48)),0)","v":0},0,{"$f":"IFERROR((SUMIFS(Arquivo!$F$2:$F$20000,Arquivo!$B$2:$B$20000,R$6,Arquivo!$C$2:$C$20000,S$6,Arquivo!$D$2:$D$20000,$C48)),0)","v":0},0,{"$f":"IFERROR((SUMIFS(Arquivo!$F$2:$F$20000,Arquivo!$B$2:$B$20000,T$6,Arquivo!$C$2:$C$20000,U$6,Arquivo!$D$2:$D$20000,$C48)),0)","v":0},0,{"$f":"IFERROR((SUMIFS(Arquivo!$F$2:$F$20000,Arquivo!$B$2:$B$20000,V$6,Arquivo!$C$2:$C$20000,W$6,Arquivo!$D$2:$D$20000,$C48)),0)","v":0},0,{"$f":"IFERROR((SUMIFS(Arquivo!$F$2:$F$20000,Arquivo!$B$2:$B$20000,X$6,Arquivo!$C$2:$C$20000,Y$6,Arquivo!$D$2:$D$20000,$C48)),0)","v":0},0,{"$f":"IFERROR((SUMIFS(Arquivo!$F$2:$F$20000,Arquivo!$B$2:$B$20000,Z$6,Arquivo!$C$2:$C$20000,AA$6,Arquivo!$D$2:$D$20000,$C48)),0)","v":0},0,{"$f":"IFERROR((SUMIFS(Arquivo!$F$2:$F$20000,Arquivo!$B$2:$B$20000,AB$6,Arquivo!$C$2:$C$20000,AC$6,Arquivo!$D$2:$D$20000,$C48)),0)","v":0},0,0,0,null,null,""]
[null,null,{"$f":"IF('Plano de Contas'!B37=\"\",\"\",'Plano de Contas'!B37)","v":"8.1.1.5"},{"$f":"IF($C49=\"\",\"\",VLOOKUP($C49,'Plano de Contas'!$B$2:$E$200,4,FALSE))","v":"CV"},{"$f":"IF($C49=\"\",\"\",VLOOKUP($C49,'Plano de Contas'!$B$2:$E$200,3,FALSE))","v":"EMBALADORES"},{"$f":"IFERROR((SUMIFS(Arquivo!$F$2:$F$20000,Arquivo!$B$2:$B$20000,F$6,Arquivo!$C$2:$C$20000,G$6,Arquivo!$D$2:$D$20000,$C49)),0)","v":0},0,{"$f":"IFERROR((SUMIFS(Arquivo!$F$2:$F$20000,Arquivo!$B$2:$B$20000,H$6,Arquivo!$C$2:$C$20000,I$6,Arquivo!$D$2:$D$20000,$C49)),0)","v":0},0,{"$f":"IFERROR((SUMIFS(Arquivo!$F$2:$F$20000,Arquivo!$B$2:$B$20000,J$6,Arquivo!$C$2:$C$20000,K$6,Arquivo!$D$2:$D$20000,$C49)),0)","v":0},0,{"$f":"IFERROR((SUMIFS(Arquivo!$F$2:$F$20000,Arquivo!$B$2:$B$20000,L$6,Arquivo!$C$2:$C$20000,M$6,Arquivo!$D$2:$D$20000,$C49)),0)","v":0},0,{"$f":"IFERROR((SUMIFS(Arquivo!$F$2:$F$20000,Arquivo!$B$2:$B$20000,N$6,Arquivo!$C$2:$C$20000,O$6,Arquivo!$D$2:$D$20000,$C49)),0)","v":0},0,{"$f":"IFERROR((SUMIFS(Arquivo!$F$2:$F$20000,Arquivo!$B$2:$B$20000,P$6,Arquivo!$C$2:$C$20000,Q$6,Arquivo!$D$2:$D$20000,$C49)),0)","v":0},0,{"$f":"IFERROR((SUMIFS(Arquivo!$F$2:$F$20000,Arquivo!$B$2:$B$20000,R$6,Arquivo!$C$2:$C$20000,S$6,Arquivo!$D$2:$D$20000,$C49)),0)","v":0},0,{"$f":"IFERROR((SUMIFS(Arquivo!$F$2:$F$20000,Arquivo!$B$2:$B$20000,T$6,Arquivo!$C$2:$C$20000,U$6,Arquivo!$D$2:$D$20000,$C49)),0)","v":0},0,{"$f":"IFERROR((SUMIFS(Arquivo!$F$2:$F$20000,Arquivo!$B$2:$B$20000,V$6,Arquivo!$C$2:$C$20000,W$6,Arquivo!$D$2:$D$20000,$C49)),0)","v":0},0,{"$f":"IFERROR((SUMIFS(Arquivo!$F$2:$F$20000,Arquivo!$B$2:$B$20000,X$6,Arquivo!$C$2:$C$20000,Y$6,Arquivo!$D$2:$D$20000,$C49)),0)","v":0},0,{"$f":"IFERROR((SUMIFS(Arquivo!$F$2:$F$20000,Arquivo!$B$2:$B$20000,Z$6,Arquivo!$C$2:$C$20000,AA$6,Arquivo!$D$2:$D$20000,$C49)),0)","v":0},0,{"$f":"IFERROR((SUMIFS(Arquivo!$F$2:$F$20000,Arquivo!$B$2:$B$20000,AB$6,Arquivo!$C$2:$C$20000,AC$6,Arquivo!$D$2:$D$20000,$C49)),0)","v":0},0,0,0,null,null,""]
[null,null,{"$f":"IF('Plano de Contas'!B38=\"\",\"\",'Plano de Contas'!B38)","v":"8.1.1.6"},{"$f":"IF($C50=\"\",\"\",VLOOKUP($C50,'Plano de Contas'!$B$2:$E$200,4,FALSE))","v":"CV"},{"$f":"IF($C50=\"\",\"\",VLOOKUP($C50,'Plano de Contas'!$B$2:$E$200,3,FALSE))","v":"RESCISAO CONTRATUAL"},{"$f":"IFERROR((SUMIFS(Arquivo!$F$2:$F$20000,Arquivo!$B$2:$B$20000,F$6,Arquivo!$C$2:$C$20000,G$6,Arquivo!$D$2:$D$20000,$C50)),0)","v":0},0,{"$f":"IFERROR((SUMIFS(Arquivo!$F$2:$F$20000,Arquivo!$B$2:$B$20000,H$6,Arquivo!$C$2:$C$20000,I$6,Arquivo!$D$2:$D$20000,$C50)),0)","v":0},0,{"$f":"IFERROR((SUMIFS(Arquivo!$F$2:$F$20000,Arquivo!$B$2:$B$20000,J$6,Arquivo!$C$2:$C$20000,K$6,Arquivo!$D$2:$D$20000,$C50)),0)","v":2656.47},2.0075082335972482E-3,{"$f":"IFERROR((SUMIFS(Arquivo!$F$2:$F$20000,Arquivo!$B$2:$B$20000,L$6,Arquivo!$C$2:$C$20000,M$6,Arquivo!$D$2:$D$20000,$C50)),0)","v":0},0,{"$f":"IFERROR((SUMIFS(Arquivo!$F$2:$F$20000,Arquivo!$B$2:$B$20000,N$6,Arquivo!$C$2:$C$20000,O$6,Arquivo!$D$2:$D$20000,$C50)),0)","v":0},0,{"$f":"IFERROR((SUMIFS(Arquivo!$F$2:$F$20000,Arquivo!$B$2:$B$20000,P$6,Arquivo!$C$2:$C$20000,Q$6,Arquivo!$D$2:$D$20000,$C50)),0)","v":0},0,{"$f":"IFERROR((SUMIFS(Arquivo!$F$2:$F$20000,Arquivo!$B$2:$B$20000,R$6,Arquivo!$C$2:$C$20000,S$6,Arquivo!$D$2:$D$20000,$C50)),0)","v":0},0,{"$f":"IFERROR((SUMIFS(Arquivo!$F$2:$F$20000,Arquivo!$B$2:$B$20000,T$6,Arquivo!$C$2:$C$20000,U$6,Arquivo!$D$2:$D$20000,$C50)),0)","v":0},0,{"$f":"IFERROR((SUMIFS(Arquivo!$F$2:$F$20000,Arquivo!$B$2:$B$20000,V$6,Arquivo!$C$2:$C$20000,W$6,Arquivo!$D$2:$D$20000,$C50)),0)","v":0},0,{"$f":"IFERROR((SUMIFS(Arquivo!$F$2:$F$20000,Arquivo!$B$2:$B$20000,X$6,Arquivo!$C$2:$C$20000,Y$6,Arquivo!$D$2:$D$20000,$C50)),0)","v":0},0,{"$f":"IFERROR((SUMIFS(Arquivo!$F$2:$F$20000,Arquivo!$B$2:$B$20000,Z$6,Arquivo!$C$2:$C$20000,AA$6,Arquivo!$D$2:$D$20000,$C50)),0)","v":0},0,{"$f":"IFERROR((SUMIFS(Arquivo!$F$2:$F$20000,Arquivo!$B$2:$B$20000,AB$6,Arquivo!$C$2:$C$20000,AC$6,Arquivo!$D$2:$D$20000,$C50)),0)","v":0},0,2656.47,4.143858418927244E-4,null,null,"X"]
[null,null,{"$f":"IF('Plano de Contas'!B39=\"\",\"\",'Plano de Contas'!B39)","v":"8.1.1.7"},{"$f":"IF($C51=\"\",\"\",VLOOKUP($C51,'Plano de Contas'!$B$2:$E$200,4,FALSE))","v":"CV"},{"$f":"IF($C51=\"\",\"\",VLOOKUP($C51,'Plano de Contas'!$B$2:$E$200,3,FALSE))","v":"TREINAMENTO DE PESSOAL"},{"$f":"IFERROR((SUMIFS(Arquivo!$F$2:$F$20000,Arquivo!$B$2:$B$20000,F$6,Arquivo!$C$2:$C$20000,G$6,Arquivo!$D$2:$D$20000,$C51)),0)","v":0},0,{"$f":"IFERROR((SUMIFS(Arquivo!$F$2:$F$20000,Arquivo!$B$2:$B$20000,H$6,Arquivo!$C$2:$C$20000,I$6,Arquivo!$D$2:$D$20000,$C51)),0)","v":0},0,{"$f":"IFERROR((SUMIFS(Arquivo!$F$2:$F$20000,Arquivo!$B$2:$B$20000,J$6,Arquivo!$C$2:$C$20000,K$6,Arquivo!$D$2:$D$20000,$C51)),0)","v":0},0,{"$f":"IFERROR((SUMIFS(Arquivo!$F$2:$F$20000,Arquivo!$B$2:$B$20000,L$6,Arquivo!$C$2:$C$20000,M$6,Arquivo!$D$2:$D$20000,$C51)),0)","v":0},0,{"$f":"IFERROR((SUMIFS(Arquivo!$F$2:$F$20000,Arquivo!$B$2:$B$20000,N$6,Arquivo!$C$2:$C$20000,O$6,Arquivo!$D$2:$D$20000,$C51)),0)","v":0},0,{"$f":"IFERROR((SUMIFS(Arquivo!$F$2:$F$20000,Arquivo!$B$2:$B$20000,P$6,Arquivo!$C$2:$C$20000,Q$6,Arquivo!$D$2:$D$20000,$C51)),0)","v":0},0,{"$f":"IFERROR((SUMIFS(Arquivo!$F$2:$F$20000,Arquivo!$B$2:$B$20000,R$6,Arquivo!$C$2:$C$20000,S$6,Arquivo!$D$2:$D$20000,$C51)),0)","v":0},0,{"$f":"IFERROR((SUMIFS(Arquivo!$F$2:$F$20000,Arquivo!$B$2:$B$20000,T$6,Arquivo!$C$2:$C$20000,U$6,Arquivo!$D$2:$D$20000,$C51)),0)","v":0},0,{"$f":"IFERROR((SUMIFS(Arquivo!$F$2:$F$20000,Arquivo!$B$2:$B$20000,V$6,Arquivo!$C$2:$C$20000,W$6,Arquivo!$D$2:$D$20000,$C51)),0)","v":0},0,{"$f":"IFERROR((SUMIFS(Arquivo!$F$2:$F$20000,Arquivo!$B$2:$B$20000,X$6,Arquivo!$C$2:$C$20000,Y$6,Arquivo!$D$2:$D$20000,$C51)),0)","v":0},0,{"$f":"IFERROR((SUMIFS(Arquivo!$F$2:$F$20000,Arquivo!$B$2:$B$20000,Z$6,Arquivo!$C$2:$C$20000,AA$6,Arquivo!$D$2:$D$20000,$C51)),0)","v":0},0,{"$f":"IFERROR((SUMIFS(Arquivo!$F$2:$F$20000,Arquivo!$B$2:$B$20000,AB$6,Arquivo!$C$2:$C$20000,AC$6,Arquivo!$D$2:$D$20000,$C51)),0)","v":0},0,0,0,null,null,""]
[null,null,{"$f":"IF('Plano de Contas'!B40=\"\",\"\",'Plano de Contas'!B40)","v":"8.1.1.8"},{"$f":"IF($C52=\"\",\"\",VLOOKUP($C52,'Plano de Contas'!$B$2:$E$200,4,FALSE))","v":"CV"},{"$f":"IF($C52=\"\",\"\",VLOOKUP($C52,'Plano de Contas'!$B$2:$E$200,3,FALSE))","v":"DESPESA COM VIAGEM"},{"$f":"IFERROR((SUMIFS(Arquivo!$F$2:$F$20000,Arquivo!$B$2:$B$20000,F$6,Arquivo!$C$2:$C$20000,G$6,Arquivo!$D$2:$D$20000,$C52)),0)","v":0},0,{"$f":"IFERROR((SUMIFS(Arquivo!$F$2:$F$20000,Arquivo!$B$2:$B$20000,H$6,Arquivo!$C$2:$C$20000,I$6,Arquivo!$D$2:$D$20000,$C52)),0)","v":0},0,{"$f":"IFERROR((SUMIFS(Arquivo!$F$2:$F$20000,Arquivo!$B$2:$B$20000,J$6,Arquivo!$C$2:$C$20000,K$6,Arquivo!$D$2:$D$20000,$C52)),0)","v":736},5.5619903854648258E-4,{"$f":"IFERROR((SUMIFS(Arquivo!$F$2:$F$20000,Arquivo!$B$2:$B$20000,L$6,Arquivo!$C$2:$C$20000,M$6,Arquivo!$D$2:$D$20000,$C52)),0)","v":0},0,{"$f":"IFERROR((SUMIFS(Arquivo!$F$2:$F$20000,Arquivo!$B$2:$B$20000,N$6,Arquivo!$C$2:$C$20000,O$6,Arquivo!$D$2:$D$20000,$C52)),0)","v":0},0,{"$f":"IFERROR((SUMIFS(Arquivo!$F$2:$F$20000,Arquivo!$B$2:$B$20000,P$6,Arquivo!$C$2:$C$20000,Q$6,Arquivo!$D$2:$D$20000,$C52)),0)","v":0},0,{"$f":"IFERROR((SUMIFS(Arquivo!$F$2:$F$20000,Arquivo!$B$2:$B$20000,R$6,Arquivo!$C$2:$C$20000,S$6,Arquivo!$D$2:$D$20000,$C52)),0)","v":0},0,{"$f":"IFERROR((SUMIFS(Arquivo!$F$2:$F$20000,Arquivo!$B$2:$B$20000,T$6,Arquivo!$C$2:$C$20000,U$6,Arquivo!$D$2:$D$20000,$C52)),0)","v":0},0,{"$f":"IFERROR((SUMIFS(Arquivo!$F$2:$F$20000,Arquivo!$B$2:$B$20000,V$6,Arquivo!$C$2:$C$20000,W$6,Arquivo!$D$2:$D$20000,$C52)),0)","v":0},0,{"$f":"IFERROR((SUMIFS(Arquivo!$F$2:$F$20000,Arquivo!$B$2:$B$20000,X$6,Arquivo!$C$2:$C$20000,Y$6,Arquivo!$D$2:$D$20000,$C52)),0)","v":0},0,{"$f":"IFERROR((SUMIFS(Arquivo!$F$2:$F$20000,Arquivo!$B$2:$B$20000,Z$6,Arquivo!$C$2:$C$20000,AA$6,Arquivo!$D$2:$D$20000,$C52)),0)","v":0},0,{"$f":"IFERROR((SUMIFS(Arquivo!$F$2:$F$20000,Arquivo!$B$2:$B$20000,AB$6,Arquivo!$C$2:$C$20000,AC$6,Arquivo!$D$2:$D$20000,$C52)),0)","v":0},0,736,1.1480949516954648E-4,null,null,"X"]
[null,null,{"$f":"IF('Plano de Contas'!B41=\"\",\"\",'Plano de Contas'!B41)","v":"8.1.1.9"},{"$f":"IF($C53=\"\",\"\",VLOOKUP($C53,'Plano de Contas'!$B$2:$E$200,4,FALSE))","v":"CV"},{"$f":"IF($C53=\"\",\"\",VLOOKUP($C53,'Plano de Contas'!$B$2:$E$200,3,FALSE))","v":"OUTRAS DESP. COM PESSOAL"},{"$f":"IFERROR((SUMIFS(Arquivo!$F$2:$F$20000,Arquivo!$B$2:$B$20000,F$6,Arquivo!$C$2:$C$20000,G$6,Arquivo!$D$2:$D$20000,$C53)),0)","v":699.66},7.2833695666204602E-4,{"$f":"IFERROR((SUMIFS(Arquivo!$F$2:$F$20000,Arquivo!$B$2:$B$20000,H$6,Arquivo!$C$2:$C$20000,I$6,Arquivo!$D$2:$D$20000,$C53)),0)","v":890.26},1.0836608421286086E-3,{"$f":"IFERROR((SUMIFS(Arquivo!$F$2:$F$20000,Arquivo!$B$2:$B$20000,J$6,Arquivo!$C$2:$C$20000,K$6,Arquivo!$D$2:$D$20000,$C53)),0)","v":1475.5},1.1150430453469226E-3,{"$f":"IFERROR((SUMIFS(Arquivo!$F$2:$F$20000,Arquivo!$B$2:$B$20000,L$6,Arquivo!$C$2:$C$20000,M$6,Arquivo!$D$2:$D$20000,$C53)),0)","v":2102.7600000000002},2.0841635298639071E-3,{"$f":"IFERROR((SUMIFS(Arquivo!$F$2:$F$20000,Arquivo!$B$2:$B$20000,N$6,Arquivo!$C$2:$C$20000,O$6,Arquivo!$D$2:$D$20000,$C53)),0)","v":1849.5},2.2982104154225017E-3,{"$f":"IFERROR((SUMIFS(Arquivo!$F$2:$F$20000,Arquivo!$B$2:$B$20000,P$6,Arquivo!$C$2:$C$20000,Q$6,Arquivo!$D$2:$D$20000,$C53)),0)","v":703.75},7.9684626647377049E-4,{"$f":"IFERROR((SUMIFS(Arquivo!$F$2:$F$20000,Arquivo!$B$2:$B$20000,R$6,Arquivo!$C$2:$C$20000,S$6,Arquivo!$D$2:$D$20000,$C53)),0)","v":2076.75},3.4137592043487685E-3,{"$f":"IFERROR((SUMIFS(Arquivo!$F$2:$F$20000,Arquivo!$B$2:$B$20000,T$6,Arquivo!$C$2:$C$20000,U$6,Arquivo!$D$2:$D$20000,$C53)),0)","v":0},0,{"$f":"IFERROR((SUMIFS(Arquivo!$F$2:$F$20000,Arquivo!$B$2:$B$20000,V$6,Arquivo!$C$2:$C$20000,W$6,Arquivo!$D$2:$D$20000,$C53)),0)","v":0},0,{"$f":"IFERROR((SUMIFS(Arquivo!$F$2:$F$20000,Arquivo!$B$2:$B$20000,X$6,Arquivo!$C$2:$C$20000,Y$6,Arquivo!$D$2:$D$20000,$C53)),0)","v":0},0,{"$f":"IFERROR((SUMIFS(Arquivo!$F$2:$F$20000,Arquivo!$B$2:$B$20000,Z$6,Arquivo!$C$2:$C$20000,AA$6,Arquivo!$D$2:$D$20000,$C53)),0)","v":0},0,{"$f":"IFERROR((SUMIFS(Arquivo!$F$2:$F$20000,Arquivo!$B$2:$B$20000,AB$6,Arquivo!$C$2:$C$20000,AC$6,Arquivo!$D$2:$D$20000,$C53)),0)","v":0},0,9798.18,1.5284294828537325E-3,null,null,"X"]
[null,null,{"$f":"IF('Plano de Contas'!B42=\"\",\"\",'Plano de Contas'!B42)","v":"8.1.1.10"},{"$f":"IF($C54=\"\",\"\",VLOOKUP($C54,'Plano de Contas'!$B$2:$E$200,4,FALSE))","v":"CF"},{"$f":"IF($C54=\"\",\"\",VLOOKUP($C54,'Plano de Contas'!$B$2:$E$200,3,FALSE))","v":"FERIAS FUNCIONARIOS"},{"$f":"IFERROR((SUMIFS(Arquivo!$F$2:$F$20000,Arquivo!$B$2:$B$20000,F$6,Arquivo!$C$2:$C$20000,G$6,Arquivo!$D$2:$D$20000,$C54)),0)","v":2132.4699999999998},2.219873524244795E-3,{"$f":"IFERROR((SUMIFS(Arquivo!$F$2:$F$20000,Arquivo!$B$2:$B$20000,H$6,Arquivo!$C$2:$C$20000,I$6,Arquivo!$D$2:$D$20000,$C54)),0)","v":5739.44},6.9862808435138283E-3,{"$f":"IFERROR((SUMIFS(Arquivo!$F$2:$F$20000,Arquivo!$B$2:$B$20000,J$6,Arquivo!$C$2:$C$20000,K$6,Arquivo!$D$2:$D$20000,$C54)),0)","v":4291.07},3.2427839787169226E-3,{"$f":"IFERROR((SUMIFS(Arquivo!$F$2:$F$20000,Arquivo!$B$2:$B$20000,L$6,Arquivo!$C$2:$C$20000,M$6,Arquivo!$D$2:$D$20000,$C54)),0)","v":5026.07},4.9816202479327576E-3,{"$f":"IFERROR((SUMIFS(Arquivo!$F$2:$F$20000,Arquivo!$B$2:$B$20000,N$6,Arquivo!$C$2:$C$20000,O$6,Arquivo!$D$2:$D$20000,$C54)),0)","v":2685.1},3.3365367864022486E-3,{"$f":"IFERROR((SUMIFS(Arquivo!$F$2:$F$20000,Arquivo!$B$2:$B$20000,P$6,Arquivo!$C$2:$C$20000,Q$6,Arquivo!$D$2:$D$20000,$C54)),0)","v":6872},7.7810693331548855E-3,{"$f":"IFERROR((SUMIFS(Arquivo!$F$2:$F$20000,Arquivo!$B$2:$B$20000,R$6,Arquivo!$C$2:$C$20000,S$6,Arquivo!$D$2:$D$20000,$C54)),0)","v":9761.64},1.6046172336361676E-2,{"$f":"IFERROR((SUMIFS(Arquivo!$F$2:$F$20000,Arquivo!$B$2:$B$20000,T$6,Arquivo!$C$2:$C$20000,U$6,Arquivo!$D$2:$D$20000,$C54)),0)","v":0},0,{"$f":"IFERROR((SUMIFS(Arquivo!$F$2:$F$20000,Arquivo!$B$2:$B$20000,V$6,Arquivo!$C$2:$C$20000,W$6,Arquivo!$D$2:$D$20000,$C54)),0)","v":0},0,{"$f":"IFERROR((SUMIFS(Arquivo!$F$2:$F$20000,Arquivo!$B$2:$B$20000,X$6,Arquivo!$C$2:$C$20000,Y$6,Arquivo!$D$2:$D$20000,$C54)),0)","v":0},0,{"$f":"IFERROR((SUMIFS(Arquivo!$F$2:$F$20000,Arquivo!$B$2:$B$20000,Z$6,Arquivo!$C$2:$C$20000,AA$6,Arquivo!$D$2:$D$20000,$C54)),0)","v":0},0,{"$f":"IFERROR((SUMIFS(Arquivo!$F$2:$F$20000,Arquivo!$B$2:$B$20000,AB$6,Arquivo!$C$2:$C$20000,AC$6,Arquivo!$D$2:$D$20000,$C54)),0)","v":0},0,36507.789999999994,5.6948925810540989E-3,null,null,"X"]
[null,null,{"$f":"IF('Plano de Contas'!B43=\"\",\"\",'Plano de Contas'!B43)","v":"8.1.1.11"},{"$f":"IF($C55=\"\",\"\",VLOOKUP($C55,'Plano de Contas'!$B$2:$E$200,4,FALSE))","v":"CF"},{"$f":"IF($C55=\"\",\"\",VLOOKUP($C55,'Plano de Contas'!$B$2:$E$200,3,FALSE))","v":"DECIMO TERCEIRO SALARIO"},{"$f":"IFERROR((SUMIFS(Arquivo!$F$2:$F$20000,Arquivo!$B$2:$B$20000,F$6,Arquivo!$C$2:$C$20000,G$6,Arquivo!$D$2:$D$20000,$C55)),0)","v":0},0,{"$f":"IFERROR((SUMIFS(Arquivo!$F$2:$F$20000,Arquivo!$B$2:$B$20000,H$6,Arquivo!$C$2:$C$20000,I$6,Arquivo!$D$2:$D$20000,$C55)),0)","v":2345.31},2.8548071458367745E-3,{"$f":"IFERROR((SUMIFS(Arquivo!$F$2:$F$20000,Arquivo!$B$2:$B$20000,J$6,Arquivo!$C$2:$C$20000,K$6,Arquivo!$D$2:$D$20000,$C55)),0)","v":1768.29},1.3363059753686952E-3,{"$f":"IFERROR((SUMIFS(Arquivo!$F$2:$F$20000,Arquivo!$B$2:$B$20000,L$6,Arquivo!$C$2:$C$20000,M$6,Arquivo!$D$2:$D$20000,$C55)),0)","v":5221.0600000000004},5.1748857878365813E-3,{"$f":"IFERROR((SUMIFS(Arquivo!$F$2:$F$20000,Arquivo!$B$2:$B$20000,N$6,Arquivo!$C$2:$C$20000,O$6,Arquivo!$D$2:$D$20000,$C55)),0)","v":1151.57},1.4309544028591999E-3,{"$f":"IFERROR((SUMIFS(Arquivo!$F$2:$F$20000,Arquivo!$B$2:$B$20000,P$6,Arquivo!$C$2:$C$20000,Q$6,Arquivo!$D$2:$D$20000,$C55)),0)","v":2849.81},3.2267999412570027E-3,{"$f":"IFERROR((SUMIFS(Arquivo!$F$2:$F$20000,Arquivo!$B$2:$B$20000,R$6,Arquivo!$C$2:$C$20000,S$6,Arquivo!$D$2:$D$20000,$C55)),0)","v":3992.21},6.5623900966381111E-3,{"$f":"IFERROR((SUMIFS(Arquivo!$F$2:$F$20000,Arquivo!$B$2:$B$20000,T$6,Arquivo!$C$2:$C$20000,U$6,Arquivo!$D$2:$D$20000,$C55)),0)","v":0},0,{"$f":"IFERROR((SUMIFS(Arquivo!$F$2:$F$20000,Arquivo!$B$2:$B$20000,V$6,Arquivo!$C$2:$C$20000,W$6,Arquivo!$D$2:$D$20000,$C55)),0)","v":0},0,{"$f":"IFERROR((SUMIFS(Arquivo!$F$2:$F$20000,Arquivo!$B$2:$B$20000,X$6,Arquivo!$C$2:$C$20000,Y$6,Arquivo!$D$2:$D$20000,$C55)),0)","v":0},0,{"$f":"IFERROR((SUMIFS(Arquivo!$F$2:$F$20000,Arquivo!$B$2:$B$20000,Z$6,Arquivo!$C$2:$C$20000,AA$6,Arquivo!$D$2:$D$20000,$C55)),0)","v":0},0,{"$f":"IFERROR((SUMIFS(Arquivo!$F$2:$F$20000,Arquivo!$B$2:$B$20000,AB$6,Arquivo!$C$2:$C$20000,AC$6,Arquivo!$D$2:$D$20000,$C55)),0)","v":0},0,17328.25,2.7030538514561061E-3,null,null,"X"]
[null,null,{"$f":"IF('Plano de Contas'!B44=\"\",\"\",'Plano de Contas'!B44)","v":"8.1.1.12"},{"$f":"IF($C56=\"\",\"\",VLOOKUP($C56,'Plano de Contas'!$B$2:$E$200,4,FALSE))","v":"CV"},{"$f":"IF($C56=\"\",\"\",VLOOKUP($C56,'Plano de Contas'!$B$2:$E$200,3,FALSE))","v":"DISTRIBUICAO DE PLR FUNCIONARIOS"},{"$f":"IFERROR((SUMIFS(Arquivo!$F$2:$F$20000,Arquivo!$B$2:$B$20000,F$6,Arquivo!$C$2:$C$20000,G$6,Arquivo!$D$2:$D$20000,$C56)),0)","v":0},0,{"$f":"IFERROR((SUMIFS(Arquivo!$F$2:$F$20000,Arquivo!$B$2:$B$20000,H$6,Arquivo!$C$2:$C$20000,I$6,Arquivo!$D$2:$D$20000,$C56)),0)","v":0},0,{"$f":"IFERROR((SUMIFS(Arquivo!$F$2:$F$20000,Arquivo!$B$2:$B$20000,J$6,Arquivo!$C$2:$C$20000,K$6,Arquivo!$D$2:$D$20000,$C56)),0)","v":0},0,{"$f":"IFERROR((SUMIFS(Arquivo!$F$2:$F$20000,Arquivo!$B$2:$B$20000,L$6,Arquivo!$C$2:$C$20000,M$6,Arquivo!$D$2:$D$20000,$C56)),0)","v":0},0,{"$f":"IFERROR((SUMIFS(Arquivo!$F$2:$F$20000,Arquivo!$B$2:$B$20000,N$6,Arquivo!$C$2:$C$20000,O$6,Arquivo!$D$2:$D$20000,$C56)),0)","v":0},0,{"$f":"IFERROR((SUMIFS(Arquivo!$F$2:$F$20000,Arquivo!$B$2:$B$20000,P$6,Arquivo!$C$2:$C$20000,Q$6,Arquivo!$D$2:$D$20000,$C56)),0)","v":0},0,{"$f":"IFERROR((SUMIFS(Arquivo!$F$2:$F$20000,Arquivo!$B$2:$B$20000,R$6,Arquivo!$C$2:$C$20000,S$6,Arquivo!$D$2:$D$20000,$C56)),0)","v":0},0,{"$f":"IFERROR((SUMIFS(Arquivo!$F$2:$F$20000,Arquivo!$B$2:$B$20000,T$6,Arquivo!$C$2:$C$20000,U$6,Arquivo!$D$2:$D$20000,$C56)),0)","v":0},0,{"$f":"IFERROR((SUMIFS(Arquivo!$F$2:$F$20000,Arquivo!$B$2:$B$20000,V$6,Arquivo!$C$2:$C$20000,W$6,Arquivo!$D$2:$D$20000,$C56)),0)","v":0},0,{"$f":"IFERROR((SUMIFS(Arquivo!$F$2:$F$20000,Arquivo!$B$2:$B$20000,X$6,Arquivo!$C$2:$C$20000,Y$6,Arquivo!$D$2:$D$20000,$C56)),0)","v":0},0,{"$f":"IFERROR((SUMIFS(Arquivo!$F$2:$F$20000,Arquivo!$B$2:$B$20000,Z$6,Arquivo!$C$2:$C$20000,AA$6,Arquivo!$D$2:$D$20000,$C56)),0)","v":0},0,{"$f":"IFERROR((SUMIFS(Arquivo!$F$2:$F$20000,Arquivo!$B$2:$B$20000,AB$6,Arquivo!$C$2:$C$20000,AC$6,Arquivo!$D$2:$D$20000,$C56)),0)","v":0},0,0,0,null,null,""]
[null,null,{"$f":"IF('Plano de Contas'!B45=\"\",\"\",'Plano de Contas'!B45)","v":"8.1.2.1"},{"$f":"IF($C57=\"\",\"\",VLOOKUP($C57,'Plano de Contas'!$B$2:$E$200,4,FALSE))","v":"CF"},{"$f":"IF($C57=\"\",\"\",VLOOKUP($C57,'Plano de Contas'!$B$2:$E$200,3,FALSE))","v":"INSS"},{"$f":"IFERROR((SUMIFS(Arquivo!$F$2:$F$20000,Arquivo!$B$2:$B$20000,F$6,Arquivo!$C$2:$C$20000,G$6,Arquivo!$D$2:$D$20000,$C57)),0)","v":0},0,{"$f":"IFERROR((SUMIFS(Arquivo!$F$2:$F$20000,Arquivo!$B$2:$B$20000,H$6,Arquivo!$C$2:$C$20000,I$6,Arquivo!$D$2:$D$20000,$C57)),0)","v":0},0,{"$f":"IFERROR((SUMIFS(Arquivo!$F$2:$F$20000,Arquivo!$B$2:$B$20000,J$6,Arquivo!$C$2:$C$20000,K$6,Arquivo!$D$2:$D$20000,$C57)),0)","v":0},0,{"$f":"IFERROR((SUMIFS(Arquivo!$F$2:$F$20000,Arquivo!$B$2:$B$20000,L$6,Arquivo!$C$2:$C$20000,M$6,Arquivo!$D$2:$D$20000,$C57)),0)","v":0},0,{"$f":"IFERROR((SUMIFS(Arquivo!$F$2:$F$20000,Arquivo!$B$2:$B$20000,N$6,Arquivo!$C$2:$C$20000,O$6,Arquivo!$D$2:$D$20000,$C57)),0)","v":0},0,{"$f":"IFERROR((SUMIFS(Arquivo!$F$2:$F$20000,Arquivo!$B$2:$B$20000,P$6,Arquivo!$C$2:$C$20000,Q$6,Arquivo!$D$2:$D$20000,$C57)),0)","v":0},0,{"$f":"IFERROR((SUMIFS(Arquivo!$F$2:$F$20000,Arquivo!$B$2:$B$20000,R$6,Arquivo!$C$2:$C$20000,S$6,Arquivo!$D$2:$D$20000,$C57)),0)","v":0},0,{"$f":"IFERROR((SUMIFS(Arquivo!$F$2:$F$20000,Arquivo!$B$2:$B$20000,T$6,Arquivo!$C$2:$C$20000,U$6,Arquivo!$D$2:$D$20000,$C57)),0)","v":0},0,{"$f":"IFERROR((SUMIFS(Arquivo!$F$2:$F$20000,Arquivo!$B$2:$B$20000,V$6,Arquivo!$C$2:$C$20000,W$6,Arquivo!$D$2:$D$20000,$C57)),0)","v":0},0,{"$f":"IFERROR((SUMIFS(Arquivo!$F$2:$F$20000,Arquivo!$B$2:$B$20000,X$6,Arquivo!$C$2:$C$20000,Y$6,Arquivo!$D$2:$D$20000,$C57)),0)","v":0},0,{"$f":"IFERROR((SUMIFS(Arquivo!$F$2:$F$20000,Arquivo!$B$2:$B$20000,Z$6,Arquivo!$C$2:$C$20000,AA$6,Arquivo!$D$2:$D$20000,$C57)),0)","v":0},0,{"$f":"IFERROR((SUMIFS(Arquivo!$F$2:$F$20000,Arquivo!$B$2:$B$20000,AB$6,Arquivo!$C$2:$C$20000,AC$6,Arquivo!$D$2:$D$20000,$C57)),0)","v":0},0,0,0,null,null,""]
[null,null,{"$f":"IF('Plano de Contas'!B46=\"\",\"\",'Plano de Contas'!B46)","v":"8.1.2.2"},{"$f":"IF($C58=\"\",\"\",VLOOKUP($C58,'Plano de Contas'!$B$2:$E$200,4,FALSE))","v":"CF"},{"$f":"IF($C58=\"\",\"\",VLOOKUP($C58,'Plano de Contas'!$B$2:$E$200,3,FALSE))","v":"FGTS"},{"$f":"IFERROR((SUMIFS(Arquivo!$F$2:$F$20000,Arquivo!$B$2:$B$20000,F$6,Arquivo!$C$2:$C$20000,G$6,Arquivo!$D$2:$D$20000,$C58)),0)","v":4051.3},4.2173505881784685E-3,{"$f":"IFERROR((SUMIFS(Arquivo!$F$2:$F$20000,Arquivo!$B$2:$B$20000,H$6,Arquivo!$C$2:$C$20000,I$6,Arquivo!$D$2:$D$20000,$C58)),0)","v":4595.4399999999996},5.5937573072489975E-3,{"$f":"IFERROR((SUMIFS(Arquivo!$F$2:$F$20000,Arquivo!$B$2:$B$20000,J$6,Arquivo!$C$2:$C$20000,K$6,Arquivo!$D$2:$D$20000,$C58)),0)","v":12844.94},9.7069881497109465E-3,{"$f":"IFERROR((SUMIFS(Arquivo!$F$2:$F$20000,Arquivo!$B$2:$B$20000,L$6,Arquivo!$C$2:$C$20000,M$6,Arquivo!$D$2:$D$20000,$C58)),0)","v":4729.5600000000004},4.6877325345275446E-3,{"$f":"IFERROR((SUMIFS(Arquivo!$F$2:$F$20000,Arquivo!$B$2:$B$20000,N$6,Arquivo!$C$2:$C$20000,O$6,Arquivo!$D$2:$D$20000,$C58)),0)","v":4086.59},5.0780447156320314E-3,{"$f":"IFERROR((SUMIFS(Arquivo!$F$2:$F$20000,Arquivo!$B$2:$B$20000,P$6,Arquivo!$C$2:$C$20000,Q$6,Arquivo!$D$2:$D$20000,$C58)),0)","v":4361.6400000000003},4.9386238716911633E-3,{"$f":"IFERROR((SUMIFS(Arquivo!$F$2:$F$20000,Arquivo!$B$2:$B$20000,R$6,Arquivo!$C$2:$C$20000,S$6,Arquivo!$D$2:$D$20000,$C58)),0)","v":4469.8},7.3474519762119304E-3,{"$f":"IFERROR((SUMIFS(Arquivo!$F$2:$F$20000,Arquivo!$B$2:$B$20000,T$6,Arquivo!$C$2:$C$20000,U$6,Arquivo!$D$2:$D$20000,$C58)),0)","v":0},0,{"$f":"IFERROR((SUMIFS(Arquivo!$F$2:$F$20000,Arquivo!$B$2:$B$20000,V$6,Arquivo!$C$2:$C$20000,W$6,Arquivo!$D$2:$D$20000,$C58)),0)","v":0},0,{"$f":"IFERROR((SUMIFS(Arquivo!$F$2:$F$20000,Arquivo!$B$2:$B$20000,X$6,Arquivo!$C$2:$C$20000,Y$6,Arquivo!$D$2:$D$20000,$C58)),0)","v":0},0,{"$f":"IFERROR((SUMIFS(Arquivo!$F$2:$F$20000,Arquivo!$B$2:$B$20000,Z$6,Arquivo!$C$2:$C$20000,AA$6,Arquivo!$D$2:$D$20000,$C58)),0)","v":0},0,{"$f":"IFERROR((SUMIFS(Arquivo!$F$2:$F$20000,Arquivo!$B$2:$B$20000,AB$6,Arquivo!$C$2:$C$20000,AC$6,Arquivo!$D$2:$D$20000,$C58)),0)","v":0},0,39139.270000000004,6.1053802038105653E-3,null,null,"X"]
[null,null,{"$f":"IF('Plano de Contas'!B47=\"\",\"\",'Plano de Contas'!B47)","v":"8.1.2.3"},{"$f":"IF($C59=\"\",\"\",VLOOKUP($C59,'Plano de Contas'!$B$2:$E$200,4,FALSE))","v":"CF"},{"$f":"IF($C59=\"\",\"\",VLOOKUP($C59,'Plano de Contas'!$B$2:$E$200,3,FALSE))","v":"CONTRIBUICAO SOCIAL"},{"$f":"IFERROR((SUMIFS(Arquivo!$F$2:$F$20000,Arquivo!$B$2:$B$20000,F$6,Arquivo!$C$2:$C$20000,G$6,Arquivo!$D$2:$D$20000,$C59)),0)","v":0},0,{"$f":"IFERROR((SUMIFS(Arquivo!$F$2:$F$20000,Arquivo!$B$2:$B$20000,H$6,Arquivo!$C$2:$C$20000,I$6,Arquivo!$D$2:$D$20000,$C59)),0)","v":0},0,{"$f":"IFERROR((SUMIFS(Arquivo!$F$2:$F$20000,Arquivo!$B$2:$B$20000,J$6,Arquivo!$C$2:$C$20000,K$6,Arquivo!$D$2:$D$20000,$C59)),0)","v":0},0,{"$f":"IFERROR((SUMIFS(Arquivo!$F$2:$F$20000,Arquivo!$B$2:$B$20000,L$6,Arquivo!$C$2:$C$20000,M$6,Arquivo!$D$2:$D$20000,$C59)),0)","v":0},0,{"$f":"IFERROR((SUMIFS(Arquivo!$F$2:$F$20000,Arquivo!$B$2:$B$20000,N$6,Arquivo!$C$2:$C$20000,O$6,Arquivo!$D$2:$D$20000,$C59)),0)","v":3101.84},3.8543828034464087E-3,{"$f":"IFERROR((SUMIFS(Arquivo!$F$2:$F$20000,Arquivo!$B$2:$B$20000,P$6,Arquivo!$C$2:$C$20000,Q$6,Arquivo!$D$2:$D$20000,$C59)),0)","v":0},0,{"$f":"IFERROR((SUMIFS(Arquivo!$F$2:$F$20000,Arquivo!$B$2:$B$20000,R$6,Arquivo!$C$2:$C$20000,S$6,Arquivo!$D$2:$D$20000,$C59)),0)","v":0},0,{"$f":"IFERROR((SUMIFS(Arquivo!$F$2:$F$20000,Arquivo!$B$2:$B$20000,T$6,Arquivo!$C$2:$C$20000,U$6,Arquivo!$D$2:$D$20000,$C59)),0)","v":0},0,{"$f":"IFERROR((SUMIFS(Arquivo!$F$2:$F$20000,Arquivo!$B$2:$B$20000,V$6,Arquivo!$C$2:$C$20000,W$6,Arquivo!$D$2:$D$20000,$C59)),0)","v":0},0,{"$f":"IFERROR((SUMIFS(Arquivo!$F$2:$F$20000,Arquivo!$B$2:$B$20000,X$6,Arquivo!$C$2:$C$20000,Y$6,Arquivo!$D$2:$D$20000,$C59)),0)","v":0},0,{"$f":"IFERROR((SUMIFS(Arquivo!$F$2:$F$20000,Arquivo!$B$2:$B$20000,Z$6,Arquivo!$C$2:$C$20000,AA$6,Arquivo!$D$2:$D$20000,$C59)),0)","v":0},0,{"$f":"IFERROR((SUMIFS(Arquivo!$F$2:$F$20000,Arquivo!$B$2:$B$20000,AB$6,Arquivo!$C$2:$C$20000,AC$6,Arquivo!$D$2:$D$20000,$C59)),0)","v":0},0,3101.84,4.8385962567487243E-4,null,null,"X"]
[null,null,{"$f":"IF('Plano de Contas'!B48=\"\",\"\",'Plano de Contas'!B48)","v":"8.1.2.4"},{"$f":"IF($C60=\"\",\"\",VLOOKUP($C60,'Plano de Contas'!$B$2:$E$200,4,FALSE))","v":"CF"},{"$f":"IF($C60=\"\",\"\",VLOOKUP($C60,'Plano de Contas'!$B$2:$E$200,3,FALSE))","v":"INSS ADMINISTRACAO/CAMARA"},{"$f":"IFERROR((SUMIFS(Arquivo!$F$2:$F$20000,Arquivo!$B$2:$B$20000,F$6,Arquivo!$C$2:$C$20000,G$6,Arquivo!$D$2:$D$20000,$C60)),0)","v":6703.71},6.9784748874380763E-3,{"$f":"IFERROR((SUMIFS(Arquivo!$F$2:$F$20000,Arquivo!$B$2:$B$20000,H$6,Arquivo!$C$2:$C$20000,I$6,Arquivo!$D$2:$D$20000,$C60)),0)","v":6810.67},8.2902257628783178E-3,{"$f":"IFERROR((SUMIFS(Arquivo!$F$2:$F$20000,Arquivo!$B$2:$B$20000,J$6,Arquivo!$C$2:$C$20000,K$6,Arquivo!$D$2:$D$20000,$C60)),0)","v":6282.22},4.7475064183933212E-3,{"$f":"IFERROR((SUMIFS(Arquivo!$F$2:$F$20000,Arquivo!$B$2:$B$20000,L$6,Arquivo!$C$2:$C$20000,M$6,Arquivo!$D$2:$D$20000,$C60)),0)","v":6639.33},6.5806128368103506E-3,{"$f":"IFERROR((SUMIFS(Arquivo!$F$2:$F$20000,Arquivo!$B$2:$B$20000,N$6,Arquivo!$C$2:$C$20000,O$6,Arquivo!$D$2:$D$20000,$C60)),0)","v":6396.87},7.9488257691828802E-3,{"$f":"IFERROR((SUMIFS(Arquivo!$F$2:$F$20000,Arquivo!$B$2:$B$20000,P$6,Arquivo!$C$2:$C$20000,Q$6,Arquivo!$D$2:$D$20000,$C60)),0)","v":6369.58},7.2121862053371203E-3,{"$f":"IFERROR((SUMIFS(Arquivo!$F$2:$F$20000,Arquivo!$B$2:$B$20000,R$6,Arquivo!$C$2:$C$20000,S$6,Arquivo!$D$2:$D$20000,$C60)),0)","v":6575.02},1.0808010133033463E-2,{"$f":"IFERROR((SUMIFS(Arquivo!$F$2:$F$20000,Arquivo!$B$2:$B$20000,T$6,Arquivo!$C$2:$C$20000,U$6,Arquivo!$D$2:$D$20000,$C60)),0)","v":0},0,{"$f":"IFERROR((SUMIFS(Arquivo!$F$2:$F$20000,Arquivo!$B$2:$B$20000,V$6,Arquivo!$C$2:$C$20000,W$6,Arquivo!$D$2:$D$20000,$C60)),0)","v":0},0,{"$f":"IFERROR((SUMIFS(Arquivo!$F$2:$F$20000,Arquivo!$B$2:$B$20000,X$6,Arquivo!$C$2:$C$20000,Y$6,Arquivo!$D$2:$D$20000,$C60)),0)","v":0},0,{"$f":"IFERROR((SUMIFS(Arquivo!$F$2:$F$20000,Arquivo!$B$2:$B$20000,Z$6,Arquivo!$C$2:$C$20000,AA$6,Arquivo!$D$2:$D$20000,$C60)),0)","v":0},0,{"$f":"IFERROR((SUMIFS(Arquivo!$F$2:$F$20000,Arquivo!$B$2:$B$20000,AB$6,Arquivo!$C$2:$C$20000,AC$6,Arquivo!$D$2:$D$20000,$C60)),0)","v":0},0,45777.400000000009,7.1408698154543458E-3,null,null,"X"]
[null,null,{"$f":"IF('Plano de Contas'!B49=\"\",\"\",'Plano de Contas'!B49)","v":"8.1.2.5"},{"$f":"IF($C61=\"\",\"\",VLOOKUP($C61,'Plano de Contas'!$B$2:$E$200,4,FALSE))","v":"CF"},{"$f":"IF($C61=\"\",\"\",VLOOKUP($C61,'Plano de Contas'!$B$2:$E$200,3,FALSE))","v":"INSS COLHEITADORES"},{"$f":"IFERROR((SUMIFS(Arquivo!$F$2:$F$20000,Arquivo!$B$2:$B$20000,F$6,Arquivo!$C$2:$C$20000,G$6,Arquivo!$D$2:$D$20000,$C61)),0)","v":3717.77},3.8701501977667081E-3,{"$f":"IFERROR((SUMIFS(Arquivo!$F$2:$F$20000,Arquivo!$B$2:$B$20000,H$6,Arquivo!$C$2:$C$20000,I$6,Arquivo!$D$2:$D$20000,$C61)),0)","v":4365.72},5.3141327384109245E-3,{"$f":"IFERROR((SUMIFS(Arquivo!$F$2:$F$20000,Arquivo!$B$2:$B$20000,J$6,Arquivo!$C$2:$C$20000,K$6,Arquivo!$D$2:$D$20000,$C61)),0)","v":4264.7},3.2228560321863916E-3,{"$f":"IFERROR((SUMIFS(Arquivo!$F$2:$F$20000,Arquivo!$B$2:$B$20000,L$6,Arquivo!$C$2:$C$20000,M$6,Arquivo!$D$2:$D$20000,$C61)),0)","v":4073.82},4.0377917932765423E-3,{"$f":"IFERROR((SUMIFS(Arquivo!$F$2:$F$20000,Arquivo!$B$2:$B$20000,N$6,Arquivo!$C$2:$C$20000,O$6,Arquivo!$D$2:$D$20000,$C61)),0)","v":3664.55},4.5536128563593023E-3,{"$f":"IFERROR((SUMIFS(Arquivo!$F$2:$F$20000,Arquivo!$B$2:$B$20000,P$6,Arquivo!$C$2:$C$20000,Q$6,Arquivo!$D$2:$D$20000,$C61)),0)","v":4103.58},4.6464261487409375E-3,{"$f":"IFERROR((SUMIFS(Arquivo!$F$2:$F$20000,Arquivo!$B$2:$B$20000,R$6,Arquivo!$C$2:$C$20000,S$6,Arquivo!$D$2:$D$20000,$C61)),0)","v":4064.82},6.6817463291301135E-3,{"$f":"IFERROR((SUMIFS(Arquivo!$F$2:$F$20000,Arquivo!$B$2:$B$20000,T$6,Arquivo!$C$2:$C$20000,U$6,Arquivo!$D$2:$D$20000,$C61)),0)","v":0},0,{"$f":"IFERROR((SUMIFS(Arquivo!$F$2:$F$20000,Arquivo!$B$2:$B$20000,V$6,Arquivo!$C$2:$C$20000,W$6,Arquivo!$D$2:$D$20000,$C61)),0)","v":0},0,{"$f":"IFERROR((SUMIFS(Arquivo!$F$2:$F$20000,Arquivo!$B$2:$B$20000,X$6,Arquivo!$C$2:$C$20000,Y$6,Arquivo!$D$2:$D$20000,$C61)),0)","v":0},0,{"$f":"IFERROR((SUMIFS(Arquivo!$F$2:$F$20000,Arquivo!$B$2:$B$20000,Z$6,Arquivo!$C$2:$C$20000,AA$6,Arquivo!$D$2:$D$20000,$C61)),0)","v":0},0,{"$f":"IFERROR((SUMIFS(Arquivo!$F$2:$F$20000,Arquivo!$B$2:$B$20000,AB$6,Arquivo!$C$2:$C$20000,AC$6,Arquivo!$D$2:$D$20000,$C61)),0)","v":0},0,28254.959999999999,4.4075240402659368E-3,null,null,"X"]
[null,null,{"$f":"IF('Plano de Contas'!B50=\"\",\"\",'Plano de Contas'!B50)","v":"8.4.1.2"},{"$f":"IF($C62=\"\",\"\",VLOOKUP($C62,'Plano de Contas'!$B$2:$E$200,4,FALSE))","v":"CV"},{"$f":"IF($C62=\"\",\"\",VLOOKUP($C62,'Plano de Contas'!$B$2:$E$200,3,FALSE))","v":"BRINDES C/ APOSENTADORIA FUNCIONARIOS"},{"$f":"IFERROR((SUMIFS(Arquivo!$F$2:$F$20000,Arquivo!$B$2:$B$20000,F$6,Arquivo!$C$2:$C$20000,G$6,Arquivo!$D$2:$D$20000,$C62)),0)","v":0},0,{"$f":"IFERROR((SUMIFS(Arquivo!$F$2:$F$20000,Arquivo!$B$2:$B$20000,H$6,Arquivo!$C$2:$C$20000,I$6,Arquivo!$D$2:$D$20000,$C62)),0)","v":0},0,{"$f":"IFERROR((SUMIFS(Arquivo!$F$2:$F$20000,Arquivo!$B$2:$B$20000,J$6,Arquivo!$C$2:$C$20000,K$6,Arquivo!$D$2:$D$20000,$C62)),0)","v":0},0,{"$f":"IFERROR((SUMIFS(Arquivo!$F$2:$F$20000,Arquivo!$B$2:$B$20000,L$6,Arquivo!$C$2:$C$20000,M$6,Arquivo!$D$2:$D$20000,$C62)),0)","v":0},0,{"$f":"IFERROR((SUMIFS(Arquivo!$F$2:$F$20000,Arquivo!$B$2:$B$20000,N$6,Arquivo!$C$2:$C$20000,O$6,Arquivo!$D$2:$D$20000,$C62)),0)","v":0},0,{"$f":"IFERROR((SUMIFS(Arquivo!$F$2:$F$20000,Arquivo!$B$2:$B$20000,P$6,Arquivo!$C$2:$C$20000,Q$6,Arquivo!$D$2:$D$20000,$C62)),0)","v":0},0,{"$f":"IFERROR((SUMIFS(Arquivo!$F$2:$F$20000,Arquivo!$B$2:$B$20000,R$6,Arquivo!$C$2:$C$20000,S$6,Arquivo!$D$2:$D$20000,$C62)),0)","v":0},0,{"$f":"IFERROR((SUMIFS(Arquivo!$F$2:$F$20000,Arquivo!$B$2:$B$20000,T$6,Arquivo!$C$2:$C$20000,U$6,Arquivo!$D$2:$D$20000,$C62)),0)","v":0},0,{"$f":"IFERROR((SUMIFS(Arquivo!$F$2:$F$20000,Arquivo!$B$2:$B$20000,V$6,Arquivo!$C$2:$C$20000,W$6,Arquivo!$D$2:$D$20000,$C62)),0)","v":0},0,{"$f":"IFERROR((SUMIFS(Arquivo!$F$2:$F$20000,Arquivo!$B$2:$B$20000,X$6,Arquivo!$C$2:$C$20000,Y$6,Arquivo!$D$2:$D$20000,$C62)),0)","v":0},0,{"$f":"IFERROR((SUMIFS(Arquivo!$F$2:$F$20000,Arquivo!$B$2:$B$20000,Z$6,Arquivo!$C$2:$C$20000,AA$6,Arquivo!$D$2:$D$20000,$C62)),0)","v":0},0,{"$f":"IFERROR((SUMIFS(Arquivo!$F$2:$F$20000,Arquivo!$B$2:$B$20000,AB$6,Arquivo!$C$2:$C$20000,AC$6,Arquivo!$D$2:$D$20000,$C62)),0)","v":0},0,0,0,null,null,""]
[null,null,{"$f":"IF('Plano de Contas'!B51=\"\",\"\",'Plano de Contas'!B51)","v":"6.1.1.3"},{"$f":"IF($C63=\"\",\"\",VLOOKUP($C63,'Plano de Contas'!$B$2:$E$200,4,FALSE))","v":"CV"},{"$f":"IF($C63=\"\",\"\",VLOOKUP($C63,'Plano de Contas'!$B$2:$E$200,3,FALSE))","v":"FUNRURAL"},{"$f":"IFERROR((SUMIFS(Arquivo!$F$2:$F$20000,Arquivo!$B$2:$B$20000,F$6,Arquivo!$C$2:$C$20000,G$6,Arquivo!$D$2:$D$20000,$C63)),0)","v":11943.72},1.2433257119205917E-2,{"$f":"IFERROR((SUMIFS(Arquivo!$F$2:$F$20000,Arquivo!$B$2:$B$20000,H$6,Arquivo!$C$2:$C$20000,I$6,Arquivo!$D$2:$D$20000,$C63)),0)","v":9381.83},1.1419946755450591E-2,{"$f":"IFERROR((SUMIFS(Arquivo!$F$2:$F$20000,Arquivo!$B$2:$B$20000,J$6,Arquivo!$C$2:$C$20000,K$6,Arquivo!$D$2:$D$20000,$C63)),0)","v":15516.45},1.1725862189748058E-2,{"$f":"IFERROR((SUMIFS(Arquivo!$F$2:$F$20000,Arquivo!$B$2:$B$20000,L$6,Arquivo!$C$2:$C$20000,M$6,Arquivo!$D$2:$D$20000,$C63)),0)","v":11998.92},1.1892803487680301E-2,{"$f":"IFERROR((SUMIFS(Arquivo!$F$2:$F$20000,Arquivo!$B$2:$B$20000,N$6,Arquivo!$C$2:$C$20000,O$6,Arquivo!$D$2:$D$20000,$C63)),0)","v":9972.9699999999993},1.2392529617029547E-2,{"$f":"IFERROR((SUMIFS(Arquivo!$F$2:$F$20000,Arquivo!$B$2:$B$20000,P$6,Arquivo!$C$2:$C$20000,Q$6,Arquivo!$D$2:$D$20000,$C63)),0)","v":10508.04},1.1898106489459381E-2,{"$f":"IFERROR((SUMIFS(Arquivo!$F$2:$F$20000,Arquivo!$B$2:$B$20000,R$6,Arquivo!$C$2:$C$20000,S$6,Arquivo!$D$2:$D$20000,$C63)),0)","v":6299.63},1.0355324375342066E-2,{"$f":"IFERROR((SUMIFS(Arquivo!$F$2:$F$20000,Arquivo!$B$2:$B$20000,T$6,Arquivo!$C$2:$C$20000,U$6,Arquivo!$D$2:$D$20000,$C63)),0)","v":0},0,{"$f":"IFERROR((SUMIFS(Arquivo!$F$2:$F$20000,Arquivo!$B$2:$B$20000,V$6,Arquivo!$C$2:$C$20000,W$6,Arquivo!$D$2:$D$20000,$C63)),0)","v":0},0,{"$f":"IFERROR((SUMIFS(Arquivo!$F$2:$F$20000,Arquivo!$B$2:$B$20000,X$6,Arquivo!$C$2:$C$20000,Y$6,Arquivo!$D$2:$D$20000,$C63)),0)","v":0},0,{"$f":"IFERROR((SUMIFS(Arquivo!$F$2:$F$20000,Arquivo!$B$2:$B$20000,Z$6,Arquivo!$C$2:$C$20000,AA$6,Arquivo!$D$2:$D$20000,$C63)),0)","v":0},0,{"$f":"IFERROR((SUMIFS(Arquivo!$F$2:$F$20000,Arquivo!$B$2:$B$20000,AB$6,Arquivo!$C$2:$C$20000,AC$6,Arquivo!$D$2:$D$20000,$C63)),0)","v":0},0,75621.56,1.1796295010235828E-2,null,null,"X"]
[null,null,{"$f":"IF('Plano de Contas'!B52=\"\",\"\",'Plano de Contas'!B52)","v":""},{"$f":"IF($C64=\"\",\"\",VLOOKUP($C64,'Plano de Contas'!$B$2:$E$200,4,FALSE))","v":""},{"$f":"IF($C64=\"\",\"\",VLOOKUP($C64,'Plano de Contas'!$B$2:$E$200,3,FALSE))","v":""},{"$f":"IFERROR((SUMIFS(Arquivo!$F$2:$F$20000,Arquivo!$B$2:$B$20000,F$6,Arquivo!$C$2:$C$20000,G$6,Arquivo!$D$2:$D$20000,$C64)),0)","v":0},0,{"$f":"IFERROR((SUMIFS(Arquivo!$F$2:$F$20000,Arquivo!$B$2:$B$20000,H$6,Arquivo!$C$2:$C$20000,I$6,Arquivo!$D$2:$D$20000,$C64)),0)","v":0},0,{"$f":"IFERROR((SUMIFS(Arquivo!$F$2:$F$20000,Arquivo!$B$2:$B$20000,J$6,Arquivo!$C$2:$C$20000,K$6,Arquivo!$D$2:$D$20000,$C64)),0)","v":0},0,{"$f":"IFERROR((SUMIFS(Arquivo!$F$2:$F$20000,Arquivo!$B$2:$B$20000,L$6,Arquivo!$C$2:$C$20000,M$6,Arquivo!$D$2:$D$20000,$C64)),0)","v":0},0,{"$f":"IFERROR((SUMIFS(Arquivo!$F$2:$F$20000,Arquivo!$B$2:$B$20000,N$6,Arquivo!$C$2:$C$20000,O$6,Arquivo!$D$2:$D$20000,$C64)),0)","v":0},0,{"$f":"IFERROR((SUMIFS(Arquivo!$F$2:$F$20000,Arquivo!$B$2:$B$20000,P$6,Arquivo!$C$2:$C$20000,Q$6,Arquivo!$D$2:$D$20000,$C64)),0)","v":0},0,{"$f":"IFERROR((SUMIFS(Arquivo!$F$2:$F$20000,Arquivo!$B$2:$B$20000,R$6,Arquivo!$C$2:$C$20000,S$6,Arquivo!$D$2:$D$20000,$C64)),0)","v":0},0,{"$f":"IFERROR((SUMIFS(Arquivo!$F$2:$F$20000,Arquivo!$B$2:$B$20000,T$6,Arquivo!$C$2:$C$20000,U$6,Arquivo!$D$2:$D$20000,$C64)),0)","v":0},0,{"$f":"IFERROR((SUMIFS(Arquivo!$F$2:$F$20000,Arquivo!$B$2:$B$20000,V$6,Arquivo!$C$2:$C$20000,W$6,Arquivo!$D$2:$D$20000,$C64)),0)","v":0},0,{"$f":"IFERROR((SUMIFS(Arquivo!$F$2:$F$20000,Arquivo!$B$2:$B$20000,X$6,Arquivo!$C$2:$C$20000,Y$6,Arquivo!$D$2:$D$20000,$C64)),0)","v":0},0,{"$f":"IFERROR((SUMIFS(Arquivo!$F$2:$F$20000,Arquivo!$B$2:$B$20000,Z$6,Arquivo!$C$2:$C$20000,AA$6,Arquivo!$D$2:$D$20000,$C64)),0)","v":0},0,{"$f":"IFERROR((SUMIFS(Arquivo!$F$2:$F$20000,Arquivo!$B$2:$B$20000,AB$6,Arquivo!$C$2:$C$20000,AC$6,Arquivo!$D$2:$D$20000,$C64)),0)","v":0},0,0,0,null,null,""]
[null,null,{"$f":"IF('Plano de Contas'!B53=\"\",\"\",'Plano de Contas'!B53)","v":""},{"$f":"IF($C65=\"\",\"\",VLOOKUP($C65,'Plano de Contas'!$B$2:$E$200,4,FALSE))","v":""},{"$f":"IF($C65=\"\",\"\",VLOOKUP($C65,'Plano de Contas'!$B$2:$E$200,3,FALSE))","v":""},{"$f":"IFERROR((SUMIFS(Arquivo!$F$2:$F$20000,Arquivo!$B$2:$B$20000,F$6,Arquivo!$C$2:$C$20000,G$6,Arquivo!$D$2:$D$20000,$C65)),0)","v":0},0,{"$f":"IFERROR((SUMIFS(Arquivo!$F$2:$F$20000,Arquivo!$B$2:$B$20000,H$6,Arquivo!$C$2:$C$20000,I$6,Arquivo!$D$2:$D$20000,$C65)),0)","v":0},0,{"$f":"IFERROR((SUMIFS(Arquivo!$F$2:$F$20000,Arquivo!$B$2:$B$20000,J$6,Arquivo!$C$2:$C$20000,K$6,Arquivo!$D$2:$D$20000,$C65)),0)","v":0},0,{"$f":"IFERROR((SUMIFS(Arquivo!$F$2:$F$20000,Arquivo!$B$2:$B$20000,L$6,Arquivo!$C$2:$C$20000,M$6,Arquivo!$D$2:$D$20000,$C65)),0)","v":0},0,{"$f":"IFERROR((SUMIFS(Arquivo!$F$2:$F$20000,Arquivo!$B$2:$B$20000,N$6,Arquivo!$C$2:$C$20000,O$6,Arquivo!$D$2:$D$20000,$C65)),0)","v":0},0,{"$f":"IFERROR((SUMIFS(Arquivo!$F$2:$F$20000,Arquivo!$B$2:$B$20000,P$6,Arquivo!$C$2:$C$20000,Q$6,Arquivo!$D$2:$D$20000,$C65)),0)","v":0},0,{"$f":"IFERROR((SUMIFS(Arquivo!$F$2:$F$20000,Arquivo!$B$2:$B$20000,R$6,Arquivo!$C$2:$C$20000,S$6,Arquivo!$D$2:$D$20000,$C65)),0)","v":0},0,{"$f":"IFERROR((SUMIFS(Arquivo!$F$2:$F$20000,Arquivo!$B$2:$B$20000,T$6,Arquivo!$C$2:$C$20000,U$6,Arquivo!$D$2:$D$20000,$C65)),0)","v":0},0,{"$f":"IFERROR((SUMIFS(Arquivo!$F$2:$F$20000,Arquivo!$B$2:$B$20000,V$6,Arquivo!$C$2:$C$20000,W$6,Arquivo!$D$2:$D$20000,$C65)),0)","v":0},0,{"$f":"IFERROR((SUMIFS(Arquivo!$F$2:$F$20000,Arquivo!$B$2:$B$20000,X$6,Arquivo!$C$2:$C$20000,Y$6,Arquivo!$D$2:$D$20000,$C65)),0)","v":0},0,{"$f":"IFERROR((SUMIFS(Arquivo!$F$2:$F$20000,Arquivo!$B$2:$B$20000,Z$6,Arquivo!$C$2:$C$20000,AA$6,Arquivo!$D$2:$D$20000,$C65)),0)","v":0},0,{"$f":"IFERROR((SUMIFS(Arquivo!$F$2:$F$20000,Arquivo!$B$2:$B$20000,AB$6,Arquivo!$C$2:$C$20000,AC$6,Arquivo!$D$2:$D$20000,$C65)),0)","v":0},0,0,0,null,null,""]
[null,null,{"$f":"IF('Plano de Contas'!B54=\"\",\"\",'Plano de Contas'!B54)","v":""},{"$f":"IF($C66=\"\",\"\",VLOOKUP($C66,'Plano de Contas'!$B$2:$E$200,4,FALSE))","v":""},{"$f":"IF($C66=\"\",\"\",VLOOKUP($C66,'Plano de Contas'!$B$2:$E$200,3,FALSE))","v":""},{"$f":"IFERROR((SUMIFS(Arquivo!$F$2:$F$20000,Arquivo!$B$2:$B$20000,F$6,Arquivo!$C$2:$C$20000,G$6,Arquivo!$D$2:$D$20000,$C66)),0)","v":0},0,{"$f":"IFERROR((SUMIFS(Arquivo!$F$2:$F$20000,Arquivo!$B$2:$B$20000,H$6,Arquivo!$C$2:$C$20000,I$6,Arquivo!$D$2:$D$20000,$C66)),0)","v":0},0,{"$f":"IFERROR((SUMIFS(Arquivo!$F$2:$F$20000,Arquivo!$B$2:$B$20000,J$6,Arquivo!$C$2:$C$20000,K$6,Arquivo!$D$2:$D$20000,$C66)),0)","v":0},0,{"$f":"IFERROR((SUMIFS(Arquivo!$F$2:$F$20000,Arquivo!$B$2:$B$20000,L$6,Arquivo!$C$2:$C$20000,M$6,Arquivo!$D$2:$D$20000,$C66)),0)","v":0},0,{"$f":"IFERROR((SUMIFS(Arquivo!$F$2:$F$20000,Arquivo!$B$2:$B$20000,N$6,Arquivo!$C$2:$C$20000,O$6,Arquivo!$D$2:$D$20000,$C66)),0)","v":0},0,{"$f":"IFERROR((SUMIFS(Arquivo!$F$2:$F$20000,Arquivo!$B$2:$B$20000,P$6,Arquivo!$C$2:$C$20000,Q$6,Arquivo!$D$2:$D$20000,$C66)),0)","v":0},0,{"$f":"IFERROR((SUMIFS(Arquivo!$F$2:$F$20000,Arquivo!$B$2:$B$20000,R$6,Arquivo!$C$2:$C$20000,S$6,Arquivo!$D$2:$D$20000,$C66)),0)","v":0},0,{"$f":"IFERROR((SUMIFS(Arquivo!$F$2:$F$20000,Arquivo!$B$2:$B$20000,T$6,Arquivo!$C$2:$C$20000,U$6,Arquivo!$D$2:$D$20000,$C66)),0)","v":0},0,{"$f":"IFERROR((SUMIFS(Arquivo!$F$2:$F$20000,Arquivo!$B$2:$B$20000,V$6,Arquivo!$C$2:$C$20000,W$6,Arquivo!$D$2:$D$20000,$C66)),0)","v":0},0,{"$f":"IFERROR((SUMIFS(Arquivo!$F$2:$F$20000,Arquivo!$B$2:$B$20000,X$6,Arquivo!$C$2:$C$20000,Y$6,Arquivo!$D$2:$D$20000,$C66)),0)","v":0},0,{"$f":"IFERROR((SUMIFS(Arquivo!$F$2:$F$20000,Arquivo!$B$2:$B$20000,Z$6,Arquivo!$C$2:$C$20000,AA$6,Arquivo!$D$2:$D$20000,$C66)),0)","v":0},0,{"$f":"IFERROR((SUMIFS(Arquivo!$F$2:$F$20000,Arquivo!$B$2:$B$20000,AB$6,Arquivo!$C$2:$C$20000,AC$6,Arquivo!$D$2:$D$20000,$C66)),0)","v":0},0,0,0,null,null,""]
[null,null,{"$f":"IF('Plano de Contas'!B55=\"\",\"\",'Plano de Contas'!B55)","v":""},{"$f":"IF($C67=\"\",\"\",VLOOKUP($C67,'Plano de Contas'!$B$2:$E$200,4,FALSE))","v":""},{"$f":"IF($C67=\"\",\"\",VLOOKUP($C67,'Plano de Contas'!$B$2:$E$200,3,FALSE))","v":""},{"$f":"IFERROR((SUMIFS(Arquivo!$F$2:$F$20000,Arquivo!$B$2:$B$20000,F$6,Arquivo!$C$2:$C$20000,G$6,Arquivo!$D$2:$D$20000,$C67)),0)","v":0},0,{"$f":"IFERROR((SUMIFS(Arquivo!$F$2:$F$20000,Arquivo!$B$2:$B$20000,H$6,Arquivo!$C$2:$C$20000,I$6,Arquivo!$D$2:$D$20000,$C67)),0)","v":0},0,{"$f":"IFERROR((SUMIFS(Arquivo!$F$2:$F$20000,Arquivo!$B$2:$B$20000,J$6,Arquivo!$C$2:$C$20000,K$6,Arquivo!$D$2:$D$20000,$C67)),0)","v":0},0,{"$f":"IFERROR((SUMIFS(Arquivo!$F$2:$F$20000,Arquivo!$B$2:$B$20000,L$6,Arquivo!$C$2:$C$20000,M$6,Arquivo!$D$2:$D$20000,$C67)),0)","v":0},0,{"$f":"IFERROR((SUMIFS(Arquivo!$F$2:$F$20000,Arquivo!$B$2:$B$20000,N$6,Arquivo!$C$2:$C$20000,O$6,Arquivo!$D$2:$D$20000,$C67)),0)","v":0},0,{"$f":"IFERROR((SUMIFS(Arquivo!$F$2:$F$20000,Arquivo!$B$2:$B$20000,P$6,Arquivo!$C$2:$C$20000,Q$6,Arquivo!$D$2:$D$20000,$C67)),0)","v":0},0,{"$f":"IFERROR((SUMIFS(Arquivo!$F$2:$F$20000,Arquivo!$B$2:$B$20000,R$6,Arquivo!$C$2:$C$20000,S$6,Arquivo!$D$2:$D$20000,$C67)),0)","v":0},0,{"$f":"IFERROR((SUMIFS(Arquivo!$F$2:$F$20000,Arquivo!$B$2:$B$20000,T$6,Arquivo!$C$2:$C$20000,U$6,Arquivo!$D$2:$D$20000,$C67)),0)","v":0},0,{"$f":"IFERROR((SUMIFS(Arquivo!$F$2:$F$20000,Arquivo!$B$2:$B$20000,V$6,Arquivo!$C$2:$C$20000,W$6,Arquivo!$D$2:$D$20000,$C67)),0)","v":0},0,{"$f":"IFERROR((SUMIFS(Arquivo!$F$2:$F$20000,Arquivo!$B$2:$B$20000,X$6,Arquivo!$C$2:$C$20000,Y$6,Arquivo!$D$2:$D$20000,$C67)),0)","v":0},0,{"$f":"IFERROR((SUMIFS(Arquivo!$F$2:$F$20000,Arquivo!$B$2:$B$20000,Z$6,Arquivo!$C$2:$C$20000,AA$6,Arquivo!$D$2:$D$20000,$C67)),0)","v":0},0,{"$f":"IFERROR((SUMIFS(Arquivo!$F$2:$F$20000,Arquivo!$B$2:$B$20000,AB$6,Arquivo!$C$2:$C$20000,AC$6,Arquivo!$D$2:$D$20000,$C67)),0)","v":0},0,0,0,null,null,""]
[null,null,null,"","",null,null,null,null,null,null,null,null,null,null,null,null,null,null,null,null,null,null,null,null,null,null,null,null,null,null,null,null,{"$f":"IF(AH45=\"\",\"\",\"X\")","v":"X"}]
[null,null,null,"DESPESAS ADMINISTRATIVAS",null,{"$f":"SUBTOTAL(9,F70:F95)","v":14928.369999999999},{"$f":"IFERROR((F69/IF($X$3=\"CT\",F$10,F$69)),0)","v":1.5540238935661589E-2},{"$f":"SUBTOTAL(9,H70:H95)","v":14780.880000000001},{"$f":"IFERROR((H69/IF($X$3=\"CT\",H$10,H$69)),0)","v":1.7991890984882967E-2},{"$f":"SUBTOTAL(9,J70:J95)","v":21467.019999999997},{"$f":"IFERROR((J69/IF($X$3=\"CT\",J$10,J$69)),0)","v":1.622273897344852E-2},{"$f":"SUBTOTAL(9,L70:L95)","v":19916.47},{"$f":"IFERROR((L69/IF($X$3=\"CT\",L$10,L$69)),0)","v":1.9740331953065782E-2},{"$f":"SUBTOTAL(9,N70:N95)","v":17877.72},{"$f":"IFERROR((N69/IF($X$3=\"CT\",N$10,N$69)),0)","v":2.2215064778592683E-2},{"$f":"SUBTOTAL(9,P70:P95)","v":15645.699999999999},{"$f":"IFERROR((P69/IF($X$3=\"CT\",P$10,P$69)),0)","v":1.7715406936225461E-2},{"$f":"SUBTOTAL(9,R70:R95)","v":18469.89},{"$f":"IFERROR((R69/IF($X$3=\"CT\",R$10,R$69)),0)","v":3.0360783431231143E-2},{"$f":"SUBTOTAL(9,T70:T95)","v":0},{"$f":"IFERROR((T69/IF($X$3=\"CT\",T$10,T$69)),0)","v":0},{"$f":"SUBTOTAL(9,V70:V95)","v":0},{"$f":"IFERROR((V69/IF($X$3=\"CT\",V$10,V$69)),0)","v":0},{"$f":"SUBTOTAL(9,X70:X95)","v":0},{"$f":"IFERROR((X69/IF($X$3=\"CT\",X$10,X$69)),0)","v":0},{"$f":"SUBTOTAL(9,Z70:Z95)","v":0},{"$f":"IFERROR((Z69/IF($X$3=\"CT\",Z$10,Z$69)),0)","v":0},{"$f":"SUBTOTAL(9,AB70:AB95)","v":0},{"$f":"IFERROR((AB69/IF($X$3=\"CT\",AB$10,AB$69)),0)","v":0},{"$f":"SUBTOTAL(9,AD70:AD95)","v":123086.05},{"$f":"IFERROR((AD69/IF($X$3=\"CT\",AD$10,AD$69)),0)","v":1.9200335955045594E-2},null,null,{"$f":"IF(COUNTIF(AH70:AH94,\"X\")>0,\"X\",\"\")","v":"X"}]
[null,null,{"$f":"IF('Plano de Contas'!B57=\"\",\"\",'Plano de Contas'!B57)","v":"8.1.3.1"},{"$f":"IF($C70=\"\",\"\",VLOOKUP($C70,'Plano de Contas'!$B$2:$E$200,4,FALSE))","v":"CF"},{"$f":"IF($C70=\"\",\"\",VLOOKUP($C70,'Plano de Contas'!$B$2:$E$200,3,FALSE))","v":"ENERGIA"},{"$f":"IFERROR((SUMIFS(Arquivo!$F$2:$F$20000,Arquivo!$B$2:$B$20000,F$6,Arquivo!$C$2:$C$20000,G$6,Arquivo!$D$2:$D$20000,$C70)),0)","v":964.16},1.0036780152292231E-3,{"$f":"IFERROR((SUMIFS(Arquivo!$F$2:$F$20000,Arquivo!$B$2:$B$20000,H$6,Arquivo!$C$2:$C$20000,I$6,Arquivo!$D$2:$D$20000,$C70)),0)","v":1112.55},1.3542413114260817E-3,{"$f":"IFERROR((SUMIFS(Arquivo!$F$2:$F$20000,Arquivo!$B$2:$B$20000,J$6,Arquivo!$C$2:$C$20000,K$6,Arquivo!$D$2:$D$20000,$C70)),0)","v":2144.06},1.6202773241657221E-3,{"$f":"IFERROR((SUMIFS(Arquivo!$F$2:$F$20000,Arquivo!$B$2:$B$20000,L$6,Arquivo!$C$2:$C$20000,M$6,Arquivo!$D$2:$D$20000,$C70)),0)","v":1416.22},1.4036951788429788E-3,{"$f":"IFERROR((SUMIFS(Arquivo!$F$2:$F$20000,Arquivo!$B$2:$B$20000,N$6,Arquivo!$C$2:$C$20000,O$6,Arquivo!$D$2:$D$20000,$C70)),0)","v":1067.58},1.326587442712492E-3,{"$f":"IFERROR((SUMIFS(Arquivo!$F$2:$F$20000,Arquivo!$B$2:$B$20000,P$6,Arquivo!$C$2:$C$20000,Q$6,Arquivo!$D$2:$D$20000,$C70)),0)","v":2335.87},2.6448728788178843E-3,{"$f":"IFERROR((SUMIFS(Arquivo!$F$2:$F$20000,Arquivo!$B$2:$B$20000,R$6,Arquivo!$C$2:$C$20000,S$6,Arquivo!$D$2:$D$20000,$C70)),0)","v":1202.31},1.9763557621189686E-3,{"$f":"IFERROR((SUMIFS(Arquivo!$F$2:$F$20000,Arquivo!$B$2:$B$20000,T$6,Arquivo!$C$2:$C$20000,U$6,Arquivo!$D$2:$D$20000,$C70)),0)","v":0},0,{"$f":"IFERROR((SUMIFS(Arquivo!$F$2:$F$20000,Arquivo!$B$2:$B$20000,V$6,Arquivo!$C$2:$C$20000,W$6,Arquivo!$D$2:$D$20000,$C70)),0)","v":0},0,{"$f":"IFERROR((SUMIFS(Arquivo!$F$2:$F$20000,Arquivo!$B$2:$B$20000,X$6,Arquivo!$C$2:$C$20000,Y$6,Arquivo!$D$2:$D$20000,$C70)),0)","v":0},0,{"$f":"IFERROR((SUMIFS(Arquivo!$F$2:$F$20000,Arquivo!$B$2:$B$20000,Z$6,Arquivo!$C$2:$C$20000,AA$6,Arquivo!$D$2:$D$20000,$C70)),0)","v":0},0,{"$f":"IFERROR((SUMIFS(Arquivo!$F$2:$F$20000,Arquivo!$B$2:$B$20000,AB$6,Arquivo!$C$2:$C$20000,AC$6,Arquivo!$D$2:$D$20000,$C70)),0)","v":0},0,{"$f":"F70+H70+J70+L70+N70+P70+R70+T70+V70+X70+Z70+AB70","v":10242.75},1.5977784737063482E-3,null,null,{"$f":"IF($AD70=0,\"\",IF($X$3=\"CT\",\"X\",IF($X$3=$D70,\"X\",\"\")))","v":"X"}]
[null,null,{"$f":"IF('Plano de Contas'!B58=\"\",\"\",'Plano de Contas'!B58)","v":"8.1.3.2"},{"$f":"IF($C71=\"\",\"\",VLOOKUP($C71,'Plano de Contas'!$B$2:$E$200,4,FALSE))","v":"CF"},{"$f":"IF($C71=\"\",\"\",VLOOKUP($C71,'Plano de Contas'!$B$2:$E$200,3,FALSE))","v":"AGUA"},{"$f":"IFERROR((SUMIFS(Arquivo!$F$2:$F$20000,Arquivo!$B$2:$B$20000,F$6,Arquivo!$C$2:$C$20000,G$6,Arquivo!$D$2:$D$20000,$C71)),0)","v":60.99},6.3489796453732083E-5,{"$f":"IFERROR((SUMIFS(Arquivo!$F$2:$F$20000,Arquivo!$B$2:$B$20000,H$6,Arquivo!$C$2:$C$20000,I$6,Arquivo!$D$2:$D$20000,$C71)),0)","v":69.52},8.4622584126862782E-5,{"$f":"IFERROR((SUMIFS(Arquivo!$F$2:$F$20000,Arquivo!$B$2:$B$20000,J$6,Arquivo!$C$2:$C$20000,K$6,Arquivo!$D$2:$D$20000,$C71)),0)","v":69.52},5.2536626575749279E-5,{"$f":"IFERROR((SUMIFS(Arquivo!$F$2:$F$20000,Arquivo!$B$2:$B$20000,L$6,Arquivo!$C$2:$C$20000,M$6,Arquivo!$D$2:$D$20000,$C71)),0)","v":78.040000000000006},7.7349826832629159E-5,{"$f":"IFERROR((SUMIFS(Arquivo!$F$2:$F$20000,Arquivo!$B$2:$B$20000,N$6,Arquivo!$C$2:$C$20000,O$6,Arquivo!$D$2:$D$20000,$C71)),0)","v":78.040000000000006},9.6973420286332546E-5,{"$f":"IFERROR((SUMIFS(Arquivo!$F$2:$F$20000,Arquivo!$B$2:$B$20000,P$6,Arquivo!$C$2:$C$20000,Q$6,Arquivo!$D$2:$D$20000,$C71)),0)","v":52.46},5.9399723110783659E-5,{"$f":"IFERROR((SUMIFS(Arquivo!$F$2:$F$20000,Arquivo!$B$2:$B$20000,R$6,Arquivo!$C$2:$C$20000,S$6,Arquivo!$D$2:$D$20000,$C71)),0)","v":78.040000000000006},1.2828206009744936E-4,{"$f":"IFERROR((SUMIFS(Arquivo!$F$2:$F$20000,Arquivo!$B$2:$B$20000,T$6,Arquivo!$C$2:$C$20000,U$6,Arquivo!$D$2:$D$20000,$C71)),0)","v":0},0,{"$f":"IFERROR((SUMIFS(Arquivo!$F$2:$F$20000,Arquivo!$B$2:$B$20000,V$6,Arquivo!$C$2:$C$20000,W$6,Arquivo!$D$2:$D$20000,$C71)),0)","v":0},0,{"$f":"IFERROR((SUMIFS(Arquivo!$F$2:$F$20000,Arquivo!$B$2:$B$20000,X$6,Arquivo!$C$2:$C$20000,Y$6,Arquivo!$D$2:$D$20000,$C71)),0)","v":0},0,{"$f":"IFERROR((SUMIFS(Arquivo!$F$2:$F$20000,Arquivo!$B$2:$B$20000,Z$6,Arquivo!$C$2:$C$20000,AA$6,Arquivo!$D$2:$D$20000,$C71)),0)","v":0},0,{"$f":"IFERROR((SUMIFS(Arquivo!$F$2:$F$20000,Arquivo!$B$2:$B$20000,AB$6,Arquivo!$C$2:$C$20000,AC$6,Arquivo!$D$2:$D$20000,$C71)),0)","v":0},0,486.61,7.5906859299528561E-5,null,null,"X"]
[null,null,{"$f":"IF('Plano de Contas'!B59=\"\",\"\",'Plano de Contas'!B59)","v":"8.1.3.3"},{"$f":"IF($C72=\"\",\"\",VLOOKUP($C72,'Plano de Contas'!$B$2:$E$200,4,FALSE))","v":"CF"},{"$f":"IF($C72=\"\",\"\",VLOOKUP($C72,'Plano de Contas'!$B$2:$E$200,3,FALSE))","v":"TELEFONE FIXO"},{"$f":"IFERROR((SUMIFS(Arquivo!$F$2:$F$20000,Arquivo!$B$2:$B$20000,F$6,Arquivo!$C$2:$C$20000,G$6,Arquivo!$D$2:$D$20000,$C72)),0)","v":190.12},1.9791244633191577E-4,{"$f":"IFERROR((SUMIFS(Arquivo!$F$2:$F$20000,Arquivo!$B$2:$B$20000,H$6,Arquivo!$C$2:$C$20000,I$6,Arquivo!$D$2:$D$20000,$C72)),0)","v":142.68},1.7367592496002278E-4,{"$f":"IFERROR((SUMIFS(Arquivo!$F$2:$F$20000,Arquivo!$B$2:$B$20000,J$6,Arquivo!$C$2:$C$20000,K$6,Arquivo!$D$2:$D$20000,$C72)),0)","v":65.87},4.9778302539479366E-5,{"$f":"IFERROR((SUMIFS(Arquivo!$F$2:$F$20000,Arquivo!$B$2:$B$20000,L$6,Arquivo!$C$2:$C$20000,M$6,Arquivo!$D$2:$D$20000,$C72)),0)","v":67.83},6.7230122425131154E-5,{"$f":"IFERROR((SUMIFS(Arquivo!$F$2:$F$20000,Arquivo!$B$2:$B$20000,N$6,Arquivo!$C$2:$C$20000,O$6,Arquivo!$D$2:$D$20000,$C72)),0)","v":65.87},8.1850835395447531E-5,{"$f":"IFERROR((SUMIFS(Arquivo!$F$2:$F$20000,Arquivo!$B$2:$B$20000,P$6,Arquivo!$C$2:$C$20000,Q$6,Arquivo!$D$2:$D$20000,$C72)),0)","v":67.83},7.6802958799169943E-5,{"$f":"IFERROR((SUMIFS(Arquivo!$F$2:$F$20000,Arquivo!$B$2:$B$20000,R$6,Arquivo!$C$2:$C$20000,S$6,Arquivo!$D$2:$D$20000,$C72)),0)","v":69.25},1.1383306844885144E-4,{"$f":"IFERROR((SUMIFS(Arquivo!$F$2:$F$20000,Arquivo!$B$2:$B$20000,T$6,Arquivo!$C$2:$C$20000,U$6,Arquivo!$D$2:$D$20000,$C72)),0)","v":0},0,{"$f":"IFERROR((SUMIFS(Arquivo!$F$2:$F$20000,Arquivo!$B$2:$B$20000,V$6,Arquivo!$C$2:$C$20000,W$6,Arquivo!$D$2:$D$20000,$C72)),0)","v":0},0,{"$f":"IFERROR((SUMIFS(Arquivo!$F$2:$F$20000,Arquivo!$B$2:$B$20000,X$6,Arquivo!$C$2:$C$20000,Y$6,Arquivo!$D$2:$D$20000,$C72)),0)","v":0},0,{"$f":"IFERROR((SUMIFS(Arquivo!$F$2:$F$20000,Arquivo!$B$2:$B$20000,Z$6,Arquivo!$C$2:$C$20000,AA$6,Arquivo!$D$2:$D$20000,$C72)),0)","v":0},0,{"$f":"IFERROR((SUMIFS(Arquivo!$F$2:$F$20000,Arquivo!$B$2:$B$20000,AB$6,Arquivo!$C$2:$C$20000,AC$6,Arquivo!$D$2:$D$20000,$C72)),0)","v":0},0,669.45,1.0442828334409361E-4,null,null,"X"]
[null,null,{"$f":"IF('Plano de Contas'!B60=\"\",\"\",'Plano de Contas'!B60)","v":"8.1.3.4"},{"$f":"IF($C73=\"\",\"\",VLOOKUP($C73,'Plano de Contas'!$B$2:$E$200,4,FALSE))","v":"CF"},{"$f":"IF($C73=\"\",\"\",VLOOKUP($C73,'Plano de Contas'!$B$2:$E$200,3,FALSE))","v":"TELEFONE CELULAR"},{"$f":"IFERROR((SUMIFS(Arquivo!$F$2:$F$20000,Arquivo!$B$2:$B$20000,F$6,Arquivo!$C$2:$C$20000,G$6,Arquivo!$D$2:$D$20000,$C73)),0)","v":638.45000000000005},6.6461814307075344E-4,{"$f":"IFERROR((SUMIFS(Arquivo!$F$2:$F$20000,Arquivo!$B$2:$B$20000,H$6,Arquivo!$C$2:$C$20000,I$6,Arquivo!$D$2:$D$20000,$C73)),0)","v":682.61},8.3090077892459451E-4,{"$f":"IFERROR((SUMIFS(Arquivo!$F$2:$F$20000,Arquivo!$B$2:$B$20000,J$6,Arquivo!$C$2:$C$20000,K$6,Arquivo!$D$2:$D$20000,$C73)),0)","v":641.49},4.8477733863747709E-4,{"$f":"IFERROR((SUMIFS(Arquivo!$F$2:$F$20000,Arquivo!$B$2:$B$20000,L$6,Arquivo!$C$2:$C$20000,M$6,Arquivo!$D$2:$D$20000,$C73)),0)","v":630.95000000000005},6.2536998001085813E-4,{"$f":"IFERROR((SUMIFS(Arquivo!$F$2:$F$20000,Arquivo!$B$2:$B$20000,N$6,Arquivo!$C$2:$C$20000,O$6,Arquivo!$D$2:$D$20000,$C73)),0)","v":646.94000000000005},8.0389523987749851E-4,{"$f":"IFERROR((SUMIFS(Arquivo!$F$2:$F$20000,Arquivo!$B$2:$B$20000,P$6,Arquivo!$C$2:$C$20000,Q$6,Arquivo!$D$2:$D$20000,$C73)),0)","v":697.18},7.8940714751002947E-4,{"$f":"IFERROR((SUMIFS(Arquivo!$F$2:$F$20000,Arquivo!$B$2:$B$20000,R$6,Arquivo!$C$2:$C$20000,S$6,Arquivo!$D$2:$D$20000,$C73)),0)","v":622.92999999999995},1.0239716004165058E-3,{"$f":"IFERROR((SUMIFS(Arquivo!$F$2:$F$20000,Arquivo!$B$2:$B$20000,T$6,Arquivo!$C$2:$C$20000,U$6,Arquivo!$D$2:$D$20000,$C73)),0)","v":0},0,{"$f":"IFERROR((SUMIFS(Arquivo!$F$2:$F$20000,Arquivo!$B$2:$B$20000,V$6,Arquivo!$C$2:$C$20000,W$6,Arquivo!$D$2:$D$20000,$C73)),0)","v":0},0,{"$f":"IFERROR((SUMIFS(Arquivo!$F$2:$F$20000,Arquivo!$B$2:$B$20000,X$6,Arquivo!$C$2:$C$20000,Y$6,Arquivo!$D$2:$D$20000,$C73)),0)","v":0},0,{"$f":"IFERROR((SUMIFS(Arquivo!$F$2:$F$20000,Arquivo!$B$2:$B$20000,Z$6,Arquivo!$C$2:$C$20000,AA$6,Arquivo!$D$2:$D$20000,$C73)),0)","v":0},0,{"$f":"IFERROR((SUMIFS(Arquivo!$F$2:$F$20000,Arquivo!$B$2:$B$20000,AB$6,Arquivo!$C$2:$C$20000,AC$6,Arquivo!$D$2:$D$20000,$C73)),0)","v":0},0,4560.55,7.1140549347211313E-4,null,null,"X"]
[null,null,{"$f":"IF('Plano de Contas'!B61=\"\",\"\",'Plano de Contas'!B61)","v":"8.1.3.5"},{"$f":"IF($C74=\"\",\"\",VLOOKUP($C74,'Plano de Contas'!$B$2:$E$200,4,FALSE))","v":"CF"},{"$f":"IF($C74=\"\",\"\",VLOOKUP($C74,'Plano de Contas'!$B$2:$E$200,3,FALSE))","v":"HONORARIOS CONTABEIS"},{"$f":"IFERROR((SUMIFS(Arquivo!$F$2:$F$20000,Arquivo!$B$2:$B$20000,F$6,Arquivo!$C$2:$C$20000,G$6,Arquivo!$D$2:$D$20000,$C74)),0)","v":2910},3.0292721377334049E-3,{"$f":"IFERROR((SUMIFS(Arquivo!$F$2:$F$20000,Arquivo!$B$2:$B$20000,H$6,Arquivo!$C$2:$C$20000,I$6,Arquivo!$D$2:$D$20000,$C74)),0)","v":2915.6},3.5489874321099129E-3,{"$f":"IFERROR((SUMIFS(Arquivo!$F$2:$F$20000,Arquivo!$B$2:$B$20000,J$6,Arquivo!$C$2:$C$20000,K$6,Arquivo!$D$2:$D$20000,$C74)),0)","v":2980},2.2520015419409214E-3,{"$f":"IFERROR((SUMIFS(Arquivo!$F$2:$F$20000,Arquivo!$B$2:$B$20000,L$6,Arquivo!$C$2:$C$20000,M$6,Arquivo!$D$2:$D$20000,$C74)),0)","v":2923},2.8971494596588291E-3,{"$f":"IFERROR((SUMIFS(Arquivo!$F$2:$F$20000,Arquivo!$B$2:$B$20000,N$6,Arquivo!$C$2:$C$20000,O$6,Arquivo!$D$2:$D$20000,$C74)),0)","v":2980},3.7029829888937851E-3,{"$f":"IFERROR((SUMIFS(Arquivo!$F$2:$F$20000,Arquivo!$B$2:$B$20000,P$6,Arquivo!$C$2:$C$20000,Q$6,Arquivo!$D$2:$D$20000,$C74)),0)","v":2910},3.2949522350815942E-3,{"$f":"IFERROR((SUMIFS(Arquivo!$F$2:$F$20000,Arquivo!$B$2:$B$20000,R$6,Arquivo!$C$2:$C$20000,S$6,Arquivo!$D$2:$D$20000,$C74)),0)","v":2915.6},4.7926598464905594E-3,{"$f":"IFERROR((SUMIFS(Arquivo!$F$2:$F$20000,Arquivo!$B$2:$B$20000,T$6,Arquivo!$C$2:$C$20000,U$6,Arquivo!$D$2:$D$20000,$C74)),0)","v":0},0,{"$f":"IFERROR((SUMIFS(Arquivo!$F$2:$F$20000,Arquivo!$B$2:$B$20000,V$6,Arquivo!$C$2:$C$20000,W$6,Arquivo!$D$2:$D$20000,$C74)),0)","v":0},0,{"$f":"IFERROR((SUMIFS(Arquivo!$F$2:$F$20000,Arquivo!$B$2:$B$20000,X$6,Arquivo!$C$2:$C$20000,Y$6,Arquivo!$D$2:$D$20000,$C74)),0)","v":0},0,{"$f":"IFERROR((SUMIFS(Arquivo!$F$2:$F$20000,Arquivo!$B$2:$B$20000,Z$6,Arquivo!$C$2:$C$20000,AA$6,Arquivo!$D$2:$D$20000,$C74)),0)","v":0},0,{"$f":"IFERROR((SUMIFS(Arquivo!$F$2:$F$20000,Arquivo!$B$2:$B$20000,AB$6,Arquivo!$C$2:$C$20000,AC$6,Arquivo!$D$2:$D$20000,$C74)),0)","v":0},0,20534.199999999997,3.2031537169979634E-3,null,null,"X"]
[null,null,{"$f":"IF('Plano de Contas'!B62=\"\",\"\",'Plano de Contas'!B62)","v":"8.1.3.6"},{"$f":"IF($C75=\"\",\"\",VLOOKUP($C75,'Plano de Contas'!$B$2:$E$200,4,FALSE))","v":"CV"},{"$f":"IF($C75=\"\",\"\",VLOOKUP($C75,'Plano de Contas'!$B$2:$E$200,3,FALSE))","v":"MATERIAL DE ESCRITORIO"},{"$f":"IFERROR((SUMIFS(Arquivo!$F$2:$F$20000,Arquivo!$B$2:$B$20000,F$6,Arquivo!$C$2:$C$20000,G$6,Arquivo!$D$2:$D$20000,$C75)),0)","v":45},4.684441450103203E-5,{"$f":"IFERROR((SUMIFS(Arquivo!$F$2:$F$20000,Arquivo!$B$2:$B$20000,H$6,Arquivo!$C$2:$C$20000,I$6,Arquivo!$D$2:$D$20000,$C75)),0)","v":297.5},3.6212915388005869E-4,{"$f":"IFERROR((SUMIFS(Arquivo!$F$2:$F$20000,Arquivo!$B$2:$B$20000,J$6,Arquivo!$C$2:$C$20000,K$6,Arquivo!$D$2:$D$20000,$C75)),0)","v":175.85},1.3289076213097685E-4,{"$f":"IFERROR((SUMIFS(Arquivo!$F$2:$F$20000,Arquivo!$B$2:$B$20000,L$6,Arquivo!$C$2:$C$20000,M$6,Arquivo!$D$2:$D$20000,$C75)),0)","v":45},4.4602027261254639E-5,{"$f":"IFERROR((SUMIFS(Arquivo!$F$2:$F$20000,Arquivo!$B$2:$B$20000,N$6,Arquivo!$C$2:$C$20000,O$6,Arquivo!$D$2:$D$20000,$C75)),0)","v":45},5.591752835577863E-5,{"$f":"IFERROR((SUMIFS(Arquivo!$F$2:$F$20000,Arquivo!$B$2:$B$20000,P$6,Arquivo!$C$2:$C$20000,Q$6,Arquivo!$D$2:$D$20000,$C75)),0)","v":333},3.7705123514851236E-4,{"$f":"IFERROR((SUMIFS(Arquivo!$F$2:$F$20000,Arquivo!$B$2:$B$20000,R$6,Arquivo!$C$2:$C$20000,S$6,Arquivo!$D$2:$D$20000,$C75)),0)","v":115.55},1.8994095392440121E-4,{"$f":"IFERROR((SUMIFS(Arquivo!$F$2:$F$20000,Arquivo!$B$2:$B$20000,T$6,Arquivo!$C$2:$C$20000,U$6,Arquivo!$D$2:$D$20000,$C75)),0)","v":0},0,{"$f":"IFERROR((SUMIFS(Arquivo!$F$2:$F$20000,Arquivo!$B$2:$B$20000,V$6,Arquivo!$C$2:$C$20000,W$6,Arquivo!$D$2:$D$20000,$C75)),0)","v":0},0,{"$f":"IFERROR((SUMIFS(Arquivo!$F$2:$F$20000,Arquivo!$B$2:$B$20000,X$6,Arquivo!$C$2:$C$20000,Y$6,Arquivo!$D$2:$D$20000,$C75)),0)","v":0},0,{"$f":"IFERROR((SUMIFS(Arquivo!$F$2:$F$20000,Arquivo!$B$2:$B$20000,Z$6,Arquivo!$C$2:$C$20000,AA$6,Arquivo!$D$2:$D$20000,$C75)),0)","v":0},0,{"$f":"IFERROR((SUMIFS(Arquivo!$F$2:$F$20000,Arquivo!$B$2:$B$20000,AB$6,Arquivo!$C$2:$C$20000,AC$6,Arquivo!$D$2:$D$20000,$C75)),0)","v":0},0,1056.9000000000001,1.6486705902811643E-4,null,null,"X"]
[null,null,{"$f":"IF('Plano de Contas'!B63=\"\",\"\",'Plano de Contas'!B63)","v":"8.1.3.7"},{"$f":"IF($C76=\"\",\"\",VLOOKUP($C76,'Plano de Contas'!$B$2:$E$200,4,FALSE))","v":"CF"},{"$f":"IF($C76=\"\",\"\",VLOOKUP($C76,'Plano de Contas'!$B$2:$E$200,3,FALSE))","v":"MATERIAL DE LIMPEZA E CANTINA"},{"$f":"IFERROR((SUMIFS(Arquivo!$F$2:$F$20000,Arquivo!$B$2:$B$20000,F$6,Arquivo!$C$2:$C$20000,G$6,Arquivo!$D$2:$D$20000,$C76)),0)","v":416.92},4.3400829541711725E-4,{"$f":"IFERROR((SUMIFS(Arquivo!$F$2:$F$20000,Arquivo!$B$2:$B$20000,H$6,Arquivo!$C$2:$C$20000,I$6,Arquivo!$D$2:$D$20000,$C76)),0)","v":429.04},5.2224501573344673E-4,{"$f":"IFERROR((SUMIFS(Arquivo!$F$2:$F$20000,Arquivo!$B$2:$B$20000,J$6,Arquivo!$C$2:$C$20000,K$6,Arquivo!$D$2:$D$20000,$C76)),0)","v":0},0,{"$f":"IFERROR((SUMIFS(Arquivo!$F$2:$F$20000,Arquivo!$B$2:$B$20000,L$6,Arquivo!$C$2:$C$20000,M$6,Arquivo!$D$2:$D$20000,$C76)),0)","v":622.61},6.1710373762510556E-4,{"$f":"IFERROR((SUMIFS(Arquivo!$F$2:$F$20000,Arquivo!$B$2:$B$20000,N$6,Arquivo!$C$2:$C$20000,O$6,Arquivo!$D$2:$D$20000,$C76)),0)","v":302.37},3.757285121985952E-4,{"$f":"IFERROR((SUMIFS(Arquivo!$F$2:$F$20000,Arquivo!$B$2:$B$20000,P$6,Arquivo!$C$2:$C$20000,Q$6,Arquivo!$D$2:$D$20000,$C76)),0)","v":0},0,{"$f":"IFERROR((SUMIFS(Arquivo!$F$2:$F$20000,Arquivo!$B$2:$B$20000,R$6,Arquivo!$C$2:$C$20000,S$6,Arquivo!$D$2:$D$20000,$C76)),0)","v":710.3},1.1675903035266307E-3,{"$f":"IFERROR((SUMIFS(Arquivo!$F$2:$F$20000,Arquivo!$B$2:$B$20000,T$6,Arquivo!$C$2:$C$20000,U$6,Arquivo!$D$2:$D$20000,$C76)),0)","v":0},0,{"$f":"IFERROR((SUMIFS(Arquivo!$F$2:$F$20000,Arquivo!$B$2:$B$20000,V$6,Arquivo!$C$2:$C$20000,W$6,Arquivo!$D$2:$D$20000,$C76)),0)","v":0},0,{"$f":"IFERROR((SUMIFS(Arquivo!$F$2:$F$20000,Arquivo!$B$2:$B$20000,X$6,Arquivo!$C$2:$C$20000,Y$6,Arquivo!$D$2:$D$20000,$C76)),0)","v":0},0,{"$f":"IFERROR((SUMIFS(Arquivo!$F$2:$F$20000,Arquivo!$B$2:$B$20000,Z$6,Arquivo!$C$2:$C$20000,AA$6,Arquivo!$D$2:$D$20000,$C76)),0)","v":0},0,{"$f":"IFERROR((SUMIFS(Arquivo!$F$2:$F$20000,Arquivo!$B$2:$B$20000,AB$6,Arquivo!$C$2:$C$20000,AC$6,Arquivo!$D$2:$D$20000,$C76)),0)","v":0},0,2481.2399999999998,3.8705151059033354E-4,null,null,"X"]
[null,null,{"$f":"IF('Plano de Contas'!B64=\"\",\"\",'Plano de Contas'!B64)","v":"8.1.3.8"},{"$f":"IF($C77=\"\",\"\",VLOOKUP($C77,'Plano de Contas'!$B$2:$E$200,4,FALSE))","v":"CF"},{"$f":"IF($C77=\"\",\"\",VLOOKUP($C77,'Plano de Contas'!$B$2:$E$200,3,FALSE))","v":"ALUGUEIS E ARRENDAMENTOS"},{"$f":"IFERROR((SUMIFS(Arquivo!$F$2:$F$20000,Arquivo!$B$2:$B$20000,F$6,Arquivo!$C$2:$C$20000,G$6,Arquivo!$D$2:$D$20000,$C77)),0)","v":0},0,{"$f":"IFERROR((SUMIFS(Arquivo!$F$2:$F$20000,Arquivo!$B$2:$B$20000,H$6,Arquivo!$C$2:$C$20000,I$6,Arquivo!$D$2:$D$20000,$C77)),0)","v":0},0,{"$f":"IFERROR((SUMIFS(Arquivo!$F$2:$F$20000,Arquivo!$B$2:$B$20000,J$6,Arquivo!$C$2:$C$20000,K$6,Arquivo!$D$2:$D$20000,$C77)),0)","v":0},0,{"$f":"IFERROR((SUMIFS(Arquivo!$F$2:$F$20000,Arquivo!$B$2:$B$20000,L$6,Arquivo!$C$2:$C$20000,M$6,Arquivo!$D$2:$D$20000,$C77)),0)","v":0},0,{"$f":"IFERROR((SUMIFS(Arquivo!$F$2:$F$20000,Arquivo!$B$2:$B$20000,N$6,Arquivo!$C$2:$C$20000,O$6,Arquivo!$D$2:$D$20000,$C77)),0)","v":0},0,{"$f":"IFERROR((SUMIFS(Arquivo!$F$2:$F$20000,Arquivo!$B$2:$B$20000,P$6,Arquivo!$C$2:$C$20000,Q$6,Arquivo!$D$2:$D$20000,$C77)),0)","v":0},0,{"$f":"IFERROR((SUMIFS(Arquivo!$F$2:$F$20000,Arquivo!$B$2:$B$20000,R$6,Arquivo!$C$2:$C$20000,S$6,Arquivo!$D$2:$D$20000,$C77)),0)","v":0},0,{"$f":"IFERROR((SUMIFS(Arquivo!$F$2:$F$20000,Arquivo!$B$2:$B$20000,T$6,Arquivo!$C$2:$C$20000,U$6,Arquivo!$D$2:$D$20000,$C77)),0)","v":0},0,{"$f":"IFERROR((SUMIFS(Arquivo!$F$2:$F$20000,Arquivo!$B$2:$B$20000,V$6,Arquivo!$C$2:$C$20000,W$6,Arquivo!$D$2:$D$20000,$C77)),0)","v":0},0,{"$f":"IFERROR((SUMIFS(Arquivo!$F$2:$F$20000,Arquivo!$B$2:$B$20000,X$6,Arquivo!$C$2:$C$20000,Y$6,Arquivo!$D$2:$D$20000,$C77)),0)","v":0},0,{"$f":"IFERROR((SUMIFS(Arquivo!$F$2:$F$20000,Arquivo!$B$2:$B$20000,Z$6,Arquivo!$C$2:$C$20000,AA$6,Arquivo!$D$2:$D$20000,$C77)),0)","v":0},0,{"$f":"IFERROR((SUMIFS(Arquivo!$F$2:$F$20000,Arquivo!$B$2:$B$20000,AB$6,Arquivo!$C$2:$C$20000,AC$6,Arquivo!$D$2:$D$20000,$C77)),0)","v":0},0,0,0,null,null,""]
[null,null,{"$f":"IF('Plano de Contas'!B65=\"\",\"\",'Plano de Contas'!B65)","v":"8.1.3.9"},{"$f":"IF($C78=\"\",\"\",VLOOKUP($C78,'Plano de Contas'!$B$2:$E$200,4,FALSE))","v":"CV"},{"$f":"IF($C78=\"\",\"\",VLOOKUP($C78,'Plano de Contas'!$B$2:$E$200,3,FALSE))","v":"CORREIO, ENCOMENDAS E CARTORIOS"},{"$f":"IFERROR((SUMIFS(Arquivo!$F$2:$F$20000,Arquivo!$B$2:$B$20000,F$6,Arquivo!$C$2:$C$20000,G$6,Arquivo!$D$2:$D$20000,$C78)),0)","v":76.7},7.9843702049536819E-5,{"$f":"IFERROR((SUMIFS(Arquivo!$F$2:$F$20000,Arquivo!$B$2:$B$20000,H$6,Arquivo!$C$2:$C$20000,I$6,Arquivo!$D$2:$D$20000,$C78)),0)","v":31.74},3.8635224686228782E-5,{"$f":"IFERROR((SUMIFS(Arquivo!$F$2:$F$20000,Arquivo!$B$2:$B$20000,J$6,Arquivo!$C$2:$C$20000,K$6,Arquivo!$D$2:$D$20000,$C78)),0)","v":0},0,{"$f":"IFERROR((SUMIFS(Arquivo!$F$2:$F$20000,Arquivo!$B$2:$B$20000,L$6,Arquivo!$C$2:$C$20000,M$6,Arquivo!$D$2:$D$20000,$C78)),0)","v":0},0,{"$f":"IFERROR((SUMIFS(Arquivo!$F$2:$F$20000,Arquivo!$B$2:$B$20000,N$6,Arquivo!$C$2:$C$20000,O$6,Arquivo!$D$2:$D$20000,$C78)),0)","v":12.53},1.556992511773125E-5,{"$f":"IFERROR((SUMIFS(Arquivo!$F$2:$F$20000,Arquivo!$B$2:$B$20000,P$6,Arquivo!$C$2:$C$20000,Q$6,Arquivo!$D$2:$D$20000,$C78)),0)","v":0},0,{"$f":"IFERROR((SUMIFS(Arquivo!$F$2:$F$20000,Arquivo!$B$2:$B$20000,R$6,Arquivo!$C$2:$C$20000,S$6,Arquivo!$D$2:$D$20000,$C78)),0)","v":0},0,{"$f":"IFERROR((SUMIFS(Arquivo!$F$2:$F$20000,Arquivo!$B$2:$B$20000,T$6,Arquivo!$C$2:$C$20000,U$6,Arquivo!$D$2:$D$20000,$C78)),0)","v":0},0,{"$f":"IFERROR((SUMIFS(Arquivo!$F$2:$F$20000,Arquivo!$B$2:$B$20000,V$6,Arquivo!$C$2:$C$20000,W$6,Arquivo!$D$2:$D$20000,$C78)),0)","v":0},0,{"$f":"IFERROR((SUMIFS(Arquivo!$F$2:$F$20000,Arquivo!$B$2:$B$20000,X$6,Arquivo!$C$2:$C$20000,Y$6,Arquivo!$D$2:$D$20000,$C78)),0)","v":0},0,{"$f":"IFERROR((SUMIFS(Arquivo!$F$2:$F$20000,Arquivo!$B$2:$B$20000,Z$6,Arquivo!$C$2:$C$20000,AA$6,Arquivo!$D$2:$D$20000,$C78)),0)","v":0},0,{"$f":"IFERROR((SUMIFS(Arquivo!$F$2:$F$20000,Arquivo!$B$2:$B$20000,AB$6,Arquivo!$C$2:$C$20000,AC$6,Arquivo!$D$2:$D$20000,$C78)),0)","v":0},0,120.97,1.8870250856875051E-5,null,null,"X"]
[null,null,{"$f":"IF('Plano de Contas'!B66=\"\",\"\",'Plano de Contas'!B66)","v":"8.1.3.10"},{"$f":"IF($C79=\"\",\"\",VLOOKUP($C79,'Plano de Contas'!$B$2:$E$200,4,FALSE))","v":"CF"},{"$f":"IF($C79=\"\",\"\",VLOOKUP($C79,'Plano de Contas'!$B$2:$E$200,3,FALSE))","v":"SEGUROS"},{"$f":"IFERROR((SUMIFS(Arquivo!$F$2:$F$20000,Arquivo!$B$2:$B$20000,F$6,Arquivo!$C$2:$C$20000,G$6,Arquivo!$D$2:$D$20000,$C79)),0)","v":1073.8},1.1178118286935155E-3,{"$f":"IFERROR((SUMIFS(Arquivo!$F$2:$F$20000,Arquivo!$B$2:$B$20000,H$6,Arquivo!$C$2:$C$20000,I$6,Arquivo!$D$2:$D$20000,$C79)),0)","v":1123.5},1.3675700987705746E-3,{"$f":"IFERROR((SUMIFS(Arquivo!$F$2:$F$20000,Arquivo!$B$2:$B$20000,J$6,Arquivo!$C$2:$C$20000,K$6,Arquivo!$D$2:$D$20000,$C79)),0)","v":1073.8},8.1147626031414805E-4,{"$f":"IFERROR((SUMIFS(Arquivo!$F$2:$F$20000,Arquivo!$B$2:$B$20000,L$6,Arquivo!$C$2:$C$20000,M$6,Arquivo!$D$2:$D$20000,$C79)),0)","v":1585.45},1.5714285360301371E-3,{"$f":"IFERROR((SUMIFS(Arquivo!$F$2:$F$20000,Arquivo!$B$2:$B$20000,N$6,Arquivo!$C$2:$C$20000,O$6,Arquivo!$D$2:$D$20000,$C79)),0)","v":1547.31},1.9227055733373295E-3,{"$f":"IFERROR((SUMIFS(Arquivo!$F$2:$F$20000,Arquivo!$B$2:$B$20000,P$6,Arquivo!$C$2:$C$20000,Q$6,Arquivo!$D$2:$D$20000,$C79)),0)","v":1073.8},1.2158486976050226E-3,{"$f":"IFERROR((SUMIFS(Arquivo!$F$2:$F$20000,Arquivo!$B$2:$B$20000,R$6,Arquivo!$C$2:$C$20000,S$6,Arquivo!$D$2:$D$20000,$C79)),0)","v":3023.33},4.9697462936240579E-3,{"$f":"IFERROR((SUMIFS(Arquivo!$F$2:$F$20000,Arquivo!$B$2:$B$20000,T$6,Arquivo!$C$2:$C$20000,U$6,Arquivo!$D$2:$D$20000,$C79)),0)","v":0},0,{"$f":"IFERROR((SUMIFS(Arquivo!$F$2:$F$20000,Arquivo!$B$2:$B$20000,V$6,Arquivo!$C$2:$C$20000,W$6,Arquivo!$D$2:$D$20000,$C79)),0)","v":0},0,{"$f":"IFERROR((SUMIFS(Arquivo!$F$2:$F$20000,Arquivo!$B$2:$B$20000,X$6,Arquivo!$C$2:$C$20000,Y$6,Arquivo!$D$2:$D$20000,$C79)),0)","v":0},0,{"$f":"IFERROR((SUMIFS(Arquivo!$F$2:$F$20000,Arquivo!$B$2:$B$20000,Z$6,Arquivo!$C$2:$C$20000,AA$6,Arquivo!$D$2:$D$20000,$C79)),0)","v":0},0,{"$f":"IFERROR((SUMIFS(Arquivo!$F$2:$F$20000,Arquivo!$B$2:$B$20000,AB$6,Arquivo!$C$2:$C$20000,AC$6,Arquivo!$D$2:$D$20000,$C79)),0)","v":0},0,10500.990000000002,1.6380616313593154E-3,null,null,"X"]
[null,null,{"$f":"IF('Plano de Contas'!B67=\"\",\"\",'Plano de Contas'!B67)","v":"8.1.3.11"},{"$f":"IF($C80=\"\",\"\",VLOOKUP($C80,'Plano de Contas'!$B$2:$E$200,4,FALSE))","v":"CF"},{"$f":"IF($C80=\"\",\"\",VLOOKUP($C80,'Plano de Contas'!$B$2:$E$200,3,FALSE))","v":"COMODATO-ABANORTE"},{"$f":"IFERROR((SUMIFS(Arquivo!$F$2:$F$20000,Arquivo!$B$2:$B$20000,F$6,Arquivo!$C$2:$C$20000,G$6,Arquivo!$D$2:$D$20000,$C80)),0)","v":0},0,{"$f":"IFERROR((SUMIFS(Arquivo!$F$2:$F$20000,Arquivo!$B$2:$B$20000,H$6,Arquivo!$C$2:$C$20000,I$6,Arquivo!$D$2:$D$20000,$C80)),0)","v":0},0,{"$f":"IFERROR((SUMIFS(Arquivo!$F$2:$F$20000,Arquivo!$B$2:$B$20000,J$6,Arquivo!$C$2:$C$20000,K$6,Arquivo!$D$2:$D$20000,$C80)),0)","v":0},0,{"$f":"IFERROR((SUMIFS(Arquivo!$F$2:$F$20000,Arquivo!$B$2:$B$20000,L$6,Arquivo!$C$2:$C$20000,M$6,Arquivo!$D$2:$D$20000,$C80)),0)","v":0},0,{"$f":"IFERROR((SUMIFS(Arquivo!$F$2:$F$20000,Arquivo!$B$2:$B$20000,N$6,Arquivo!$C$2:$C$20000,O$6,Arquivo!$D$2:$D$20000,$C80)),0)","v":0},0,{"$f":"IFERROR((SUMIFS(Arquivo!$F$2:$F$20000,Arquivo!$B$2:$B$20000,P$6,Arquivo!$C$2:$C$20000,Q$6,Arquivo!$D$2:$D$20000,$C80)),0)","v":0},0,{"$f":"IFERROR((SUMIFS(Arquivo!$F$2:$F$20000,Arquivo!$B$2:$B$20000,R$6,Arquivo!$C$2:$C$20000,S$6,Arquivo!$D$2:$D$20000,$C80)),0)","v":0},0,{"$f":"IFERROR((SUMIFS(Arquivo!$F$2:$F$20000,Arquivo!$B$2:$B$20000,T$6,Arquivo!$C$2:$C$20000,U$6,Arquivo!$D$2:$D$20000,$C80)),0)","v":0},0,{"$f":"IFERROR((SUMIFS(Arquivo!$F$2:$F$20000,Arquivo!$B$2:$B$20000,V$6,Arquivo!$C$2:$C$20000,W$6,Arquivo!$D$2:$D$20000,$C80)),0)","v":0},0,{"$f":"IFERROR((SUMIFS(Arquivo!$F$2:$F$20000,Arquivo!$B$2:$B$20000,X$6,Arquivo!$C$2:$C$20000,Y$6,Arquivo!$D$2:$D$20000,$C80)),0)","v":0},0,{"$f":"IFERROR((SUMIFS(Arquivo!$F$2:$F$20000,Arquivo!$B$2:$B$20000,Z$6,Arquivo!$C$2:$C$20000,AA$6,Arquivo!$D$2:$D$20000,$C80)),0)","v":0},0,{"$f":"IFERROR((SUMIFS(Arquivo!$F$2:$F$20000,Arquivo!$B$2:$B$20000,AB$6,Arquivo!$C$2:$C$20000,AC$6,Arquivo!$D$2:$D$20000,$C80)),0)","v":0},0,0,0,null,null,""]
[null,null,{"$f":"IF('Plano de Contas'!B68=\"\",\"\",'Plano de Contas'!B68)","v":"8.1.3.12"},{"$f":"IF($C81=\"\",\"\",VLOOKUP($C81,'Plano de Contas'!$B$2:$E$200,4,FALSE))","v":"CF"},{"$f":"IF($C81=\"\",\"\",VLOOKUP($C81,'Plano de Contas'!$B$2:$E$200,3,FALSE))","v":"MENSALIDADE-ABANORTE"},{"$f":"IFERROR((SUMIFS(Arquivo!$F$2:$F$20000,Arquivo!$B$2:$B$20000,F$6,Arquivo!$C$2:$C$20000,G$6,Arquivo!$D$2:$D$20000,$C81)),0)","v":1074},1.1180200260912979E-3,{"$f":"IFERROR((SUMIFS(Arquivo!$F$2:$F$20000,Arquivo!$B$2:$B$20000,H$6,Arquivo!$C$2:$C$20000,I$6,Arquivo!$D$2:$D$20000,$C81)),0)","v":1074},1.3073166765283464E-3,{"$f":"IFERROR((SUMIFS(Arquivo!$F$2:$F$20000,Arquivo!$B$2:$B$20000,J$6,Arquivo!$C$2:$C$20000,K$6,Arquivo!$D$2:$D$20000,$C81)),0)","v":1074},8.116274013572314E-4,{"$f":"IFERROR((SUMIFS(Arquivo!$F$2:$F$20000,Arquivo!$B$2:$B$20000,L$6,Arquivo!$C$2:$C$20000,M$6,Arquivo!$D$2:$D$20000,$C81)),0)","v":1074},1.064501717301944E-3,{"$f":"IFERROR((SUMIFS(Arquivo!$F$2:$F$20000,Arquivo!$B$2:$B$20000,N$6,Arquivo!$C$2:$C$20000,O$6,Arquivo!$D$2:$D$20000,$C81)),0)","v":1074},1.3345650100912499E-3,{"$f":"IFERROR((SUMIFS(Arquivo!$F$2:$F$20000,Arquivo!$B$2:$B$20000,P$6,Arquivo!$C$2:$C$20000,Q$6,Arquivo!$D$2:$D$20000,$C81)),0)","v":1074},1.21607515480331E-3,{"$f":"IFERROR((SUMIFS(Arquivo!$F$2:$F$20000,Arquivo!$B$2:$B$20000,R$6,Arquivo!$C$2:$C$20000,S$6,Arquivo!$D$2:$D$20000,$C81)),0)","v":1074},1.765439935221176E-3,{"$f":"IFERROR((SUMIFS(Arquivo!$F$2:$F$20000,Arquivo!$B$2:$B$20000,T$6,Arquivo!$C$2:$C$20000,U$6,Arquivo!$D$2:$D$20000,$C81)),0)","v":0},0,{"$f":"IFERROR((SUMIFS(Arquivo!$F$2:$F$20000,Arquivo!$B$2:$B$20000,V$6,Arquivo!$C$2:$C$20000,W$6,Arquivo!$D$2:$D$20000,$C81)),0)","v":0},0,{"$f":"IFERROR((SUMIFS(Arquivo!$F$2:$F$20000,Arquivo!$B$2:$B$20000,X$6,Arquivo!$C$2:$C$20000,Y$6,Arquivo!$D$2:$D$20000,$C81)),0)","v":0},0,{"$f":"IFERROR((SUMIFS(Arquivo!$F$2:$F$20000,Arquivo!$B$2:$B$20000,Z$6,Arquivo!$C$2:$C$20000,AA$6,Arquivo!$D$2:$D$20000,$C81)),0)","v":0},0,{"$f":"IFERROR((SUMIFS(Arquivo!$F$2:$F$20000,Arquivo!$B$2:$B$20000,AB$6,Arquivo!$C$2:$C$20000,AC$6,Arquivo!$D$2:$D$20000,$C81)),0)","v":0},0,7518,1.1727415552780578E-3,null,null,"X"]
[null,null,{"$f":"IF('Plano de Contas'!B69=\"\",\"\",'Plano de Contas'!B69)","v":"8.1.3.13"},{"$f":"IF($C82=\"\",\"\",VLOOKUP($C82,'Plano de Contas'!$B$2:$E$200,4,FALSE))","v":"CF"},{"$f":"IF($C82=\"\",\"\",VLOOKUP($C82,'Plano de Contas'!$B$2:$E$200,3,FALSE))","v":"MENSALIDADE-ACIJAN"},{"$f":"IFERROR((SUMIFS(Arquivo!$F$2:$F$20000,Arquivo!$B$2:$B$20000,F$6,Arquivo!$C$2:$C$20000,G$6,Arquivo!$D$2:$D$20000,$C82)),0)","v":88.7},9.2335545916478692E-5,{"$f":"IFERROR((SUMIFS(Arquivo!$F$2:$F$20000,Arquivo!$B$2:$B$20000,H$6,Arquivo!$C$2:$C$20000,I$6,Arquivo!$D$2:$D$20000,$C82)),0)","v":80.099999999999994},9.7500992355605714E-5,{"$f":"IFERROR((SUMIFS(Arquivo!$F$2:$F$20000,Arquivo!$B$2:$B$20000,J$6,Arquivo!$C$2:$C$20000,K$6,Arquivo!$D$2:$D$20000,$C82)),0)","v":78.8},5.9549570974813628E-5,{"$f":"IFERROR((SUMIFS(Arquivo!$F$2:$F$20000,Arquivo!$B$2:$B$20000,L$6,Arquivo!$C$2:$C$20000,M$6,Arquivo!$D$2:$D$20000,$C82)),0)","v":78.8},7.8103105515263675E-5,{"$f":"IFERROR((SUMIFS(Arquivo!$F$2:$F$20000,Arquivo!$B$2:$B$20000,N$6,Arquivo!$C$2:$C$20000,O$6,Arquivo!$D$2:$D$20000,$C82)),0)","v":78.8},9.7917805209674576E-5,{"$f":"IFERROR((SUMIFS(Arquivo!$F$2:$F$20000,Arquivo!$B$2:$B$20000,P$6,Arquivo!$C$2:$C$20000,Q$6,Arquivo!$D$2:$D$20000,$C82)),0)","v":78.8},8.9224136125233547E-5,{"$f":"IFERROR((SUMIFS(Arquivo!$F$2:$F$20000,Arquivo!$B$2:$B$20000,R$6,Arquivo!$C$2:$C$20000,S$6,Arquivo!$D$2:$D$20000,$C82)),0)","v":80.099999999999994},1.3166828567152345E-4,{"$f":"IFERROR((SUMIFS(Arquivo!$F$2:$F$20000,Arquivo!$B$2:$B$20000,T$6,Arquivo!$C$2:$C$20000,U$6,Arquivo!$D$2:$D$20000,$C82)),0)","v":0},0,{"$f":"IFERROR((SUMIFS(Arquivo!$F$2:$F$20000,Arquivo!$B$2:$B$20000,V$6,Arquivo!$C$2:$C$20000,W$6,Arquivo!$D$2:$D$20000,$C82)),0)","v":0},0,{"$f":"IFERROR((SUMIFS(Arquivo!$F$2:$F$20000,Arquivo!$B$2:$B$20000,X$6,Arquivo!$C$2:$C$20000,Y$6,Arquivo!$D$2:$D$20000,$C82)),0)","v":0},0,{"$f":"IFERROR((SUMIFS(Arquivo!$F$2:$F$20000,Arquivo!$B$2:$B$20000,Z$6,Arquivo!$C$2:$C$20000,AA$6,Arquivo!$D$2:$D$20000,$C82)),0)","v":0},0,{"$f":"IFERROR((SUMIFS(Arquivo!$F$2:$F$20000,Arquivo!$B$2:$B$20000,AB$6,Arquivo!$C$2:$C$20000,AC$6,Arquivo!$D$2:$D$20000,$C82)),0)","v":0},0,564.1,8.7994614436333123E-5,null,null,"X"]
[null,null,{"$f":"IF('Plano de Contas'!B70=\"\",\"\",'Plano de Contas'!B70)","v":"8.1.3.14"},{"$f":"IF($C83=\"\",\"\",VLOOKUP($C83,'Plano de Contas'!$B$2:$E$200,4,FALSE))","v":"CF"},{"$f":"IF($C83=\"\",\"\",VLOOKUP($C83,'Plano de Contas'!$B$2:$E$200,3,FALSE))","v":"ASSINATURA (JORNAL, INTERNET)"},{"$f":"IFERROR((SUMIFS(Arquivo!$F$2:$F$20000,Arquivo!$B$2:$B$20000,F$6,Arquivo!$C$2:$C$20000,G$6,Arquivo!$D$2:$D$20000,$C83)),0)","v":25},2.6024674722795573E-5,{"$f":"IFERROR((SUMIFS(Arquivo!$F$2:$F$20000,Arquivo!$B$2:$B$20000,H$6,Arquivo!$C$2:$C$20000,I$6,Arquivo!$D$2:$D$20000,$C83)),0)","v":25},3.0431021334458713E-5,{"$f":"IFERROR((SUMIFS(Arquivo!$F$2:$F$20000,Arquivo!$B$2:$B$20000,J$6,Arquivo!$C$2:$C$20000,K$6,Arquivo!$D$2:$D$20000,$C83)),0)","v":105},7.9349047618723745E-5,{"$f":"IFERROR((SUMIFS(Arquivo!$F$2:$F$20000,Arquivo!$B$2:$B$20000,L$6,Arquivo!$C$2:$C$20000,M$6,Arquivo!$D$2:$D$20000,$C83)),0)","v":25},2.4778904034030357E-5,{"$f":"IFERROR((SUMIFS(Arquivo!$F$2:$F$20000,Arquivo!$B$2:$B$20000,N$6,Arquivo!$C$2:$C$20000,O$6,Arquivo!$D$2:$D$20000,$C83)),0)","v":25},3.1065293530988125E-5,{"$f":"IFERROR((SUMIFS(Arquivo!$F$2:$F$20000,Arquivo!$B$2:$B$20000,P$6,Arquivo!$C$2:$C$20000,Q$6,Arquivo!$D$2:$D$20000,$C83)),0)","v":25},2.8307149785924351E-5,{"$f":"IFERROR((SUMIFS(Arquivo!$F$2:$F$20000,Arquivo!$B$2:$B$20000,R$6,Arquivo!$C$2:$C$20000,S$6,Arquivo!$D$2:$D$20000,$C83)),0)","v":25},4.1094970559152147E-5,{"$f":"IFERROR((SUMIFS(Arquivo!$F$2:$F$20000,Arquivo!$B$2:$B$20000,T$6,Arquivo!$C$2:$C$20000,U$6,Arquivo!$D$2:$D$20000,$C83)),0)","v":0},0,{"$f":"IFERROR((SUMIFS(Arquivo!$F$2:$F$20000,Arquivo!$B$2:$B$20000,V$6,Arquivo!$C$2:$C$20000,W$6,Arquivo!$D$2:$D$20000,$C83)),0)","v":0},0,{"$f":"IFERROR((SUMIFS(Arquivo!$F$2:$F$20000,Arquivo!$B$2:$B$20000,X$6,Arquivo!$C$2:$C$20000,Y$6,Arquivo!$D$2:$D$20000,$C83)),0)","v":0},0,{"$f":"IFERROR((SUMIFS(Arquivo!$F$2:$F$20000,Arquivo!$B$2:$B$20000,Z$6,Arquivo!$C$2:$C$20000,AA$6,Arquivo!$D$2:$D$20000,$C83)),0)","v":0},0,{"$f":"IFERROR((SUMIFS(Arquivo!$F$2:$F$20000,Arquivo!$B$2:$B$20000,AB$6,Arquivo!$C$2:$C$20000,AC$6,Arquivo!$D$2:$D$20000,$C83)),0)","v":0},0,255,3.9777746288361894E-5,null,null,"X"]
[null,null,{"$f":"IF('Plano de Contas'!B71=\"\",\"\",'Plano de Contas'!B71)","v":"8.1.3.15"},{"$f":"IF($C84=\"\",\"\",VLOOKUP($C84,'Plano de Contas'!$B$2:$E$200,4,FALSE))","v":"CV"},{"$f":"IF($C84=\"\",\"\",VLOOKUP($C84,'Plano de Contas'!$B$2:$E$200,3,FALSE))","v":"SUPORTE INFORMATICA"},{"$f":"IFERROR((SUMIFS(Arquivo!$F$2:$F$20000,Arquivo!$B$2:$B$20000,F$6,Arquivo!$C$2:$C$20000,G$6,Arquivo!$D$2:$D$20000,$C84)),0)","v":281.10000000000002},2.9262144258311346E-4,{"$f":"IFERROR((SUMIFS(Arquivo!$F$2:$F$20000,Arquivo!$B$2:$B$20000,H$6,Arquivo!$C$2:$C$20000,I$6,Arquivo!$D$2:$D$20000,$C84)),0)","v":376.2},4.5792600904093471E-4,{"$f":"IFERROR((SUMIFS(Arquivo!$F$2:$F$20000,Arquivo!$B$2:$B$20000,J$6,Arquivo!$C$2:$C$20000,K$6,Arquivo!$D$2:$D$20000,$C84)),0)","v":286.2},2.1628283265217842E-4,{"$f":"IFERROR((SUMIFS(Arquivo!$F$2:$F$20000,Arquivo!$B$2:$B$20000,L$6,Arquivo!$C$2:$C$20000,M$6,Arquivo!$D$2:$D$20000,$C84)),0)","v":286.2},2.8366889338157948E-4,{"$f":"IFERROR((SUMIFS(Arquivo!$F$2:$F$20000,Arquivo!$B$2:$B$20000,N$6,Arquivo!$C$2:$C$20000,O$6,Arquivo!$D$2:$D$20000,$C84)),0)","v":416.2},5.171750067038903E-4,{"$f":"IFERROR((SUMIFS(Arquivo!$F$2:$F$20000,Arquivo!$B$2:$B$20000,P$6,Arquivo!$C$2:$C$20000,Q$6,Arquivo!$D$2:$D$20000,$C84)),0)","v":286.2},3.2406025074926194E-4,{"$f":"IFERROR((SUMIFS(Arquivo!$F$2:$F$20000,Arquivo!$B$2:$B$20000,R$6,Arquivo!$C$2:$C$20000,S$6,Arquivo!$D$2:$D$20000,$C84)),0)","v":286.2},4.7045522296117371E-4,{"$f":"IFERROR((SUMIFS(Arquivo!$F$2:$F$20000,Arquivo!$B$2:$B$20000,T$6,Arquivo!$C$2:$C$20000,U$6,Arquivo!$D$2:$D$20000,$C84)),0)","v":0},0,{"$f":"IFERROR((SUMIFS(Arquivo!$F$2:$F$20000,Arquivo!$B$2:$B$20000,V$6,Arquivo!$C$2:$C$20000,W$6,Arquivo!$D$2:$D$20000,$C84)),0)","v":0},0,{"$f":"IFERROR((SUMIFS(Arquivo!$F$2:$F$20000,Arquivo!$B$2:$B$20000,X$6,Arquivo!$C$2:$C$20000,Y$6,Arquivo!$D$2:$D$20000,$C84)),0)","v":0},0,{"$f":"IFERROR((SUMIFS(Arquivo!$F$2:$F$20000,Arquivo!$B$2:$B$20000,Z$6,Arquivo!$C$2:$C$20000,AA$6,Arquivo!$D$2:$D$20000,$C84)),0)","v":0},0,{"$f":"IFERROR((SUMIFS(Arquivo!$F$2:$F$20000,Arquivo!$B$2:$B$20000,AB$6,Arquivo!$C$2:$C$20000,AC$6,Arquivo!$D$2:$D$20000,$C84)),0)","v":0},0,2218.3000000000002,3.4603519447636548E-4,null,null,"X"]
[null,null,{"$f":"IF('Plano de Contas'!B72=\"\",\"\",'Plano de Contas'!B72)","v":"8.1.3.16"},{"$f":"IF($C85=\"\",\"\",VLOOKUP($C85,'Plano de Contas'!$B$2:$E$200,4,FALSE))","v":"CV"},{"$f":"IF($C85=\"\",\"\",VLOOKUP($C85,'Plano de Contas'!$B$2:$E$200,3,FALSE))","v":"MANUT.MAQ E EQUIP"},{"$f":"IFERROR((SUMIFS(Arquivo!$F$2:$F$20000,Arquivo!$B$2:$B$20000,F$6,Arquivo!$C$2:$C$20000,G$6,Arquivo!$D$2:$D$20000,$C85)),0)","v":0},0,{"$f":"IFERROR((SUMIFS(Arquivo!$F$2:$F$20000,Arquivo!$B$2:$B$20000,H$6,Arquivo!$C$2:$C$20000,I$6,Arquivo!$D$2:$D$20000,$C85)),0)","v":0},0,{"$f":"IFERROR((SUMIFS(Arquivo!$F$2:$F$20000,Arquivo!$B$2:$B$20000,J$6,Arquivo!$C$2:$C$20000,K$6,Arquivo!$D$2:$D$20000,$C85)),0)","v":0},0,{"$f":"IFERROR((SUMIFS(Arquivo!$F$2:$F$20000,Arquivo!$B$2:$B$20000,L$6,Arquivo!$C$2:$C$20000,M$6,Arquivo!$D$2:$D$20000,$C85)),0)","v":195},1.9327545146543678E-4,{"$f":"IFERROR((SUMIFS(Arquivo!$F$2:$F$20000,Arquivo!$B$2:$B$20000,N$6,Arquivo!$C$2:$C$20000,O$6,Arquivo!$D$2:$D$20000,$C85)),0)","v":120},1.4911340894874301E-4,{"$f":"IFERROR((SUMIFS(Arquivo!$F$2:$F$20000,Arquivo!$B$2:$B$20000,P$6,Arquivo!$C$2:$C$20000,Q$6,Arquivo!$D$2:$D$20000,$C85)),0)","v":0},0,{"$f":"IFERROR((SUMIFS(Arquivo!$F$2:$F$20000,Arquivo!$B$2:$B$20000,R$6,Arquivo!$C$2:$C$20000,S$6,Arquivo!$D$2:$D$20000,$C85)),0)","v":0},0,{"$f":"IFERROR((SUMIFS(Arquivo!$F$2:$F$20000,Arquivo!$B$2:$B$20000,T$6,Arquivo!$C$2:$C$20000,U$6,Arquivo!$D$2:$D$20000,$C85)),0)","v":0},0,{"$f":"IFERROR((SUMIFS(Arquivo!$F$2:$F$20000,Arquivo!$B$2:$B$20000,V$6,Arquivo!$C$2:$C$20000,W$6,Arquivo!$D$2:$D$20000,$C85)),0)","v":0},0,{"$f":"IFERROR((SUMIFS(Arquivo!$F$2:$F$20000,Arquivo!$B$2:$B$20000,X$6,Arquivo!$C$2:$C$20000,Y$6,Arquivo!$D$2:$D$20000,$C85)),0)","v":0},0,{"$f":"IFERROR((SUMIFS(Arquivo!$F$2:$F$20000,Arquivo!$B$2:$B$20000,Z$6,Arquivo!$C$2:$C$20000,AA$6,Arquivo!$D$2:$D$20000,$C85)),0)","v":0},0,{"$f":"IFERROR((SUMIFS(Arquivo!$F$2:$F$20000,Arquivo!$B$2:$B$20000,AB$6,Arquivo!$C$2:$C$20000,AC$6,Arquivo!$D$2:$D$20000,$C85)),0)","v":0},0,315,4.9137216003270575E-5,null,null,"X"]
[null,null,{"$f":"IF('Plano de Contas'!B73=\"\",\"\",'Plano de Contas'!B73)","v":"8.1.3.17"},{"$f":"IF($C86=\"\",\"\",VLOOKUP($C86,'Plano de Contas'!$B$2:$E$200,4,FALSE))","v":"CV"},{"$f":"IF($C86=\"\",\"\",VLOOKUP($C86,'Plano de Contas'!$B$2:$E$200,3,FALSE))","v":"MANUT. HIDRAULICA E ELETRICA"},{"$f":"IFERROR((SUMIFS(Arquivo!$F$2:$F$20000,Arquivo!$B$2:$B$20000,F$6,Arquivo!$C$2:$C$20000,G$6,Arquivo!$D$2:$D$20000,$C86)),0)","v":0},0,{"$f":"IFERROR((SUMIFS(Arquivo!$F$2:$F$20000,Arquivo!$B$2:$B$20000,H$6,Arquivo!$C$2:$C$20000,I$6,Arquivo!$D$2:$D$20000,$C86)),0)","v":94.9},1.1551615698560528E-4,{"$f":"IFERROR((SUMIFS(Arquivo!$F$2:$F$20000,Arquivo!$B$2:$B$20000,J$6,Arquivo!$C$2:$C$20000,K$6,Arquivo!$D$2:$D$20000,$C86)),0)","v":30},2.2671156462492499E-5,{"$f":"IFERROR((SUMIFS(Arquivo!$F$2:$F$20000,Arquivo!$B$2:$B$20000,L$6,Arquivo!$C$2:$C$20000,M$6,Arquivo!$D$2:$D$20000,$C86)),0)","v":0},0,{"$f":"IFERROR((SUMIFS(Arquivo!$F$2:$F$20000,Arquivo!$B$2:$B$20000,N$6,Arquivo!$C$2:$C$20000,O$6,Arquivo!$D$2:$D$20000,$C86)),0)","v":148.30000000000001},1.8427932122582158E-4,{"$f":"IFERROR((SUMIFS(Arquivo!$F$2:$F$20000,Arquivo!$B$2:$B$20000,P$6,Arquivo!$C$2:$C$20000,Q$6,Arquivo!$D$2:$D$20000,$C86)),0)","v":129.6},1.4674426449023183E-4,{"$f":"IFERROR((SUMIFS(Arquivo!$F$2:$F$20000,Arquivo!$B$2:$B$20000,R$6,Arquivo!$C$2:$C$20000,S$6,Arquivo!$D$2:$D$20000,$C86)),0)","v":1020},1.6766747988134075E-3,{"$f":"IFERROR((SUMIFS(Arquivo!$F$2:$F$20000,Arquivo!$B$2:$B$20000,T$6,Arquivo!$C$2:$C$20000,U$6,Arquivo!$D$2:$D$20000,$C86)),0)","v":0},0,{"$f":"IFERROR((SUMIFS(Arquivo!$F$2:$F$20000,Arquivo!$B$2:$B$20000,V$6,Arquivo!$C$2:$C$20000,W$6,Arquivo!$D$2:$D$20000,$C86)),0)","v":0},0,{"$f":"IFERROR((SUMIFS(Arquivo!$F$2:$F$20000,Arquivo!$B$2:$B$20000,X$6,Arquivo!$C$2:$C$20000,Y$6,Arquivo!$D$2:$D$20000,$C86)),0)","v":0},0,{"$f":"IFERROR((SUMIFS(Arquivo!$F$2:$F$20000,Arquivo!$B$2:$B$20000,Z$6,Arquivo!$C$2:$C$20000,AA$6,Arquivo!$D$2:$D$20000,$C86)),0)","v":0},0,{"$f":"IFERROR((SUMIFS(Arquivo!$F$2:$F$20000,Arquivo!$B$2:$B$20000,AB$6,Arquivo!$C$2:$C$20000,AC$6,Arquivo!$D$2:$D$20000,$C86)),0)","v":0},0,1422.8000000000002,2.2194422517286789E-4,null,null,"X"]
[null,null,{"$f":"IF('Plano de Contas'!B74=\"\",\"\",'Plano de Contas'!B74)","v":"8.1.3.18"},{"$f":"IF($C87=\"\",\"\",VLOOKUP($C87,'Plano de Contas'!$B$2:$E$200,4,FALSE))","v":"CF"},{"$f":"IF($C87=\"\",\"\",VLOOKUP($C87,'Plano de Contas'!$B$2:$E$200,3,FALSE))","v":"SERVICOS DE VIGILANCIA"},{"$f":"IFERROR((SUMIFS(Arquivo!$F$2:$F$20000,Arquivo!$B$2:$B$20000,F$6,Arquivo!$C$2:$C$20000,G$6,Arquivo!$D$2:$D$20000,$C87)),0)","v":150},1.5614804833677344E-4,{"$f":"IFERROR((SUMIFS(Arquivo!$F$2:$F$20000,Arquivo!$B$2:$B$20000,H$6,Arquivo!$C$2:$C$20000,I$6,Arquivo!$D$2:$D$20000,$C87)),0)","v":150},1.825861280067523E-4,{"$f":"IFERROR((SUMIFS(Arquivo!$F$2:$F$20000,Arquivo!$B$2:$B$20000,J$6,Arquivo!$C$2:$C$20000,K$6,Arquivo!$D$2:$D$20000,$C87)),0)","v":150},1.1335578231246249E-4,{"$f":"IFERROR((SUMIFS(Arquivo!$F$2:$F$20000,Arquivo!$B$2:$B$20000,L$6,Arquivo!$C$2:$C$20000,M$6,Arquivo!$D$2:$D$20000,$C87)),0)","v":150},1.4867342420418213E-4,{"$f":"IFERROR((SUMIFS(Arquivo!$F$2:$F$20000,Arquivo!$B$2:$B$20000,N$6,Arquivo!$C$2:$C$20000,O$6,Arquivo!$D$2:$D$20000,$C87)),0)","v":150},1.8639176118592877E-4,{"$f":"IFERROR((SUMIFS(Arquivo!$F$2:$F$20000,Arquivo!$B$2:$B$20000,P$6,Arquivo!$C$2:$C$20000,Q$6,Arquivo!$D$2:$D$20000,$C87)),0)","v":150},1.6984289871554609E-4,{"$f":"IFERROR((SUMIFS(Arquivo!$F$2:$F$20000,Arquivo!$B$2:$B$20000,R$6,Arquivo!$C$2:$C$20000,S$6,Arquivo!$D$2:$D$20000,$C87)),0)","v":150},2.4656982335491287E-4,{"$f":"IFERROR((SUMIFS(Arquivo!$F$2:$F$20000,Arquivo!$B$2:$B$20000,T$6,Arquivo!$C$2:$C$20000,U$6,Arquivo!$D$2:$D$20000,$C87)),0)","v":0},0,{"$f":"IFERROR((SUMIFS(Arquivo!$F$2:$F$20000,Arquivo!$B$2:$B$20000,V$6,Arquivo!$C$2:$C$20000,W$6,Arquivo!$D$2:$D$20000,$C87)),0)","v":0},0,{"$f":"IFERROR((SUMIFS(Arquivo!$F$2:$F$20000,Arquivo!$B$2:$B$20000,X$6,Arquivo!$C$2:$C$20000,Y$6,Arquivo!$D$2:$D$20000,$C87)),0)","v":0},0,{"$f":"IFERROR((SUMIFS(Arquivo!$F$2:$F$20000,Arquivo!$B$2:$B$20000,Z$6,Arquivo!$C$2:$C$20000,AA$6,Arquivo!$D$2:$D$20000,$C87)),0)","v":0},0,{"$f":"IFERROR((SUMIFS(Arquivo!$F$2:$F$20000,Arquivo!$B$2:$B$20000,AB$6,Arquivo!$C$2:$C$20000,AC$6,Arquivo!$D$2:$D$20000,$C87)),0)","v":0},0,1050,1.6379072001090192E-4,null,null,"X"]
[null,null,{"$f":"IF('Plano de Contas'!B75=\"\",\"\",'Plano de Contas'!B75)","v":"8.1.3.19"},{"$f":"IF($C88=\"\",\"\",VLOOKUP($C88,'Plano de Contas'!$B$2:$E$200,4,FALSE))","v":"CV"},{"$f":"IF($C88=\"\",\"\",VLOOKUP($C88,'Plano de Contas'!$B$2:$E$200,3,FALSE))","v":"PADARIA E LANCHONETE"},{"$f":"IFERROR((SUMIFS(Arquivo!$F$2:$F$20000,Arquivo!$B$2:$B$20000,F$6,Arquivo!$C$2:$C$20000,G$6,Arquivo!$D$2:$D$20000,$C88)),0)","v":404.25},4.208189902676044E-4,{"$f":"IFERROR((SUMIFS(Arquivo!$F$2:$F$20000,Arquivo!$B$2:$B$20000,H$6,Arquivo!$C$2:$C$20000,I$6,Arquivo!$D$2:$D$20000,$C88)),0)","v":174.56},2.1248156336572453E-4,{"$f":"IFERROR((SUMIFS(Arquivo!$F$2:$F$20000,Arquivo!$B$2:$B$20000,J$6,Arquivo!$C$2:$C$20000,K$6,Arquivo!$D$2:$D$20000,$C88)),0)","v":513.45000000000005},3.8801684285555914E-4,{"$f":"IFERROR((SUMIFS(Arquivo!$F$2:$F$20000,Arquivo!$B$2:$B$20000,L$6,Arquivo!$C$2:$C$20000,M$6,Arquivo!$D$2:$D$20000,$C88)),0)","v":651.04},6.4528230729260483E-4,{"$f":"IFERROR((SUMIFS(Arquivo!$F$2:$F$20000,Arquivo!$B$2:$B$20000,N$6,Arquivo!$C$2:$C$20000,O$6,Arquivo!$D$2:$D$20000,$C88)),0)","v":352.5},4.3802063878693259E-4,{"$f":"IFERROR((SUMIFS(Arquivo!$F$2:$F$20000,Arquivo!$B$2:$B$20000,P$6,Arquivo!$C$2:$C$20000,Q$6,Arquivo!$D$2:$D$20000,$C88)),0)","v":282.98},3.2041428985683492E-4,{"$f":"IFERROR((SUMIFS(Arquivo!$F$2:$F$20000,Arquivo!$B$2:$B$20000,R$6,Arquivo!$C$2:$C$20000,S$6,Arquivo!$D$2:$D$20000,$C88)),0)","v":350.1},5.7549396771036665E-4,{"$f":"IFERROR((SUMIFS(Arquivo!$F$2:$F$20000,Arquivo!$B$2:$B$20000,T$6,Arquivo!$C$2:$C$20000,U$6,Arquivo!$D$2:$D$20000,$C88)),0)","v":0},0,{"$f":"IFERROR((SUMIFS(Arquivo!$F$2:$F$20000,Arquivo!$B$2:$B$20000,V$6,Arquivo!$C$2:$C$20000,W$6,Arquivo!$D$2:$D$20000,$C88)),0)","v":0},0,{"$f":"IFERROR((SUMIFS(Arquivo!$F$2:$F$20000,Arquivo!$B$2:$B$20000,X$6,Arquivo!$C$2:$C$20000,Y$6,Arquivo!$D$2:$D$20000,$C88)),0)","v":0},0,{"$f":"IFERROR((SUMIFS(Arquivo!$F$2:$F$20000,Arquivo!$B$2:$B$20000,Z$6,Arquivo!$C$2:$C$20000,AA$6,Arquivo!$D$2:$D$20000,$C88)),0)","v":0},0,{"$f":"IFERROR((SUMIFS(Arquivo!$F$2:$F$20000,Arquivo!$B$2:$B$20000,AB$6,Arquivo!$C$2:$C$20000,AC$6,Arquivo!$D$2:$D$20000,$C88)),0)","v":0},0,2728.88,4.2568116192700004E-4,null,null,"X"]
[null,null,{"$f":"IF('Plano de Contas'!B76=\"\",\"\",'Plano de Contas'!B76)","v":"8.1.3.20"},{"$f":"IF($C89=\"\",\"\",VLOOKUP($C89,'Plano de Contas'!$B$2:$E$200,4,FALSE))","v":"CV"},{"$f":"IF($C89=\"\",\"\",VLOOKUP($C89,'Plano de Contas'!$B$2:$E$200,3,FALSE))","v":"OUTRAS DESP.ADMINISTRATIVAS"},{"$f":"IFERROR((SUMIFS(Arquivo!$F$2:$F$20000,Arquivo!$B$2:$B$20000,F$6,Arquivo!$C$2:$C$20000,G$6,Arquivo!$D$2:$D$20000,$C89)),0)","v":1879.38},1.9564101272211017E-3,{"$f":"IFERROR((SUMIFS(Arquivo!$F$2:$F$20000,Arquivo!$B$2:$B$20000,H$6,Arquivo!$C$2:$C$20000,I$6,Arquivo!$D$2:$D$20000,$C89)),0)","v":1879.38},2.2876581150222007E-3,{"$f":"IFERROR((SUMIFS(Arquivo!$F$2:$F$20000,Arquivo!$B$2:$B$20000,J$6,Arquivo!$C$2:$C$20000,K$6,Arquivo!$D$2:$D$20000,$C89)),0)","v":8495.3799999999992},6.4200029729443164E-3,{"$f":"IFERROR((SUMIFS(Arquivo!$F$2:$F$20000,Arquivo!$B$2:$B$20000,L$6,Arquivo!$C$2:$C$20000,M$6,Arquivo!$D$2:$D$20000,$C89)),0)","v":4694.88},4.6533592388515376E-3,{"$f":"IFERROR((SUMIFS(Arquivo!$F$2:$F$20000,Arquivo!$B$2:$B$20000,N$6,Arquivo!$C$2:$C$20000,O$6,Arquivo!$D$2:$D$20000,$C89)),0)","v":4694.88},5.8339130117106217E-3,{"$f":"IFERROR((SUMIFS(Arquivo!$F$2:$F$20000,Arquivo!$B$2:$B$20000,P$6,Arquivo!$C$2:$C$20000,Q$6,Arquivo!$D$2:$D$20000,$C89)),0)","v":1879.38},2.1279956465868203E-3,{"$f":"IFERROR((SUMIFS(Arquivo!$F$2:$F$20000,Arquivo!$B$2:$B$20000,R$6,Arquivo!$C$2:$C$20000,S$6,Arquivo!$D$2:$D$20000,$C89)),0)","v":1879.38},3.0893226307783747E-3,{"$f":"IFERROR((SUMIFS(Arquivo!$F$2:$F$20000,Arquivo!$B$2:$B$20000,T$6,Arquivo!$C$2:$C$20000,U$6,Arquivo!$D$2:$D$20000,$C89)),0)","v":0},0,{"$f":"IFERROR((SUMIFS(Arquivo!$F$2:$F$20000,Arquivo!$B$2:$B$20000,V$6,Arquivo!$C$2:$C$20000,W$6,Arquivo!$D$2:$D$20000,$C89)),0)","v":0},0,{"$f":"IFERROR((SUMIFS(Arquivo!$F$2:$F$20000,Arquivo!$B$2:$B$20000,X$6,Arquivo!$C$2:$C$20000,Y$6,Arquivo!$D$2:$D$20000,$C89)),0)","v":0},0,{"$f":"IFERROR((SUMIFS(Arquivo!$F$2:$F$20000,Arquivo!$B$2:$B$20000,Z$6,Arquivo!$C$2:$C$20000,AA$6,Arquivo!$D$2:$D$20000,$C89)),0)","v":0},0,{"$f":"IFERROR((SUMIFS(Arquivo!$F$2:$F$20000,Arquivo!$B$2:$B$20000,AB$6,Arquivo!$C$2:$C$20000,AC$6,Arquivo!$D$2:$D$20000,$C89)),0)","v":0},0,25402.660000000003,3.9625904491353697E-3,null,null,"X"]
[null,null,{"$f":"IF('Plano de Contas'!B77=\"\",\"\",'Plano de Contas'!B77)","v":"11.1.1.8"},{"$f":"IF($C90=\"\",\"\",VLOOKUP($C90,'Plano de Contas'!$B$2:$E$200,4,FALSE))","v":"CF"},{"$f":"IF($C90=\"\",\"\",VLOOKUP($C90,'Plano de Contas'!$B$2:$E$200,3,FALSE))","v":"FUNDO ABANORTE SIGATOKA NEGRA"},{"$f":"IFERROR((SUMIFS(Arquivo!$F$2:$F$20000,Arquivo!$B$2:$B$20000,F$6,Arquivo!$C$2:$C$20000,G$6,Arquivo!$D$2:$D$20000,$C90)),0)","v":1792},1.8654486841299866E-3,{"$f":"IFERROR((SUMIFS(Arquivo!$F$2:$F$20000,Arquivo!$B$2:$B$20000,H$6,Arquivo!$C$2:$C$20000,I$6,Arquivo!$D$2:$D$20000,$C90)),0)","v":1504},1.8307302434810361E-3,{"$f":"IFERROR((SUMIFS(Arquivo!$F$2:$F$20000,Arquivo!$B$2:$B$20000,J$6,Arquivo!$C$2:$C$20000,K$6,Arquivo!$D$2:$D$20000,$C90)),0)","v":1632},1.233310911559592E-3,{"$f":"IFERROR((SUMIFS(Arquivo!$F$2:$F$20000,Arquivo!$B$2:$B$20000,L$6,Arquivo!$C$2:$C$20000,M$6,Arquivo!$D$2:$D$20000,$C90)),0)","v":1952},1.9347368269770902E-3,{"$f":"IFERROR((SUMIFS(Arquivo!$F$2:$F$20000,Arquivo!$B$2:$B$20000,N$6,Arquivo!$C$2:$C$20000,O$6,Arquivo!$D$2:$D$20000,$C90)),0)","v":1376},1.7098337559455865E-3,{"$f":"IFERROR((SUMIFS(Arquivo!$F$2:$F$20000,Arquivo!$B$2:$B$20000,P$6,Arquivo!$C$2:$C$20000,Q$6,Arquivo!$D$2:$D$20000,$C90)),0)","v":1792},2.0290564966550574E-3,{"$f":"IFERROR((SUMIFS(Arquivo!$F$2:$F$20000,Arquivo!$B$2:$B$20000,R$6,Arquivo!$C$2:$C$20000,S$6,Arquivo!$D$2:$D$20000,$C90)),0)","v":2432},3.997718735994321E-3,{"$f":"IFERROR((SUMIFS(Arquivo!$F$2:$F$20000,Arquivo!$B$2:$B$20000,T$6,Arquivo!$C$2:$C$20000,U$6,Arquivo!$D$2:$D$20000,$C90)),0)","v":0},0,{"$f":"IFERROR((SUMIFS(Arquivo!$F$2:$F$20000,Arquivo!$B$2:$B$20000,V$6,Arquivo!$C$2:$C$20000,W$6,Arquivo!$D$2:$D$20000,$C90)),0)","v":0},0,{"$f":"IFERROR((SUMIFS(Arquivo!$F$2:$F$20000,Arquivo!$B$2:$B$20000,X$6,Arquivo!$C$2:$C$20000,Y$6,Arquivo!$D$2:$D$20000,$C90)),0)","v":0},0,{"$f":"IFERROR((SUMIFS(Arquivo!$F$2:$F$20000,Arquivo!$B$2:$B$20000,Z$6,Arquivo!$C$2:$C$20000,AA$6,Arquivo!$D$2:$D$20000,$C90)),0)","v":0},0,{"$f":"IFERROR((SUMIFS(Arquivo!$F$2:$F$20000,Arquivo!$B$2:$B$20000,AB$6,Arquivo!$C$2:$C$20000,AC$6,Arquivo!$D$2:$D$20000,$C90)),0)","v":0},0,12480,1.9467697007010056E-3,null,null,"X"]
[null,null,{"$f":"IF('Plano de Contas'!B78=\"\",\"\",'Plano de Contas'!B78)","v":"8.2.2.15"},{"$f":"IF($C91=\"\",\"\",VLOOKUP($C91,'Plano de Contas'!$B$2:$E$200,4,FALSE))","v":"CV"},{"$f":"IF($C91=\"\",\"\",VLOOKUP($C91,'Plano de Contas'!$B$2:$E$200,3,FALSE))","v":"COMBUSTIVEL COOPERADOS"},{"$f":"IFERROR((SUMIFS(Arquivo!$F$2:$F$20000,Arquivo!$B$2:$B$20000,F$6,Arquivo!$C$2:$C$20000,G$6,Arquivo!$D$2:$D$20000,$C91)),0)","v":2857.8},2.974932616912208E-3,{"$f":"IFERROR((SUMIFS(Arquivo!$F$2:$F$20000,Arquivo!$B$2:$B$20000,H$6,Arquivo!$C$2:$C$20000,I$6,Arquivo!$D$2:$D$20000,$C91)),0)","v":2618},3.1867365541445166E-3,{"$f":"IFERROR((SUMIFS(Arquivo!$F$2:$F$20000,Arquivo!$B$2:$B$20000,J$6,Arquivo!$C$2:$C$20000,K$6,Arquivo!$D$2:$D$20000,$C91)),0)","v":1951.6},1.4748342984066787E-3,{"$f":"IFERROR((SUMIFS(Arquivo!$F$2:$F$20000,Arquivo!$B$2:$B$20000,L$6,Arquivo!$C$2:$C$20000,M$6,Arquivo!$D$2:$D$20000,$C91)),0)","v":3440.45},3.4100232153551893E-3,{"$f":"IFERROR((SUMIFS(Arquivo!$F$2:$F$20000,Arquivo!$B$2:$B$20000,N$6,Arquivo!$C$2:$C$20000,O$6,Arquivo!$D$2:$D$20000,$C91)),0)","v":2696.4},3.3505782990782555E-3,{"$f":"IFERROR((SUMIFS(Arquivo!$F$2:$F$20000,Arquivo!$B$2:$B$20000,P$6,Arquivo!$C$2:$C$20000,Q$6,Arquivo!$D$2:$D$20000,$C91)),0)","v":2477.6},2.8053517723842466E-3,{"$f":"IFERROR((SUMIFS(Arquivo!$F$2:$F$20000,Arquivo!$B$2:$B$20000,R$6,Arquivo!$C$2:$C$20000,S$6,Arquivo!$D$2:$D$20000,$C91)),0)","v":2435.8000000000002},4.0039651715193117E-3,{"$f":"IFERROR((SUMIFS(Arquivo!$F$2:$F$20000,Arquivo!$B$2:$B$20000,T$6,Arquivo!$C$2:$C$20000,U$6,Arquivo!$D$2:$D$20000,$C91)),0)","v":0},0,{"$f":"IFERROR((SUMIFS(Arquivo!$F$2:$F$20000,Arquivo!$B$2:$B$20000,V$6,Arquivo!$C$2:$C$20000,W$6,Arquivo!$D$2:$D$20000,$C91)),0)","v":0},0,{"$f":"IFERROR((SUMIFS(Arquivo!$F$2:$F$20000,Arquivo!$B$2:$B$20000,X$6,Arquivo!$C$2:$C$20000,Y$6,Arquivo!$D$2:$D$20000,$C91)),0)","v":0},0,{"$f":"IFERROR((SUMIFS(Arquivo!$F$2:$F$20000,Arquivo!$B$2:$B$20000,Z$6,Arquivo!$C$2:$C$20000,AA$6,Arquivo!$D$2:$D$20000,$C91)),0)","v":0},0,{"$f":"IFERROR((SUMIFS(Arquivo!$F$2:$F$20000,Arquivo!$B$2:$B$20000,AB$6,Arquivo!$C$2:$C$20000,AC$6,Arquivo!$D$2:$D$20000,$C91)),0)","v":0},0,18477.649999999998,2.8823500929613726E-3,null,null,"X"]
[null,null,{"$f":"IF('Plano de Contas'!B79=\"\",\"\",'Plano de Contas'!B79)","v":""},{"$f":"IF($C92=\"\",\"\",VLOOKUP($C92,'Plano de Contas'!$B$2:$E$200,4,FALSE))","v":""},{"$f":"IF($C92=\"\",\"\",VLOOKUP($C92,'Plano de Contas'!$B$2:$E$200,3,FALSE))","v":""},{"$f":"IFERROR((SUMIFS(Arquivo!$F$2:$F$20000,Arquivo!$B$2:$B$20000,F$6,Arquivo!$C$2:$C$20000,G$6,Arquivo!$D$2:$D$20000,$C92)),0)","v":0},0,{"$f":"IFERROR((SUMIFS(Arquivo!$F$2:$F$20000,Arquivo!$B$2:$B$20000,H$6,Arquivo!$C$2:$C$20000,I$6,Arquivo!$D$2:$D$20000,$C92)),0)","v":0},0,{"$f":"IFERROR((SUMIFS(Arquivo!$F$2:$F$20000,Arquivo!$B$2:$B$20000,J$6,Arquivo!$C$2:$C$20000,K$6,Arquivo!$D$2:$D$20000,$C92)),0)","v":0},0,{"$f":"IFERROR((SUMIFS(Arquivo!$F$2:$F$20000,Arquivo!$B$2:$B$20000,L$6,Arquivo!$C$2:$C$20000,M$6,Arquivo!$D$2:$D$20000,$C92)),0)","v":0},0,{"$f":"IFERROR((SUMIFS(Arquivo!$F$2:$F$20000,Arquivo!$B$2:$B$20000,N$6,Arquivo!$C$2:$C$20000,O$6,Arquivo!$D$2:$D$20000,$C92)),0)","v":0},0,{"$f":"IFERROR((SUMIFS(Arquivo!$F$2:$F$20000,Arquivo!$B$2:$B$20000,P$6,Arquivo!$C$2:$C$20000,Q$6,Arquivo!$D$2:$D$20000,$C92)),0)","v":0},0,{"$f":"IFERROR((SUMIFS(Arquivo!$F$2:$F$20000,Arquivo!$B$2:$B$20000,R$6,Arquivo!$C$2:$C$20000,S$6,Arquivo!$D$2:$D$20000,$C92)),0)","v":0},0,{"$f":"IFERROR((SUMIFS(Arquivo!$F$2:$F$20000,Arquivo!$B$2:$B$20000,T$6,Arquivo!$C$2:$C$20000,U$6,Arquivo!$D$2:$D$20000,$C92)),0)","v":0},0,{"$f":"IFERROR((SUMIFS(Arquivo!$F$2:$F$20000,Arquivo!$B$2:$B$20000,V$6,Arquivo!$C$2:$C$20000,W$6,Arquivo!$D$2:$D$20000,$C92)),0)","v":0},0,{"$f":"IFERROR((SUMIFS(Arquivo!$F$2:$F$20000,Arquivo!$B$2:$B$20000,X$6,Arquivo!$C$2:$C$20000,Y$6,Arquivo!$D$2:$D$20000,$C92)),0)","v":0},0,{"$f":"IFERROR((SUMIFS(Arquivo!$F$2:$F$20000,Arquivo!$B$2:$B$20000,Z$6,Arquivo!$C$2:$C$20000,AA$6,Arquivo!$D$2:$D$20000,$C92)),0)","v":0},0,{"$f":"IFERROR((SUMIFS(Arquivo!$F$2:$F$20000,Arquivo!$B$2:$B$20000,AB$6,Arquivo!$C$2:$C$20000,AC$6,Arquivo!$D$2:$D$20000,$C92)),0)","v":0},0,0,0,null,null,""]
[null,null,{"$f":"IF('Plano de Contas'!B80=\"\",\"\",'Plano de Contas'!B80)","v":""},{"$f":"IF($C93=\"\",\"\",VLOOKUP($C93,'Plano de Contas'!$B$2:$E$200,4,FALSE))","v":""},{"$f":"IF($C93=\"\",\"\",VLOOKUP($C93,'Plano de Contas'!$B$2:$E$200,3,FALSE))","v":""},{"$f":"IFERROR((SUMIFS(Arquivo!$F$2:$F$20000,Arquivo!$B$2:$B$20000,F$6,Arquivo!$C$2:$C$20000,G$6,Arquivo!$D$2:$D$20000,$C93)),0)","v":0},0,{"$f":"IFERROR((SUMIFS(Arquivo!$F$2:$F$20000,Arquivo!$B$2:$B$20000,H$6,Arquivo!$C$2:$C$20000,I$6,Arquivo!$D$2:$D$20000,$C93)),0)","v":0},0,{"$f":"IFERROR((SUMIFS(Arquivo!$F$2:$F$20000,Arquivo!$B$2:$B$20000,J$6,Arquivo!$C$2:$C$20000,K$6,Arquivo!$D$2:$D$20000,$C93)),0)","v":0},0,{"$f":"IFERROR((SUMIFS(Arquivo!$F$2:$F$20000,Arquivo!$B$2:$B$20000,L$6,Arquivo!$C$2:$C$20000,M$6,Arquivo!$D$2:$D$20000,$C93)),0)","v":0},0,{"$f":"IFERROR((SUMIFS(Arquivo!$F$2:$F$20000,Arquivo!$B$2:$B$20000,N$6,Arquivo!$C$2:$C$20000,O$6,Arquivo!$D$2:$D$20000,$C93)),0)","v":0},0,{"$f":"IFERROR((SUMIFS(Arquivo!$F$2:$F$20000,Arquivo!$B$2:$B$20000,P$6,Arquivo!$C$2:$C$20000,Q$6,Arquivo!$D$2:$D$20000,$C93)),0)","v":0},0,{"$f":"IFERROR((SUMIFS(Arquivo!$F$2:$F$20000,Arquivo!$B$2:$B$20000,R$6,Arquivo!$C$2:$C$20000,S$6,Arquivo!$D$2:$D$20000,$C93)),0)","v":0},0,{"$f":"IFERROR((SUMIFS(Arquivo!$F$2:$F$20000,Arquivo!$B$2:$B$20000,T$6,Arquivo!$C$2:$C$20000,U$6,Arquivo!$D$2:$D$20000,$C93)),0)","v":0},0,{"$f":"IFERROR((SUMIFS(Arquivo!$F$2:$F$20000,Arquivo!$B$2:$B$20000,V$6,Arquivo!$C$2:$C$20000,W$6,Arquivo!$D$2:$D$20000,$C93)),0)","v":0},0,{"$f":"IFERROR((SUMIFS(Arquivo!$F$2:$F$20000,Arquivo!$B$2:$B$20000,X$6,Arquivo!$C$2:$C$20000,Y$6,Arquivo!$D$2:$D$20000,$C93)),0)","v":0},0,{"$f":"IFERROR((SUMIFS(Arquivo!$F$2:$F$20000,Arquivo!$B$2:$B$20000,Z$6,Arquivo!$C$2:$C$20000,AA$6,Arquivo!$D$2:$D$20000,$C93)),0)","v":0},0,{"$f":"IFERROR((SUMIFS(Arquivo!$F$2:$F$20000,Arquivo!$B$2:$B$20000,AB$6,Arquivo!$C$2:$C$20000,AC$6,Arquivo!$D$2:$D$20000,$C93)),0)","v":0},0,0,0,null,null,""]
[null,null,{"$f":"IF('Plano de Contas'!B81=\"\",\"\",'Plano de Contas'!B81)","v":""},{"$f":"IF($C94=\"\",\"\",VLOOKUP($C94,'Plano de Contas'!$B$2:$E$200,4,FALSE))","v":""},{"$f":"IF($C94=\"\",\"\",VLOOKUP($C94,'Plano de Contas'!$B$2:$E$200,3,FALSE))","v":""},{"$f":"IFERROR((SUMIFS(Arquivo!$F$2:$F$20000,Arquivo!$B$2:$B$20000,F$6,Arquivo!$C$2:$C$20000,G$6,Arquivo!$D$2:$D$20000,$C94)),0)","v":0},0,{"$f":"IFERROR((SUMIFS(Arquivo!$F$2:$F$20000,Arquivo!$B$2:$B$20000,H$6,Arquivo!$C$2:$C$20000,I$6,Arquivo!$D$2:$D$20000,$C94)),0)","v":0},0,{"$f":"IFERROR((SUMIFS(Arquivo!$F$2:$F$20000,Arquivo!$B$2:$B$20000,J$6,Arquivo!$C$2:$C$20000,K$6,Arquivo!$D$2:$D$20000,$C94)),0)","v":0},0,{"$f":"IFERROR((SUMIFS(Arquivo!$F$2:$F$20000,Arquivo!$B$2:$B$20000,L$6,Arquivo!$C$2:$C$20000,M$6,Arquivo!$D$2:$D$20000,$C94)),0)","v":0},0,{"$f":"IFERROR((SUMIFS(Arquivo!$F$2:$F$20000,Arquivo!$B$2:$B$20000,N$6,Arquivo!$C$2:$C$20000,O$6,Arquivo!$D$2:$D$20000,$C94)),0)","v":0},0,{"$f":"IFERROR((SUMIFS(Arquivo!$F$2:$F$20000,Arquivo!$B$2:$B$20000,P$6,Arquivo!$C$2:$C$20000,Q$6,Arquivo!$D$2:$D$20000,$C94)),0)","v":0},0,{"$f":"IFERROR((SUMIFS(Arquivo!$F$2:$F$20000,Arquivo!$B$2:$B$20000,R$6,Arquivo!$C$2:$C$20000,S$6,Arquivo!$D$2:$D$20000,$C94)),0)","v":0},0,{"$f":"IFERROR((SUMIFS(Arquivo!$F$2:$F$20000,Arquivo!$B$2:$B$20000,T$6,Arquivo!$C$2:$C$20000,U$6,Arquivo!$D$2:$D$20000,$C94)),0)","v":0},0,{"$f":"IFERROR((SUMIFS(Arquivo!$F$2:$F$20000,Arquivo!$B$2:$B$20000,V$6,Arquivo!$C$2:$C$20000,W$6,Arquivo!$D$2:$D$20000,$C94)),0)","v":0},0,{"$f":"IFERROR((SUMIFS(Arquivo!$F$2:$F$20000,Arquivo!$B$2:$B$20000,X$6,Arquivo!$C$2:$C$20000,Y$6,Arquivo!$D$2:$D$20000,$C94)),0)","v":0},0,{"$f":"IFERROR((SUMIFS(Arquivo!$F$2:$F$20000,Arquivo!$B$2:$B$20000,Z$6,Arquivo!$C$2:$C$20000,AA$6,Arquivo!$D$2:$D$20000,$C94)),0)","v":0},0,{"$f":"IFERROR((SUMIFS(Arquivo!$F$2:$F$20000,Arquivo!$B$2:$B$20000,AB$6,Arquivo!$C$2:$C$20000,AC$6,Arquivo!$D$2:$D$20000,$C94)),0)","v":0},0,0,0,null,null,""]
[null,null,null,null,null,null,null,null,null,null,null,null,null,null,null,null,null,null,null,null,null,null,null,null,null,null,null,null,null,null,null,null,null,{"$f":"IF(AH69=\"\",\"\",\"X\")","v":"X"}]
[null,null,null,"DESPESAS COMERCIAIS",null,{"$f":"SUBTOTAL(9,F97:F105)","v":441.5},{"$f":"IFERROR((F96/IF($X$3=\"CT\",F$10,F$96)),0)","v":4.5959575560456983E-4},{"$f":"SUBTOTAL(9,H97:H105)","v":827.5},{"$f":"IFERROR((H96/IF($X$3=\"CT\",H$10,H$96)),0)","v":1.0072668061705833E-3},{"$f":"SUBTOTAL(9,J97:J105)","v":665.22},{"$f":"IFERROR((J96/IF($X$3=\"CT\",J$10,J$96)),0)","v":5.0271022339930867E-4},{"$f":"SUBTOTAL(9,L97:L105)","v":4337.7700000000004},{"$f":"IFERROR((L96/IF($X$3=\"CT\",L$10,L$96)),0)","v":4.2994074620678344E-3},{"$f":"SUBTOTAL(9,N97:N105)","v":700},{"$f":"IFERROR((N96/IF($X$3=\"CT\",N$10,N$96)),0)","v":8.698282188676676E-4},{"$f":"SUBTOTAL(9,P97:P105)","v":0},{"$f":"IFERROR((P96/IF($X$3=\"CT\",P$10,P$96)),0)","v":0},{"$f":"SUBTOTAL(9,R97:R105)","v":34},{"$f":"IFERROR((R96/IF($X$3=\"CT\",R$10,R$96)),0)","v":5.588915996044692E-5},{"$f":"SUBTOTAL(9,T97:T105)","v":0},{"$f":"IFERROR((T96/IF($X$3=\"CT\",T$10,T$96)),0)","v":0},{"$f":"SUBTOTAL(9,V97:V105)","v":0},{"$f":"IFERROR((V96/IF($X$3=\"CT\",V$10,V$96)),0)","v":0},{"$f":"SUBTOTAL(9,X97:X105)","v":0},{"$f":"IFERROR((X96/IF($X$3=\"CT\",X$10,X$96)),0)","v":0},{"$f":"SUBTOTAL(9,Z97:Z105)","v":0},{"$f":"IFERROR((Z96/IF($X$3=\"CT\",Z$10,Z$96)),0)","v":0},{"$f":"SUBTOTAL(9,AB97:AB105)","v":0},{"$f":"IFERROR((AB96/IF($X$3=\"CT\",AB$10,AB$96)),0)","v":0},{"$f":"SUBTOTAL(9,AD97:AD105)","v":7005.9900000000007},{"$f":"IFERROR((AD96/IF($X$3=\"CT\",AD$10,AD$96)),0)","v":1.0928725204658845E-3},null,null,{"$f":"IF(COUNTIF(AH97:AH104,\"X\")>0,\"X\",\"\")","v":"X"}]
[null,null,{"$f":"IF('Plano de Contas'!B83=\"\",\"\",'Plano de Contas'!B83)","v":"8.2.1.1"},{"$f":"IF($C97=\"\",\"\",VLOOKUP($C97,'Plano de Contas'!$B$2:$E$200,4,FALSE))","v":"CV"},{"$f":"IF($C97=\"\",\"\",VLOOKUP($C97,'Plano de Contas'!$B$2:$E$200,3,FALSE))","v":"COMISSAO VENDEDORES"},{"$f":"IFERROR((SUMIFS(Arquivo!$F$2:$F$20000,Arquivo!$B$2:$B$20000,F$6,Arquivo!$C$2:$C$20000,G$6,Arquivo!$D$2:$D$20000,$C97)),0)","v":0},0,{"$f":"IFERROR((SUMIFS(Arquivo!$F$2:$F$20000,Arquivo!$B$2:$B$20000,H$6,Arquivo!$C$2:$C$20000,I$6,Arquivo!$D$2:$D$20000,$C97)),0)","v":0},0,{"$f":"IFERROR((SUMIFS(Arquivo!$F$2:$F$20000,Arquivo!$B$2:$B$20000,J$6,Arquivo!$C$2:$C$20000,K$6,Arquivo!$D$2:$D$20000,$C97)),0)","v":0},0,{"$f":"IFERROR((SUMIFS(Arquivo!$F$2:$F$20000,Arquivo!$B$2:$B$20000,L$6,Arquivo!$C$2:$C$20000,M$6,Arquivo!$D$2:$D$20000,$C97)),0)","v":0},0,{"$f":"IFERROR((SUMIFS(Arquivo!$F$2:$F$20000,Arquivo!$B$2:$B$20000,N$6,Arquivo!$C$2:$C$20000,O$6,Arquivo!$D$2:$D$20000,$C97)),0)","v":0},0,{"$f":"IFERROR((SUMIFS(Arquivo!$F$2:$F$20000,Arquivo!$B$2:$B$20000,P$6,Arquivo!$C$2:$C$20000,Q$6,Arquivo!$D$2:$D$20000,$C97)),0)","v":0},0,{"$f":"IFERROR((SUMIFS(Arquivo!$F$2:$F$20000,Arquivo!$B$2:$B$20000,R$6,Arquivo!$C$2:$C$20000,S$6,Arquivo!$D$2:$D$20000,$C97)),0)","v":0},0,{"$f":"IFERROR((SUMIFS(Arquivo!$F$2:$F$20000,Arquivo!$B$2:$B$20000,T$6,Arquivo!$C$2:$C$20000,U$6,Arquivo!$D$2:$D$20000,$C97)),0)","v":0},0,{"$f":"IFERROR((SUMIFS(Arquivo!$F$2:$F$20000,Arquivo!$B$2:$B$20000,V$6,Arquivo!$C$2:$C$20000,W$6,Arquivo!$D$2:$D$20000,$C97)),0)","v":0},0,{"$f":"IFERROR((SUMIFS(Arquivo!$F$2:$F$20000,Arquivo!$B$2:$B$20000,X$6,Arquivo!$C$2:$C$20000,Y$6,Arquivo!$D$2:$D$20000,$C97)),0)","v":0},0,{"$f":"IFERROR((SUMIFS(Arquivo!$F$2:$F$20000,Arquivo!$B$2:$B$20000,Z$6,Arquivo!$C$2:$C$20000,AA$6,Arquivo!$D$2:$D$20000,$C97)),0)","v":0},0,{"$f":"IFERROR((SUMIFS(Arquivo!$F$2:$F$20000,Arquivo!$B$2:$B$20000,AB$6,Arquivo!$C$2:$C$20000,AC$6,Arquivo!$D$2:$D$20000,$C97)),0)","v":0},0,{"$f":"F97+H97+J97+L97+N97+P97+R97+T97+V97+X97+Z97+AB97","v":0},0,null,null,{"$f":"IF($AD97=0,\"\",IF($X$3=\"CT\",\"X\",IF($X$3=$D97,\"X\",\"\")))","v":""}]
[null,null,{"$f":"IF('Plano de Contas'!B84=\"\",\"\",'Plano de Contas'!B84)","v":"8.2.1.2"},{"$f":"IF($C98=\"\",\"\",VLOOKUP($C98,'Plano de Contas'!$B$2:$E$200,4,FALSE))","v":"CV"},{"$f":"IF($C98=\"\",\"\",VLOOKUP($C98,'Plano de Contas'!$B$2:$E$200,3,FALSE))","v":"AJUDA DE CUSTO"},{"$f":"IFERROR((SUMIFS(Arquivo!$F$2:$F$20000,Arquivo!$B$2:$B$20000,F$6,Arquivo!$C$2:$C$20000,G$6,Arquivo!$D$2:$D$20000,$C98)),0)","v":0},0,{"$f":"IFERROR((SUMIFS(Arquivo!$F$2:$F$20000,Arquivo!$B$2:$B$20000,H$6,Arquivo!$C$2:$C$20000,I$6,Arquivo!$D$2:$D$20000,$C98)),0)","v":0},0,{"$f":"IFERROR((SUMIFS(Arquivo!$F$2:$F$20000,Arquivo!$B$2:$B$20000,J$6,Arquivo!$C$2:$C$20000,K$6,Arquivo!$D$2:$D$20000,$C98)),0)","v":0},0,{"$f":"IFERROR((SUMIFS(Arquivo!$F$2:$F$20000,Arquivo!$B$2:$B$20000,L$6,Arquivo!$C$2:$C$20000,M$6,Arquivo!$D$2:$D$20000,$C98)),0)","v":0},0,{"$f":"IFERROR((SUMIFS(Arquivo!$F$2:$F$20000,Arquivo!$B$2:$B$20000,N$6,Arquivo!$C$2:$C$20000,O$6,Arquivo!$D$2:$D$20000,$C98)),0)","v":0},0,{"$f":"IFERROR((SUMIFS(Arquivo!$F$2:$F$20000,Arquivo!$B$2:$B$20000,P$6,Arquivo!$C$2:$C$20000,Q$6,Arquivo!$D$2:$D$20000,$C98)),0)","v":0},0,{"$f":"IFERROR((SUMIFS(Arquivo!$F$2:$F$20000,Arquivo!$B$2:$B$20000,R$6,Arquivo!$C$2:$C$20000,S$6,Arquivo!$D$2:$D$20000,$C98)),0)","v":0},0,{"$f":"IFERROR((SUMIFS(Arquivo!$F$2:$F$20000,Arquivo!$B$2:$B$20000,T$6,Arquivo!$C$2:$C$20000,U$6,Arquivo!$D$2:$D$20000,$C98)),0)","v":0},0,{"$f":"IFERROR((SUMIFS(Arquivo!$F$2:$F$20000,Arquivo!$B$2:$B$20000,V$6,Arquivo!$C$2:$C$20000,W$6,Arquivo!$D$2:$D$20000,$C98)),0)","v":0},0,{"$f":"IFERROR((SUMIFS(Arquivo!$F$2:$F$20000,Arquivo!$B$2:$B$20000,X$6,Arquivo!$C$2:$C$20000,Y$6,Arquivo!$D$2:$D$20000,$C98)),0)","v":0},0,{"$f":"IFERROR((SUMIFS(Arquivo!$F$2:$F$20000,Arquivo!$B$2:$B$20000,Z$6,Arquivo!$C$2:$C$20000,AA$6,Arquivo!$D$2:$D$20000,$C98)),0)","v":0},0,{"$f":"IFERROR((SUMIFS(Arquivo!$F$2:$F$20000,Arquivo!$B$2:$B$20000,AB$6,Arquivo!$C$2:$C$20000,AC$6,Arquivo!$D$2:$D$20000,$C98)),0)","v":0},0,0,0,null,null,""]
[null,null,{"$f":"IF('Plano de Contas'!B85=\"\",\"\",'Plano de Contas'!B85)","v":"8.2.1.3"},{"$f":"IF($C99=\"\",\"\",VLOOKUP($C99,'Plano de Contas'!$B$2:$E$200,4,FALSE))","v":"CV"},{"$f":"IF($C99=\"\",\"\",VLOOKUP($C99,'Plano de Contas'!$B$2:$E$200,3,FALSE))","v":"OUTRAS DESP.COM VENDAS"},{"$f":"IFERROR((SUMIFS(Arquivo!$F$2:$F$20000,Arquivo!$B$2:$B$20000,F$6,Arquivo!$C$2:$C$20000,G$6,Arquivo!$D$2:$D$20000,$C99)),0)","v":441.5},4.5959575560456983E-4,{"$f":"IFERROR((SUMIFS(Arquivo!$F$2:$F$20000,Arquivo!$B$2:$B$20000,H$6,Arquivo!$C$2:$C$20000,I$6,Arquivo!$D$2:$D$20000,$C99)),0)","v":827.5},1.0072668061705833E-3,{"$f":"IFERROR((SUMIFS(Arquivo!$F$2:$F$20000,Arquivo!$B$2:$B$20000,J$6,Arquivo!$C$2:$C$20000,K$6,Arquivo!$D$2:$D$20000,$C99)),0)","v":665.22},5.0271022339930867E-4,{"$f":"IFERROR((SUMIFS(Arquivo!$F$2:$F$20000,Arquivo!$B$2:$B$20000,L$6,Arquivo!$C$2:$C$20000,M$6,Arquivo!$D$2:$D$20000,$C99)),0)","v":4337.7700000000004},4.2994074620678344E-3,{"$f":"IFERROR((SUMIFS(Arquivo!$F$2:$F$20000,Arquivo!$B$2:$B$20000,N$6,Arquivo!$C$2:$C$20000,O$6,Arquivo!$D$2:$D$20000,$C99)),0)","v":700},8.698282188676676E-4,{"$f":"IFERROR((SUMIFS(Arquivo!$F$2:$F$20000,Arquivo!$B$2:$B$20000,P$6,Arquivo!$C$2:$C$20000,Q$6,Arquivo!$D$2:$D$20000,$C99)),0)","v":0},0,{"$f":"IFERROR((SUMIFS(Arquivo!$F$2:$F$20000,Arquivo!$B$2:$B$20000,R$6,Arquivo!$C$2:$C$20000,S$6,Arquivo!$D$2:$D$20000,$C99)),0)","v":34},5.588915996044692E-5,{"$f":"IFERROR((SUMIFS(Arquivo!$F$2:$F$20000,Arquivo!$B$2:$B$20000,T$6,Arquivo!$C$2:$C$20000,U$6,Arquivo!$D$2:$D$20000,$C99)),0)","v":0},0,{"$f":"IFERROR((SUMIFS(Arquivo!$F$2:$F$20000,Arquivo!$B$2:$B$20000,V$6,Arquivo!$C$2:$C$20000,W$6,Arquivo!$D$2:$D$20000,$C99)),0)","v":0},0,{"$f":"IFERROR((SUMIFS(Arquivo!$F$2:$F$20000,Arquivo!$B$2:$B$20000,X$6,Arquivo!$C$2:$C$20000,Y$6,Arquivo!$D$2:$D$20000,$C99)),0)","v":0},0,{"$f":"IFERROR((SUMIFS(Arquivo!$F$2:$F$20000,Arquivo!$B$2:$B$20000,Z$6,Arquivo!$C$2:$C$20000,AA$6,Arquivo!$D$2:$D$20000,$C99)),0)","v":0},0,{"$f":"IFERROR((SUMIFS(Arquivo!$F$2:$F$20000,Arquivo!$B$2:$B$20000,AB$6,Arquivo!$C$2:$C$20000,AC$6,Arquivo!$D$2:$D$20000,$C99)),0)","v":0},0,7005.9900000000007,1.0928725204658845E-3,null,null,"X"]
[null,null,{"$f":"IF('Plano de Contas'!B86=\"\",\"\",'Plano de Contas'!B86)","v":""},{"$f":"IF($C100=\"\",\"\",VLOOKUP($C100,'Plano de Contas'!$B$2:$E$200,4,FALSE))","v":""},{"$f":"IF($C100=\"\",\"\",VLOOKUP($C100,'Plano de Contas'!$B$2:$E$200,3,FALSE))","v":""},{"$f":"IFERROR((SUMIFS(Arquivo!$F$2:$F$20000,Arquivo!$B$2:$B$20000,F$6,Arquivo!$C$2:$C$20000,G$6,Arquivo!$D$2:$D$20000,$C100)),0)","v":0},0,{"$f":"IFERROR((SUMIFS(Arquivo!$F$2:$F$20000,Arquivo!$B$2:$B$20000,H$6,Arquivo!$C$2:$C$20000,I$6,Arquivo!$D$2:$D$20000,$C100)),0)","v":0},0,{"$f":"IFERROR((SUMIFS(Arquivo!$F$2:$F$20000,Arquivo!$B$2:$B$20000,J$6,Arquivo!$C$2:$C$20000,K$6,Arquivo!$D$2:$D$20000,$C100)),0)","v":0},0,{"$f":"IFERROR((SUMIFS(Arquivo!$F$2:$F$20000,Arquivo!$B$2:$B$20000,L$6,Arquivo!$C$2:$C$20000,M$6,Arquivo!$D$2:$D$20000,$C100)),0)","v":0},0,{"$f":"IFERROR((SUMIFS(Arquivo!$F$2:$F$20000,Arquivo!$B$2:$B$20000,N$6,Arquivo!$C$2:$C$20000,O$6,Arquivo!$D$2:$D$20000,$C100)),0)","v":0},0,{"$f":"IFERROR((SUMIFS(Arquivo!$F$2:$F$20000,Arquivo!$B$2:$B$20000,P$6,Arquivo!$C$2:$C$20000,Q$6,Arquivo!$D$2:$D$20000,$C100)),0)","v":0},0,{"$f":"IFERROR((SUMIFS(Arquivo!$F$2:$F$20000,Arquivo!$B$2:$B$20000,R$6,Arquivo!$C$2:$C$20000,S$6,Arquivo!$D$2:$D$20000,$C100)),0)","v":0},0,{"$f":"IFERROR((SUMIFS(Arquivo!$F$2:$F$20000,Arquivo!$B$2:$B$20000,T$6,Arquivo!$C$2:$C$20000,U$6,Arquivo!$D$2:$D$20000,$C100)),0)","v":0},0,{"$f":"IFERROR((SUMIFS(Arquivo!$F$2:$F$20000,Arquivo!$B$2:$B$20000,V$6,Arquivo!$C$2:$C$20000,W$6,Arquivo!$D$2:$D$20000,$C100)),0)","v":0},0,{"$f":"IFERROR((SUMIFS(Arquivo!$F$2:$F$20000,Arquivo!$B$2:$B$20000,X$6,Arquivo!$C$2:$C$20000,Y$6,Arquivo!$D$2:$D$20000,$C100)),0)","v":0},0,{"$f":"IFERROR((SUMIFS(Arquivo!$F$2:$F$20000,Arquivo!$B$2:$B$20000,Z$6,Arquivo!$C$2:$C$20000,AA$6,Arquivo!$D$2:$D$20000,$C100)),0)","v":0},0,{"$f":"IFERROR((SUMIFS(Arquivo!$F$2:$F$20000,Arquivo!$B$2:$B$20000,AB$6,Arquivo!$C$2:$C$20000,AC$6,Arquivo!$D$2:$D$20000,$C100)),0)","v":0},0,0,0,null,null,""]
[null,null,{"$f":"IF('Plano de Contas'!B87=\"\",\"\",'Plano de Contas'!B87)","v":""},{"$f":"IF($C101=\"\",\"\",VLOOKUP($C101,'Plano de Contas'!$B$2:$E$200,4,FALSE))","v":""},{"$f":"IF($C101=\"\",\"\",VLOOKUP($C101,'Plano de Contas'!$B$2:$E$200,3,FALSE))","v":""},{"$f":"IFERROR((SUMIFS(Arquivo!$F$2:$F$20000,Arquivo!$B$2:$B$20000,F$6,Arquivo!$C$2:$C$20000,G$6,Arquivo!$D$2:$D$20000,$C101)),0)","v":0},0,{"$f":"IFERROR((SUMIFS(Arquivo!$F$2:$F$20000,Arquivo!$B$2:$B$20000,H$6,Arquivo!$C$2:$C$20000,I$6,Arquivo!$D$2:$D$20000,$C101)),0)","v":0},0,{"$f":"IFERROR((SUMIFS(Arquivo!$F$2:$F$20000,Arquivo!$B$2:$B$20000,J$6,Arquivo!$C$2:$C$20000,K$6,Arquivo!$D$2:$D$20000,$C101)),0)","v":0},0,{"$f":"IFERROR((SUMIFS(Arquivo!$F$2:$F$20000,Arquivo!$B$2:$B$20000,L$6,Arquivo!$C$2:$C$20000,M$6,Arquivo!$D$2:$D$20000,$C101)),0)","v":0},0,{"$f":"IFERROR((SUMIFS(Arquivo!$F$2:$F$20000,Arquivo!$B$2:$B$20000,N$6,Arquivo!$C$2:$C$20000,O$6,Arquivo!$D$2:$D$20000,$C101)),0)","v":0},0,{"$f":"IFERROR((SUMIFS(Arquivo!$F$2:$F$20000,Arquivo!$B$2:$B$20000,P$6,Arquivo!$C$2:$C$20000,Q$6,Arquivo!$D$2:$D$20000,$C101)),0)","v":0},0,{"$f":"IFERROR((SUMIFS(Arquivo!$F$2:$F$20000,Arquivo!$B$2:$B$20000,R$6,Arquivo!$C$2:$C$20000,S$6,Arquivo!$D$2:$D$20000,$C101)),0)","v":0},0,{"$f":"IFERROR((SUMIFS(Arquivo!$F$2:$F$20000,Arquivo!$B$2:$B$20000,T$6,Arquivo!$C$2:$C$20000,U$6,Arquivo!$D$2:$D$20000,$C101)),0)","v":0},0,{"$f":"IFERROR((SUMIFS(Arquivo!$F$2:$F$20000,Arquivo!$B$2:$B$20000,V$6,Arquivo!$C$2:$C$20000,W$6,Arquivo!$D$2:$D$20000,$C101)),0)","v":0},0,{"$f":"IFERROR((SUMIFS(Arquivo!$F$2:$F$20000,Arquivo!$B$2:$B$20000,X$6,Arquivo!$C$2:$C$20000,Y$6,Arquivo!$D$2:$D$20000,$C101)),0)","v":0},0,{"$f":"IFERROR((SUMIFS(Arquivo!$F$2:$F$20000,Arquivo!$B$2:$B$20000,Z$6,Arquivo!$C$2:$C$20000,AA$6,Arquivo!$D$2:$D$20000,$C101)),0)","v":0},0,{"$f":"IFERROR((SUMIFS(Arquivo!$F$2:$F$20000,Arquivo!$B$2:$B$20000,AB$6,Arquivo!$C$2:$C$20000,AC$6,Arquivo!$D$2:$D$20000,$C101)),0)","v":0},0,0,0,null,null,""]
[null,null,{"$f":"IF('Plano de Contas'!B88=\"\",\"\",'Plano de Contas'!B88)","v":""},{"$f":"IF($C102=\"\",\"\",VLOOKUP($C102,'Plano de Contas'!$B$2:$E$200,4,FALSE))","v":""},{"$f":"IF($C102=\"\",\"\",VLOOKUP($C102,'Plano de Contas'!$B$2:$E$200,3,FALSE))","v":""},{"$f":"IFERROR((SUMIFS(Arquivo!$F$2:$F$20000,Arquivo!$B$2:$B$20000,F$6,Arquivo!$C$2:$C$20000,G$6,Arquivo!$D$2:$D$20000,$C102)),0)","v":0},0,{"$f":"IFERROR((SUMIFS(Arquivo!$F$2:$F$20000,Arquivo!$B$2:$B$20000,H$6,Arquivo!$C$2:$C$20000,I$6,Arquivo!$D$2:$D$20000,$C102)),0)","v":0},0,{"$f":"IFERROR((SUMIFS(Arquivo!$F$2:$F$20000,Arquivo!$B$2:$B$20000,J$6,Arquivo!$C$2:$C$20000,K$6,Arquivo!$D$2:$D$20000,$C102)),0)","v":0},0,{"$f":"IFERROR((SUMIFS(Arquivo!$F$2:$F$20000,Arquivo!$B$2:$B$20000,L$6,Arquivo!$C$2:$C$20000,M$6,Arquivo!$D$2:$D$20000,$C102)),0)","v":0},0,{"$f":"IFERROR((SUMIFS(Arquivo!$F$2:$F$20000,Arquivo!$B$2:$B$20000,N$6,Arquivo!$C$2:$C$20000,O$6,Arquivo!$D$2:$D$20000,$C102)),0)","v":0},0,{"$f":"IFERROR((SUMIFS(Arquivo!$F$2:$F$20000,Arquivo!$B$2:$B$20000,P$6,Arquivo!$C$2:$C$20000,Q$6,Arquivo!$D$2:$D$20000,$C102)),0)","v":0},0,{"$f":"IFERROR((SUMIFS(Arquivo!$F$2:$F$20000,Arquivo!$B$2:$B$20000,R$6,Arquivo!$C$2:$C$20000,S$6,Arquivo!$D$2:$D$20000,$C102)),0)","v":0},0,{"$f":"IFERROR((SUMIFS(Arquivo!$F$2:$F$20000,Arquivo!$B$2:$B$20000,T$6,Arquivo!$C$2:$C$20000,U$6,Arquivo!$D$2:$D$20000,$C102)),0)","v":0},0,{"$f":"IFERROR((SUMIFS(Arquivo!$F$2:$F$20000,Arquivo!$B$2:$B$20000,V$6,Arquivo!$C$2:$C$20000,W$6,Arquivo!$D$2:$D$20000,$C102)),0)","v":0},0,{"$f":"IFERROR((SUMIFS(Arquivo!$F$2:$F$20000,Arquivo!$B$2:$B$20000,X$6,Arquivo!$C$2:$C$20000,Y$6,Arquivo!$D$2:$D$20000,$C102)),0)","v":0},0,{"$f":"IFERROR((SUMIFS(Arquivo!$F$2:$F$20000,Arquivo!$B$2:$B$20000,Z$6,Arquivo!$C$2:$C$20000,AA$6,Arquivo!$D$2:$D$20000,$C102)),0)","v":0},0,{"$f":"IFERROR((SUMIFS(Arquivo!$F$2:$F$20000,Arquivo!$B$2:$B$20000,AB$6,Arquivo!$C$2:$C$20000,AC$6,Arquivo!$D$2:$D$20000,$C102)),0)","v":0},0,0,0,null,null,""]
[null,null,{"$f":"IF('Plano de Contas'!B89=\"\",\"\",'Plano de Contas'!B89)","v":""},{"$f":"IF($C103=\"\",\"\",VLOOKUP($C103,'Plano de Contas'!$B$2:$E$200,4,FALSE))","v":""},{"$f":"IF($C103=\"\",\"\",VLOOKUP($C103,'Plano de Contas'!$B$2:$E$200,3,FALSE))","v":""},{"$f":"IFERROR((SUMIFS(Arquivo!$F$2:$F$20000,Arquivo!$B$2:$B$20000,F$6,Arquivo!$C$2:$C$20000,G$6,Arquivo!$D$2:$D$20000,$C103)),0)","v":0},0,{"$f":"IFERROR((SUMIFS(Arquivo!$F$2:$F$20000,Arquivo!$B$2:$B$20000,H$6,Arquivo!$C$2:$C$20000,I$6,Arquivo!$D$2:$D$20000,$C103)),0)","v":0},0,{"$f":"IFERROR((SUMIFS(Arquivo!$F$2:$F$20000,Arquivo!$B$2:$B$20000,J$6,Arquivo!$C$2:$C$20000,K$6,Arquivo!$D$2:$D$20000,$C103)),0)","v":0},0,{"$f":"IFERROR((SUMIFS(Arquivo!$F$2:$F$20000,Arquivo!$B$2:$B$20000,L$6,Arquivo!$C$2:$C$20000,M$6,Arquivo!$D$2:$D$20000,$C103)),0)","v":0},0,{"$f":"IFERROR((SUMIFS(Arquivo!$F$2:$F$20000,Arquivo!$B$2:$B$20000,N$6,Arquivo!$C$2:$C$20000,O$6,Arquivo!$D$2:$D$20000,$C103)),0)","v":0},0,{"$f":"IFERROR((SUMIFS(Arquivo!$F$2:$F$20000,Arquivo!$B$2:$B$20000,P$6,Arquivo!$C$2:$C$20000,Q$6,Arquivo!$D$2:$D$20000,$C103)),0)","v":0},0,{"$f":"IFERROR((SUMIFS(Arquivo!$F$2:$F$20000,Arquivo!$B$2:$B$20000,R$6,Arquivo!$C$2:$C$20000,S$6,Arquivo!$D$2:$D$20000,$C103)),0)","v":0},0,{"$f":"IFERROR((SUMIFS(Arquivo!$F$2:$F$20000,Arquivo!$B$2:$B$20000,T$6,Arquivo!$C$2:$C$20000,U$6,Arquivo!$D$2:$D$20000,$C103)),0)","v":0},0,{"$f":"IFERROR((SUMIFS(Arquivo!$F$2:$F$20000,Arquivo!$B$2:$B$20000,V$6,Arquivo!$C$2:$C$20000,W$6,Arquivo!$D$2:$D$20000,$C103)),0)","v":0},0,{"$f":"IFERROR((SUMIFS(Arquivo!$F$2:$F$20000,Arquivo!$B$2:$B$20000,X$6,Arquivo!$C$2:$C$20000,Y$6,Arquivo!$D$2:$D$20000,$C103)),0)","v":0},0,{"$f":"IFERROR((SUMIFS(Arquivo!$F$2:$F$20000,Arquivo!$B$2:$B$20000,Z$6,Arquivo!$C$2:$C$20000,AA$6,Arquivo!$D$2:$D$20000,$C103)),0)","v":0},0,{"$f":"IFERROR((SUMIFS(Arquivo!$F$2:$F$20000,Arquivo!$B$2:$B$20000,AB$6,Arquivo!$C$2:$C$20000,AC$6,Arquivo!$D$2:$D$20000,$C103)),0)","v":0},0,0,0,null,null,""]
[null,null,{"$f":"IF('Plano de Contas'!B90=\"\",\"\",'Plano de Contas'!B90)","v":""},{"$f":"IF($C104=\"\",\"\",VLOOKUP($C104,'Plano de Contas'!$B$2:$E$200,4,FALSE))","v":""},{"$f":"IF($C104=\"\",\"\",VLOOKUP($C104,'Plano de Contas'!$B$2:$E$200,3,FALSE))","v":""},{"$f":"IFERROR((SUMIFS(Arquivo!$F$2:$F$20000,Arquivo!$B$2:$B$20000,F$6,Arquivo!$C$2:$C$20000,G$6,Arquivo!$D$2:$D$20000,$C104)),0)","v":0},0,{"$f":"IFERROR((SUMIFS(Arquivo!$F$2:$F$20000,Arquivo!$B$2:$B$20000,H$6,Arquivo!$C$2:$C$20000,I$6,Arquivo!$D$2:$D$20000,$C104)),0)","v":0},0,{"$f":"IFERROR((SUMIFS(Arquivo!$F$2:$F$20000,Arquivo!$B$2:$B$20000,J$6,Arquivo!$C$2:$C$20000,K$6,Arquivo!$D$2:$D$20000,$C104)),0)","v":0},0,{"$f":"IFERROR((SUMIFS(Arquivo!$F$2:$F$20000,Arquivo!$B$2:$B$20000,L$6,Arquivo!$C$2:$C$20000,M$6,Arquivo!$D$2:$D$20000,$C104)),0)","v":0},0,{"$f":"IFERROR((SUMIFS(Arquivo!$F$2:$F$20000,Arquivo!$B$2:$B$20000,N$6,Arquivo!$C$2:$C$20000,O$6,Arquivo!$D$2:$D$20000,$C104)),0)","v":0},0,{"$f":"IFERROR((SUMIFS(Arquivo!$F$2:$F$20000,Arquivo!$B$2:$B$20000,P$6,Arquivo!$C$2:$C$20000,Q$6,Arquivo!$D$2:$D$20000,$C104)),0)","v":0},0,{"$f":"IFERROR((SUMIFS(Arquivo!$F$2:$F$20000,Arquivo!$B$2:$B$20000,R$6,Arquivo!$C$2:$C$20000,S$6,Arquivo!$D$2:$D$20000,$C104)),0)","v":0},0,{"$f":"IFERROR((SUMIFS(Arquivo!$F$2:$F$20000,Arquivo!$B$2:$B$20000,T$6,Arquivo!$C$2:$C$20000,U$6,Arquivo!$D$2:$D$20000,$C104)),0)","v":0},0,{"$f":"IFERROR((SUMIFS(Arquivo!$F$2:$F$20000,Arquivo!$B$2:$B$20000,V$6,Arquivo!$C$2:$C$20000,W$6,Arquivo!$D$2:$D$20000,$C104)),0)","v":0},0,{"$f":"IFERROR((SUMIFS(Arquivo!$F$2:$F$20000,Arquivo!$B$2:$B$20000,X$6,Arquivo!$C$2:$C$20000,Y$6,Arquivo!$D$2:$D$20000,$C104)),0)","v":0},0,{"$f":"IFERROR((SUMIFS(Arquivo!$F$2:$F$20000,Arquivo!$B$2:$B$20000,Z$6,Arquivo!$C$2:$C$20000,AA$6,Arquivo!$D$2:$D$20000,$C104)),0)","v":0},0,{"$f":"IFERROR((SUMIFS(Arquivo!$F$2:$F$20000,Arquivo!$B$2:$B$20000,AB$6,Arquivo!$C$2:$C$20000,AC$6,Arquivo!$D$2:$D$20000,$C104)),0)","v":0},0,0,0,null,null,""]
[null,null,null,"","",null,null,null,null,null,null,null,null,null,null,null,null,null,null,null,null,null,null,null,null,null,null,null,null,null,null,null,null,{"$f":"IF(AH96=\"\",\"\",\"X\")","v":"X"}]
[null,null,null,"DESPESAS COM TRANSPORTE",null,{"$f":"SUBTOTAL(9,F107:F135)","v":10762.03},{"$f":"IFERROR((F106/IF($X$3=\"CT\",F$10,F$106)),0)","v":1.1203133204278707E-2},{"$f":"SUBTOTAL(9,H107:H135)","v":11770.7},{"$f":"IFERROR((H106/IF($X$3=\"CT\",H$10,H$106)),0)","v":1.4327776912860529E-2},{"$f":"SUBTOTAL(9,J107:J135)","v":18610.400000000001},{"$f":"IFERROR((J106/IF($X$3=\"CT\",J$10,J$106)),0)","v":1.4063976340985681E-2},{"$f":"SUBTOTAL(9,L107:L135)","v":21673.079999999998},{"$f":"IFERROR((L106/IF($X$3=\"CT\",L$10,L$106)),0)","v":2.1481406777674503E-2},{"$f":"SUBTOTAL(9,N107:N135)","v":13275.43},{"$f":"IFERROR((N106/IF($X$3=\"CT\",N$10,N$106)),0)","v":1.6496205188003429E-2},{"$f":"SUBTOTAL(9,P107:P135)","v":15185.4},{"$f":"IFERROR((P106/IF($X$3=\"CT\",P$10,P$106)),0)","v":1.7194215694367024E-2},{"$f":"SUBTOTAL(9,R107:R135)","v":18059.559999999998},{"$f":"IFERROR((R106/IF($X$3=\"CT\",R$10,R$106)),0)","v":2.9686283460449665E-2},{"$f":"SUBTOTAL(9,T107:T135)","v":0},{"$f":"IFERROR((T106/IF($X$3=\"CT\",T$10,T$106)),0)","v":0},{"$f":"SUBTOTAL(9,V107:V135)","v":0},{"$f":"IFERROR((V106/IF($X$3=\"CT\",V$10,V$106)),0)","v":0},{"$f":"SUBTOTAL(9,X107:X135)","v":0},{"$f":"IFERROR((X106/IF($X$3=\"CT\",X$10,X$106)),0)","v":0},{"$f":"SUBTOTAL(9,Z107:Z135)","v":0},{"$f":"IFERROR((Z106/IF($X$3=\"CT\",Z$10,Z$106)),0)","v":0},{"$f":"SUBTOTAL(9,AB107:AB135)","v":0},{"$f":"IFERROR((AB106/IF($X$3=\"CT\",AB$10,AB$106)),0)","v":0},{"$f":"SUBTOTAL(9,AD107:AD135)","v":109336.6},{"$f":"IFERROR((AD106/IF($X$3=\"CT\",AD$10,AD$106)),0)","v":1.705554327385141E-2},null,null,{"$f":"IF(COUNTIF(AH107:AH134,\"X\")>0,\"X\",\"\")","v":"X"}]
[null,null,{"$f":"IF('Plano de Contas'!B92=\"\",\"\",'Plano de Contas'!B92)","v":"8.2.2.1"},{"$f":"IF($C107=\"\",\"\",VLOOKUP($C107,'Plano de Contas'!$B$2:$E$200,4,FALSE))","v":"CV"},{"$f":"IF($C107=\"\",\"\",VLOOKUP($C107,'Plano de Contas'!$B$2:$E$200,3,FALSE))","v":"MANUTENCAO VEICULO"},{"$f":"IFERROR((SUMIFS(Arquivo!$F$2:$F$20000,Arquivo!$B$2:$B$20000,F$6,Arquivo!$C$2:$C$20000,G$6,Arquivo!$D$2:$D$20000,$C107)),0)","v":1681.8},1.7507319179519037E-3,{"$f":"IFERROR((SUMIFS(Arquivo!$F$2:$F$20000,Arquivo!$B$2:$B$20000,H$6,Arquivo!$C$2:$C$20000,I$6,Arquivo!$D$2:$D$20000,$C107)),0)","v":670},8.1555137176349355E-4,{"$f":"IFERROR((SUMIFS(Arquivo!$F$2:$F$20000,Arquivo!$B$2:$B$20000,J$6,Arquivo!$C$2:$C$20000,K$6,Arquivo!$D$2:$D$20000,$C107)),0)","v":1301.05},9.8321027051752872E-4,{"$f":"IFERROR((SUMIFS(Arquivo!$F$2:$F$20000,Arquivo!$B$2:$B$20000,L$6,Arquivo!$C$2:$C$20000,M$6,Arquivo!$D$2:$D$20000,$C107)),0)","v":2434},2.4124740967531953E-3,{"$f":"IFERROR((SUMIFS(Arquivo!$F$2:$F$20000,Arquivo!$B$2:$B$20000,N$6,Arquivo!$C$2:$C$20000,O$6,Arquivo!$D$2:$D$20000,$C107)),0)","v":1609.5},1.9999835975250159E-3,{"$f":"IFERROR((SUMIFS(Arquivo!$F$2:$F$20000,Arquivo!$B$2:$B$20000,P$6,Arquivo!$C$2:$C$20000,Q$6,Arquivo!$D$2:$D$20000,$C107)),0)","v":301.87},3.4180317223507934E-4,{"$f":"IFERROR((SUMIFS(Arquivo!$F$2:$F$20000,Arquivo!$B$2:$B$20000,R$6,Arquivo!$C$2:$C$20000,S$6,Arquivo!$D$2:$D$20000,$C107)),0)","v":2120},3.4848535034161018E-3,{"$f":"IFERROR((SUMIFS(Arquivo!$F$2:$F$20000,Arquivo!$B$2:$B$20000,T$6,Arquivo!$C$2:$C$20000,U$6,Arquivo!$D$2:$D$20000,$C107)),0)","v":0},0,{"$f":"IFERROR((SUMIFS(Arquivo!$F$2:$F$20000,Arquivo!$B$2:$B$20000,V$6,Arquivo!$C$2:$C$20000,W$6,Arquivo!$D$2:$D$20000,$C107)),0)","v":0},0,{"$f":"IFERROR((SUMIFS(Arquivo!$F$2:$F$20000,Arquivo!$B$2:$B$20000,X$6,Arquivo!$C$2:$C$20000,Y$6,Arquivo!$D$2:$D$20000,$C107)),0)","v":0},0,{"$f":"IFERROR((SUMIFS(Arquivo!$F$2:$F$20000,Arquivo!$B$2:$B$20000,Z$6,Arquivo!$C$2:$C$20000,AA$6,Arquivo!$D$2:$D$20000,$C107)),0)","v":0},0,{"$f":"IFERROR((SUMIFS(Arquivo!$F$2:$F$20000,Arquivo!$B$2:$B$20000,AB$6,Arquivo!$C$2:$C$20000,AC$6,Arquivo!$D$2:$D$20000,$C107)),0)","v":0},0,{"$f":"F107+H107+J107+L107+N107+P107+R107+T107+V107+X107+Z107+AB107","v":10118.220000000001},1.5783528943130553E-3,null,null,{"$f":"IF($AD107=0,\"\",IF($X$3=\"CT\",\"X\",IF($X$3=$D107,\"X\",\"\")))","v":"X"}]
[null,null,{"$f":"IF('Plano de Contas'!B93=\"\",\"\",'Plano de Contas'!B93)","v":"8.2.2.2"},{"$f":"IF($C108=\"\",\"\",VLOOKUP($C108,'Plano de Contas'!$B$2:$E$200,4,FALSE))","v":"CV"},{"$f":"IF($C108=\"\",\"\",VLOOKUP($C108,'Plano de Contas'!$B$2:$E$200,3,FALSE))","v":"COMBUSTIVEL"},{"$f":"IFERROR((SUMIFS(Arquivo!$F$2:$F$20000,Arquivo!$B$2:$B$20000,F$6,Arquivo!$C$2:$C$20000,G$6,Arquivo!$D$2:$D$20000,$C108)),0)","v":2911.91},3.0312604228822262E-3,{"$f":"IFERROR((SUMIFS(Arquivo!$F$2:$F$20000,Arquivo!$B$2:$B$20000,H$6,Arquivo!$C$2:$C$20000,I$6,Arquivo!$D$2:$D$20000,$C108)),0)","v":2976.37},3.6229591587697151E-3,{"$f":"IFERROR((SUMIFS(Arquivo!$F$2:$F$20000,Arquivo!$B$2:$B$20000,J$6,Arquivo!$C$2:$C$20000,K$6,Arquivo!$D$2:$D$20000,$C108)),0)","v":3177.73},2.4014271341852096E-3,{"$f":"IFERROR((SUMIFS(Arquivo!$F$2:$F$20000,Arquivo!$B$2:$B$20000,L$6,Arquivo!$C$2:$C$20000,M$6,Arquivo!$D$2:$D$20000,$C108)),0)","v":2758.43},2.7340348901836141E-3,{"$f":"IFERROR((SUMIFS(Arquivo!$F$2:$F$20000,Arquivo!$B$2:$B$20000,N$6,Arquivo!$C$2:$C$20000,O$6,Arquivo!$D$2:$D$20000,$C108)),0)","v":1715.78},2.1320483733839523E-3,{"$f":"IFERROR((SUMIFS(Arquivo!$F$2:$F$20000,Arquivo!$B$2:$B$20000,P$6,Arquivo!$C$2:$C$20000,Q$6,Arquivo!$D$2:$D$20000,$C108)),0)","v":2874.32},3.2545522709071231E-3,{"$f":"IFERROR((SUMIFS(Arquivo!$F$2:$F$20000,Arquivo!$B$2:$B$20000,R$6,Arquivo!$C$2:$C$20000,S$6,Arquivo!$D$2:$D$20000,$C108)),0)","v":3506.51},5.7639970086149038E-3,{"$f":"IFERROR((SUMIFS(Arquivo!$F$2:$F$20000,Arquivo!$B$2:$B$20000,T$6,Arquivo!$C$2:$C$20000,U$6,Arquivo!$D$2:$D$20000,$C108)),0)","v":0},0,{"$f":"IFERROR((SUMIFS(Arquivo!$F$2:$F$20000,Arquivo!$B$2:$B$20000,V$6,Arquivo!$C$2:$C$20000,W$6,Arquivo!$D$2:$D$20000,$C108)),0)","v":0},0,{"$f":"IFERROR((SUMIFS(Arquivo!$F$2:$F$20000,Arquivo!$B$2:$B$20000,X$6,Arquivo!$C$2:$C$20000,Y$6,Arquivo!$D$2:$D$20000,$C108)),0)","v":0},0,{"$f":"IFERROR((SUMIFS(Arquivo!$F$2:$F$20000,Arquivo!$B$2:$B$20000,Z$6,Arquivo!$C$2:$C$20000,AA$6,Arquivo!$D$2:$D$20000,$C108)),0)","v":0},0,{"$f":"IFERROR((SUMIFS(Arquivo!$F$2:$F$20000,Arquivo!$B$2:$B$20000,AB$6,Arquivo!$C$2:$C$20000,AC$6,Arquivo!$D$2:$D$20000,$C108)),0)","v":0},0,19921.050000000003,3.1075077360696933E-3,null,null,"X"]
[null,null,{"$f":"IF('Plano de Contas'!B94=\"\",\"\",'Plano de Contas'!B94)","v":"8.2.2.3"},{"$f":"IF($C109=\"\",\"\",VLOOKUP($C109,'Plano de Contas'!$B$2:$E$200,4,FALSE))","v":"CV"},{"$f":"IF($C109=\"\",\"\",VLOOKUP($C109,'Plano de Contas'!$B$2:$E$200,3,FALSE))","v":"PECAS E REPAROS"},{"$f":"IFERROR((SUMIFS(Arquivo!$F$2:$F$20000,Arquivo!$B$2:$B$20000,F$6,Arquivo!$C$2:$C$20000,G$6,Arquivo!$D$2:$D$20000,$C109)),0)","v":0},0,{"$f":"IFERROR((SUMIFS(Arquivo!$F$2:$F$20000,Arquivo!$B$2:$B$20000,H$6,Arquivo!$C$2:$C$20000,I$6,Arquivo!$D$2:$D$20000,$C109)),0)","v":0},0,{"$f":"IFERROR((SUMIFS(Arquivo!$F$2:$F$20000,Arquivo!$B$2:$B$20000,J$6,Arquivo!$C$2:$C$20000,K$6,Arquivo!$D$2:$D$20000,$C109)),0)","v":0},0,{"$f":"IFERROR((SUMIFS(Arquivo!$F$2:$F$20000,Arquivo!$B$2:$B$20000,L$6,Arquivo!$C$2:$C$20000,M$6,Arquivo!$D$2:$D$20000,$C109)),0)","v":0},0,{"$f":"IFERROR((SUMIFS(Arquivo!$F$2:$F$20000,Arquivo!$B$2:$B$20000,N$6,Arquivo!$C$2:$C$20000,O$6,Arquivo!$D$2:$D$20000,$C109)),0)","v":0},0,{"$f":"IFERROR((SUMIFS(Arquivo!$F$2:$F$20000,Arquivo!$B$2:$B$20000,P$6,Arquivo!$C$2:$C$20000,Q$6,Arquivo!$D$2:$D$20000,$C109)),0)","v":0},0,{"$f":"IFERROR((SUMIFS(Arquivo!$F$2:$F$20000,Arquivo!$B$2:$B$20000,R$6,Arquivo!$C$2:$C$20000,S$6,Arquivo!$D$2:$D$20000,$C109)),0)","v":0},0,{"$f":"IFERROR((SUMIFS(Arquivo!$F$2:$F$20000,Arquivo!$B$2:$B$20000,T$6,Arquivo!$C$2:$C$20000,U$6,Arquivo!$D$2:$D$20000,$C109)),0)","v":0},0,{"$f":"IFERROR((SUMIFS(Arquivo!$F$2:$F$20000,Arquivo!$B$2:$B$20000,V$6,Arquivo!$C$2:$C$20000,W$6,Arquivo!$D$2:$D$20000,$C109)),0)","v":0},0,{"$f":"IFERROR((SUMIFS(Arquivo!$F$2:$F$20000,Arquivo!$B$2:$B$20000,X$6,Arquivo!$C$2:$C$20000,Y$6,Arquivo!$D$2:$D$20000,$C109)),0)","v":0},0,{"$f":"IFERROR((SUMIFS(Arquivo!$F$2:$F$20000,Arquivo!$B$2:$B$20000,Z$6,Arquivo!$C$2:$C$20000,AA$6,Arquivo!$D$2:$D$20000,$C109)),0)","v":0},0,{"$f":"IFERROR((SUMIFS(Arquivo!$F$2:$F$20000,Arquivo!$B$2:$B$20000,AB$6,Arquivo!$C$2:$C$20000,AC$6,Arquivo!$D$2:$D$20000,$C109)),0)","v":0},0,0,0,null,null,""]
[null,null,{"$f":"IF('Plano de Contas'!B95=\"\",\"\",'Plano de Contas'!B95)","v":"8.2.2.4"},{"$f":"IF($C110=\"\",\"\",VLOOKUP($C110,'Plano de Contas'!$B$2:$E$200,4,FALSE))","v":"CV"},{"$f":"IF($C110=\"\",\"\",VLOOKUP($C110,'Plano de Contas'!$B$2:$E$200,3,FALSE))","v":"BALDEIO"},{"$f":"IFERROR((SUMIFS(Arquivo!$F$2:$F$20000,Arquivo!$B$2:$B$20000,F$6,Arquivo!$C$2:$C$20000,G$6,Arquivo!$D$2:$D$20000,$C110)),0)","v":0},0,{"$f":"IFERROR((SUMIFS(Arquivo!$F$2:$F$20000,Arquivo!$B$2:$B$20000,H$6,Arquivo!$C$2:$C$20000,I$6,Arquivo!$D$2:$D$20000,$C110)),0)","v":0},0,{"$f":"IFERROR((SUMIFS(Arquivo!$F$2:$F$20000,Arquivo!$B$2:$B$20000,J$6,Arquivo!$C$2:$C$20000,K$6,Arquivo!$D$2:$D$20000,$C110)),0)","v":0},0,{"$f":"IFERROR((SUMIFS(Arquivo!$F$2:$F$20000,Arquivo!$B$2:$B$20000,L$6,Arquivo!$C$2:$C$20000,M$6,Arquivo!$D$2:$D$20000,$C110)),0)","v":0},0,{"$f":"IFERROR((SUMIFS(Arquivo!$F$2:$F$20000,Arquivo!$B$2:$B$20000,N$6,Arquivo!$C$2:$C$20000,O$6,Arquivo!$D$2:$D$20000,$C110)),0)","v":0},0,{"$f":"IFERROR((SUMIFS(Arquivo!$F$2:$F$20000,Arquivo!$B$2:$B$20000,P$6,Arquivo!$C$2:$C$20000,Q$6,Arquivo!$D$2:$D$20000,$C110)),0)","v":0},0,{"$f":"IFERROR((SUMIFS(Arquivo!$F$2:$F$20000,Arquivo!$B$2:$B$20000,R$6,Arquivo!$C$2:$C$20000,S$6,Arquivo!$D$2:$D$20000,$C110)),0)","v":0},0,{"$f":"IFERROR((SUMIFS(Arquivo!$F$2:$F$20000,Arquivo!$B$2:$B$20000,T$6,Arquivo!$C$2:$C$20000,U$6,Arquivo!$D$2:$D$20000,$C110)),0)","v":0},0,{"$f":"IFERROR((SUMIFS(Arquivo!$F$2:$F$20000,Arquivo!$B$2:$B$20000,V$6,Arquivo!$C$2:$C$20000,W$6,Arquivo!$D$2:$D$20000,$C110)),0)","v":0},0,{"$f":"IFERROR((SUMIFS(Arquivo!$F$2:$F$20000,Arquivo!$B$2:$B$20000,X$6,Arquivo!$C$2:$C$20000,Y$6,Arquivo!$D$2:$D$20000,$C110)),0)","v":0},0,{"$f":"IFERROR((SUMIFS(Arquivo!$F$2:$F$20000,Arquivo!$B$2:$B$20000,Z$6,Arquivo!$C$2:$C$20000,AA$6,Arquivo!$D$2:$D$20000,$C110)),0)","v":0},0,{"$f":"IFERROR((SUMIFS(Arquivo!$F$2:$F$20000,Arquivo!$B$2:$B$20000,AB$6,Arquivo!$C$2:$C$20000,AC$6,Arquivo!$D$2:$D$20000,$C110)),0)","v":0},0,0,0,null,null,""]
[null,null,{"$f":"IF('Plano de Contas'!B96=\"\",\"\",'Plano de Contas'!B96)","v":"8.2.2.5"},{"$f":"IF($C111=\"\",\"\",VLOOKUP($C111,'Plano de Contas'!$B$2:$E$200,4,FALSE))","v":"CV"},{"$f":"IF($C111=\"\",\"\",VLOOKUP($C111,'Plano de Contas'!$B$2:$E$200,3,FALSE))","v":"BALSA"},{"$f":"IFERROR((SUMIFS(Arquivo!$F$2:$F$20000,Arquivo!$B$2:$B$20000,F$6,Arquivo!$C$2:$C$20000,G$6,Arquivo!$D$2:$D$20000,$C111)),0)","v":0},0,{"$f":"IFERROR((SUMIFS(Arquivo!$F$2:$F$20000,Arquivo!$B$2:$B$20000,H$6,Arquivo!$C$2:$C$20000,I$6,Arquivo!$D$2:$D$20000,$C111)),0)","v":0},0,{"$f":"IFERROR((SUMIFS(Arquivo!$F$2:$F$20000,Arquivo!$B$2:$B$20000,J$6,Arquivo!$C$2:$C$20000,K$6,Arquivo!$D$2:$D$20000,$C111)),0)","v":0},0,{"$f":"IFERROR((SUMIFS(Arquivo!$F$2:$F$20000,Arquivo!$B$2:$B$20000,L$6,Arquivo!$C$2:$C$20000,M$6,Arquivo!$D$2:$D$20000,$C111)),0)","v":0},0,{"$f":"IFERROR((SUMIFS(Arquivo!$F$2:$F$20000,Arquivo!$B$2:$B$20000,N$6,Arquivo!$C$2:$C$20000,O$6,Arquivo!$D$2:$D$20000,$C111)),0)","v":0},0,{"$f":"IFERROR((SUMIFS(Arquivo!$F$2:$F$20000,Arquivo!$B$2:$B$20000,P$6,Arquivo!$C$2:$C$20000,Q$6,Arquivo!$D$2:$D$20000,$C111)),0)","v":0},0,{"$f":"IFERROR((SUMIFS(Arquivo!$F$2:$F$20000,Arquivo!$B$2:$B$20000,R$6,Arquivo!$C$2:$C$20000,S$6,Arquivo!$D$2:$D$20000,$C111)),0)","v":0},0,{"$f":"IFERROR((SUMIFS(Arquivo!$F$2:$F$20000,Arquivo!$B$2:$B$20000,T$6,Arquivo!$C$2:$C$20000,U$6,Arquivo!$D$2:$D$20000,$C111)),0)","v":0},0,{"$f":"IFERROR((SUMIFS(Arquivo!$F$2:$F$20000,Arquivo!$B$2:$B$20000,V$6,Arquivo!$C$2:$C$20000,W$6,Arquivo!$D$2:$D$20000,$C111)),0)","v":0},0,{"$f":"IFERROR((SUMIFS(Arquivo!$F$2:$F$20000,Arquivo!$B$2:$B$20000,X$6,Arquivo!$C$2:$C$20000,Y$6,Arquivo!$D$2:$D$20000,$C111)),0)","v":0},0,{"$f":"IFERROR((SUMIFS(Arquivo!$F$2:$F$20000,Arquivo!$B$2:$B$20000,Z$6,Arquivo!$C$2:$C$20000,AA$6,Arquivo!$D$2:$D$20000,$C111)),0)","v":0},0,{"$f":"IFERROR((SUMIFS(Arquivo!$F$2:$F$20000,Arquivo!$B$2:$B$20000,AB$6,Arquivo!$C$2:$C$20000,AC$6,Arquivo!$D$2:$D$20000,$C111)),0)","v":0},0,0,0,null,null,""]
[null,null,{"$f":"IF('Plano de Contas'!B97=\"\",\"\",'Plano de Contas'!B97)","v":"8.2.2.6"},{"$f":"IF($C112=\"\",\"\",VLOOKUP($C112,'Plano de Contas'!$B$2:$E$200,4,FALSE))","v":"CV"},{"$f":"IF($C112=\"\",\"\",VLOOKUP($C112,'Plano de Contas'!$B$2:$E$200,3,FALSE))","v":"ICMS SOBRE FRETE"},{"$f":"IFERROR((SUMIFS(Arquivo!$F$2:$F$20000,Arquivo!$B$2:$B$20000,F$6,Arquivo!$C$2:$C$20000,G$6,Arquivo!$D$2:$D$20000,$C112)),0)","v":2965.94},3.0875049498931321E-3,{"$f":"IFERROR((SUMIFS(Arquivo!$F$2:$F$20000,Arquivo!$B$2:$B$20000,H$6,Arquivo!$C$2:$C$20000,I$6,Arquivo!$D$2:$D$20000,$C112)),0)","v":2965.62},3.6098738195958981E-3,{"$f":"IFERROR((SUMIFS(Arquivo!$F$2:$F$20000,Arquivo!$B$2:$B$20000,J$6,Arquivo!$C$2:$C$20000,K$6,Arquivo!$D$2:$D$20000,$C112)),0)","v":972.34},7.348024091579985E-4,{"$f":"IFERROR((SUMIFS(Arquivo!$F$2:$F$20000,Arquivo!$B$2:$B$20000,L$6,Arquivo!$C$2:$C$20000,M$6,Arquivo!$D$2:$D$20000,$C112)),0)","v":644.48},6.3878032287407538E-4,{"$f":"IFERROR((SUMIFS(Arquivo!$F$2:$F$20000,Arquivo!$B$2:$B$20000,N$6,Arquivo!$C$2:$C$20000,O$6,Arquivo!$D$2:$D$20000,$C112)),0)","v":216.41},2.6891360692164561E-4,{"$f":"IFERROR((SUMIFS(Arquivo!$F$2:$F$20000,Arquivo!$B$2:$B$20000,P$6,Arquivo!$C$2:$C$20000,Q$6,Arquivo!$D$2:$D$20000,$C112)),0)","v":0},0,{"$f":"IFERROR((SUMIFS(Arquivo!$F$2:$F$20000,Arquivo!$B$2:$B$20000,R$6,Arquivo!$C$2:$C$20000,S$6,Arquivo!$D$2:$D$20000,$C112)),0)","v":236.66},3.8902142930115786E-4,{"$f":"IFERROR((SUMIFS(Arquivo!$F$2:$F$20000,Arquivo!$B$2:$B$20000,T$6,Arquivo!$C$2:$C$20000,U$6,Arquivo!$D$2:$D$20000,$C112)),0)","v":0},0,{"$f":"IFERROR((SUMIFS(Arquivo!$F$2:$F$20000,Arquivo!$B$2:$B$20000,V$6,Arquivo!$C$2:$C$20000,W$6,Arquivo!$D$2:$D$20000,$C112)),0)","v":0},0,{"$f":"IFERROR((SUMIFS(Arquivo!$F$2:$F$20000,Arquivo!$B$2:$B$20000,X$6,Arquivo!$C$2:$C$20000,Y$6,Arquivo!$D$2:$D$20000,$C112)),0)","v":0},0,{"$f":"IFERROR((SUMIFS(Arquivo!$F$2:$F$20000,Arquivo!$B$2:$B$20000,Z$6,Arquivo!$C$2:$C$20000,AA$6,Arquivo!$D$2:$D$20000,$C112)),0)","v":0},0,{"$f":"IFERROR((SUMIFS(Arquivo!$F$2:$F$20000,Arquivo!$B$2:$B$20000,AB$6,Arquivo!$C$2:$C$20000,AC$6,Arquivo!$D$2:$D$20000,$C112)),0)","v":0},0,{"$f":"F112+H112+J112+L112+N112+P112+R112+T112+V112+X112+Z112+AB112","v":8001.4499999999989},1.2481554825059342E-3,null,null,"X"]
[null,null,{"$f":"IF('Plano de Contas'!B98=\"\",\"\",'Plano de Contas'!B98)","v":"8.2.2.7"},{"$f":"IF($C113=\"\",\"\",VLOOKUP($C113,'Plano de Contas'!$B$2:$E$200,4,FALSE))","v":"CV"},{"$f":"IF($C113=\"\",\"\",VLOOKUP($C113,'Plano de Contas'!$B$2:$E$200,3,FALSE))","v":"FRETE TRANSPORTES"},{"$f":"IFERROR((SUMIFS(Arquivo!$F$2:$F$20000,Arquivo!$B$2:$B$20000,F$6,Arquivo!$C$2:$C$20000,G$6,Arquivo!$D$2:$D$20000,$C113)),0)","v":0},0,{"$f":"IFERROR((SUMIFS(Arquivo!$F$2:$F$20000,Arquivo!$B$2:$B$20000,H$6,Arquivo!$C$2:$C$20000,I$6,Arquivo!$D$2:$D$20000,$C113)),0)","v":0},0,{"$f":"IFERROR((SUMIFS(Arquivo!$F$2:$F$20000,Arquivo!$B$2:$B$20000,J$6,Arquivo!$C$2:$C$20000,K$6,Arquivo!$D$2:$D$20000,$C113)),0)","v":1200},9.0684625849969994E-4,{"$f":"IFERROR((SUMIFS(Arquivo!$F$2:$F$20000,Arquivo!$B$2:$B$20000,L$6,Arquivo!$C$2:$C$20000,M$6,Arquivo!$D$2:$D$20000,$C113)),0)","v":6809.92},6.7496941663769605E-3,{"$f":"IFERROR((SUMIFS(Arquivo!$F$2:$F$20000,Arquivo!$B$2:$B$20000,N$6,Arquivo!$C$2:$C$20000,O$6,Arquivo!$D$2:$D$20000,$C113)),0)","v":6278.89},7.8022224359514426E-3,{"$f":"IFERROR((SUMIFS(Arquivo!$F$2:$F$20000,Arquivo!$B$2:$B$20000,P$6,Arquivo!$C$2:$C$20000,Q$6,Arquivo!$D$2:$D$20000,$C113)),0)","v":4756.82},5.3860806497872263E-3,{"$f":"IFERROR((SUMIFS(Arquivo!$F$2:$F$20000,Arquivo!$B$2:$B$20000,R$6,Arquivo!$C$2:$C$20000,S$6,Arquivo!$D$2:$D$20000,$C113)),0)","v":8369.89},1.3758415325333676E-2,{"$f":"IFERROR((SUMIFS(Arquivo!$F$2:$F$20000,Arquivo!$B$2:$B$20000,T$6,Arquivo!$C$2:$C$20000,U$6,Arquivo!$D$2:$D$20000,$C113)),0)","v":0},0,{"$f":"IFERROR((SUMIFS(Arquivo!$F$2:$F$20000,Arquivo!$B$2:$B$20000,V$6,Arquivo!$C$2:$C$20000,W$6,Arquivo!$D$2:$D$20000,$C113)),0)","v":0},0,{"$f":"IFERROR((SUMIFS(Arquivo!$F$2:$F$20000,Arquivo!$B$2:$B$20000,X$6,Arquivo!$C$2:$C$20000,Y$6,Arquivo!$D$2:$D$20000,$C113)),0)","v":0},0,{"$f":"IFERROR((SUMIFS(Arquivo!$F$2:$F$20000,Arquivo!$B$2:$B$20000,Z$6,Arquivo!$C$2:$C$20000,AA$6,Arquivo!$D$2:$D$20000,$C113)),0)","v":0},0,{"$f":"IFERROR((SUMIFS(Arquivo!$F$2:$F$20000,Arquivo!$B$2:$B$20000,AB$6,Arquivo!$C$2:$C$20000,AC$6,Arquivo!$D$2:$D$20000,$C113)),0)","v":0},0,27415.52,4.2765788193078877E-3,null,null,"X"]
[null,null,{"$f":"IF('Plano de Contas'!B99=\"\",\"\",'Plano de Contas'!B99)","v":"8.2.2.8"},{"$f":"IF($C114=\"\",\"\",VLOOKUP($C114,'Plano de Contas'!$B$2:$E$200,4,FALSE))","v":"CV"},{"$f":"IF($C114=\"\",\"\",VLOOKUP($C114,'Plano de Contas'!$B$2:$E$200,3,FALSE))","v":"PERMISSAO TRANSITO"},{"$f":"IFERROR((SUMIFS(Arquivo!$F$2:$F$20000,Arquivo!$B$2:$B$20000,F$6,Arquivo!$C$2:$C$20000,G$6,Arquivo!$D$2:$D$20000,$C114)),0)","v":2535.7800000000002},2.6397139867428226E-3,{"$f":"IFERROR((SUMIFS(Arquivo!$F$2:$F$20000,Arquivo!$B$2:$B$20000,H$6,Arquivo!$C$2:$C$20000,I$6,Arquivo!$D$2:$D$20000,$C114)),0)","v":1983.11},2.4139225087431368E-3,{"$f":"IFERROR((SUMIFS(Arquivo!$F$2:$F$20000,Arquivo!$B$2:$B$20000,J$6,Arquivo!$C$2:$C$20000,K$6,Arquivo!$D$2:$D$20000,$C114)),0)","v":2860.88},2.1619819366805182E-3,{"$f":"IFERROR((SUMIFS(Arquivo!$F$2:$F$20000,Arquivo!$B$2:$B$20000,L$6,Arquivo!$C$2:$C$20000,M$6,Arquivo!$D$2:$D$20000,$C114)),0)","v":2925.9},2.9000238125267766E-3,{"$f":"IFERROR((SUMIFS(Arquivo!$F$2:$F$20000,Arquivo!$B$2:$B$20000,N$6,Arquivo!$C$2:$C$20000,O$6,Arquivo!$D$2:$D$20000,$C114)),0)","v":1788.05},2.2218519239233328E-3,{"$f":"IFERROR((SUMIFS(Arquivo!$F$2:$F$20000,Arquivo!$B$2:$B$20000,P$6,Arquivo!$C$2:$C$20000,Q$6,Arquivo!$D$2:$D$20000,$C114)),0)","v":3543.59},4.0123573163961465E-3,{"$f":"IFERROR((SUMIFS(Arquivo!$F$2:$F$20000,Arquivo!$B$2:$B$20000,R$6,Arquivo!$C$2:$C$20000,S$6,Arquivo!$D$2:$D$20000,$C114)),0)","v":2925.9},4.8095909743609304E-3,{"$f":"IFERROR((SUMIFS(Arquivo!$F$2:$F$20000,Arquivo!$B$2:$B$20000,T$6,Arquivo!$C$2:$C$20000,U$6,Arquivo!$D$2:$D$20000,$C114)),0)","v":0},0,{"$f":"IFERROR((SUMIFS(Arquivo!$F$2:$F$20000,Arquivo!$B$2:$B$20000,V$6,Arquivo!$C$2:$C$20000,W$6,Arquivo!$D$2:$D$20000,$C114)),0)","v":0},0,{"$f":"IFERROR((SUMIFS(Arquivo!$F$2:$F$20000,Arquivo!$B$2:$B$20000,X$6,Arquivo!$C$2:$C$20000,Y$6,Arquivo!$D$2:$D$20000,$C114)),0)","v":0},0,{"$f":"IFERROR((SUMIFS(Arquivo!$F$2:$F$20000,Arquivo!$B$2:$B$20000,Z$6,Arquivo!$C$2:$C$20000,AA$6,Arquivo!$D$2:$D$20000,$C114)),0)","v":0},0,{"$f":"IFERROR((SUMIFS(Arquivo!$F$2:$F$20000,Arquivo!$B$2:$B$20000,AB$6,Arquivo!$C$2:$C$20000,AC$6,Arquivo!$D$2:$D$20000,$C114)),0)","v":0},0,18563.21,2.8956966967748328E-3,null,null,"X"]
[null,null,{"$f":"IF('Plano de Contas'!B100=\"\",\"\",'Plano de Contas'!B100)","v":"8.2.2.9"},{"$f":"IF($C115=\"\",\"\",VLOOKUP($C115,'Plano de Contas'!$B$2:$E$200,4,FALSE))","v":"CV"},{"$f":"IF($C115=\"\",\"\",VLOOKUP($C115,'Plano de Contas'!$B$2:$E$200,3,FALSE))","v":"MANUTENCAO CAMINHAO HMG 0033"},{"$f":"IFERROR((SUMIFS(Arquivo!$F$2:$F$20000,Arquivo!$B$2:$B$20000,F$6,Arquivo!$C$2:$C$20000,G$6,Arquivo!$D$2:$D$20000,$C115)),0)","v":0},0,{"$f":"IFERROR((SUMIFS(Arquivo!$F$2:$F$20000,Arquivo!$B$2:$B$20000,H$6,Arquivo!$C$2:$C$20000,I$6,Arquivo!$D$2:$D$20000,$C115)),0)","v":0},0,{"$f":"IFERROR((SUMIFS(Arquivo!$F$2:$F$20000,Arquivo!$B$2:$B$20000,J$6,Arquivo!$C$2:$C$20000,K$6,Arquivo!$D$2:$D$20000,$C115)),0)","v":0},0,{"$f":"IFERROR((SUMIFS(Arquivo!$F$2:$F$20000,Arquivo!$B$2:$B$20000,L$6,Arquivo!$C$2:$C$20000,M$6,Arquivo!$D$2:$D$20000,$C115)),0)","v":0},0,{"$f":"IFERROR((SUMIFS(Arquivo!$F$2:$F$20000,Arquivo!$B$2:$B$20000,N$6,Arquivo!$C$2:$C$20000,O$6,Arquivo!$D$2:$D$20000,$C115)),0)","v":0},0,{"$f":"IFERROR((SUMIFS(Arquivo!$F$2:$F$20000,Arquivo!$B$2:$B$20000,P$6,Arquivo!$C$2:$C$20000,Q$6,Arquivo!$D$2:$D$20000,$C115)),0)","v":0},0,{"$f":"IFERROR((SUMIFS(Arquivo!$F$2:$F$20000,Arquivo!$B$2:$B$20000,R$6,Arquivo!$C$2:$C$20000,S$6,Arquivo!$D$2:$D$20000,$C115)),0)","v":0},0,{"$f":"IFERROR((SUMIFS(Arquivo!$F$2:$F$20000,Arquivo!$B$2:$B$20000,T$6,Arquivo!$C$2:$C$20000,U$6,Arquivo!$D$2:$D$20000,$C115)),0)","v":0},0,{"$f":"IFERROR((SUMIFS(Arquivo!$F$2:$F$20000,Arquivo!$B$2:$B$20000,V$6,Arquivo!$C$2:$C$20000,W$6,Arquivo!$D$2:$D$20000,$C115)),0)","v":0},0,{"$f":"IFERROR((SUMIFS(Arquivo!$F$2:$F$20000,Arquivo!$B$2:$B$20000,X$6,Arquivo!$C$2:$C$20000,Y$6,Arquivo!$D$2:$D$20000,$C115)),0)","v":0},0,{"$f":"IFERROR((SUMIFS(Arquivo!$F$2:$F$20000,Arquivo!$B$2:$B$20000,Z$6,Arquivo!$C$2:$C$20000,AA$6,Arquivo!$D$2:$D$20000,$C115)),0)","v":0},0,{"$f":"IFERROR((SUMIFS(Arquivo!$F$2:$F$20000,Arquivo!$B$2:$B$20000,AB$6,Arquivo!$C$2:$C$20000,AC$6,Arquivo!$D$2:$D$20000,$C115)),0)","v":0},0,0,0,null,null,""]
[null,null,{"$f":"IF('Plano de Contas'!B101=\"\",\"\",'Plano de Contas'!B101)","v":"8.2.2.10"},{"$f":"IF($C116=\"\",\"\",VLOOKUP($C116,'Plano de Contas'!$B$2:$E$200,4,FALSE))","v":"CV"},{"$f":"IF($C116=\"\",\"\",VLOOKUP($C116,'Plano de Contas'!$B$2:$E$200,3,FALSE))","v":"MANUTENCAO CAMINHAO VW GMB-9576"},{"$f":"IFERROR((SUMIFS(Arquivo!$F$2:$F$20000,Arquivo!$B$2:$B$20000,F$6,Arquivo!$C$2:$C$20000,G$6,Arquivo!$D$2:$D$20000,$C116)),0)","v":0},0,{"$f":"IFERROR((SUMIFS(Arquivo!$F$2:$F$20000,Arquivo!$B$2:$B$20000,H$6,Arquivo!$C$2:$C$20000,I$6,Arquivo!$D$2:$D$20000,$C116)),0)","v":0},0,{"$f":"IFERROR((SUMIFS(Arquivo!$F$2:$F$20000,Arquivo!$B$2:$B$20000,J$6,Arquivo!$C$2:$C$20000,K$6,Arquivo!$D$2:$D$20000,$C116)),0)","v":0},0,{"$f":"IFERROR((SUMIFS(Arquivo!$F$2:$F$20000,Arquivo!$B$2:$B$20000,L$6,Arquivo!$C$2:$C$20000,M$6,Arquivo!$D$2:$D$20000,$C116)),0)","v":0},0,{"$f":"IFERROR((SUMIFS(Arquivo!$F$2:$F$20000,Arquivo!$B$2:$B$20000,N$6,Arquivo!$C$2:$C$20000,O$6,Arquivo!$D$2:$D$20000,$C116)),0)","v":0},0,{"$f":"IFERROR((SUMIFS(Arquivo!$F$2:$F$20000,Arquivo!$B$2:$B$20000,P$6,Arquivo!$C$2:$C$20000,Q$6,Arquivo!$D$2:$D$20000,$C116)),0)","v":0},0,{"$f":"IFERROR((SUMIFS(Arquivo!$F$2:$F$20000,Arquivo!$B$2:$B$20000,R$6,Arquivo!$C$2:$C$20000,S$6,Arquivo!$D$2:$D$20000,$C116)),0)","v":0},0,{"$f":"IFERROR((SUMIFS(Arquivo!$F$2:$F$20000,Arquivo!$B$2:$B$20000,T$6,Arquivo!$C$2:$C$20000,U$6,Arquivo!$D$2:$D$20000,$C116)),0)","v":0},0,{"$f":"IFERROR((SUMIFS(Arquivo!$F$2:$F$20000,Arquivo!$B$2:$B$20000,V$6,Arquivo!$C$2:$C$20000,W$6,Arquivo!$D$2:$D$20000,$C116)),0)","v":0},0,{"$f":"IFERROR((SUMIFS(Arquivo!$F$2:$F$20000,Arquivo!$B$2:$B$20000,X$6,Arquivo!$C$2:$C$20000,Y$6,Arquivo!$D$2:$D$20000,$C116)),0)","v":0},0,{"$f":"IFERROR((SUMIFS(Arquivo!$F$2:$F$20000,Arquivo!$B$2:$B$20000,Z$6,Arquivo!$C$2:$C$20000,AA$6,Arquivo!$D$2:$D$20000,$C116)),0)","v":0},0,{"$f":"IFERROR((SUMIFS(Arquivo!$F$2:$F$20000,Arquivo!$B$2:$B$20000,AB$6,Arquivo!$C$2:$C$20000,AC$6,Arquivo!$D$2:$D$20000,$C116)),0)","v":0},0,0,0,null,null,""]
[null,null,{"$f":"IF('Plano de Contas'!B102=\"\",\"\",'Plano de Contas'!B102)","v":"8.2.2.11"},{"$f":"IF($C117=\"\",\"\",VLOOKUP($C117,'Plano de Contas'!$B$2:$E$200,4,FALSE))","v":"CV"},{"$f":"IF($C117=\"\",\"\",VLOOKUP($C117,'Plano de Contas'!$B$2:$E$200,3,FALSE))","v":"MANUTENCAO MOTO GVZ 8529"},{"$f":"IFERROR((SUMIFS(Arquivo!$F$2:$F$20000,Arquivo!$B$2:$B$20000,F$6,Arquivo!$C$2:$C$20000,G$6,Arquivo!$D$2:$D$20000,$C117)),0)","v":0},0,{"$f":"IFERROR((SUMIFS(Arquivo!$F$2:$F$20000,Arquivo!$B$2:$B$20000,H$6,Arquivo!$C$2:$C$20000,I$6,Arquivo!$D$2:$D$20000,$C117)),0)","v":0},0,{"$f":"IFERROR((SUMIFS(Arquivo!$F$2:$F$20000,Arquivo!$B$2:$B$20000,J$6,Arquivo!$C$2:$C$20000,K$6,Arquivo!$D$2:$D$20000,$C117)),0)","v":0},0,{"$f":"IFERROR((SUMIFS(Arquivo!$F$2:$F$20000,Arquivo!$B$2:$B$20000,L$6,Arquivo!$C$2:$C$20000,M$6,Arquivo!$D$2:$D$20000,$C117)),0)","v":0},0,{"$f":"IFERROR((SUMIFS(Arquivo!$F$2:$F$20000,Arquivo!$B$2:$B$20000,N$6,Arquivo!$C$2:$C$20000,O$6,Arquivo!$D$2:$D$20000,$C117)),0)","v":0},0,{"$f":"IFERROR((SUMIFS(Arquivo!$F$2:$F$20000,Arquivo!$B$2:$B$20000,P$6,Arquivo!$C$2:$C$20000,Q$6,Arquivo!$D$2:$D$20000,$C117)),0)","v":0},0,{"$f":"IFERROR((SUMIFS(Arquivo!$F$2:$F$20000,Arquivo!$B$2:$B$20000,R$6,Arquivo!$C$2:$C$20000,S$6,Arquivo!$D$2:$D$20000,$C117)),0)","v":0},0,{"$f":"IFERROR((SUMIFS(Arquivo!$F$2:$F$20000,Arquivo!$B$2:$B$20000,T$6,Arquivo!$C$2:$C$20000,U$6,Arquivo!$D$2:$D$20000,$C117)),0)","v":0},0,{"$f":"IFERROR((SUMIFS(Arquivo!$F$2:$F$20000,Arquivo!$B$2:$B$20000,V$6,Arquivo!$C$2:$C$20000,W$6,Arquivo!$D$2:$D$20000,$C117)),0)","v":0},0,{"$f":"IFERROR((SUMIFS(Arquivo!$F$2:$F$20000,Arquivo!$B$2:$B$20000,X$6,Arquivo!$C$2:$C$20000,Y$6,Arquivo!$D$2:$D$20000,$C117)),0)","v":0},0,{"$f":"IFERROR((SUMIFS(Arquivo!$F$2:$F$20000,Arquivo!$B$2:$B$20000,Z$6,Arquivo!$C$2:$C$20000,AA$6,Arquivo!$D$2:$D$20000,$C117)),0)","v":0},0,{"$f":"IFERROR((SUMIFS(Arquivo!$F$2:$F$20000,Arquivo!$B$2:$B$20000,AB$6,Arquivo!$C$2:$C$20000,AC$6,Arquivo!$D$2:$D$20000,$C117)),0)","v":0},0,0,0,null,null,""]
[null,null,{"$f":"IF('Plano de Contas'!B103=\"\",\"\",'Plano de Contas'!B103)","v":"8.2.2.12"},{"$f":"IF($C118=\"\",\"\",VLOOKUP($C118,'Plano de Contas'!$B$2:$E$200,4,FALSE))","v":"CV"},{"$f":"IF($C118=\"\",\"\",VLOOKUP($C118,'Plano de Contas'!$B$2:$E$200,3,FALSE))","v":"MANUTENCAO MOTO HAC 6345"},{"$f":"IFERROR((SUMIFS(Arquivo!$F$2:$F$20000,Arquivo!$B$2:$B$20000,F$6,Arquivo!$C$2:$C$20000,G$6,Arquivo!$D$2:$D$20000,$C118)),0)","v":0},0,{"$f":"IFERROR((SUMIFS(Arquivo!$F$2:$F$20000,Arquivo!$B$2:$B$20000,H$6,Arquivo!$C$2:$C$20000,I$6,Arquivo!$D$2:$D$20000,$C118)),0)","v":0},0,{"$f":"IFERROR((SUMIFS(Arquivo!$F$2:$F$20000,Arquivo!$B$2:$B$20000,J$6,Arquivo!$C$2:$C$20000,K$6,Arquivo!$D$2:$D$20000,$C118)),0)","v":0},0,{"$f":"IFERROR((SUMIFS(Arquivo!$F$2:$F$20000,Arquivo!$B$2:$B$20000,L$6,Arquivo!$C$2:$C$20000,M$6,Arquivo!$D$2:$D$20000,$C118)),0)","v":0},0,{"$f":"IFERROR((SUMIFS(Arquivo!$F$2:$F$20000,Arquivo!$B$2:$B$20000,N$6,Arquivo!$C$2:$C$20000,O$6,Arquivo!$D$2:$D$20000,$C118)),0)","v":0},0,{"$f":"IFERROR((SUMIFS(Arquivo!$F$2:$F$20000,Arquivo!$B$2:$B$20000,P$6,Arquivo!$C$2:$C$20000,Q$6,Arquivo!$D$2:$D$20000,$C118)),0)","v":0},0,{"$f":"IFERROR((SUMIFS(Arquivo!$F$2:$F$20000,Arquivo!$B$2:$B$20000,R$6,Arquivo!$C$2:$C$20000,S$6,Arquivo!$D$2:$D$20000,$C118)),0)","v":0},0,{"$f":"IFERROR((SUMIFS(Arquivo!$F$2:$F$20000,Arquivo!$B$2:$B$20000,T$6,Arquivo!$C$2:$C$20000,U$6,Arquivo!$D$2:$D$20000,$C118)),0)","v":0},0,{"$f":"IFERROR((SUMIFS(Arquivo!$F$2:$F$20000,Arquivo!$B$2:$B$20000,V$6,Arquivo!$C$2:$C$20000,W$6,Arquivo!$D$2:$D$20000,$C118)),0)","v":0},0,{"$f":"IFERROR((SUMIFS(Arquivo!$F$2:$F$20000,Arquivo!$B$2:$B$20000,X$6,Arquivo!$C$2:$C$20000,Y$6,Arquivo!$D$2:$D$20000,$C118)),0)","v":0},0,{"$f":"IFERROR((SUMIFS(Arquivo!$F$2:$F$20000,Arquivo!$B$2:$B$20000,Z$6,Arquivo!$C$2:$C$20000,AA$6,Arquivo!$D$2:$D$20000,$C118)),0)","v":0},0,{"$f":"IFERROR((SUMIFS(Arquivo!$F$2:$F$20000,Arquivo!$B$2:$B$20000,AB$6,Arquivo!$C$2:$C$20000,AC$6,Arquivo!$D$2:$D$20000,$C118)),0)","v":0},0,0,0,null,null,""]
[null,null,{"$f":"IF('Plano de Contas'!B104=\"\",\"\",'Plano de Contas'!B104)","v":"8.2.2.13"},{"$f":"IF($C119=\"\",\"\",VLOOKUP($C119,'Plano de Contas'!$B$2:$E$200,4,FALSE))","v":"CV"},{"$f":"IF($C119=\"\",\"\",VLOOKUP($C119,'Plano de Contas'!$B$2:$E$200,3,FALSE))","v":"MANUT. UNO MILLE EX PLACA GMG-8644"},{"$f":"IFERROR((SUMIFS(Arquivo!$F$2:$F$20000,Arquivo!$B$2:$B$20000,F$6,Arquivo!$C$2:$C$20000,G$6,Arquivo!$D$2:$D$20000,$C119)),0)","v":0},0,{"$f":"IFERROR((SUMIFS(Arquivo!$F$2:$F$20000,Arquivo!$B$2:$B$20000,H$6,Arquivo!$C$2:$C$20000,I$6,Arquivo!$D$2:$D$20000,$C119)),0)","v":0},0,{"$f":"IFERROR((SUMIFS(Arquivo!$F$2:$F$20000,Arquivo!$B$2:$B$20000,J$6,Arquivo!$C$2:$C$20000,K$6,Arquivo!$D$2:$D$20000,$C119)),0)","v":0},0,{"$f":"IFERROR((SUMIFS(Arquivo!$F$2:$F$20000,Arquivo!$B$2:$B$20000,L$6,Arquivo!$C$2:$C$20000,M$6,Arquivo!$D$2:$D$20000,$C119)),0)","v":0},0,{"$f":"IFERROR((SUMIFS(Arquivo!$F$2:$F$20000,Arquivo!$B$2:$B$20000,N$6,Arquivo!$C$2:$C$20000,O$6,Arquivo!$D$2:$D$20000,$C119)),0)","v":0},0,{"$f":"IFERROR((SUMIFS(Arquivo!$F$2:$F$20000,Arquivo!$B$2:$B$20000,P$6,Arquivo!$C$2:$C$20000,Q$6,Arquivo!$D$2:$D$20000,$C119)),0)","v":0},0,{"$f":"IFERROR((SUMIFS(Arquivo!$F$2:$F$20000,Arquivo!$B$2:$B$20000,R$6,Arquivo!$C$2:$C$20000,S$6,Arquivo!$D$2:$D$20000,$C119)),0)","v":0},0,{"$f":"IFERROR((SUMIFS(Arquivo!$F$2:$F$20000,Arquivo!$B$2:$B$20000,T$6,Arquivo!$C$2:$C$20000,U$6,Arquivo!$D$2:$D$20000,$C119)),0)","v":0},0,{"$f":"IFERROR((SUMIFS(Arquivo!$F$2:$F$20000,Arquivo!$B$2:$B$20000,V$6,Arquivo!$C$2:$C$20000,W$6,Arquivo!$D$2:$D$20000,$C119)),0)","v":0},0,{"$f":"IFERROR((SUMIFS(Arquivo!$F$2:$F$20000,Arquivo!$B$2:$B$20000,X$6,Arquivo!$C$2:$C$20000,Y$6,Arquivo!$D$2:$D$20000,$C119)),0)","v":0},0,{"$f":"IFERROR((SUMIFS(Arquivo!$F$2:$F$20000,Arquivo!$B$2:$B$20000,Z$6,Arquivo!$C$2:$C$20000,AA$6,Arquivo!$D$2:$D$20000,$C119)),0)","v":0},0,{"$f":"IFERROR((SUMIFS(Arquivo!$F$2:$F$20000,Arquivo!$B$2:$B$20000,AB$6,Arquivo!$C$2:$C$20000,AC$6,Arquivo!$D$2:$D$20000,$C119)),0)","v":0},0,0,0,null,null,""]
[null,null,{"$f":"IF('Plano de Contas'!B105=\"\",\"\",'Plano de Contas'!B105)","v":"8.2.2.14"},{"$f":"IF($C120=\"\",\"\",VLOOKUP($C120,'Plano de Contas'!$B$2:$E$200,4,FALSE))","v":"CV"},{"$f":"IF($C120=\"\",\"\",VLOOKUP($C120,'Plano de Contas'!$B$2:$E$200,3,FALSE))","v":"MANUTENCAO MOTO HAW 9706"},{"$f":"IFERROR((SUMIFS(Arquivo!$F$2:$F$20000,Arquivo!$B$2:$B$20000,F$6,Arquivo!$C$2:$C$20000,G$6,Arquivo!$D$2:$D$20000,$C120)),0)","v":0},0,{"$f":"IFERROR((SUMIFS(Arquivo!$F$2:$F$20000,Arquivo!$B$2:$B$20000,H$6,Arquivo!$C$2:$C$20000,I$6,Arquivo!$D$2:$D$20000,$C120)),0)","v":0},0,{"$f":"IFERROR((SUMIFS(Arquivo!$F$2:$F$20000,Arquivo!$B$2:$B$20000,J$6,Arquivo!$C$2:$C$20000,K$6,Arquivo!$D$2:$D$20000,$C120)),0)","v":0},0,{"$f":"IFERROR((SUMIFS(Arquivo!$F$2:$F$20000,Arquivo!$B$2:$B$20000,L$6,Arquivo!$C$2:$C$20000,M$6,Arquivo!$D$2:$D$20000,$C120)),0)","v":0},0,{"$f":"IFERROR((SUMIFS(Arquivo!$F$2:$F$20000,Arquivo!$B$2:$B$20000,N$6,Arquivo!$C$2:$C$20000,O$6,Arquivo!$D$2:$D$20000,$C120)),0)","v":0},0,{"$f":"IFERROR((SUMIFS(Arquivo!$F$2:$F$20000,Arquivo!$B$2:$B$20000,P$6,Arquivo!$C$2:$C$20000,Q$6,Arquivo!$D$2:$D$20000,$C120)),0)","v":0},0,{"$f":"IFERROR((SUMIFS(Arquivo!$F$2:$F$20000,Arquivo!$B$2:$B$20000,R$6,Arquivo!$C$2:$C$20000,S$6,Arquivo!$D$2:$D$20000,$C120)),0)","v":0},0,{"$f":"IFERROR((SUMIFS(Arquivo!$F$2:$F$20000,Arquivo!$B$2:$B$20000,T$6,Arquivo!$C$2:$C$20000,U$6,Arquivo!$D$2:$D$20000,$C120)),0)","v":0},0,{"$f":"IFERROR((SUMIFS(Arquivo!$F$2:$F$20000,Arquivo!$B$2:$B$20000,V$6,Arquivo!$C$2:$C$20000,W$6,Arquivo!$D$2:$D$20000,$C120)),0)","v":0},0,{"$f":"IFERROR((SUMIFS(Arquivo!$F$2:$F$20000,Arquivo!$B$2:$B$20000,X$6,Arquivo!$C$2:$C$20000,Y$6,Arquivo!$D$2:$D$20000,$C120)),0)","v":0},0,{"$f":"IFERROR((SUMIFS(Arquivo!$F$2:$F$20000,Arquivo!$B$2:$B$20000,Z$6,Arquivo!$C$2:$C$20000,AA$6,Arquivo!$D$2:$D$20000,$C120)),0)","v":0},0,{"$f":"IFERROR((SUMIFS(Arquivo!$F$2:$F$20000,Arquivo!$B$2:$B$20000,AB$6,Arquivo!$C$2:$C$20000,AC$6,Arquivo!$D$2:$D$20000,$C120)),0)","v":0},0,0,0,null,null,""]
[null,null,{"$f":"IF('Plano de Contas'!B106=\"\",\"\",'Plano de Contas'!B106)","v":"8.2.2.16"},{"$f":"IF($C121=\"\",\"\",VLOOKUP($C121,'Plano de Contas'!$B$2:$E$200,4,FALSE))","v":"CV"},{"$f":"IF($C121=\"\",\"\",VLOOKUP($C121,'Plano de Contas'!$B$2:$E$200,3,FALSE))","v":"COMBUSTIVEL (OLEO DIESEL)"},{"$f":"IFERROR((SUMIFS(Arquivo!$F$2:$F$20000,Arquivo!$B$2:$B$20000,F$6,Arquivo!$C$2:$C$20000,G$6,Arquivo!$D$2:$D$20000,$C121)),0)","v":666.6},6.9392192680862118E-4,{"$f":"IFERROR((SUMIFS(Arquivo!$F$2:$F$20000,Arquivo!$B$2:$B$20000,H$6,Arquivo!$C$2:$C$20000,I$6,Arquivo!$D$2:$D$20000,$C121)),0)","v":1135.5999999999999},1.3822987130964525E-3,{"$f":"IFERROR((SUMIFS(Arquivo!$F$2:$F$20000,Arquivo!$B$2:$B$20000,J$6,Arquivo!$C$2:$C$20000,K$6,Arquivo!$D$2:$D$20000,$C121)),0)","v":1931.2},1.4594179120121838E-3,{"$f":"IFERROR((SUMIFS(Arquivo!$F$2:$F$20000,Arquivo!$B$2:$B$20000,L$6,Arquivo!$C$2:$C$20000,M$6,Arquivo!$D$2:$D$20000,$C121)),0)","v":1376.85},1.3646733607701877E-3,{"$f":"IFERROR((SUMIFS(Arquivo!$F$2:$F$20000,Arquivo!$B$2:$B$20000,N$6,Arquivo!$C$2:$C$20000,O$6,Arquivo!$D$2:$D$20000,$C121)),0)","v":885.6},1.1004569580417235E-3,{"$f":"IFERROR((SUMIFS(Arquivo!$F$2:$F$20000,Arquivo!$B$2:$B$20000,P$6,Arquivo!$C$2:$C$20000,Q$6,Arquivo!$D$2:$D$20000,$C121)),0)","v":1314.8},1.4887296215413334E-3,{"$f":"IFERROR((SUMIFS(Arquivo!$F$2:$F$20000,Arquivo!$B$2:$B$20000,R$6,Arquivo!$C$2:$C$20000,S$6,Arquivo!$D$2:$D$20000,$C121)),0)","v":900.6},1.4804052194228969E-3,{"$f":"IFERROR((SUMIFS(Arquivo!$F$2:$F$20000,Arquivo!$B$2:$B$20000,T$6,Arquivo!$C$2:$C$20000,U$6,Arquivo!$D$2:$D$20000,$C121)),0)","v":0},0,{"$f":"IFERROR((SUMIFS(Arquivo!$F$2:$F$20000,Arquivo!$B$2:$B$20000,V$6,Arquivo!$C$2:$C$20000,W$6,Arquivo!$D$2:$D$20000,$C121)),0)","v":0},0,{"$f":"IFERROR((SUMIFS(Arquivo!$F$2:$F$20000,Arquivo!$B$2:$B$20000,X$6,Arquivo!$C$2:$C$20000,Y$6,Arquivo!$D$2:$D$20000,$C121)),0)","v":0},0,{"$f":"IFERROR((SUMIFS(Arquivo!$F$2:$F$20000,Arquivo!$B$2:$B$20000,Z$6,Arquivo!$C$2:$C$20000,AA$6,Arquivo!$D$2:$D$20000,$C121)),0)","v":0},0,{"$f":"IFERROR((SUMIFS(Arquivo!$F$2:$F$20000,Arquivo!$B$2:$B$20000,AB$6,Arquivo!$C$2:$C$20000,AC$6,Arquivo!$D$2:$D$20000,$C121)),0)","v":0},0,8211.25,1.2808824282757318E-3,null,null,"X"]
[null,null,{"$f":"IF('Plano de Contas'!B107=\"\",\"\",'Plano de Contas'!B107)","v":"8.2.2.17"},{"$f":"IF($C122=\"\",\"\",VLOOKUP($C122,'Plano de Contas'!$B$2:$E$200,4,FALSE))","v":"CV"},{"$f":"IF($C122=\"\",\"\",VLOOKUP($C122,'Plano de Contas'!$B$2:$E$200,3,FALSE))","v":"COMBUSTIVEL TERCEIROS"},{"$f":"IFERROR((SUMIFS(Arquivo!$F$2:$F$20000,Arquivo!$B$2:$B$20000,F$6,Arquivo!$C$2:$C$20000,G$6,Arquivo!$D$2:$D$20000,$C122)),0)","v":0},0,{"$f":"IFERROR((SUMIFS(Arquivo!$F$2:$F$20000,Arquivo!$B$2:$B$20000,H$6,Arquivo!$C$2:$C$20000,I$6,Arquivo!$D$2:$D$20000,$C122)),0)","v":2040},2.483171340891831E-3,{"$f":"IFERROR((SUMIFS(Arquivo!$F$2:$F$20000,Arquivo!$B$2:$B$20000,J$6,Arquivo!$C$2:$C$20000,K$6,Arquivo!$D$2:$D$20000,$C122)),0)","v":7167.2},5.4162904199325408E-3,{"$f":"IFERROR((SUMIFS(Arquivo!$F$2:$F$20000,Arquivo!$B$2:$B$20000,L$6,Arquivo!$C$2:$C$20000,M$6,Arquivo!$D$2:$D$20000,$C122)),0)","v":4723.5},4.6817261281896956E-3,{"$f":"IFERROR((SUMIFS(Arquivo!$F$2:$F$20000,Arquivo!$B$2:$B$20000,N$6,Arquivo!$C$2:$C$20000,O$6,Arquivo!$D$2:$D$20000,$C122)),0)","v":781.2},9.7072829225631704E-4,{"$f":"IFERROR((SUMIFS(Arquivo!$F$2:$F$20000,Arquivo!$B$2:$B$20000,P$6,Arquivo!$C$2:$C$20000,Q$6,Arquivo!$D$2:$D$20000,$C122)),0)","v":2394},2.7106926635001157E-3,{"$f":"IFERROR((SUMIFS(Arquivo!$F$2:$F$20000,Arquivo!$B$2:$B$20000,R$6,Arquivo!$C$2:$C$20000,S$6,Arquivo!$D$2:$D$20000,$C122)),0)","v":0},0,{"$f":"IFERROR((SUMIFS(Arquivo!$F$2:$F$20000,Arquivo!$B$2:$B$20000,T$6,Arquivo!$C$2:$C$20000,U$6,Arquivo!$D$2:$D$20000,$C122)),0)","v":0},0,{"$f":"IFERROR((SUMIFS(Arquivo!$F$2:$F$20000,Arquivo!$B$2:$B$20000,V$6,Arquivo!$C$2:$C$20000,W$6,Arquivo!$D$2:$D$20000,$C122)),0)","v":0},0,{"$f":"IFERROR((SUMIFS(Arquivo!$F$2:$F$20000,Arquivo!$B$2:$B$20000,X$6,Arquivo!$C$2:$C$20000,Y$6,Arquivo!$D$2:$D$20000,$C122)),0)","v":0},0,{"$f":"IFERROR((SUMIFS(Arquivo!$F$2:$F$20000,Arquivo!$B$2:$B$20000,Z$6,Arquivo!$C$2:$C$20000,AA$6,Arquivo!$D$2:$D$20000,$C122)),0)","v":0},0,{"$f":"IFERROR((SUMIFS(Arquivo!$F$2:$F$20000,Arquivo!$B$2:$B$20000,AB$6,Arquivo!$C$2:$C$20000,AC$6,Arquivo!$D$2:$D$20000,$C122)),0)","v":0},0,17105.900000000001,2.6683692166042739E-3,null,null,"X"]
[null,null,{"$f":"IF('Plano de Contas'!B108=\"\",\"\",'Plano de Contas'!B108)","v":"8.2.2.18"},{"$f":"IF($C123=\"\",\"\",VLOOKUP($C123,'Plano de Contas'!$B$2:$E$200,4,FALSE))","v":"CV"},{"$f":"IF($C123=\"\",\"\",VLOOKUP($C123,'Plano de Contas'!$B$2:$E$200,3,FALSE))","v":"MANUTENCAO MOTO HBT-8219"},{"$f":"IFERROR((SUMIFS(Arquivo!$F$2:$F$20000,Arquivo!$B$2:$B$20000,F$6,Arquivo!$C$2:$C$20000,G$6,Arquivo!$D$2:$D$20000,$C123)),0)","v":0},0,{"$f":"IFERROR((SUMIFS(Arquivo!$F$2:$F$20000,Arquivo!$B$2:$B$20000,H$6,Arquivo!$C$2:$C$20000,I$6,Arquivo!$D$2:$D$20000,$C123)),0)","v":0},0,{"$f":"IFERROR((SUMIFS(Arquivo!$F$2:$F$20000,Arquivo!$B$2:$B$20000,J$6,Arquivo!$C$2:$C$20000,K$6,Arquivo!$D$2:$D$20000,$C123)),0)","v":0},0,{"$f":"IFERROR((SUMIFS(Arquivo!$F$2:$F$20000,Arquivo!$B$2:$B$20000,L$6,Arquivo!$C$2:$C$20000,M$6,Arquivo!$D$2:$D$20000,$C123)),0)","v":0},0,{"$f":"IFERROR((SUMIFS(Arquivo!$F$2:$F$20000,Arquivo!$B$2:$B$20000,N$6,Arquivo!$C$2:$C$20000,O$6,Arquivo!$D$2:$D$20000,$C123)),0)","v":0},0,{"$f":"IFERROR((SUMIFS(Arquivo!$F$2:$F$20000,Arquivo!$B$2:$B$20000,P$6,Arquivo!$C$2:$C$20000,Q$6,Arquivo!$D$2:$D$20000,$C123)),0)","v":0},0,{"$f":"IFERROR((SUMIFS(Arquivo!$F$2:$F$20000,Arquivo!$B$2:$B$20000,R$6,Arquivo!$C$2:$C$20000,S$6,Arquivo!$D$2:$D$20000,$C123)),0)","v":0},0,{"$f":"IFERROR((SUMIFS(Arquivo!$F$2:$F$20000,Arquivo!$B$2:$B$20000,T$6,Arquivo!$C$2:$C$20000,U$6,Arquivo!$D$2:$D$20000,$C123)),0)","v":0},0,{"$f":"IFERROR((SUMIFS(Arquivo!$F$2:$F$20000,Arquivo!$B$2:$B$20000,V$6,Arquivo!$C$2:$C$20000,W$6,Arquivo!$D$2:$D$20000,$C123)),0)","v":0},0,{"$f":"IFERROR((SUMIFS(Arquivo!$F$2:$F$20000,Arquivo!$B$2:$B$20000,X$6,Arquivo!$C$2:$C$20000,Y$6,Arquivo!$D$2:$D$20000,$C123)),0)","v":0},0,{"$f":"IFERROR((SUMIFS(Arquivo!$F$2:$F$20000,Arquivo!$B$2:$B$20000,Z$6,Arquivo!$C$2:$C$20000,AA$6,Arquivo!$D$2:$D$20000,$C123)),0)","v":0},0,{"$f":"IFERROR((SUMIFS(Arquivo!$F$2:$F$20000,Arquivo!$B$2:$B$20000,AB$6,Arquivo!$C$2:$C$20000,AC$6,Arquivo!$D$2:$D$20000,$C123)),0)","v":0},0,0,0,null,null,""]
[null,null,{"$f":"IF('Plano de Contas'!B109=\"\",\"\",'Plano de Contas'!B109)","v":"8.2.2.19"},{"$f":"IF($C124=\"\",\"\",VLOOKUP($C124,'Plano de Contas'!$B$2:$E$200,4,FALSE))","v":"CV"},{"$f":"IF($C124=\"\",\"\",VLOOKUP($C124,'Plano de Contas'!$B$2:$E$200,3,FALSE))","v":"MANUTENCAO CAMINHAO GUR 3478"},{"$f":"IFERROR((SUMIFS(Arquivo!$F$2:$F$20000,Arquivo!$B$2:$B$20000,F$6,Arquivo!$C$2:$C$20000,G$6,Arquivo!$D$2:$D$20000,$C124)),0)","v":0},0,{"$f":"IFERROR((SUMIFS(Arquivo!$F$2:$F$20000,Arquivo!$B$2:$B$20000,H$6,Arquivo!$C$2:$C$20000,I$6,Arquivo!$D$2:$D$20000,$C124)),0)","v":0},0,{"$f":"IFERROR((SUMIFS(Arquivo!$F$2:$F$20000,Arquivo!$B$2:$B$20000,J$6,Arquivo!$C$2:$C$20000,K$6,Arquivo!$D$2:$D$20000,$C124)),0)","v":0},0,{"$f":"IFERROR((SUMIFS(Arquivo!$F$2:$F$20000,Arquivo!$B$2:$B$20000,L$6,Arquivo!$C$2:$C$20000,M$6,Arquivo!$D$2:$D$20000,$C124)),0)","v":0},0,{"$f":"IFERROR((SUMIFS(Arquivo!$F$2:$F$20000,Arquivo!$B$2:$B$20000,N$6,Arquivo!$C$2:$C$20000,O$6,Arquivo!$D$2:$D$20000,$C124)),0)","v":0},0,{"$f":"IFERROR((SUMIFS(Arquivo!$F$2:$F$20000,Arquivo!$B$2:$B$20000,P$6,Arquivo!$C$2:$C$20000,Q$6,Arquivo!$D$2:$D$20000,$C124)),0)","v":0},0,{"$f":"IFERROR((SUMIFS(Arquivo!$F$2:$F$20000,Arquivo!$B$2:$B$20000,R$6,Arquivo!$C$2:$C$20000,S$6,Arquivo!$D$2:$D$20000,$C124)),0)","v":0},0,{"$f":"IFERROR((SUMIFS(Arquivo!$F$2:$F$20000,Arquivo!$B$2:$B$20000,T$6,Arquivo!$C$2:$C$20000,U$6,Arquivo!$D$2:$D$20000,$C124)),0)","v":0},0,{"$f":"IFERROR((SUMIFS(Arquivo!$F$2:$F$20000,Arquivo!$B$2:$B$20000,V$6,Arquivo!$C$2:$C$20000,W$6,Arquivo!$D$2:$D$20000,$C124)),0)","v":0},0,{"$f":"IFERROR((SUMIFS(Arquivo!$F$2:$F$20000,Arquivo!$B$2:$B$20000,X$6,Arquivo!$C$2:$C$20000,Y$6,Arquivo!$D$2:$D$20000,$C124)),0)","v":0},0,{"$f":"IFERROR((SUMIFS(Arquivo!$F$2:$F$20000,Arquivo!$B$2:$B$20000,Z$6,Arquivo!$C$2:$C$20000,AA$6,Arquivo!$D$2:$D$20000,$C124)),0)","v":0},0,{"$f":"IFERROR((SUMIFS(Arquivo!$F$2:$F$20000,Arquivo!$B$2:$B$20000,AB$6,Arquivo!$C$2:$C$20000,AC$6,Arquivo!$D$2:$D$20000,$C124)),0)","v":0},0,0,0,null,null,""]
[null,null,{"$f":"IF('Plano de Contas'!B110=\"\",\"\",'Plano de Contas'!B110)","v":"8.2.2.20"},{"$f":"IF($C125=\"\",\"\",VLOOKUP($C125,'Plano de Contas'!$B$2:$E$200,4,FALSE))","v":"CV"},{"$f":"IF($C125=\"\",\"\",VLOOKUP($C125,'Plano de Contas'!$B$2:$E$200,3,FALSE))","v":"MANUTENCAO MOTO YBR HDE 4759"},{"$f":"IFERROR((SUMIFS(Arquivo!$F$2:$F$20000,Arquivo!$B$2:$B$20000,F$6,Arquivo!$C$2:$C$20000,G$6,Arquivo!$D$2:$D$20000,$C125)),0)","v":0},0,{"$f":"IFERROR((SUMIFS(Arquivo!$F$2:$F$20000,Arquivo!$B$2:$B$20000,H$6,Arquivo!$C$2:$C$20000,I$6,Arquivo!$D$2:$D$20000,$C125)),0)","v":0},0,{"$f":"IFERROR((SUMIFS(Arquivo!$F$2:$F$20000,Arquivo!$B$2:$B$20000,J$6,Arquivo!$C$2:$C$20000,K$6,Arquivo!$D$2:$D$20000,$C125)),0)","v":0},0,{"$f":"IFERROR((SUMIFS(Arquivo!$F$2:$F$20000,Arquivo!$B$2:$B$20000,L$6,Arquivo!$C$2:$C$20000,M$6,Arquivo!$D$2:$D$20000,$C125)),0)","v":0},0,{"$f":"IFERROR((SUMIFS(Arquivo!$F$2:$F$20000,Arquivo!$B$2:$B$20000,N$6,Arquivo!$C$2:$C$20000,O$6,Arquivo!$D$2:$D$20000,$C125)),0)","v":0},0,{"$f":"IFERROR((SUMIFS(Arquivo!$F$2:$F$20000,Arquivo!$B$2:$B$20000,P$6,Arquivo!$C$2:$C$20000,Q$6,Arquivo!$D$2:$D$20000,$C125)),0)","v":0},0,{"$f":"IFERROR((SUMIFS(Arquivo!$F$2:$F$20000,Arquivo!$B$2:$B$20000,R$6,Arquivo!$C$2:$C$20000,S$6,Arquivo!$D$2:$D$20000,$C125)),0)","v":0},0,{"$f":"IFERROR((SUMIFS(Arquivo!$F$2:$F$20000,Arquivo!$B$2:$B$20000,T$6,Arquivo!$C$2:$C$20000,U$6,Arquivo!$D$2:$D$20000,$C125)),0)","v":0},0,{"$f":"IFERROR((SUMIFS(Arquivo!$F$2:$F$20000,Arquivo!$B$2:$B$20000,V$6,Arquivo!$C$2:$C$20000,W$6,Arquivo!$D$2:$D$20000,$C125)),0)","v":0},0,{"$f":"IFERROR((SUMIFS(Arquivo!$F$2:$F$20000,Arquivo!$B$2:$B$20000,X$6,Arquivo!$C$2:$C$20000,Y$6,Arquivo!$D$2:$D$20000,$C125)),0)","v":0},0,{"$f":"IFERROR((SUMIFS(Arquivo!$F$2:$F$20000,Arquivo!$B$2:$B$20000,Z$6,Arquivo!$C$2:$C$20000,AA$6,Arquivo!$D$2:$D$20000,$C125)),0)","v":0},0,{"$f":"IFERROR((SUMIFS(Arquivo!$F$2:$F$20000,Arquivo!$B$2:$B$20000,AB$6,Arquivo!$C$2:$C$20000,AC$6,Arquivo!$D$2:$D$20000,$C125)),0)","v":0},0,0,0,null,null,""]
[null,null,{"$f":"IF('Plano de Contas'!B111=\"\",\"\",'Plano de Contas'!B111)","v":"8.2.2.21"},{"$f":"IF($C126=\"\",\"\",VLOOKUP($C126,'Plano de Contas'!$B$2:$E$200,4,FALSE))","v":"CV"},{"$f":"IF($C126=\"\",\"\",VLOOKUP($C126,'Plano de Contas'!$B$2:$E$200,3,FALSE))","v":"MANUTENCAO MOTO XTZ AZUL HDU-8042"},{"$f":"IFERROR((SUMIFS(Arquivo!$F$2:$F$20000,Arquivo!$B$2:$B$20000,F$6,Arquivo!$C$2:$C$20000,G$6,Arquivo!$D$2:$D$20000,$C126)),0)","v":0},0,{"$f":"IFERROR((SUMIFS(Arquivo!$F$2:$F$20000,Arquivo!$B$2:$B$20000,H$6,Arquivo!$C$2:$C$20000,I$6,Arquivo!$D$2:$D$20000,$C126)),0)","v":0},0,{"$f":"IFERROR((SUMIFS(Arquivo!$F$2:$F$20000,Arquivo!$B$2:$B$20000,J$6,Arquivo!$C$2:$C$20000,K$6,Arquivo!$D$2:$D$20000,$C126)),0)","v":0},0,{"$f":"IFERROR((SUMIFS(Arquivo!$F$2:$F$20000,Arquivo!$B$2:$B$20000,L$6,Arquivo!$C$2:$C$20000,M$6,Arquivo!$D$2:$D$20000,$C126)),0)","v":0},0,{"$f":"IFERROR((SUMIFS(Arquivo!$F$2:$F$20000,Arquivo!$B$2:$B$20000,N$6,Arquivo!$C$2:$C$20000,O$6,Arquivo!$D$2:$D$20000,$C126)),0)","v":0},0,{"$f":"IFERROR((SUMIFS(Arquivo!$F$2:$F$20000,Arquivo!$B$2:$B$20000,P$6,Arquivo!$C$2:$C$20000,Q$6,Arquivo!$D$2:$D$20000,$C126)),0)","v":0},0,{"$f":"IFERROR((SUMIFS(Arquivo!$F$2:$F$20000,Arquivo!$B$2:$B$20000,R$6,Arquivo!$C$2:$C$20000,S$6,Arquivo!$D$2:$D$20000,$C126)),0)","v":0},0,{"$f":"IFERROR((SUMIFS(Arquivo!$F$2:$F$20000,Arquivo!$B$2:$B$20000,T$6,Arquivo!$C$2:$C$20000,U$6,Arquivo!$D$2:$D$20000,$C126)),0)","v":0},0,{"$f":"IFERROR((SUMIFS(Arquivo!$F$2:$F$20000,Arquivo!$B$2:$B$20000,V$6,Arquivo!$C$2:$C$20000,W$6,Arquivo!$D$2:$D$20000,$C126)),0)","v":0},0,{"$f":"IFERROR((SUMIFS(Arquivo!$F$2:$F$20000,Arquivo!$B$2:$B$20000,X$6,Arquivo!$C$2:$C$20000,Y$6,Arquivo!$D$2:$D$20000,$C126)),0)","v":0},0,{"$f":"IFERROR((SUMIFS(Arquivo!$F$2:$F$20000,Arquivo!$B$2:$B$20000,Z$6,Arquivo!$C$2:$C$20000,AA$6,Arquivo!$D$2:$D$20000,$C126)),0)","v":0},0,{"$f":"IFERROR((SUMIFS(Arquivo!$F$2:$F$20000,Arquivo!$B$2:$B$20000,AB$6,Arquivo!$C$2:$C$20000,AC$6,Arquivo!$D$2:$D$20000,$C126)),0)","v":0},0,0,0,null,null,""]
[null,null,{"$f":"IF('Plano de Contas'!B112=\"\",\"\",'Plano de Contas'!B112)","v":"8.2.2.22"},{"$f":"IF($C127=\"\",\"\",VLOOKUP($C127,'Plano de Contas'!$B$2:$E$200,4,FALSE))","v":"CV"},{"$f":"IF($C127=\"\",\"\",VLOOKUP($C127,'Plano de Contas'!$B$2:$E$200,3,FALSE))","v":"MANUTENCAO MOTO YBR 125 K HDU 9298"},{"$f":"IFERROR((SUMIFS(Arquivo!$F$2:$F$20000,Arquivo!$B$2:$B$20000,F$6,Arquivo!$C$2:$C$20000,G$6,Arquivo!$D$2:$D$20000,$C127)),0)","v":0},0,{"$f":"IFERROR((SUMIFS(Arquivo!$F$2:$F$20000,Arquivo!$B$2:$B$20000,H$6,Arquivo!$C$2:$C$20000,I$6,Arquivo!$D$2:$D$20000,$C127)),0)","v":0},0,{"$f":"IFERROR((SUMIFS(Arquivo!$F$2:$F$20000,Arquivo!$B$2:$B$20000,J$6,Arquivo!$C$2:$C$20000,K$6,Arquivo!$D$2:$D$20000,$C127)),0)","v":0},0,{"$f":"IFERROR((SUMIFS(Arquivo!$F$2:$F$20000,Arquivo!$B$2:$B$20000,L$6,Arquivo!$C$2:$C$20000,M$6,Arquivo!$D$2:$D$20000,$C127)),0)","v":0},0,{"$f":"IFERROR((SUMIFS(Arquivo!$F$2:$F$20000,Arquivo!$B$2:$B$20000,N$6,Arquivo!$C$2:$C$20000,O$6,Arquivo!$D$2:$D$20000,$C127)),0)","v":0},0,{"$f":"IFERROR((SUMIFS(Arquivo!$F$2:$F$20000,Arquivo!$B$2:$B$20000,P$6,Arquivo!$C$2:$C$20000,Q$6,Arquivo!$D$2:$D$20000,$C127)),0)","v":0},0,{"$f":"IFERROR((SUMIFS(Arquivo!$F$2:$F$20000,Arquivo!$B$2:$B$20000,R$6,Arquivo!$C$2:$C$20000,S$6,Arquivo!$D$2:$D$20000,$C127)),0)","v":0},0,{"$f":"IFERROR((SUMIFS(Arquivo!$F$2:$F$20000,Arquivo!$B$2:$B$20000,T$6,Arquivo!$C$2:$C$20000,U$6,Arquivo!$D$2:$D$20000,$C127)),0)","v":0},0,{"$f":"IFERROR((SUMIFS(Arquivo!$F$2:$F$20000,Arquivo!$B$2:$B$20000,V$6,Arquivo!$C$2:$C$20000,W$6,Arquivo!$D$2:$D$20000,$C127)),0)","v":0},0,{"$f":"IFERROR((SUMIFS(Arquivo!$F$2:$F$20000,Arquivo!$B$2:$B$20000,X$6,Arquivo!$C$2:$C$20000,Y$6,Arquivo!$D$2:$D$20000,$C127)),0)","v":0},0,{"$f":"IFERROR((SUMIFS(Arquivo!$F$2:$F$20000,Arquivo!$B$2:$B$20000,Z$6,Arquivo!$C$2:$C$20000,AA$6,Arquivo!$D$2:$D$20000,$C127)),0)","v":0},0,{"$f":"IFERROR((SUMIFS(Arquivo!$F$2:$F$20000,Arquivo!$B$2:$B$20000,AB$6,Arquivo!$C$2:$C$20000,AC$6,Arquivo!$D$2:$D$20000,$C127)),0)","v":0},0,0,0,null,null,""]
[null,null,{"$f":"IF('Plano de Contas'!B113=\"\",\"\",'Plano de Contas'!B113)","v":"8.2.2.23"},{"$f":"IF($C128=\"\",\"\",VLOOKUP($C128,'Plano de Contas'!$B$2:$E$200,4,FALSE))","v":"CV"},{"$f":"IF($C128=\"\",\"\",VLOOKUP($C128,'Plano de Contas'!$B$2:$E$200,3,FALSE))","v":"MANUTENCAO MOTO XTZ PRETA PLACA HKG-2418"},{"$f":"IFERROR((SUMIFS(Arquivo!$F$2:$F$20000,Arquivo!$B$2:$B$20000,F$6,Arquivo!$C$2:$C$20000,G$6,Arquivo!$D$2:$D$20000,$C128)),0)","v":0},0,{"$f":"IFERROR((SUMIFS(Arquivo!$F$2:$F$20000,Arquivo!$B$2:$B$20000,H$6,Arquivo!$C$2:$C$20000,I$6,Arquivo!$D$2:$D$20000,$C128)),0)","v":0},0,{"$f":"IFERROR((SUMIFS(Arquivo!$F$2:$F$20000,Arquivo!$B$2:$B$20000,J$6,Arquivo!$C$2:$C$20000,K$6,Arquivo!$D$2:$D$20000,$C128)),0)","v":0},0,{"$f":"IFERROR((SUMIFS(Arquivo!$F$2:$F$20000,Arquivo!$B$2:$B$20000,L$6,Arquivo!$C$2:$C$20000,M$6,Arquivo!$D$2:$D$20000,$C128)),0)","v":0},0,{"$f":"IFERROR((SUMIFS(Arquivo!$F$2:$F$20000,Arquivo!$B$2:$B$20000,N$6,Arquivo!$C$2:$C$20000,O$6,Arquivo!$D$2:$D$20000,$C128)),0)","v":0},0,{"$f":"IFERROR((SUMIFS(Arquivo!$F$2:$F$20000,Arquivo!$B$2:$B$20000,P$6,Arquivo!$C$2:$C$20000,Q$6,Arquivo!$D$2:$D$20000,$C128)),0)","v":0},0,{"$f":"IFERROR((SUMIFS(Arquivo!$F$2:$F$20000,Arquivo!$B$2:$B$20000,R$6,Arquivo!$C$2:$C$20000,S$6,Arquivo!$D$2:$D$20000,$C128)),0)","v":0},0,{"$f":"IFERROR((SUMIFS(Arquivo!$F$2:$F$20000,Arquivo!$B$2:$B$20000,T$6,Arquivo!$C$2:$C$20000,U$6,Arquivo!$D$2:$D$20000,$C128)),0)","v":0},0,{"$f":"IFERROR((SUMIFS(Arquivo!$F$2:$F$20000,Arquivo!$B$2:$B$20000,V$6,Arquivo!$C$2:$C$20000,W$6,Arquivo!$D$2:$D$20000,$C128)),0)","v":0},0,{"$f":"IFERROR((SUMIFS(Arquivo!$F$2:$F$20000,Arquivo!$B$2:$B$20000,X$6,Arquivo!$C$2:$C$20000,Y$6,Arquivo!$D$2:$D$20000,$C128)),0)","v":0},0,{"$f":"IFERROR((SUMIFS(Arquivo!$F$2:$F$20000,Arquivo!$B$2:$B$20000,Z$6,Arquivo!$C$2:$C$20000,AA$6,Arquivo!$D$2:$D$20000,$C128)),0)","v":0},0,{"$f":"IFERROR((SUMIFS(Arquivo!$F$2:$F$20000,Arquivo!$B$2:$B$20000,AB$6,Arquivo!$C$2:$C$20000,AC$6,Arquivo!$D$2:$D$20000,$C128)),0)","v":0},0,0,0,null,null,""]
[null,null,{"$f":"IF('Plano de Contas'!B114=\"\",\"\",'Plano de Contas'!B114)","v":""},{"$f":"IF($C129=\"\",\"\",VLOOKUP($C129,'Plano de Contas'!$B$2:$E$200,4,FALSE))","v":""},{"$f":"IF($C129=\"\",\"\",VLOOKUP($C129,'Plano de Contas'!$B$2:$E$200,3,FALSE))","v":""},{"$f":"IFERROR((SUMIFS(Arquivo!$F$2:$F$20000,Arquivo!$B$2:$B$20000,F$6,Arquivo!$C$2:$C$20000,G$6,Arquivo!$D$2:$D$20000,$C129)),0)","v":0},0,{"$f":"IFERROR((SUMIFS(Arquivo!$F$2:$F$20000,Arquivo!$B$2:$B$20000,H$6,Arquivo!$C$2:$C$20000,I$6,Arquivo!$D$2:$D$20000,$C129)),0)","v":0},0,{"$f":"IFERROR((SUMIFS(Arquivo!$F$2:$F$20000,Arquivo!$B$2:$B$20000,J$6,Arquivo!$C$2:$C$20000,K$6,Arquivo!$D$2:$D$20000,$C129)),0)","v":0},0,{"$f":"IFERROR((SUMIFS(Arquivo!$F$2:$F$20000,Arquivo!$B$2:$B$20000,L$6,Arquivo!$C$2:$C$20000,M$6,Arquivo!$D$2:$D$20000,$C129)),0)","v":0},0,{"$f":"IFERROR((SUMIFS(Arquivo!$F$2:$F$20000,Arquivo!$B$2:$B$20000,N$6,Arquivo!$C$2:$C$20000,O$6,Arquivo!$D$2:$D$20000,$C129)),0)","v":0},0,{"$f":"IFERROR((SUMIFS(Arquivo!$F$2:$F$20000,Arquivo!$B$2:$B$20000,P$6,Arquivo!$C$2:$C$20000,Q$6,Arquivo!$D$2:$D$20000,$C129)),0)","v":0},0,{"$f":"IFERROR((SUMIFS(Arquivo!$F$2:$F$20000,Arquivo!$B$2:$B$20000,R$6,Arquivo!$C$2:$C$20000,S$6,Arquivo!$D$2:$D$20000,$C129)),0)","v":0},0,{"$f":"IFERROR((SUMIFS(Arquivo!$F$2:$F$20000,Arquivo!$B$2:$B$20000,T$6,Arquivo!$C$2:$C$20000,U$6,Arquivo!$D$2:$D$20000,$C129)),0)","v":0},0,{"$f":"IFERROR((SUMIFS(Arquivo!$F$2:$F$20000,Arquivo!$B$2:$B$20000,V$6,Arquivo!$C$2:$C$20000,W$6,Arquivo!$D$2:$D$20000,$C129)),0)","v":0},0,{"$f":"IFERROR((SUMIFS(Arquivo!$F$2:$F$20000,Arquivo!$B$2:$B$20000,X$6,Arquivo!$C$2:$C$20000,Y$6,Arquivo!$D$2:$D$20000,$C129)),0)","v":0},0,{"$f":"IFERROR((SUMIFS(Arquivo!$F$2:$F$20000,Arquivo!$B$2:$B$20000,Z$6,Arquivo!$C$2:$C$20000,AA$6,Arquivo!$D$2:$D$20000,$C129)),0)","v":0},0,{"$f":"IFERROR((SUMIFS(Arquivo!$F$2:$F$20000,Arquivo!$B$2:$B$20000,AB$6,Arquivo!$C$2:$C$20000,AC$6,Arquivo!$D$2:$D$20000,$C129)),0)","v":0},0,0,0,null,null,""]
[null,null,{"$f":"IF('Plano de Contas'!B115=\"\",\"\",'Plano de Contas'!B115)","v":""},{"$f":"IF($C130=\"\",\"\",VLOOKUP($C130,'Plano de Contas'!$B$2:$E$200,4,FALSE))","v":""},{"$f":"IF($C130=\"\",\"\",VLOOKUP($C130,'Plano de Contas'!$B$2:$E$200,3,FALSE))","v":""},{"$f":"IFERROR((SUMIFS(Arquivo!$F$2:$F$20000,Arquivo!$B$2:$B$20000,F$6,Arquivo!$C$2:$C$20000,G$6,Arquivo!$D$2:$D$20000,$C130)),0)","v":0},0,{"$f":"IFERROR((SUMIFS(Arquivo!$F$2:$F$20000,Arquivo!$B$2:$B$20000,H$6,Arquivo!$C$2:$C$20000,I$6,Arquivo!$D$2:$D$20000,$C130)),0)","v":0},0,{"$f":"IFERROR((SUMIFS(Arquivo!$F$2:$F$20000,Arquivo!$B$2:$B$20000,J$6,Arquivo!$C$2:$C$20000,K$6,Arquivo!$D$2:$D$20000,$C130)),0)","v":0},0,{"$f":"IFERROR((SUMIFS(Arquivo!$F$2:$F$20000,Arquivo!$B$2:$B$20000,L$6,Arquivo!$C$2:$C$20000,M$6,Arquivo!$D$2:$D$20000,$C130)),0)","v":0},0,{"$f":"IFERROR((SUMIFS(Arquivo!$F$2:$F$20000,Arquivo!$B$2:$B$20000,N$6,Arquivo!$C$2:$C$20000,O$6,Arquivo!$D$2:$D$20000,$C130)),0)","v":0},0,{"$f":"IFERROR((SUMIFS(Arquivo!$F$2:$F$20000,Arquivo!$B$2:$B$20000,P$6,Arquivo!$C$2:$C$20000,Q$6,Arquivo!$D$2:$D$20000,$C130)),0)","v":0},0,{"$f":"IFERROR((SUMIFS(Arquivo!$F$2:$F$20000,Arquivo!$B$2:$B$20000,R$6,Arquivo!$C$2:$C$20000,S$6,Arquivo!$D$2:$D$20000,$C130)),0)","v":0},0,{"$f":"IFERROR((SUMIFS(Arquivo!$F$2:$F$20000,Arquivo!$B$2:$B$20000,T$6,Arquivo!$C$2:$C$20000,U$6,Arquivo!$D$2:$D$20000,$C130)),0)","v":0},0,{"$f":"IFERROR((SUMIFS(Arquivo!$F$2:$F$20000,Arquivo!$B$2:$B$20000,V$6,Arquivo!$C$2:$C$20000,W$6,Arquivo!$D$2:$D$20000,$C130)),0)","v":0},0,{"$f":"IFERROR((SUMIFS(Arquivo!$F$2:$F$20000,Arquivo!$B$2:$B$20000,X$6,Arquivo!$C$2:$C$20000,Y$6,Arquivo!$D$2:$D$20000,$C130)),0)","v":0},0,{"$f":"IFERROR((SUMIFS(Arquivo!$F$2:$F$20000,Arquivo!$B$2:$B$20000,Z$6,Arquivo!$C$2:$C$20000,AA$6,Arquivo!$D$2:$D$20000,$C130)),0)","v":0},0,{"$f":"IFERROR((SUMIFS(Arquivo!$F$2:$F$20000,Arquivo!$B$2:$B$20000,AB$6,Arquivo!$C$2:$C$20000,AC$6,Arquivo!$D$2:$D$20000,$C130)),0)","v":0},0,0,0,null,null,""]
[null,null,{"$f":"IF('Plano de Contas'!B116=\"\",\"\",'Plano de Contas'!B116)","v":""},{"$f":"IF($C131=\"\",\"\",VLOOKUP($C131,'Plano de Contas'!$B$2:$E$200,4,FALSE))","v":""},{"$f":"IF($C131=\"\",\"\",VLOOKUP($C131,'Plano de Contas'!$B$2:$E$200,3,FALSE))","v":""},{"$f":"IFERROR((SUMIFS(Arquivo!$F$2:$F$20000,Arquivo!$B$2:$B$20000,F$6,Arquivo!$C$2:$C$20000,G$6,Arquivo!$D$2:$D$20000,$C131)),0)","v":0},0,{"$f":"IFERROR((SUMIFS(Arquivo!$F$2:$F$20000,Arquivo!$B$2:$B$20000,H$6,Arquivo!$C$2:$C$20000,I$6,Arquivo!$D$2:$D$20000,$C131)),0)","v":0},0,{"$f":"IFERROR((SUMIFS(Arquivo!$F$2:$F$20000,Arquivo!$B$2:$B$20000,J$6,Arquivo!$C$2:$C$20000,K$6,Arquivo!$D$2:$D$20000,$C131)),0)","v":0},0,{"$f":"IFERROR((SUMIFS(Arquivo!$F$2:$F$20000,Arquivo!$B$2:$B$20000,L$6,Arquivo!$C$2:$C$20000,M$6,Arquivo!$D$2:$D$20000,$C131)),0)","v":0},0,{"$f":"IFERROR((SUMIFS(Arquivo!$F$2:$F$20000,Arquivo!$B$2:$B$20000,N$6,Arquivo!$C$2:$C$20000,O$6,Arquivo!$D$2:$D$20000,$C131)),0)","v":0},0,{"$f":"IFERROR((SUMIFS(Arquivo!$F$2:$F$20000,Arquivo!$B$2:$B$20000,P$6,Arquivo!$C$2:$C$20000,Q$6,Arquivo!$D$2:$D$20000,$C131)),0)","v":0},0,{"$f":"IFERROR((SUMIFS(Arquivo!$F$2:$F$20000,Arquivo!$B$2:$B$20000,R$6,Arquivo!$C$2:$C$20000,S$6,Arquivo!$D$2:$D$20000,$C131)),0)","v":0},0,{"$f":"IFERROR((SUMIFS(Arquivo!$F$2:$F$20000,Arquivo!$B$2:$B$20000,T$6,Arquivo!$C$2:$C$20000,U$6,Arquivo!$D$2:$D$20000,$C131)),0)","v":0},0,{"$f":"IFERROR((SUMIFS(Arquivo!$F$2:$F$20000,Arquivo!$B$2:$B$20000,V$6,Arquivo!$C$2:$C$20000,W$6,Arquivo!$D$2:$D$20000,$C131)),0)","v":0},0,{"$f":"IFERROR((SUMIFS(Arquivo!$F$2:$F$20000,Arquivo!$B$2:$B$20000,X$6,Arquivo!$C$2:$C$20000,Y$6,Arquivo!$D$2:$D$20000,$C131)),0)","v":0},0,{"$f":"IFERROR((SUMIFS(Arquivo!$F$2:$F$20000,Arquivo!$B$2:$B$20000,Z$6,Arquivo!$C$2:$C$20000,AA$6,Arquivo!$D$2:$D$20000,$C131)),0)","v":0},0,{"$f":"IFERROR((SUMIFS(Arquivo!$F$2:$F$20000,Arquivo!$B$2:$B$20000,AB$6,Arquivo!$C$2:$C$20000,AC$6,Arquivo!$D$2:$D$20000,$C131)),0)","v":0},0,0,0,null,null,""]
[null,null,{"$f":"IF('Plano de Contas'!B117=\"\",\"\",'Plano de Contas'!B117)","v":""},{"$f":"IF($C132=\"\",\"\",VLOOKUP($C132,'Plano de Contas'!$B$2:$E$200,4,FALSE))","v":""},{"$f":"IF($C132=\"\",\"\",VLOOKUP($C132,'Plano de Contas'!$B$2:$E$200,3,FALSE))","v":""},{"$f":"IFERROR((SUMIFS(Arquivo!$F$2:$F$20000,Arquivo!$B$2:$B$20000,F$6,Arquivo!$C$2:$C$20000,G$6,Arquivo!$D$2:$D$20000,$C132)),0)","v":0},0,{"$f":"IFERROR((SUMIFS(Arquivo!$F$2:$F$20000,Arquivo!$B$2:$B$20000,H$6,Arquivo!$C$2:$C$20000,I$6,Arquivo!$D$2:$D$20000,$C132)),0)","v":0},0,{"$f":"IFERROR((SUMIFS(Arquivo!$F$2:$F$20000,Arquivo!$B$2:$B$20000,J$6,Arquivo!$C$2:$C$20000,K$6,Arquivo!$D$2:$D$20000,$C132)),0)","v":0},0,{"$f":"IFERROR((SUMIFS(Arquivo!$F$2:$F$20000,Arquivo!$B$2:$B$20000,L$6,Arquivo!$C$2:$C$20000,M$6,Arquivo!$D$2:$D$20000,$C132)),0)","v":0},0,{"$f":"IFERROR((SUMIFS(Arquivo!$F$2:$F$20000,Arquivo!$B$2:$B$20000,N$6,Arquivo!$C$2:$C$20000,O$6,Arquivo!$D$2:$D$20000,$C132)),0)","v":0},0,{"$f":"IFERROR((SUMIFS(Arquivo!$F$2:$F$20000,Arquivo!$B$2:$B$20000,P$6,Arquivo!$C$2:$C$20000,Q$6,Arquivo!$D$2:$D$20000,$C132)),0)","v":0},0,{"$f":"IFERROR((SUMIFS(Arquivo!$F$2:$F$20000,Arquivo!$B$2:$B$20000,R$6,Arquivo!$C$2:$C$20000,S$6,Arquivo!$D$2:$D$20000,$C132)),0)","v":0},0,{"$f":"IFERROR((SUMIFS(Arquivo!$F$2:$F$20000,Arquivo!$B$2:$B$20000,T$6,Arquivo!$C$2:$C$20000,U$6,Arquivo!$D$2:$D$20000,$C132)),0)","v":0},0,{"$f":"IFERROR((SUMIFS(Arquivo!$F$2:$F$20000,Arquivo!$B$2:$B$20000,V$6,Arquivo!$C$2:$C$20000,W$6,Arquivo!$D$2:$D$20000,$C132)),0)","v":0},0,{"$f":"IFERROR((SUMIFS(Arquivo!$F$2:$F$20000,Arquivo!$B$2:$B$20000,X$6,Arquivo!$C$2:$C$20000,Y$6,Arquivo!$D$2:$D$20000,$C132)),0)","v":0},0,{"$f":"IFERROR((SUMIFS(Arquivo!$F$2:$F$20000,Arquivo!$B$2:$B$20000,Z$6,Arquivo!$C$2:$C$20000,AA$6,Arquivo!$D$2:$D$20000,$C132)),0)","v":0},0,{"$f":"IFERROR((SUMIFS(Arquivo!$F$2:$F$20000,Arquivo!$B$2:$B$20000,AB$6,Arquivo!$C$2:$C$20000,AC$6,Arquivo!$D$2:$D$20000,$C132)),0)","v":0},0,0,0,null,null,""]
[null,null,{"$f":"IF('Plano de Contas'!B118=\"\",\"\",'Plano de Contas'!B118)","v":""},{"$f":"IF($C133=\"\",\"\",VLOOKUP($C133,'Plano de Contas'!$B$2:$E$200,4,FALSE))","v":""},{"$f":"IF($C133=\"\",\"\",VLOOKUP($C133,'Plano de Contas'!$B$2:$E$200,3,FALSE))","v":""},{"$f":"IFERROR((SUMIFS(Arquivo!$F$2:$F$20000,Arquivo!$B$2:$B$20000,F$6,Arquivo!$C$2:$C$20000,G$6,Arquivo!$D$2:$D$20000,$C133)),0)","v":0},0,{"$f":"IFERROR((SUMIFS(Arquivo!$F$2:$F$20000,Arquivo!$B$2:$B$20000,H$6,Arquivo!$C$2:$C$20000,I$6,Arquivo!$D$2:$D$20000,$C133)),0)","v":0},0,{"$f":"IFERROR((SUMIFS(Arquivo!$F$2:$F$20000,Arquivo!$B$2:$B$20000,J$6,Arquivo!$C$2:$C$20000,K$6,Arquivo!$D$2:$D$20000,$C133)),0)","v":0},0,{"$f":"IFERROR((SUMIFS(Arquivo!$F$2:$F$20000,Arquivo!$B$2:$B$20000,L$6,Arquivo!$C$2:$C$20000,M$6,Arquivo!$D$2:$D$20000,$C133)),0)","v":0},0,{"$f":"IFERROR((SUMIFS(Arquivo!$F$2:$F$20000,Arquivo!$B$2:$B$20000,N$6,Arquivo!$C$2:$C$20000,O$6,Arquivo!$D$2:$D$20000,$C133)),0)","v":0},0,{"$f":"IFERROR((SUMIFS(Arquivo!$F$2:$F$20000,Arquivo!$B$2:$B$20000,P$6,Arquivo!$C$2:$C$20000,Q$6,Arquivo!$D$2:$D$20000,$C133)),0)","v":0},0,{"$f":"IFERROR((SUMIFS(Arquivo!$F$2:$F$20000,Arquivo!$B$2:$B$20000,R$6,Arquivo!$C$2:$C$20000,S$6,Arquivo!$D$2:$D$20000,$C133)),0)","v":0},0,{"$f":"IFERROR((SUMIFS(Arquivo!$F$2:$F$20000,Arquivo!$B$2:$B$20000,T$6,Arquivo!$C$2:$C$20000,U$6,Arquivo!$D$2:$D$20000,$C133)),0)","v":0},0,{"$f":"IFERROR((SUMIFS(Arquivo!$F$2:$F$20000,Arquivo!$B$2:$B$20000,V$6,Arquivo!$C$2:$C$20000,W$6,Arquivo!$D$2:$D$20000,$C133)),0)","v":0},0,{"$f":"IFERROR((SUMIFS(Arquivo!$F$2:$F$20000,Arquivo!$B$2:$B$20000,X$6,Arquivo!$C$2:$C$20000,Y$6,Arquivo!$D$2:$D$20000,$C133)),0)","v":0},0,{"$f":"IFERROR((SUMIFS(Arquivo!$F$2:$F$20000,Arquivo!$B$2:$B$20000,Z$6,Arquivo!$C$2:$C$20000,AA$6,Arquivo!$D$2:$D$20000,$C133)),0)","v":0},0,{"$f":"IFERROR((SUMIFS(Arquivo!$F$2:$F$20000,Arquivo!$B$2:$B$20000,AB$6,Arquivo!$C$2:$C$20000,AC$6,Arquivo!$D$2:$D$20000,$C133)),0)","v":0},0,0,0,null,null,""]
[null,null,{"$f":"IF('Plano de Contas'!B119=\"\",\"\",'Plano de Contas'!B119)","v":""},{"$f":"IF($C134=\"\",\"\",VLOOKUP($C134,'Plano de Contas'!$B$2:$E$200,4,FALSE))","v":""},{"$f":"IF($C134=\"\",\"\",VLOOKUP($C134,'Plano de Contas'!$B$2:$E$200,3,FALSE))","v":""},{"$f":"IFERROR((SUMIFS(Arquivo!$F$2:$F$20000,Arquivo!$B$2:$B$20000,F$6,Arquivo!$C$2:$C$20000,G$6,Arquivo!$D$2:$D$20000,$C134)),0)","v":0},0,{"$f":"IFERROR((SUMIFS(Arquivo!$F$2:$F$20000,Arquivo!$B$2:$B$20000,H$6,Arquivo!$C$2:$C$20000,I$6,Arquivo!$D$2:$D$20000,$C134)),0)","v":0},0,{"$f":"IFERROR((SUMIFS(Arquivo!$F$2:$F$20000,Arquivo!$B$2:$B$20000,J$6,Arquivo!$C$2:$C$20000,K$6,Arquivo!$D$2:$D$20000,$C134)),0)","v":0},0,{"$f":"IFERROR((SUMIFS(Arquivo!$F$2:$F$20000,Arquivo!$B$2:$B$20000,L$6,Arquivo!$C$2:$C$20000,M$6,Arquivo!$D$2:$D$20000,$C134)),0)","v":0},0,{"$f":"IFERROR((SUMIFS(Arquivo!$F$2:$F$20000,Arquivo!$B$2:$B$20000,N$6,Arquivo!$C$2:$C$20000,O$6,Arquivo!$D$2:$D$20000,$C134)),0)","v":0},0,{"$f":"IFERROR((SUMIFS(Arquivo!$F$2:$F$20000,Arquivo!$B$2:$B$20000,P$6,Arquivo!$C$2:$C$20000,Q$6,Arquivo!$D$2:$D$20000,$C134)),0)","v":0},0,{"$f":"IFERROR((SUMIFS(Arquivo!$F$2:$F$20000,Arquivo!$B$2:$B$20000,R$6,Arquivo!$C$2:$C$20000,S$6,Arquivo!$D$2:$D$20000,$C134)),0)","v":0},0,{"$f":"IFERROR((SUMIFS(Arquivo!$F$2:$F$20000,Arquivo!$B$2:$B$20000,T$6,Arquivo!$C$2:$C$20000,U$6,Arquivo!$D$2:$D$20000,$C134)),0)","v":0},0,{"$f":"IFERROR((SUMIFS(Arquivo!$F$2:$F$20000,Arquivo!$B$2:$B$20000,V$6,Arquivo!$C$2:$C$20000,W$6,Arquivo!$D$2:$D$20000,$C134)),0)","v":0},0,{"$f":"IFERROR((SUMIFS(Arquivo!$F$2:$F$20000,Arquivo!$B$2:$B$20000,X$6,Arquivo!$C$2:$C$20000,Y$6,Arquivo!$D$2:$D$20000,$C134)),0)","v":0},0,{"$f":"IFERROR((SUMIFS(Arquivo!$F$2:$F$20000,Arquivo!$B$2:$B$20000,Z$6,Arquivo!$C$2:$C$20000,AA$6,Arquivo!$D$2:$D$20000,$C134)),0)","v":0},0,{"$f":"IFERROR((SUMIFS(Arquivo!$F$2:$F$20000,Arquivo!$B$2:$B$20000,AB$6,Arquivo!$C$2:$C$20000,AC$6,Arquivo!$D$2:$D$20000,$C134)),0)","v":0},0,0,0,null,null,""]
[null,null,null,null,null,null,null,null,null,null,null,null,null,null,null,null,null,null,null,null,null,null,null,null,null,null,null,null,null,null,null,null,null,{"$f":"IF(AH106=\"\",\"\",\"X\")","v":"X"}]
[null,null,null,"DESPESAS COM MARKETING",null,{"$f":"SUBTOTAL(9,F137:F147)","v":0},{"$f":"IFERROR((F136/IF($X$3=\"CT\",F$10,F$136)),0)","v":0},{"$f":"SUBTOTAL(9,H137:H147)","v":0},{"$f":"IFERROR((H136/IF($X$3=\"CT\",H$10,H$136)),0)","v":0},{"$f":"SUBTOTAL(9,J137:J147)","v":0},{"$f":"IFERROR((J136/IF($X$3=\"CT\",J$10,J$136)),0)","v":0},{"$f":"SUBTOTAL(9,L137:L147)","v":0},{"$f":"IFERROR((L136/IF($X$3=\"CT\",L$10,L$136)),0)","v":0},{"$f":"SUBTOTAL(9,N137:N147)","v":0},{"$f":"IFERROR((N136/IF($X$3=\"CT\",N$10,N$136)),0)","v":0},{"$f":"SUBTOTAL(9,P137:P147)","v":0},{"$f":"IFERROR((P136/IF($X$3=\"CT\",P$10,P$136)),0)","v":0},{"$f":"SUBTOTAL(9,R137:R147)","v":2501.2399999999998},{"$f":"IFERROR((R136/IF($X$3=\"CT\",R$10,R$136)),0)","v":4.1115353664549483E-3},{"$f":"SUBTOTAL(9,T137:T147)","v":0},{"$f":"IFERROR((T136/IF($X$3=\"CT\",T$10,T$136)),0)","v":0},{"$f":"SUBTOTAL(9,V137:V147)","v":0},{"$f":"IFERROR((V136/IF($X$3=\"CT\",V$10,V$136)),0)","v":0},{"$f":"SUBTOTAL(9,X137:X147)","v":0},{"$f":"IFERROR((X136/IF($X$3=\"CT\",X$10,X$136)),0)","v":0},{"$f":"SUBTOTAL(9,Z137:Z147)","v":0},{"$f":"IFERROR((Z136/IF($X$3=\"CT\",Z$10,Z$136)),0)","v":0},{"$f":"SUBTOTAL(9,AB137:AB147)","v":0},{"$f":"IFERROR((AB136/IF($X$3=\"CT\",AB$10,AB$136)),0)","v":0},{"$f":"SUBTOTAL(9,AD137:AD147)","v":2501.2399999999998},{"$f":"IFERROR((AD136/IF($X$3=\"CT\",AD$10,AD$136)),0)","v":3.9017133382863648E-4},null,null,{"$f":"IF(COUNTIF(AH137:AH146,\"X\")>0,\"X\",\"\")","v":"X"}]
[null,null,{"$f":"IF('Plano de Contas'!B121=\"\",\"\",'Plano de Contas'!B121)","v":"8.2.3.1"},{"$f":"IF($C137=\"\",\"\",VLOOKUP($C137,'Plano de Contas'!$B$2:$E$200,4,FALSE))","v":"CV"},{"$f":"IF($C137=\"\",\"\",VLOOKUP($C137,'Plano de Contas'!$B$2:$E$200,3,FALSE))","v":"PROPAGANDA"},{"$f":"IFERROR((SUMIFS(Arquivo!$F$2:$F$20000,Arquivo!$B$2:$B$20000,F$6,Arquivo!$C$2:$C$20000,G$6,Arquivo!$D$2:$D$20000,$C137)),0)","v":0},0,{"$f":"IFERROR((SUMIFS(Arquivo!$F$2:$F$20000,Arquivo!$B$2:$B$20000,H$6,Arquivo!$C$2:$C$20000,I$6,Arquivo!$D$2:$D$20000,$C137)),0)","v":0},0,{"$f":"IFERROR((SUMIFS(Arquivo!$F$2:$F$20000,Arquivo!$B$2:$B$20000,J$6,Arquivo!$C$2:$C$20000,K$6,Arquivo!$D$2:$D$20000,$C137)),0)","v":0},0,{"$f":"IFERROR((SUMIFS(Arquivo!$F$2:$F$20000,Arquivo!$B$2:$B$20000,L$6,Arquivo!$C$2:$C$20000,M$6,Arquivo!$D$2:$D$20000,$C137)),0)","v":0},0,{"$f":"IFERROR((SUMIFS(Arquivo!$F$2:$F$20000,Arquivo!$B$2:$B$20000,N$6,Arquivo!$C$2:$C$20000,O$6,Arquivo!$D$2:$D$20000,$C137)),0)","v":0},0,{"$f":"IFERROR((SUMIFS(Arquivo!$F$2:$F$20000,Arquivo!$B$2:$B$20000,P$6,Arquivo!$C$2:$C$20000,Q$6,Arquivo!$D$2:$D$20000,$C137)),0)","v":0},0,{"$f":"IFERROR((SUMIFS(Arquivo!$F$2:$F$20000,Arquivo!$B$2:$B$20000,R$6,Arquivo!$C$2:$C$20000,S$6,Arquivo!$D$2:$D$20000,$C137)),0)","v":0},0,{"$f":"IFERROR((SUMIFS(Arquivo!$F$2:$F$20000,Arquivo!$B$2:$B$20000,T$6,Arquivo!$C$2:$C$20000,U$6,Arquivo!$D$2:$D$20000,$C137)),0)","v":0},0,{"$f":"IFERROR((SUMIFS(Arquivo!$F$2:$F$20000,Arquivo!$B$2:$B$20000,V$6,Arquivo!$C$2:$C$20000,W$6,Arquivo!$D$2:$D$20000,$C137)),0)","v":0},0,{"$f":"IFERROR((SUMIFS(Arquivo!$F$2:$F$20000,Arquivo!$B$2:$B$20000,X$6,Arquivo!$C$2:$C$20000,Y$6,Arquivo!$D$2:$D$20000,$C137)),0)","v":0},0,{"$f":"IFERROR((SUMIFS(Arquivo!$F$2:$F$20000,Arquivo!$B$2:$B$20000,Z$6,Arquivo!$C$2:$C$20000,AA$6,Arquivo!$D$2:$D$20000,$C137)),0)","v":0},0,{"$f":"IFERROR((SUMIFS(Arquivo!$F$2:$F$20000,Arquivo!$B$2:$B$20000,AB$6,Arquivo!$C$2:$C$20000,AC$6,Arquivo!$D$2:$D$20000,$C137)),0)","v":0},0,{"$f":"F137+H137+J137+L137+N137+P137+R137+T137+V137+X137+Z137+AB137","v":0},0,null,null,{"$f":"IF($AD137=0,\"\",IF($X$3=\"CT\",\"X\",IF($X$3=$D137,\"X\",\"\")))","v":""}]
[null,null,{"$f":"IF('Plano de Contas'!B122=\"\",\"\",'Plano de Contas'!B122)","v":"8.2.3.2"},{"$f":"IF($C138=\"\",\"\",VLOOKUP($C138,'Plano de Contas'!$B$2:$E$200,4,FALSE))","v":"CV"},{"$f":"IF($C138=\"\",\"\",VLOOKUP($C138,'Plano de Contas'!$B$2:$E$200,3,FALSE))","v":"PATROCINIOS"},{"$f":"IFERROR((SUMIFS(Arquivo!$F$2:$F$20000,Arquivo!$B$2:$B$20000,F$6,Arquivo!$C$2:$C$20000,G$6,Arquivo!$D$2:$D$20000,$C138)),0)","v":0},0,{"$f":"IFERROR((SUMIFS(Arquivo!$F$2:$F$20000,Arquivo!$B$2:$B$20000,H$6,Arquivo!$C$2:$C$20000,I$6,Arquivo!$D$2:$D$20000,$C138)),0)","v":0},0,{"$f":"IFERROR((SUMIFS(Arquivo!$F$2:$F$20000,Arquivo!$B$2:$B$20000,J$6,Arquivo!$C$2:$C$20000,K$6,Arquivo!$D$2:$D$20000,$C138)),0)","v":0},0,{"$f":"IFERROR((SUMIFS(Arquivo!$F$2:$F$20000,Arquivo!$B$2:$B$20000,L$6,Arquivo!$C$2:$C$20000,M$6,Arquivo!$D$2:$D$20000,$C138)),0)","v":0},0,{"$f":"IFERROR((SUMIFS(Arquivo!$F$2:$F$20000,Arquivo!$B$2:$B$20000,N$6,Arquivo!$C$2:$C$20000,O$6,Arquivo!$D$2:$D$20000,$C138)),0)","v":0},0,{"$f":"IFERROR((SUMIFS(Arquivo!$F$2:$F$20000,Arquivo!$B$2:$B$20000,P$6,Arquivo!$C$2:$C$20000,Q$6,Arquivo!$D$2:$D$20000,$C138)),0)","v":0},0,{"$f":"IFERROR((SUMIFS(Arquivo!$F$2:$F$20000,Arquivo!$B$2:$B$20000,R$6,Arquivo!$C$2:$C$20000,S$6,Arquivo!$D$2:$D$20000,$C138)),0)","v":2501.2399999999998},4.1115353664549483E-3,{"$f":"IFERROR((SUMIFS(Arquivo!$F$2:$F$20000,Arquivo!$B$2:$B$20000,T$6,Arquivo!$C$2:$C$20000,U$6,Arquivo!$D$2:$D$20000,$C138)),0)","v":0},0,{"$f":"IFERROR((SUMIFS(Arquivo!$F$2:$F$20000,Arquivo!$B$2:$B$20000,V$6,Arquivo!$C$2:$C$20000,W$6,Arquivo!$D$2:$D$20000,$C138)),0)","v":0},0,{"$f":"IFERROR((SUMIFS(Arquivo!$F$2:$F$20000,Arquivo!$B$2:$B$20000,X$6,Arquivo!$C$2:$C$20000,Y$6,Arquivo!$D$2:$D$20000,$C138)),0)","v":0},0,{"$f":"IFERROR((SUMIFS(Arquivo!$F$2:$F$20000,Arquivo!$B$2:$B$20000,Z$6,Arquivo!$C$2:$C$20000,AA$6,Arquivo!$D$2:$D$20000,$C138)),0)","v":0},0,{"$f":"IFERROR((SUMIFS(Arquivo!$F$2:$F$20000,Arquivo!$B$2:$B$20000,AB$6,Arquivo!$C$2:$C$20000,AC$6,Arquivo!$D$2:$D$20000,$C138)),0)","v":0},0,{"$f":"F138+H138+J138+L138+N138+P138+R138+T138+V138+X138+Z138+AB138","v":2501.2399999999998},3.9017133382863648E-4,null,null,"X"]
[null,null,{"$f":"IF('Plano de Contas'!B123=\"\",\"\",'Plano de Contas'!B123)","v":"8.2.3.3"},{"$f":"IF($C139=\"\",\"\",VLOOKUP($C139,'Plano de Contas'!$B$2:$E$200,4,FALSE))","v":"CV"},{"$f":"IF($C139=\"\",\"\",VLOOKUP($C139,'Plano de Contas'!$B$2:$E$200,3,FALSE))","v":"DOACOES"},{"$f":"IFERROR((SUMIFS(Arquivo!$F$2:$F$20000,Arquivo!$B$2:$B$20000,F$6,Arquivo!$C$2:$C$20000,G$6,Arquivo!$D$2:$D$20000,$C139)),0)","v":0},0,{"$f":"IFERROR((SUMIFS(Arquivo!$F$2:$F$20000,Arquivo!$B$2:$B$20000,H$6,Arquivo!$C$2:$C$20000,I$6,Arquivo!$D$2:$D$20000,$C139)),0)","v":0},0,{"$f":"IFERROR((SUMIFS(Arquivo!$F$2:$F$20000,Arquivo!$B$2:$B$20000,J$6,Arquivo!$C$2:$C$20000,K$6,Arquivo!$D$2:$D$20000,$C139)),0)","v":0},0,{"$f":"IFERROR((SUMIFS(Arquivo!$F$2:$F$20000,Arquivo!$B$2:$B$20000,L$6,Arquivo!$C$2:$C$20000,M$6,Arquivo!$D$2:$D$20000,$C139)),0)","v":0},0,{"$f":"IFERROR((SUMIFS(Arquivo!$F$2:$F$20000,Arquivo!$B$2:$B$20000,N$6,Arquivo!$C$2:$C$20000,O$6,Arquivo!$D$2:$D$20000,$C139)),0)","v":0},0,{"$f":"IFERROR((SUMIFS(Arquivo!$F$2:$F$20000,Arquivo!$B$2:$B$20000,P$6,Arquivo!$C$2:$C$20000,Q$6,Arquivo!$D$2:$D$20000,$C139)),0)","v":0},0,{"$f":"IFERROR((SUMIFS(Arquivo!$F$2:$F$20000,Arquivo!$B$2:$B$20000,R$6,Arquivo!$C$2:$C$20000,S$6,Arquivo!$D$2:$D$20000,$C139)),0)","v":0},0,{"$f":"IFERROR((SUMIFS(Arquivo!$F$2:$F$20000,Arquivo!$B$2:$B$20000,T$6,Arquivo!$C$2:$C$20000,U$6,Arquivo!$D$2:$D$20000,$C139)),0)","v":0},0,{"$f":"IFERROR((SUMIFS(Arquivo!$F$2:$F$20000,Arquivo!$B$2:$B$20000,V$6,Arquivo!$C$2:$C$20000,W$6,Arquivo!$D$2:$D$20000,$C139)),0)","v":0},0,{"$f":"IFERROR((SUMIFS(Arquivo!$F$2:$F$20000,Arquivo!$B$2:$B$20000,X$6,Arquivo!$C$2:$C$20000,Y$6,Arquivo!$D$2:$D$20000,$C139)),0)","v":0},0,{"$f":"IFERROR((SUMIFS(Arquivo!$F$2:$F$20000,Arquivo!$B$2:$B$20000,Z$6,Arquivo!$C$2:$C$20000,AA$6,Arquivo!$D$2:$D$20000,$C139)),0)","v":0},0,{"$f":"IFERROR((SUMIFS(Arquivo!$F$2:$F$20000,Arquivo!$B$2:$B$20000,AB$6,Arquivo!$C$2:$C$20000,AC$6,Arquivo!$D$2:$D$20000,$C139)),0)","v":0},0,0,0,null,null,""]
[null,null,{"$f":"IF('Plano de Contas'!B124=\"\",\"\",'Plano de Contas'!B124)","v":"8.2.3.4"},{"$f":"IF($C140=\"\",\"\",VLOOKUP($C140,'Plano de Contas'!$B$2:$E$200,4,FALSE))","v":"CV"},{"$f":"IF($C140=\"\",\"\",VLOOKUP($C140,'Plano de Contas'!$B$2:$E$200,3,FALSE))","v":"PESQUISA NOVOS PRODUTOS"},{"$f":"IFERROR((SUMIFS(Arquivo!$F$2:$F$20000,Arquivo!$B$2:$B$20000,F$6,Arquivo!$C$2:$C$20000,G$6,Arquivo!$D$2:$D$20000,$C140)),0)","v":0},0,{"$f":"IFERROR((SUMIFS(Arquivo!$F$2:$F$20000,Arquivo!$B$2:$B$20000,H$6,Arquivo!$C$2:$C$20000,I$6,Arquivo!$D$2:$D$20000,$C140)),0)","v":0},0,{"$f":"IFERROR((SUMIFS(Arquivo!$F$2:$F$20000,Arquivo!$B$2:$B$20000,J$6,Arquivo!$C$2:$C$20000,K$6,Arquivo!$D$2:$D$20000,$C140)),0)","v":0},0,{"$f":"IFERROR((SUMIFS(Arquivo!$F$2:$F$20000,Arquivo!$B$2:$B$20000,L$6,Arquivo!$C$2:$C$20000,M$6,Arquivo!$D$2:$D$20000,$C140)),0)","v":0},0,{"$f":"IFERROR((SUMIFS(Arquivo!$F$2:$F$20000,Arquivo!$B$2:$B$20000,N$6,Arquivo!$C$2:$C$20000,O$6,Arquivo!$D$2:$D$20000,$C140)),0)","v":0},0,{"$f":"IFERROR((SUMIFS(Arquivo!$F$2:$F$20000,Arquivo!$B$2:$B$20000,P$6,Arquivo!$C$2:$C$20000,Q$6,Arquivo!$D$2:$D$20000,$C140)),0)","v":0},0,{"$f":"IFERROR((SUMIFS(Arquivo!$F$2:$F$20000,Arquivo!$B$2:$B$20000,R$6,Arquivo!$C$2:$C$20000,S$6,Arquivo!$D$2:$D$20000,$C140)),0)","v":0},0,{"$f":"IFERROR((SUMIFS(Arquivo!$F$2:$F$20000,Arquivo!$B$2:$B$20000,T$6,Arquivo!$C$2:$C$20000,U$6,Arquivo!$D$2:$D$20000,$C140)),0)","v":0},0,{"$f":"IFERROR((SUMIFS(Arquivo!$F$2:$F$20000,Arquivo!$B$2:$B$20000,V$6,Arquivo!$C$2:$C$20000,W$6,Arquivo!$D$2:$D$20000,$C140)),0)","v":0},0,{"$f":"IFERROR((SUMIFS(Arquivo!$F$2:$F$20000,Arquivo!$B$2:$B$20000,X$6,Arquivo!$C$2:$C$20000,Y$6,Arquivo!$D$2:$D$20000,$C140)),0)","v":0},0,{"$f":"IFERROR((SUMIFS(Arquivo!$F$2:$F$20000,Arquivo!$B$2:$B$20000,Z$6,Arquivo!$C$2:$C$20000,AA$6,Arquivo!$D$2:$D$20000,$C140)),0)","v":0},0,{"$f":"IFERROR((SUMIFS(Arquivo!$F$2:$F$20000,Arquivo!$B$2:$B$20000,AB$6,Arquivo!$C$2:$C$20000,AC$6,Arquivo!$D$2:$D$20000,$C140)),0)","v":0},0,0,0,null,null,""]
[null,null,{"$f":"IF('Plano de Contas'!B125=\"\",\"\",'Plano de Contas'!B125)","v":"8.2.3.5"},{"$f":"IF($C141=\"\",\"\",VLOOKUP($C141,'Plano de Contas'!$B$2:$E$200,4,FALSE))","v":"CV"},{"$f":"IF($C141=\"\",\"\",VLOOKUP($C141,'Plano de Contas'!$B$2:$E$200,3,FALSE))","v":"OUTRAS DESP.COM MARKETING"},{"$f":"IFERROR((SUMIFS(Arquivo!$F$2:$F$20000,Arquivo!$B$2:$B$20000,F$6,Arquivo!$C$2:$C$20000,G$6,Arquivo!$D$2:$D$20000,$C141)),0)","v":0},0,{"$f":"IFERROR((SUMIFS(Arquivo!$F$2:$F$20000,Arquivo!$B$2:$B$20000,H$6,Arquivo!$C$2:$C$20000,I$6,Arquivo!$D$2:$D$20000,$C141)),0)","v":0},0,{"$f":"IFERROR((SUMIFS(Arquivo!$F$2:$F$20000,Arquivo!$B$2:$B$20000,J$6,Arquivo!$C$2:$C$20000,K$6,Arquivo!$D$2:$D$20000,$C141)),0)","v":0},0,{"$f":"IFERROR((SUMIFS(Arquivo!$F$2:$F$20000,Arquivo!$B$2:$B$20000,L$6,Arquivo!$C$2:$C$20000,M$6,Arquivo!$D$2:$D$20000,$C141)),0)","v":0},0,{"$f":"IFERROR((SUMIFS(Arquivo!$F$2:$F$20000,Arquivo!$B$2:$B$20000,N$6,Arquivo!$C$2:$C$20000,O$6,Arquivo!$D$2:$D$20000,$C141)),0)","v":0},0,{"$f":"IFERROR((SUMIFS(Arquivo!$F$2:$F$20000,Arquivo!$B$2:$B$20000,P$6,Arquivo!$C$2:$C$20000,Q$6,Arquivo!$D$2:$D$20000,$C141)),0)","v":0},0,{"$f":"IFERROR((SUMIFS(Arquivo!$F$2:$F$20000,Arquivo!$B$2:$B$20000,R$6,Arquivo!$C$2:$C$20000,S$6,Arquivo!$D$2:$D$20000,$C141)),0)","v":0},0,{"$f":"IFERROR((SUMIFS(Arquivo!$F$2:$F$20000,Arquivo!$B$2:$B$20000,T$6,Arquivo!$C$2:$C$20000,U$6,Arquivo!$D$2:$D$20000,$C141)),0)","v":0},0,{"$f":"IFERROR((SUMIFS(Arquivo!$F$2:$F$20000,Arquivo!$B$2:$B$20000,V$6,Arquivo!$C$2:$C$20000,W$6,Arquivo!$D$2:$D$20000,$C141)),0)","v":0},0,{"$f":"IFERROR((SUMIFS(Arquivo!$F$2:$F$20000,Arquivo!$B$2:$B$20000,X$6,Arquivo!$C$2:$C$20000,Y$6,Arquivo!$D$2:$D$20000,$C141)),0)","v":0},0,{"$f":"IFERROR((SUMIFS(Arquivo!$F$2:$F$20000,Arquivo!$B$2:$B$20000,Z$6,Arquivo!$C$2:$C$20000,AA$6,Arquivo!$D$2:$D$20000,$C141)),0)","v":0},0,{"$f":"IFERROR((SUMIFS(Arquivo!$F$2:$F$20000,Arquivo!$B$2:$B$20000,AB$6,Arquivo!$C$2:$C$20000,AC$6,Arquivo!$D$2:$D$20000,$C141)),0)","v":0},0,0,0,null,null,""]
[null,null,{"$f":"IF('Plano de Contas'!B126=\"\",\"\",'Plano de Contas'!B126)","v":""},{"$f":"IF($C142=\"\",\"\",VLOOKUP($C142,'Plano de Contas'!$B$2:$E$200,4,FALSE))","v":""},{"$f":"IF($C142=\"\",\"\",VLOOKUP($C142,'Plano de Contas'!$B$2:$E$200,3,FALSE))","v":""},{"$f":"IFERROR((SUMIFS(Arquivo!$F$2:$F$20000,Arquivo!$B$2:$B$20000,F$6,Arquivo!$C$2:$C$20000,G$6,Arquivo!$D$2:$D$20000,$C142)),0)","v":0},0,{"$f":"IFERROR((SUMIFS(Arquivo!$F$2:$F$20000,Arquivo!$B$2:$B$20000,H$6,Arquivo!$C$2:$C$20000,I$6,Arquivo!$D$2:$D$20000,$C142)),0)","v":0},0,{"$f":"IFERROR((SUMIFS(Arquivo!$F$2:$F$20000,Arquivo!$B$2:$B$20000,J$6,Arquivo!$C$2:$C$20000,K$6,Arquivo!$D$2:$D$20000,$C142)),0)","v":0},0,{"$f":"IFERROR((SUMIFS(Arquivo!$F$2:$F$20000,Arquivo!$B$2:$B$20000,L$6,Arquivo!$C$2:$C$20000,M$6,Arquivo!$D$2:$D$20000,$C142)),0)","v":0},0,{"$f":"IFERROR((SUMIFS(Arquivo!$F$2:$F$20000,Arquivo!$B$2:$B$20000,N$6,Arquivo!$C$2:$C$20000,O$6,Arquivo!$D$2:$D$20000,$C142)),0)","v":0},0,{"$f":"IFERROR((SUMIFS(Arquivo!$F$2:$F$20000,Arquivo!$B$2:$B$20000,P$6,Arquivo!$C$2:$C$20000,Q$6,Arquivo!$D$2:$D$20000,$C142)),0)","v":0},0,{"$f":"IFERROR((SUMIFS(Arquivo!$F$2:$F$20000,Arquivo!$B$2:$B$20000,R$6,Arquivo!$C$2:$C$20000,S$6,Arquivo!$D$2:$D$20000,$C142)),0)","v":0},0,{"$f":"IFERROR((SUMIFS(Arquivo!$F$2:$F$20000,Arquivo!$B$2:$B$20000,T$6,Arquivo!$C$2:$C$20000,U$6,Arquivo!$D$2:$D$20000,$C142)),0)","v":0},0,{"$f":"IFERROR((SUMIFS(Arquivo!$F$2:$F$20000,Arquivo!$B$2:$B$20000,V$6,Arquivo!$C$2:$C$20000,W$6,Arquivo!$D$2:$D$20000,$C142)),0)","v":0},0,{"$f":"IFERROR((SUMIFS(Arquivo!$F$2:$F$20000,Arquivo!$B$2:$B$20000,X$6,Arquivo!$C$2:$C$20000,Y$6,Arquivo!$D$2:$D$20000,$C142)),0)","v":0},0,{"$f":"IFERROR((SUMIFS(Arquivo!$F$2:$F$20000,Arquivo!$B$2:$B$20000,Z$6,Arquivo!$C$2:$C$20000,AA$6,Arquivo!$D$2:$D$20000,$C142)),0)","v":0},0,{"$f":"IFERROR((SUMIFS(Arquivo!$F$2:$F$20000,Arquivo!$B$2:$B$20000,AB$6,Arquivo!$C$2:$C$20000,AC$6,Arquivo!$D$2:$D$20000,$C142)),0)","v":0},0,0,0,null,null,""]
[null,null,{"$f":"IF('Plano de Contas'!B127=\"\",\"\",'Plano de Contas'!B127)","v":""},{"$f":"IF($C143=\"\",\"\",VLOOKUP($C143,'Plano de Contas'!$B$2:$E$200,4,FALSE))","v":""},{"$f":"IF($C143=\"\",\"\",VLOOKUP($C143,'Plano de Contas'!$B$2:$E$200,3,FALSE))","v":""},{"$f":"IFERROR((SUMIFS(Arquivo!$F$2:$F$20000,Arquivo!$B$2:$B$20000,F$6,Arquivo!$C$2:$C$20000,G$6,Arquivo!$D$2:$D$20000,$C143)),0)","v":0},0,{"$f":"IFERROR((SUMIFS(Arquivo!$F$2:$F$20000,Arquivo!$B$2:$B$20000,H$6,Arquivo!$C$2:$C$20000,I$6,Arquivo!$D$2:$D$20000,$C143)),0)","v":0},0,{"$f":"IFERROR((SUMIFS(Arquivo!$F$2:$F$20000,Arquivo!$B$2:$B$20000,J$6,Arquivo!$C$2:$C$20000,K$6,Arquivo!$D$2:$D$20000,$C143)),0)","v":0},0,{"$f":"IFERROR((SUMIFS(Arquivo!$F$2:$F$20000,Arquivo!$B$2:$B$20000,L$6,Arquivo!$C$2:$C$20000,M$6,Arquivo!$D$2:$D$20000,$C143)),0)","v":0},0,{"$f":"IFERROR((SUMIFS(Arquivo!$F$2:$F$20000,Arquivo!$B$2:$B$20000,N$6,Arquivo!$C$2:$C$20000,O$6,Arquivo!$D$2:$D$20000,$C143)),0)","v":0},0,{"$f":"IFERROR((SUMIFS(Arquivo!$F$2:$F$20000,Arquivo!$B$2:$B$20000,P$6,Arquivo!$C$2:$C$20000,Q$6,Arquivo!$D$2:$D$20000,$C143)),0)","v":0},0,{"$f":"IFERROR((SUMIFS(Arquivo!$F$2:$F$20000,Arquivo!$B$2:$B$20000,R$6,Arquivo!$C$2:$C$20000,S$6,Arquivo!$D$2:$D$20000,$C143)),0)","v":0},0,{"$f":"IFERROR((SUMIFS(Arquivo!$F$2:$F$20000,Arquivo!$B$2:$B$20000,T$6,Arquivo!$C$2:$C$20000,U$6,Arquivo!$D$2:$D$20000,$C143)),0)","v":0},0,{"$f":"IFERROR((SUMIFS(Arquivo!$F$2:$F$20000,Arquivo!$B$2:$B$20000,V$6,Arquivo!$C$2:$C$20000,W$6,Arquivo!$D$2:$D$20000,$C143)),0)","v":0},0,{"$f":"IFERROR((SUMIFS(Arquivo!$F$2:$F$20000,Arquivo!$B$2:$B$20000,X$6,Arquivo!$C$2:$C$20000,Y$6,Arquivo!$D$2:$D$20000,$C143)),0)","v":0},0,{"$f":"IFERROR((SUMIFS(Arquivo!$F$2:$F$20000,Arquivo!$B$2:$B$20000,Z$6,Arquivo!$C$2:$C$20000,AA$6,Arquivo!$D$2:$D$20000,$C143)),0)","v":0},0,{"$f":"IFERROR((SUMIFS(Arquivo!$F$2:$F$20000,Arquivo!$B$2:$B$20000,AB$6,Arquivo!$C$2:$C$20000,AC$6,Arquivo!$D$2:$D$20000,$C143)),0)","v":0},0,0,0,null,null,""]
[null,null,{"$f":"IF('Plano de Contas'!B128=\"\",\"\",'Plano de Contas'!B128)","v":""},{"$f":"IF($C144=\"\",\"\",VLOOKUP($C144,'Plano de Contas'!$B$2:$E$200,4,FALSE))","v":""},{"$f":"IF($C144=\"\",\"\",VLOOKUP($C144,'Plano de Contas'!$B$2:$E$200,3,FALSE))","v":""},{"$f":"IFERROR((SUMIFS(Arquivo!$F$2:$F$20000,Arquivo!$B$2:$B$20000,F$6,Arquivo!$C$2:$C$20000,G$6,Arquivo!$D$2:$D$20000,$C144)),0)","v":0},0,{"$f":"IFERROR((SUMIFS(Arquivo!$F$2:$F$20000,Arquivo!$B$2:$B$20000,H$6,Arquivo!$C$2:$C$20000,I$6,Arquivo!$D$2:$D$20000,$C144)),0)","v":0},0,{"$f":"IFERROR((SUMIFS(Arquivo!$F$2:$F$20000,Arquivo!$B$2:$B$20000,J$6,Arquivo!$C$2:$C$20000,K$6,Arquivo!$D$2:$D$20000,$C144)),0)","v":0},0,{"$f":"IFERROR((SUMIFS(Arquivo!$F$2:$F$20000,Arquivo!$B$2:$B$20000,L$6,Arquivo!$C$2:$C$20000,M$6,Arquivo!$D$2:$D$20000,$C144)),0)","v":0},0,{"$f":"IFERROR((SUMIFS(Arquivo!$F$2:$F$20000,Arquivo!$B$2:$B$20000,N$6,Arquivo!$C$2:$C$20000,O$6,Arquivo!$D$2:$D$20000,$C144)),0)","v":0},0,{"$f":"IFERROR((SUMIFS(Arquivo!$F$2:$F$20000,Arquivo!$B$2:$B$20000,P$6,Arquivo!$C$2:$C$20000,Q$6,Arquivo!$D$2:$D$20000,$C144)),0)","v":0},0,{"$f":"IFERROR((SUMIFS(Arquivo!$F$2:$F$20000,Arquivo!$B$2:$B$20000,R$6,Arquivo!$C$2:$C$20000,S$6,Arquivo!$D$2:$D$20000,$C144)),0)","v":0},0,{"$f":"IFERROR((SUMIFS(Arquivo!$F$2:$F$20000,Arquivo!$B$2:$B$20000,T$6,Arquivo!$C$2:$C$20000,U$6,Arquivo!$D$2:$D$20000,$C144)),0)","v":0},0,{"$f":"IFERROR((SUMIFS(Arquivo!$F$2:$F$20000,Arquivo!$B$2:$B$20000,V$6,Arquivo!$C$2:$C$20000,W$6,Arquivo!$D$2:$D$20000,$C144)),0)","v":0},0,{"$f":"IFERROR((SUMIFS(Arquivo!$F$2:$F$20000,Arquivo!$B$2:$B$20000,X$6,Arquivo!$C$2:$C$20000,Y$6,Arquivo!$D$2:$D$20000,$C144)),0)","v":0},0,{"$f":"IFERROR((SUMIFS(Arquivo!$F$2:$F$20000,Arquivo!$B$2:$B$20000,Z$6,Arquivo!$C$2:$C$20000,AA$6,Arquivo!$D$2:$D$20000,$C144)),0)","v":0},0,{"$f":"IFERROR((SUMIFS(Arquivo!$F$2:$F$20000,Arquivo!$B$2:$B$20000,AB$6,Arquivo!$C$2:$C$20000,AC$6,Arquivo!$D$2:$D$20000,$C144)),0)","v":0},0,0,0,null,null,""]
[null,null,{"$f":"IF('Plano de Contas'!B129=\"\",\"\",'Plano de Contas'!B129)","v":""},{"$f":"IF($C145=\"\",\"\",VLOOKUP($C145,'Plano de Contas'!$B$2:$E$200,4,FALSE))","v":""},{"$f":"IF($C145=\"\",\"\",VLOOKUP($C145,'Plano de Contas'!$B$2:$E$200,3,FALSE))","v":""},{"$f":"IFERROR((SUMIFS(Arquivo!$F$2:$F$20000,Arquivo!$B$2:$B$20000,F$6,Arquivo!$C$2:$C$20000,G$6,Arquivo!$D$2:$D$20000,$C145)),0)","v":0},0,{"$f":"IFERROR((SUMIFS(Arquivo!$F$2:$F$20000,Arquivo!$B$2:$B$20000,H$6,Arquivo!$C$2:$C$20000,I$6,Arquivo!$D$2:$D$20000,$C145)),0)","v":0},0,{"$f":"IFERROR((SUMIFS(Arquivo!$F$2:$F$20000,Arquivo!$B$2:$B$20000,J$6,Arquivo!$C$2:$C$20000,K$6,Arquivo!$D$2:$D$20000,$C145)),0)","v":0},0,{"$f":"IFERROR((SUMIFS(Arquivo!$F$2:$F$20000,Arquivo!$B$2:$B$20000,L$6,Arquivo!$C$2:$C$20000,M$6,Arquivo!$D$2:$D$20000,$C145)),0)","v":0},0,{"$f":"IFERROR((SUMIFS(Arquivo!$F$2:$F$20000,Arquivo!$B$2:$B$20000,N$6,Arquivo!$C$2:$C$20000,O$6,Arquivo!$D$2:$D$20000,$C145)),0)","v":0},0,{"$f":"IFERROR((SUMIFS(Arquivo!$F$2:$F$20000,Arquivo!$B$2:$B$20000,P$6,Arquivo!$C$2:$C$20000,Q$6,Arquivo!$D$2:$D$20000,$C145)),0)","v":0},0,{"$f":"IFERROR((SUMIFS(Arquivo!$F$2:$F$20000,Arquivo!$B$2:$B$20000,R$6,Arquivo!$C$2:$C$20000,S$6,Arquivo!$D$2:$D$20000,$C145)),0)","v":0},0,{"$f":"IFERROR((SUMIFS(Arquivo!$F$2:$F$20000,Arquivo!$B$2:$B$20000,T$6,Arquivo!$C$2:$C$20000,U$6,Arquivo!$D$2:$D$20000,$C145)),0)","v":0},0,{"$f":"IFERROR((SUMIFS(Arquivo!$F$2:$F$20000,Arquivo!$B$2:$B$20000,V$6,Arquivo!$C$2:$C$20000,W$6,Arquivo!$D$2:$D$20000,$C145)),0)","v":0},0,{"$f":"IFERROR((SUMIFS(Arquivo!$F$2:$F$20000,Arquivo!$B$2:$B$20000,X$6,Arquivo!$C$2:$C$20000,Y$6,Arquivo!$D$2:$D$20000,$C145)),0)","v":0},0,{"$f":"IFERROR((SUMIFS(Arquivo!$F$2:$F$20000,Arquivo!$B$2:$B$20000,Z$6,Arquivo!$C$2:$C$20000,AA$6,Arquivo!$D$2:$D$20000,$C145)),0)","v":0},0,{"$f":"IFERROR((SUMIFS(Arquivo!$F$2:$F$20000,Arquivo!$B$2:$B$20000,AB$6,Arquivo!$C$2:$C$20000,AC$6,Arquivo!$D$2:$D$20000,$C145)),0)","v":0},0,0,0,null,null,""]
[null,null,{"$f":"IF('Plano de Contas'!B130=\"\",\"\",'Plano de Contas'!B130)","v":""},{"$f":"IF($C146=\"\",\"\",VLOOKUP($C146,'Plano de Contas'!$B$2:$E$200,4,FALSE))","v":""},{"$f":"IF($C146=\"\",\"\",VLOOKUP($C146,'Plano de Contas'!$B$2:$E$200,3,FALSE))","v":""},{"$f":"IFERROR((SUMIFS(Arquivo!$F$2:$F$20000,Arquivo!$B$2:$B$20000,F$6,Arquivo!$C$2:$C$20000,G$6,Arquivo!$D$2:$D$20000,$C146)),0)","v":0},0,{"$f":"IFERROR((SUMIFS(Arquivo!$F$2:$F$20000,Arquivo!$B$2:$B$20000,H$6,Arquivo!$C$2:$C$20000,I$6,Arquivo!$D$2:$D$20000,$C146)),0)","v":0},0,{"$f":"IFERROR((SUMIFS(Arquivo!$F$2:$F$20000,Arquivo!$B$2:$B$20000,J$6,Arquivo!$C$2:$C$20000,K$6,Arquivo!$D$2:$D$20000,$C146)),0)","v":0},0,{"$f":"IFERROR((SUMIFS(Arquivo!$F$2:$F$20000,Arquivo!$B$2:$B$20000,L$6,Arquivo!$C$2:$C$20000,M$6,Arquivo!$D$2:$D$20000,$C146)),0)","v":0},0,{"$f":"IFERROR((SUMIFS(Arquivo!$F$2:$F$20000,Arquivo!$B$2:$B$20000,N$6,Arquivo!$C$2:$C$20000,O$6,Arquivo!$D$2:$D$20000,$C146)),0)","v":0},0,{"$f":"IFERROR((SUMIFS(Arquivo!$F$2:$F$20000,Arquivo!$B$2:$B$20000,P$6,Arquivo!$C$2:$C$20000,Q$6,Arquivo!$D$2:$D$20000,$C146)),0)","v":0},0,{"$f":"IFERROR((SUMIFS(Arquivo!$F$2:$F$20000,Arquivo!$B$2:$B$20000,R$6,Arquivo!$C$2:$C$20000,S$6,Arquivo!$D$2:$D$20000,$C146)),0)","v":0},0,{"$f":"IFERROR((SUMIFS(Arquivo!$F$2:$F$20000,Arquivo!$B$2:$B$20000,T$6,Arquivo!$C$2:$C$20000,U$6,Arquivo!$D$2:$D$20000,$C146)),0)","v":0},0,{"$f":"IFERROR((SUMIFS(Arquivo!$F$2:$F$20000,Arquivo!$B$2:$B$20000,V$6,Arquivo!$C$2:$C$20000,W$6,Arquivo!$D$2:$D$20000,$C146)),0)","v":0},0,{"$f":"IFERROR((SUMIFS(Arquivo!$F$2:$F$20000,Arquivo!$B$2:$B$20000,X$6,Arquivo!$C$2:$C$20000,Y$6,Arquivo!$D$2:$D$20000,$C146)),0)","v":0},0,{"$f":"IFERROR((SUMIFS(Arquivo!$F$2:$F$20000,Arquivo!$B$2:$B$20000,Z$6,Arquivo!$C$2:$C$20000,AA$6,Arquivo!$D$2:$D$20000,$C146)),0)","v":0},0,{"$f":"IFERROR((SUMIFS(Arquivo!$F$2:$F$20000,Arquivo!$B$2:$B$20000,AB$6,Arquivo!$C$2:$C$20000,AC$6,Arquivo!$D$2:$D$20000,$C146)),0)","v":0},0,0,0,null,null,""]
[null,null,null,null,null,null,null,null,null,null,null,null,null,null,null,null,null,null,null,null,null,null,null,null,null,null,null,null,null,null,null,null,null,{"$f":"IF(AH136=\"\",\"\",\"X\")","v":"X"}]
[null,null,null,"DESPESAS TRIBUTÁRIAS",null,{"$f":"SUBTOTAL(9,F149:F156)","v":4388.57},{"$f":"IFERROR((F148/IF($X$3=\"CT\",F$10,F$148)),0)","v":4.5684442699287587E-3},{"$f":"SUBTOTAL(9,H149:H156)","v":92.66},{"$f":"IFERROR((H148/IF($X$3=\"CT\",H$10,H$148)),0)","v":1.1278953747403778E-4},{"$f":"SUBTOTAL(9,J149:J156)","v":263.89999999999998},{"$f":"IFERROR((J148/IF($X$3=\"CT\",J$10,J$148)),0)","v":1.9943060634839232E-4},{"$f":"SUBTOTAL(9,L149:L156)","v":499.25},{"$f":"IFERROR((L148/IF($X$3=\"CT\",L$10,L$148)),0)","v":4.9483471355958619E-4},{"$f":"SUBTOTAL(9,N149:N156)","v":910.28},{"$f":"IFERROR((N148/IF($X$3=\"CT\",N$10,N$148)),0)","v":1.131124615815515E-3},{"$f":"SUBTOTAL(9,P149:P156)","v":125.41},{"$f":"IFERROR((P148/IF($X$3=\"CT\",P$10,P$148)),0)","v":1.419999861861109E-4},{"$f":"SUBTOTAL(9,R149:R156)","v":0},{"$f":"IFERROR((R148/IF($X$3=\"CT\",R$10,R$148)),0)","v":0},{"$f":"SUBTOTAL(9,T149:T156)","v":0},{"$f":"IFERROR((T148/IF($X$3=\"CT\",T$10,T$148)),0)","v":0},{"$f":"SUBTOTAL(9,V149:V156)","v":0},{"$f":"IFERROR((V148/IF($X$3=\"CT\",V$10,V$148)),0)","v":0},{"$f":"SUBTOTAL(9,X149:X156)","v":0},{"$f":"IFERROR((X148/IF($X$3=\"CT\",X$10,X$148)),0)","v":0},{"$f":"SUBTOTAL(9,Z149:Z156)","v":0},{"$f":"IFERROR((Z148/IF($X$3=\"CT\",Z$10,Z$148)),0)","v":0},{"$f":"SUBTOTAL(9,AB149:AB156)","v":0},{"$f":"IFERROR((AB148/IF($X$3=\"CT\",AB$10,AB$148)),0)","v":0},{"$f":"SUBTOTAL(9,AD149:AD156)","v":6280.0699999999988},{"$f":"IFERROR((AD148/IF($X$3=\"CT\",AD$10,AD$148)),0)","v":9.7963541620844246E-4},null,null,{"$f":"IF(COUNTIF(AH149:AH155,\"X\")>0,\"X\",\"\")","v":"X"}]
[null,null,{"$f":"IF('Plano de Contas'!B132=\"\",\"\",'Plano de Contas'!B132)","v":"8.4.1.3"},{"$f":"IF($C149=\"\",\"\",VLOOKUP($C149,'Plano de Contas'!$B$2:$E$200,4,FALSE))","v":"CF"},{"$f":"IF($C149=\"\",\"\",VLOOKUP($C149,'Plano de Contas'!$B$2:$E$200,3,FALSE))","v":"IPTU"},{"$f":"IFERROR((SUMIFS(Arquivo!$F$2:$F$20000,Arquivo!$B$2:$B$20000,F$6,Arquivo!$C$2:$C$20000,G$6,Arquivo!$D$2:$D$20000,$C149)),0)","v":0},0,{"$f":"IFERROR((SUMIFS(Arquivo!$F$2:$F$20000,Arquivo!$B$2:$B$20000,H$6,Arquivo!$C$2:$C$20000,I$6,Arquivo!$D$2:$D$20000,$C149)),0)","v":0},0,{"$f":"IFERROR((SUMIFS(Arquivo!$F$2:$F$20000,Arquivo!$B$2:$B$20000,J$6,Arquivo!$C$2:$C$20000,K$6,Arquivo!$D$2:$D$20000,$C149)),0)","v":0},0,{"$f":"IFERROR((SUMIFS(Arquivo!$F$2:$F$20000,Arquivo!$B$2:$B$20000,L$6,Arquivo!$C$2:$C$20000,M$6,Arquivo!$D$2:$D$20000,$C149)),0)","v":0},0,{"$f":"IFERROR((SUMIFS(Arquivo!$F$2:$F$20000,Arquivo!$B$2:$B$20000,N$6,Arquivo!$C$2:$C$20000,O$6,Arquivo!$D$2:$D$20000,$C149)),0)","v":0},0,{"$f":"IFERROR((SUMIFS(Arquivo!$F$2:$F$20000,Arquivo!$B$2:$B$20000,P$6,Arquivo!$C$2:$C$20000,Q$6,Arquivo!$D$2:$D$20000,$C149)),0)","v":0},0,{"$f":"IFERROR((SUMIFS(Arquivo!$F$2:$F$20000,Arquivo!$B$2:$B$20000,R$6,Arquivo!$C$2:$C$20000,S$6,Arquivo!$D$2:$D$20000,$C149)),0)","v":0},0,{"$f":"IFERROR((SUMIFS(Arquivo!$F$2:$F$20000,Arquivo!$B$2:$B$20000,T$6,Arquivo!$C$2:$C$20000,U$6,Arquivo!$D$2:$D$20000,$C149)),0)","v":0},0,{"$f":"IFERROR((SUMIFS(Arquivo!$F$2:$F$20000,Arquivo!$B$2:$B$20000,V$6,Arquivo!$C$2:$C$20000,W$6,Arquivo!$D$2:$D$20000,$C149)),0)","v":0},0,{"$f":"IFERROR((SUMIFS(Arquivo!$F$2:$F$20000,Arquivo!$B$2:$B$20000,X$6,Arquivo!$C$2:$C$20000,Y$6,Arquivo!$D$2:$D$20000,$C149)),0)","v":0},0,{"$f":"IFERROR((SUMIFS(Arquivo!$F$2:$F$20000,Arquivo!$B$2:$B$20000,Z$6,Arquivo!$C$2:$C$20000,AA$6,Arquivo!$D$2:$D$20000,$C149)),0)","v":0},0,{"$f":"IFERROR((SUMIFS(Arquivo!$F$2:$F$20000,Arquivo!$B$2:$B$20000,AB$6,Arquivo!$C$2:$C$20000,AC$6,Arquivo!$D$2:$D$20000,$C149)),0)","v":0},0,{"$f":"F149+H149+J149+L149+N149+P149+R149+T149+V149+X149+Z149+AB149","v":0},0,null,null,{"$f":"IF($AD149=0,\"\",IF($X$3=\"CT\",\"X\",IF($X$3=$D149,\"X\",\"\")))","v":""}]
[null,null,{"$f":"IF('Plano de Contas'!B133=\"\",\"\",'Plano de Contas'!B133)","v":"8.4.1.4"},{"$f":"IF($C150=\"\",\"\",VLOOKUP($C150,'Plano de Contas'!$B$2:$E$200,4,FALSE))","v":"CV"},{"$f":"IF($C150=\"\",\"\",VLOOKUP($C150,'Plano de Contas'!$B$2:$E$200,3,FALSE))","v":"OUTRAS DESP.TRIBUTARIAS"},{"$f":"IFERROR((SUMIFS(Arquivo!$F$2:$F$20000,Arquivo!$B$2:$B$20000,F$6,Arquivo!$C$2:$C$20000,G$6,Arquivo!$D$2:$D$20000,$C150)),0)","v":4388.57},4.5684442699287587E-3,{"$f":"IFERROR((SUMIFS(Arquivo!$F$2:$F$20000,Arquivo!$B$2:$B$20000,H$6,Arquivo!$C$2:$C$20000,I$6,Arquivo!$D$2:$D$20000,$C150)),0)","v":92.66},1.1278953747403778E-4,{"$f":"IFERROR((SUMIFS(Arquivo!$F$2:$F$20000,Arquivo!$B$2:$B$20000,J$6,Arquivo!$C$2:$C$20000,K$6,Arquivo!$D$2:$D$20000,$C150)),0)","v":263.89999999999998},1.9943060634839232E-4,{"$f":"IFERROR((SUMIFS(Arquivo!$F$2:$F$20000,Arquivo!$B$2:$B$20000,L$6,Arquivo!$C$2:$C$20000,M$6,Arquivo!$D$2:$D$20000,$C150)),0)","v":499.25},4.9483471355958619E-4,{"$f":"IFERROR((SUMIFS(Arquivo!$F$2:$F$20000,Arquivo!$B$2:$B$20000,N$6,Arquivo!$C$2:$C$20000,O$6,Arquivo!$D$2:$D$20000,$C150)),0)","v":910.28},1.131124615815515E-3,{"$f":"IFERROR((SUMIFS(Arquivo!$F$2:$F$20000,Arquivo!$B$2:$B$20000,P$6,Arquivo!$C$2:$C$20000,Q$6,Arquivo!$D$2:$D$20000,$C150)),0)","v":125.41},1.419999861861109E-4,{"$f":"IFERROR((SUMIFS(Arquivo!$F$2:$F$20000,Arquivo!$B$2:$B$20000,R$6,Arquivo!$C$2:$C$20000,S$6,Arquivo!$D$2:$D$20000,$C150)),0)","v":0},0,{"$f":"IFERROR((SUMIFS(Arquivo!$F$2:$F$20000,Arquivo!$B$2:$B$20000,T$6,Arquivo!$C$2:$C$20000,U$6,Arquivo!$D$2:$D$20000,$C150)),0)","v":0},0,{"$f":"IFERROR((SUMIFS(Arquivo!$F$2:$F$20000,Arquivo!$B$2:$B$20000,V$6,Arquivo!$C$2:$C$20000,W$6,Arquivo!$D$2:$D$20000,$C150)),0)","v":0},0,{"$f":"IFERROR((SUMIFS(Arquivo!$F$2:$F$20000,Arquivo!$B$2:$B$20000,X$6,Arquivo!$C$2:$C$20000,Y$6,Arquivo!$D$2:$D$20000,$C150)),0)","v":0},0,{"$f":"IFERROR((SUMIFS(Arquivo!$F$2:$F$20000,Arquivo!$B$2:$B$20000,Z$6,Arquivo!$C$2:$C$20000,AA$6,Arquivo!$D$2:$D$20000,$C150)),0)","v":0},0,{"$f":"IFERROR((SUMIFS(Arquivo!$F$2:$F$20000,Arquivo!$B$2:$B$20000,AB$6,Arquivo!$C$2:$C$20000,AC$6,Arquivo!$D$2:$D$20000,$C150)),0)","v":0},0,{"$f":"F150+H150+J150+L150+N150+P150+R150+T150+V150+X150+Z150+AB150","v":6280.0699999999988},9.7963541620844246E-4,null,null,"X"]
[null,null,{"$f":"IF('Plano de Contas'!B134=\"\",\"\",'Plano de Contas'!B134)","v":""},{"$f":"IF($C151=\"\",\"\",VLOOKUP($C151,'Plano de Contas'!$B$2:$E$200,4,FALSE))","v":""},{"$f":"IF($C151=\"\",\"\",VLOOKUP($C151,'Plano de Contas'!$B$2:$E$200,3,FALSE))","v":""},{"$f":"IFERROR((SUMIFS(Arquivo!$F$2:$F$20000,Arquivo!$B$2:$B$20000,F$6,Arquivo!$C$2:$C$20000,G$6,Arquivo!$D$2:$D$20000,$C151)),0)","v":0},0,{"$f":"IFERROR((SUMIFS(Arquivo!$F$2:$F$20000,Arquivo!$B$2:$B$20000,H$6,Arquivo!$C$2:$C$20000,I$6,Arquivo!$D$2:$D$20000,$C151)),0)","v":0},0,{"$f":"IFERROR((SUMIFS(Arquivo!$F$2:$F$20000,Arquivo!$B$2:$B$20000,J$6,Arquivo!$C$2:$C$20000,K$6,Arquivo!$D$2:$D$20000,$C151)),0)","v":0},0,{"$f":"IFERROR((SUMIFS(Arquivo!$F$2:$F$20000,Arquivo!$B$2:$B$20000,L$6,Arquivo!$C$2:$C$20000,M$6,Arquivo!$D$2:$D$20000,$C151)),0)","v":0},0,{"$f":"IFERROR((SUMIFS(Arquivo!$F$2:$F$20000,Arquivo!$B$2:$B$20000,N$6,Arquivo!$C$2:$C$20000,O$6,Arquivo!$D$2:$D$20000,$C151)),0)","v":0},0,{"$f":"IFERROR((SUMIFS(Arquivo!$F$2:$F$20000,Arquivo!$B$2:$B$20000,P$6,Arquivo!$C$2:$C$20000,Q$6,Arquivo!$D$2:$D$20000,$C151)),0)","v":0},0,{"$f":"IFERROR((SUMIFS(Arquivo!$F$2:$F$20000,Arquivo!$B$2:$B$20000,R$6,Arquivo!$C$2:$C$20000,S$6,Arquivo!$D$2:$D$20000,$C151)),0)","v":0},0,{"$f":"IFERROR((SUMIFS(Arquivo!$F$2:$F$20000,Arquivo!$B$2:$B$20000,T$6,Arquivo!$C$2:$C$20000,U$6,Arquivo!$D$2:$D$20000,$C151)),0)","v":0},0,{"$f":"IFERROR((SUMIFS(Arquivo!$F$2:$F$20000,Arquivo!$B$2:$B$20000,V$6,Arquivo!$C$2:$C$20000,W$6,Arquivo!$D$2:$D$20000,$C151)),0)","v":0},0,{"$f":"IFERROR((SUMIFS(Arquivo!$F$2:$F$20000,Arquivo!$B$2:$B$20000,X$6,Arquivo!$C$2:$C$20000,Y$6,Arquivo!$D$2:$D$20000,$C151)),0)","v":0},0,{"$f":"IFERROR((SUMIFS(Arquivo!$F$2:$F$20000,Arquivo!$B$2:$B$20000,Z$6,Arquivo!$C$2:$C$20000,AA$6,Arquivo!$D$2:$D$20000,$C151)),0)","v":0},0,{"$f":"IFERROR((SUMIFS(Arquivo!$F$2:$F$20000,Arquivo!$B$2:$B$20000,AB$6,Arquivo!$C$2:$C$20000,AC$6,Arquivo!$D$2:$D$20000,$C151)),0)","v":0},0,0,0,null,null,""]
[null,null,{"$f":"IF('Plano de Contas'!B135=\"\",\"\",'Plano de Contas'!B135)","v":""},{"$f":"IF($C152=\"\",\"\",VLOOKUP($C152,'Plano de Contas'!$B$2:$E$200,4,FALSE))","v":""},{"$f":"IF($C152=\"\",\"\",VLOOKUP($C152,'Plano de Contas'!$B$2:$E$200,3,FALSE))","v":""},{"$f":"IFERROR((SUMIFS(Arquivo!$F$2:$F$20000,Arquivo!$B$2:$B$20000,F$6,Arquivo!$C$2:$C$20000,G$6,Arquivo!$D$2:$D$20000,$C152)),0)","v":0},0,{"$f":"IFERROR((SUMIFS(Arquivo!$F$2:$F$20000,Arquivo!$B$2:$B$20000,H$6,Arquivo!$C$2:$C$20000,I$6,Arquivo!$D$2:$D$20000,$C152)),0)","v":0},0,{"$f":"IFERROR((SUMIFS(Arquivo!$F$2:$F$20000,Arquivo!$B$2:$B$20000,J$6,Arquivo!$C$2:$C$20000,K$6,Arquivo!$D$2:$D$20000,$C152)),0)","v":0},0,{"$f":"IFERROR((SUMIFS(Arquivo!$F$2:$F$20000,Arquivo!$B$2:$B$20000,L$6,Arquivo!$C$2:$C$20000,M$6,Arquivo!$D$2:$D$20000,$C152)),0)","v":0},0,{"$f":"IFERROR((SUMIFS(Arquivo!$F$2:$F$20000,Arquivo!$B$2:$B$20000,N$6,Arquivo!$C$2:$C$20000,O$6,Arquivo!$D$2:$D$20000,$C152)),0)","v":0},0,{"$f":"IFERROR((SUMIFS(Arquivo!$F$2:$F$20000,Arquivo!$B$2:$B$20000,P$6,Arquivo!$C$2:$C$20000,Q$6,Arquivo!$D$2:$D$20000,$C152)),0)","v":0},0,{"$f":"IFERROR((SUMIFS(Arquivo!$F$2:$F$20000,Arquivo!$B$2:$B$20000,R$6,Arquivo!$C$2:$C$20000,S$6,Arquivo!$D$2:$D$20000,$C152)),0)","v":0},0,{"$f":"IFERROR((SUMIFS(Arquivo!$F$2:$F$20000,Arquivo!$B$2:$B$20000,T$6,Arquivo!$C$2:$C$20000,U$6,Arquivo!$D$2:$D$20000,$C152)),0)","v":0},0,{"$f":"IFERROR((SUMIFS(Arquivo!$F$2:$F$20000,Arquivo!$B$2:$B$20000,V$6,Arquivo!$C$2:$C$20000,W$6,Arquivo!$D$2:$D$20000,$C152)),0)","v":0},0,{"$f":"IFERROR((SUMIFS(Arquivo!$F$2:$F$20000,Arquivo!$B$2:$B$20000,X$6,Arquivo!$C$2:$C$20000,Y$6,Arquivo!$D$2:$D$20000,$C152)),0)","v":0},0,{"$f":"IFERROR((SUMIFS(Arquivo!$F$2:$F$20000,Arquivo!$B$2:$B$20000,Z$6,Arquivo!$C$2:$C$20000,AA$6,Arquivo!$D$2:$D$20000,$C152)),0)","v":0},0,{"$f":"IFERROR((SUMIFS(Arquivo!$F$2:$F$20000,Arquivo!$B$2:$B$20000,AB$6,Arquivo!$C$2:$C$20000,AC$6,Arquivo!$D$2:$D$20000,$C152)),0)","v":0},0,0,0,null,null,""]
[null,null,{"$f":"IF('Plano de Contas'!B136=\"\",\"\",'Plano de Contas'!B136)","v":""},{"$f":"IF($C153=\"\",\"\",VLOOKUP($C153,'Plano de Contas'!$B$2:$E$200,4,FALSE))","v":""},{"$f":"IF($C153=\"\",\"\",VLOOKUP($C153,'Plano de Contas'!$B$2:$E$200,3,FALSE))","v":""},{"$f":"IFERROR((SUMIFS(Arquivo!$F$2:$F$20000,Arquivo!$B$2:$B$20000,F$6,Arquivo!$C$2:$C$20000,G$6,Arquivo!$D$2:$D$20000,$C153)),0)","v":0},0,{"$f":"IFERROR((SUMIFS(Arquivo!$F$2:$F$20000,Arquivo!$B$2:$B$20000,H$6,Arquivo!$C$2:$C$20000,I$6,Arquivo!$D$2:$D$20000,$C153)),0)","v":0},0,{"$f":"IFERROR((SUMIFS(Arquivo!$F$2:$F$20000,Arquivo!$B$2:$B$20000,J$6,Arquivo!$C$2:$C$20000,K$6,Arquivo!$D$2:$D$20000,$C153)),0)","v":0},0,{"$f":"IFERROR((SUMIFS(Arquivo!$F$2:$F$20000,Arquivo!$B$2:$B$20000,L$6,Arquivo!$C$2:$C$20000,M$6,Arquivo!$D$2:$D$20000,$C153)),0)","v":0},0,{"$f":"IFERROR((SUMIFS(Arquivo!$F$2:$F$20000,Arquivo!$B$2:$B$20000,N$6,Arquivo!$C$2:$C$20000,O$6,Arquivo!$D$2:$D$20000,$C153)),0)","v":0},0,{"$f":"IFERROR((SUMIFS(Arquivo!$F$2:$F$20000,Arquivo!$B$2:$B$20000,P$6,Arquivo!$C$2:$C$20000,Q$6,Arquivo!$D$2:$D$20000,$C153)),0)","v":0},0,{"$f":"IFERROR((SUMIFS(Arquivo!$F$2:$F$20000,Arquivo!$B$2:$B$20000,R$6,Arquivo!$C$2:$C$20000,S$6,Arquivo!$D$2:$D$20000,$C153)),0)","v":0},0,{"$f":"IFERROR((SUMIFS(Arquivo!$F$2:$F$20000,Arquivo!$B$2:$B$20000,T$6,Arquivo!$C$2:$C$20000,U$6,Arquivo!$D$2:$D$20000,$C153)),0)","v":0},0,{"$f":"IFERROR((SUMIFS(Arquivo!$F$2:$F$20000,Arquivo!$B$2:$B$20000,V$6,Arquivo!$C$2:$C$20000,W$6,Arquivo!$D$2:$D$20000,$C153)),0)","v":0},0,{"$f":"IFERROR((SUMIFS(Arquivo!$F$2:$F$20000,Arquivo!$B$2:$B$20000,X$6,Arquivo!$C$2:$C$20000,Y$6,Arquivo!$D$2:$D$20000,$C153)),0)","v":0},0,{"$f":"IFERROR((SUMIFS(Arquivo!$F$2:$F$20000,Arquivo!$B$2:$B$20000,Z$6,Arquivo!$C$2:$C$20000,AA$6,Arquivo!$D$2:$D$20000,$C153)),0)","v":0},0,{"$f":"IFERROR((SUMIFS(Arquivo!$F$2:$F$20000,Arquivo!$B$2:$B$20000,AB$6,Arquivo!$C$2:$C$20000,AC$6,Arquivo!$D$2:$D$20000,$C153)),0)","v":0},0,0,0,null,null,""]
[null,null,{"$f":"IF('Plano de Contas'!B137=\"\",\"\",'Plano de Contas'!B137)","v":""},{"$f":"IF($C154=\"\",\"\",VLOOKUP($C154,'Plano de Contas'!$B$2:$E$200,4,FALSE))","v":""},{"$f":"IF($C154=\"\",\"\",VLOOKUP($C154,'Plano de Contas'!$B$2:$E$200,3,FALSE))","v":""},{"$f":"IFERROR((SUMIFS(Arquivo!$F$2:$F$20000,Arquivo!$B$2:$B$20000,F$6,Arquivo!$C$2:$C$20000,G$6,Arquivo!$D$2:$D$20000,$C154)),0)","v":0},0,{"$f":"IFERROR((SUMIFS(Arquivo!$F$2:$F$20000,Arquivo!$B$2:$B$20000,H$6,Arquivo!$C$2:$C$20000,I$6,Arquivo!$D$2:$D$20000,$C154)),0)","v":0},0,{"$f":"IFERROR((SUMIFS(Arquivo!$F$2:$F$20000,Arquivo!$B$2:$B$20000,J$6,Arquivo!$C$2:$C$20000,K$6,Arquivo!$D$2:$D$20000,$C154)),0)","v":0},0,{"$f":"IFERROR((SUMIFS(Arquivo!$F$2:$F$20000,Arquivo!$B$2:$B$20000,L$6,Arquivo!$C$2:$C$20000,M$6,Arquivo!$D$2:$D$20000,$C154)),0)","v":0},0,{"$f":"IFERROR((SUMIFS(Arquivo!$F$2:$F$20000,Arquivo!$B$2:$B$20000,N$6,Arquivo!$C$2:$C$20000,O$6,Arquivo!$D$2:$D$20000,$C154)),0)","v":0},0,{"$f":"IFERROR((SUMIFS(Arquivo!$F$2:$F$20000,Arquivo!$B$2:$B$20000,P$6,Arquivo!$C$2:$C$20000,Q$6,Arquivo!$D$2:$D$20000,$C154)),0)","v":0},0,{"$f":"IFERROR((SUMIFS(Arquivo!$F$2:$F$20000,Arquivo!$B$2:$B$20000,R$6,Arquivo!$C$2:$C$20000,S$6,Arquivo!$D$2:$D$20000,$C154)),0)","v":0},0,{"$f":"IFERROR((SUMIFS(Arquivo!$F$2:$F$20000,Arquivo!$B$2:$B$20000,T$6,Arquivo!$C$2:$C$20000,U$6,Arquivo!$D$2:$D$20000,$C154)),0)","v":0},0,{"$f":"IFERROR((SUMIFS(Arquivo!$F$2:$F$20000,Arquivo!$B$2:$B$20000,V$6,Arquivo!$C$2:$C$20000,W$6,Arquivo!$D$2:$D$20000,$C154)),0)","v":0},0,{"$f":"IFERROR((SUMIFS(Arquivo!$F$2:$F$20000,Arquivo!$B$2:$B$20000,X$6,Arquivo!$C$2:$C$20000,Y$6,Arquivo!$D$2:$D$20000,$C154)),0)","v":0},0,{"$f":"IFERROR((SUMIFS(Arquivo!$F$2:$F$20000,Arquivo!$B$2:$B$20000,Z$6,Arquivo!$C$2:$C$20000,AA$6,Arquivo!$D$2:$D$20000,$C154)),0)","v":0},0,{"$f":"IFERROR((SUMIFS(Arquivo!$F$2:$F$20000,Arquivo!$B$2:$B$20000,AB$6,Arquivo!$C$2:$C$20000,AC$6,Arquivo!$D$2:$D$20000,$C154)),0)","v":0},0,0,0,null,null,""]
[null,null,{"$f":"IF('Plano de Contas'!B138=\"\",\"\",'Plano de Contas'!B138)","v":""},{"$f":"IF($C155=\"\",\"\",VLOOKUP($C155,'Plano de Contas'!$B$2:$E$200,4,FALSE))","v":""},{"$f":"IF($C155=\"\",\"\",VLOOKUP($C155,'Plano de Contas'!$B$2:$E$200,3,FALSE))","v":""},{"$f":"IFERROR((SUMIFS(Arquivo!$F$2:$F$20000,Arquivo!$B$2:$B$20000,F$6,Arquivo!$C$2:$C$20000,G$6,Arquivo!$D$2:$D$20000,$C155)),0)","v":0},0,{"$f":"IFERROR((SUMIFS(Arquivo!$F$2:$F$20000,Arquivo!$B$2:$B$20000,H$6,Arquivo!$C$2:$C$20000,I$6,Arquivo!$D$2:$D$20000,$C155)),0)","v":0},0,{"$f":"IFERROR((SUMIFS(Arquivo!$F$2:$F$20000,Arquivo!$B$2:$B$20000,J$6,Arquivo!$C$2:$C$20000,K$6,Arquivo!$D$2:$D$20000,$C155)),0)","v":0},0,{"$f":"IFERROR((SUMIFS(Arquivo!$F$2:$F$20000,Arquivo!$B$2:$B$20000,L$6,Arquivo!$C$2:$C$20000,M$6,Arquivo!$D$2:$D$20000,$C155)),0)","v":0},0,{"$f":"IFERROR((SUMIFS(Arquivo!$F$2:$F$20000,Arquivo!$B$2:$B$20000,N$6,Arquivo!$C$2:$C$20000,O$6,Arquivo!$D$2:$D$20000,$C155)),0)","v":0},0,{"$f":"IFERROR((SUMIFS(Arquivo!$F$2:$F$20000,Arquivo!$B$2:$B$20000,P$6,Arquivo!$C$2:$C$20000,Q$6,Arquivo!$D$2:$D$20000,$C155)),0)","v":0},0,{"$f":"IFERROR((SUMIFS(Arquivo!$F$2:$F$20000,Arquivo!$B$2:$B$20000,R$6,Arquivo!$C$2:$C$20000,S$6,Arquivo!$D$2:$D$20000,$C155)),0)","v":0},0,{"$f":"IFERROR((SUMIFS(Arquivo!$F$2:$F$20000,Arquivo!$B$2:$B$20000,T$6,Arquivo!$C$2:$C$20000,U$6,Arquivo!$D$2:$D$20000,$C155)),0)","v":0},0,{"$f":"IFERROR((SUMIFS(Arquivo!$F$2:$F$20000,Arquivo!$B$2:$B$20000,V$6,Arquivo!$C$2:$C$20000,W$6,Arquivo!$D$2:$D$20000,$C155)),0)","v":0},0,{"$f":"IFERROR((SUMIFS(Arquivo!$F$2:$F$20000,Arquivo!$B$2:$B$20000,X$6,Arquivo!$C$2:$C$20000,Y$6,Arquivo!$D$2:$D$20000,$C155)),0)","v":0},0,{"$f":"IFERROR((SUMIFS(Arquivo!$F$2:$F$20000,Arquivo!$B$2:$B$20000,Z$6,Arquivo!$C$2:$C$20000,AA$6,Arquivo!$D$2:$D$20000,$C155)),0)","v":0},0,{"$f":"IFERROR((SUMIFS(Arquivo!$F$2:$F$20000,Arquivo!$B$2:$B$20000,AB$6,Arquivo!$C$2:$C$20000,AC$6,Arquivo!$D$2:$D$20000,$C155)),0)","v":0},0,0,0,null,null,""]
[null,null,null,"","",null,null,null,null,null,null,null,null,null,null,null,null,null,null,null,null,null,null,null,null,null,null,null,null,null,null,null,null,{"$f":"IF(AH148=\"\",\"\",\"X\")","v":"X"}]
[null,null,null,"DESPESAS FINANCEIRAS",null,{"$f":"SUBTOTAL(9,F158:F167)","v":3338.04},{"$f":"IFERROR((F157/IF($X$3=\"CT\",F$10,F$157)),0)","v":3.4748562084672215E-3},{"$f":"SUBTOTAL(9,H158:H167)","v":896.36},{"$f":"IFERROR((H157/IF($X$3=\"CT\",H$10,H$157)),0)","v":1.0910860113342166E-3},{"$f":"SUBTOTAL(9,J158:J167)","v":1497.83},{"$f":"IFERROR((J157/IF($X$3=\"CT\",J$10,J$157)),0)","v":1.1319179428071712E-3},{"$f":"SUBTOTAL(9,L158:L167)","v":4770.78},{"$f":"IFERROR((L157/IF($X$3=\"CT\",L$10,L$157)),0)","v":4.7285879914988537E-3},{"$f":"SUBTOTAL(9,N158:N167)","v":927.35},{"$f":"IFERROR((N157/IF($X$3=\"CT\",N$10,N$157)),0)","v":1.1523359982384736E-3},{"$f":"SUBTOTAL(9,P158:P167)","v":5481.92},{"$f":"IFERROR((P157/IF($X$3=\"CT\",P$10,P$157)),0)","v":6.2071012221781765E-3},{"$f":"SUBTOTAL(9,R158:R167)","v":1138.98},{"$f":"IFERROR((R157/IF($X$3=\"CT\",R$10,R$157)),0)","v":1.8722539826985245E-3},{"$f":"SUBTOTAL(9,T158:T167)","v":0},{"$f":"IFERROR((T157/IF($X$3=\"CT\",T$10,T$157)),0)","v":0},{"$f":"SUBTOTAL(9,V158:V167)","v":0},{"$f":"IFERROR((V157/IF($X$3=\"CT\",V$10,V$157)),0)","v":0},{"$f":"SUBTOTAL(9,X158:X167)","v":0},{"$f":"IFERROR((X157/IF($X$3=\"CT\",X$10,X$157)),0)","v":0},{"$f":"SUBTOTAL(9,Z158:Z167)","v":0},{"$f":"IFERROR((Z157/IF($X$3=\"CT\",Z$10,Z$157)),0)","v":0},{"$f":"SUBTOTAL(9,AB158:AB167)","v":0},{"$f":"IFERROR((AB157/IF($X$3=\"CT\",AB$10,AB$157)),0)","v":0},{"$f":"SUBTOTAL(9,AD158:AD167)","v":18051.259999999998},{"$f":"IFERROR((AD157/IF($X$3=\"CT\",AD$10,AD$157)),0)","v":2.8158370214323744E-3},null,null,{"$f":"IF(COUNTIF(AH158:AH166,\"X\")>0,\"X\",\"\")","v":"X"}]
[null,null,{"$f":"IF('Plano de Contas'!B140=\"\",\"\",'Plano de Contas'!B140)","v":"8.3.1.1"},{"$f":"IF($C158=\"\",\"\",VLOOKUP($C158,'Plano de Contas'!$B$2:$E$200,4,FALSE))","v":"CV"},{"$f":"IF($C158=\"\",\"\",VLOOKUP($C158,'Plano de Contas'!$B$2:$E$200,3,FALSE))","v":"JUROS"},{"$f":"IFERROR((SUMIFS(Arquivo!$F$2:$F$20000,Arquivo!$B$2:$B$20000,F$6,Arquivo!$C$2:$C$20000,G$6,Arquivo!$D$2:$D$20000,$C158)),0)","v":0},0,{"$f":"IFERROR((SUMIFS(Arquivo!$F$2:$F$20000,Arquivo!$B$2:$B$20000,H$6,Arquivo!$C$2:$C$20000,I$6,Arquivo!$D$2:$D$20000,$C158)),0)","v":0},0,{"$f":"IFERROR((SUMIFS(Arquivo!$F$2:$F$20000,Arquivo!$B$2:$B$20000,J$6,Arquivo!$C$2:$C$20000,K$6,Arquivo!$D$2:$D$20000,$C158)),0)","v":0},0,{"$f":"IFERROR((SUMIFS(Arquivo!$F$2:$F$20000,Arquivo!$B$2:$B$20000,L$6,Arquivo!$C$2:$C$20000,M$6,Arquivo!$D$2:$D$20000,$C158)),0)","v":0},0,{"$f":"IFERROR((SUMIFS(Arquivo!$F$2:$F$20000,Arquivo!$B$2:$B$20000,N$6,Arquivo!$C$2:$C$20000,O$6,Arquivo!$D$2:$D$20000,$C158)),0)","v":0},0,{"$f":"IFERROR((SUMIFS(Arquivo!$F$2:$F$20000,Arquivo!$B$2:$B$20000,P$6,Arquivo!$C$2:$C$20000,Q$6,Arquivo!$D$2:$D$20000,$C158)),0)","v":0},0,{"$f":"IFERROR((SUMIFS(Arquivo!$F$2:$F$20000,Arquivo!$B$2:$B$20000,R$6,Arquivo!$C$2:$C$20000,S$6,Arquivo!$D$2:$D$20000,$C158)),0)","v":0},0,{"$f":"IFERROR((SUMIFS(Arquivo!$F$2:$F$20000,Arquivo!$B$2:$B$20000,T$6,Arquivo!$C$2:$C$20000,U$6,Arquivo!$D$2:$D$20000,$C158)),0)","v":0},0,{"$f":"IFERROR((SUMIFS(Arquivo!$F$2:$F$20000,Arquivo!$B$2:$B$20000,V$6,Arquivo!$C$2:$C$20000,W$6,Arquivo!$D$2:$D$20000,$C158)),0)","v":0},0,{"$f":"IFERROR((SUMIFS(Arquivo!$F$2:$F$20000,Arquivo!$B$2:$B$20000,X$6,Arquivo!$C$2:$C$20000,Y$6,Arquivo!$D$2:$D$20000,$C158)),0)","v":0},0,{"$f":"IFERROR((SUMIFS(Arquivo!$F$2:$F$20000,Arquivo!$B$2:$B$20000,Z$6,Arquivo!$C$2:$C$20000,AA$6,Arquivo!$D$2:$D$20000,$C158)),0)","v":0},0,{"$f":"IFERROR((SUMIFS(Arquivo!$F$2:$F$20000,Arquivo!$B$2:$B$20000,AB$6,Arquivo!$C$2:$C$20000,AC$6,Arquivo!$D$2:$D$20000,$C158)),0)","v":0},0,{"$f":"F158+H158+J158+L158+N158+P158+R158+T158+V158+X158+Z158+AB158","v":0},0,null,null,{"$f":"IF($AD158=0,\"\",IF($X$3=\"CT\",\"X\",IF($X$3=$D158,\"X\",\"\")))","v":""}]
[null,null,{"$f":"IF('Plano de Contas'!B141=\"\",\"\",'Plano de Contas'!B141)","v":"8.3.1.2"},{"$f":"IF($C159=\"\",\"\",VLOOKUP($C159,'Plano de Contas'!$B$2:$E$200,4,FALSE))","v":"CV"},{"$f":"IF($C159=\"\",\"\",VLOOKUP($C159,'Plano de Contas'!$B$2:$E$200,3,FALSE))","v":"OUTRAS DESP.FINANCEIRAS"},{"$f":"IFERROR((SUMIFS(Arquivo!$F$2:$F$20000,Arquivo!$B$2:$B$20000,F$6,Arquivo!$C$2:$C$20000,G$6,Arquivo!$D$2:$D$20000,$C159)),0)","v":1155.04},1.202381611672712E-3,{"$f":"IFERROR((SUMIFS(Arquivo!$F$2:$F$20000,Arquivo!$B$2:$B$20000,H$6,Arquivo!$C$2:$C$20000,I$6,Arquivo!$D$2:$D$20000,$C159)),0)","v":896.36},1.0910860113342166E-3,{"$f":"IFERROR((SUMIFS(Arquivo!$F$2:$F$20000,Arquivo!$B$2:$B$20000,J$6,Arquivo!$C$2:$C$20000,K$6,Arquivo!$D$2:$D$20000,$C159)),0)","v":897.83},6.7849481355732131E-4,{"$f":"IFERROR((SUMIFS(Arquivo!$F$2:$F$20000,Arquivo!$B$2:$B$20000,L$6,Arquivo!$C$2:$C$20000,M$6,Arquivo!$D$2:$D$20000,$C159)),0)","v":1021.63},1.0125948691314572E-3,{"$f":"IFERROR((SUMIFS(Arquivo!$F$2:$F$20000,Arquivo!$B$2:$B$20000,N$6,Arquivo!$C$2:$C$20000,O$6,Arquivo!$D$2:$D$20000,$C159)),0)","v":927.35},1.1523359982384736E-3,{"$f":"IFERROR((SUMIFS(Arquivo!$F$2:$F$20000,Arquivo!$B$2:$B$20000,P$6,Arquivo!$C$2:$C$20000,Q$6,Arquivo!$D$2:$D$20000,$C159)),0)","v":1190.72},1.3482355757238338E-3,{"$f":"IFERROR((SUMIFS(Arquivo!$F$2:$F$20000,Arquivo!$B$2:$B$20000,R$6,Arquivo!$C$2:$C$20000,S$6,Arquivo!$D$2:$D$20000,$C159)),0)","v":888.98},1.461304277107003E-3,{"$f":"IFERROR((SUMIFS(Arquivo!$F$2:$F$20000,Arquivo!$B$2:$B$20000,T$6,Arquivo!$C$2:$C$20000,U$6,Arquivo!$D$2:$D$20000,$C159)),0)","v":0},0,{"$f":"IFERROR((SUMIFS(Arquivo!$F$2:$F$20000,Arquivo!$B$2:$B$20000,V$6,Arquivo!$C$2:$C$20000,W$6,Arquivo!$D$2:$D$20000,$C159)),0)","v":0},0,{"$f":"IFERROR((SUMIFS(Arquivo!$F$2:$F$20000,Arquivo!$B$2:$B$20000,X$6,Arquivo!$C$2:$C$20000,Y$6,Arquivo!$D$2:$D$20000,$C159)),0)","v":0},0,{"$f":"IFERROR((SUMIFS(Arquivo!$F$2:$F$20000,Arquivo!$B$2:$B$20000,Z$6,Arquivo!$C$2:$C$20000,AA$6,Arquivo!$D$2:$D$20000,$C159)),0)","v":0},0,{"$f":"IFERROR((SUMIFS(Arquivo!$F$2:$F$20000,Arquivo!$B$2:$B$20000,AB$6,Arquivo!$C$2:$C$20000,AC$6,Arquivo!$D$2:$D$20000,$C159)),0)","v":0},0,6977.91,1.0884922886393073E-3,null,null,"X"]
[null,null,{"$f":"IF('Plano de Contas'!B142=\"\",\"\",'Plano de Contas'!B142)","v":"8.2.1.4"},{"$f":"IF($C160=\"\",\"\",VLOOKUP($C160,'Plano de Contas'!$B$2:$E$200,4,FALSE))","v":"CV"},{"$f":"IF($C160=\"\",\"\",VLOOKUP($C160,'Plano de Contas'!$B$2:$E$200,3,FALSE))","v":"DESCONTOS CONCEDIDOS"},{"$f":"IFERROR((SUMIFS(Arquivo!$F$2:$F$20000,Arquivo!$B$2:$B$20000,F$6,Arquivo!$C$2:$C$20000,G$6,Arquivo!$D$2:$D$20000,$C160)),0)","v":2183},2.2724745967945097E-3,{"$f":"IFERROR((SUMIFS(Arquivo!$F$2:$F$20000,Arquivo!$B$2:$B$20000,H$6,Arquivo!$C$2:$C$20000,I$6,Arquivo!$D$2:$D$20000,$C160)),0)","v":0},0,{"$f":"IFERROR((SUMIFS(Arquivo!$F$2:$F$20000,Arquivo!$B$2:$B$20000,J$6,Arquivo!$C$2:$C$20000,K$6,Arquivo!$D$2:$D$20000,$C160)),0)","v":600},4.5342312924984997E-4,{"$f":"IFERROR((SUMIFS(Arquivo!$F$2:$F$20000,Arquivo!$B$2:$B$20000,L$6,Arquivo!$C$2:$C$20000,M$6,Arquivo!$D$2:$D$20000,$C160)),0)","v":3749.15},3.7159931223673965E-3,{"$f":"IFERROR((SUMIFS(Arquivo!$F$2:$F$20000,Arquivo!$B$2:$B$20000,N$6,Arquivo!$C$2:$C$20000,O$6,Arquivo!$D$2:$D$20000,$C160)),0)","v":0},0,{"$f":"IFERROR((SUMIFS(Arquivo!$F$2:$F$20000,Arquivo!$B$2:$B$20000,P$6,Arquivo!$C$2:$C$20000,Q$6,Arquivo!$D$2:$D$20000,$C160)),0)","v":4291.2},4.8588656464543427E-3,{"$f":"IFERROR((SUMIFS(Arquivo!$F$2:$F$20000,Arquivo!$B$2:$B$20000,R$6,Arquivo!$C$2:$C$20000,S$6,Arquivo!$D$2:$D$20000,$C160)),0)","v":250},4.1094970559152143E-4,{"$f":"IFERROR((SUMIFS(Arquivo!$F$2:$F$20000,Arquivo!$B$2:$B$20000,T$6,Arquivo!$C$2:$C$20000,U$6,Arquivo!$D$2:$D$20000,$C160)),0)","v":0},0,{"$f":"IFERROR((SUMIFS(Arquivo!$F$2:$F$20000,Arquivo!$B$2:$B$20000,V$6,Arquivo!$C$2:$C$20000,W$6,Arquivo!$D$2:$D$20000,$C160)),0)","v":0},0,{"$f":"IFERROR((SUMIFS(Arquivo!$F$2:$F$20000,Arquivo!$B$2:$B$20000,X$6,Arquivo!$C$2:$C$20000,Y$6,Arquivo!$D$2:$D$20000,$C160)),0)","v":0},0,{"$f":"IFERROR((SUMIFS(Arquivo!$F$2:$F$20000,Arquivo!$B$2:$B$20000,Z$6,Arquivo!$C$2:$C$20000,AA$6,Arquivo!$D$2:$D$20000,$C160)),0)","v":0},0,{"$f":"IFERROR((SUMIFS(Arquivo!$F$2:$F$20000,Arquivo!$B$2:$B$20000,AB$6,Arquivo!$C$2:$C$20000,AC$6,Arquivo!$D$2:$D$20000,$C160)),0)","v":0},0,11073.349999999999,1.7273447327930671E-3,null,null,"X"]
[null,null,{"$f":"IF('Plano de Contas'!B143=\"\",\"\",'Plano de Contas'!B143)","v":"8.4.1.1"},{"$f":"IF($C161=\"\",\"\",VLOOKUP($C161,'Plano de Contas'!$B$2:$E$200,4,FALSE))","v":"CV"},{"$f":"IF($C161=\"\",\"\",VLOOKUP($C161,'Plano de Contas'!$B$2:$E$200,3,FALSE))","v":"CPMF"},{"$f":"IFERROR((SUMIFS(Arquivo!$F$2:$F$20000,Arquivo!$B$2:$B$20000,F$6,Arquivo!$C$2:$C$20000,G$6,Arquivo!$D$2:$D$20000,$C161)),0)","v":0},0,{"$f":"IFERROR((SUMIFS(Arquivo!$F$2:$F$20000,Arquivo!$B$2:$B$20000,H$6,Arquivo!$C$2:$C$20000,I$6,Arquivo!$D$2:$D$20000,$C161)),0)","v":0},0,{"$f":"IFERROR((SUMIFS(Arquivo!$F$2:$F$20000,Arquivo!$B$2:$B$20000,J$6,Arquivo!$C$2:$C$20000,K$6,Arquivo!$D$2:$D$20000,$C161)),0)","v":0},0,{"$f":"IFERROR((SUMIFS(Arquivo!$F$2:$F$20000,Arquivo!$B$2:$B$20000,L$6,Arquivo!$C$2:$C$20000,M$6,Arquivo!$D$2:$D$20000,$C161)),0)","v":0},0,{"$f":"IFERROR((SUMIFS(Arquivo!$F$2:$F$20000,Arquivo!$B$2:$B$20000,N$6,Arquivo!$C$2:$C$20000,O$6,Arquivo!$D$2:$D$20000,$C161)),0)","v":0},0,{"$f":"IFERROR((SUMIFS(Arquivo!$F$2:$F$20000,Arquivo!$B$2:$B$20000,P$6,Arquivo!$C$2:$C$20000,Q$6,Arquivo!$D$2:$D$20000,$C161)),0)","v":0},0,{"$f":"IFERROR((SUMIFS(Arquivo!$F$2:$F$20000,Arquivo!$B$2:$B$20000,R$6,Arquivo!$C$2:$C$20000,S$6,Arquivo!$D$2:$D$20000,$C161)),0)","v":0},0,{"$f":"IFERROR((SUMIFS(Arquivo!$F$2:$F$20000,Arquivo!$B$2:$B$20000,T$6,Arquivo!$C$2:$C$20000,U$6,Arquivo!$D$2:$D$20000,$C161)),0)","v":0},0,{"$f":"IFERROR((SUMIFS(Arquivo!$F$2:$F$20000,Arquivo!$B$2:$B$20000,V$6,Arquivo!$C$2:$C$20000,W$6,Arquivo!$D$2:$D$20000,$C161)),0)","v":0},0,{"$f":"IFERROR((SUMIFS(Arquivo!$F$2:$F$20000,Arquivo!$B$2:$B$20000,X$6,Arquivo!$C$2:$C$20000,Y$6,Arquivo!$D$2:$D$20000,$C161)),0)","v":0},0,{"$f":"IFERROR((SUMIFS(Arquivo!$F$2:$F$20000,Arquivo!$B$2:$B$20000,Z$6,Arquivo!$C$2:$C$20000,AA$6,Arquivo!$D$2:$D$20000,$C161)),0)","v":0},0,{"$f":"IFERROR((SUMIFS(Arquivo!$F$2:$F$20000,Arquivo!$B$2:$B$20000,AB$6,Arquivo!$C$2:$C$20000,AC$6,Arquivo!$D$2:$D$20000,$C161)),0)","v":0},0,0,0,null,null,""]
[null,null,{"$f":"IF('Plano de Contas'!B144=\"\",\"\",'Plano de Contas'!B144)","v":""},{"$f":"IF($C162=\"\",\"\",VLOOKUP($C162,'Plano de Contas'!$B$2:$E$200,4,FALSE))","v":""},{"$f":"IF($C162=\"\",\"\",VLOOKUP($C162,'Plano de Contas'!$B$2:$E$200,3,FALSE))","v":""},{"$f":"IFERROR((SUMIFS(Arquivo!$F$2:$F$20000,Arquivo!$B$2:$B$20000,F$6,Arquivo!$C$2:$C$20000,G$6,Arquivo!$D$2:$D$20000,$C162)),0)","v":0},0,{"$f":"IFERROR((SUMIFS(Arquivo!$F$2:$F$20000,Arquivo!$B$2:$B$20000,H$6,Arquivo!$C$2:$C$20000,I$6,Arquivo!$D$2:$D$20000,$C162)),0)","v":0},0,{"$f":"IFERROR((SUMIFS(Arquivo!$F$2:$F$20000,Arquivo!$B$2:$B$20000,J$6,Arquivo!$C$2:$C$20000,K$6,Arquivo!$D$2:$D$20000,$C162)),0)","v":0},0,{"$f":"IFERROR((SUMIFS(Arquivo!$F$2:$F$20000,Arquivo!$B$2:$B$20000,L$6,Arquivo!$C$2:$C$20000,M$6,Arquivo!$D$2:$D$20000,$C162)),0)","v":0},0,{"$f":"IFERROR((SUMIFS(Arquivo!$F$2:$F$20000,Arquivo!$B$2:$B$20000,N$6,Arquivo!$C$2:$C$20000,O$6,Arquivo!$D$2:$D$20000,$C162)),0)","v":0},0,{"$f":"IFERROR((SUMIFS(Arquivo!$F$2:$F$20000,Arquivo!$B$2:$B$20000,P$6,Arquivo!$C$2:$C$20000,Q$6,Arquivo!$D$2:$D$20000,$C162)),0)","v":0},0,{"$f":"IFERROR((SUMIFS(Arquivo!$F$2:$F$20000,Arquivo!$B$2:$B$20000,R$6,Arquivo!$C$2:$C$20000,S$6,Arquivo!$D$2:$D$20000,$C162)),0)","v":0},0,{"$f":"IFERROR((SUMIFS(Arquivo!$F$2:$F$20000,Arquivo!$B$2:$B$20000,T$6,Arquivo!$C$2:$C$20000,U$6,Arquivo!$D$2:$D$20000,$C162)),0)","v":0},0,{"$f":"IFERROR((SUMIFS(Arquivo!$F$2:$F$20000,Arquivo!$B$2:$B$20000,V$6,Arquivo!$C$2:$C$20000,W$6,Arquivo!$D$2:$D$20000,$C162)),0)","v":0},0,{"$f":"IFERROR((SUMIFS(Arquivo!$F$2:$F$20000,Arquivo!$B$2:$B$20000,X$6,Arquivo!$C$2:$C$20000,Y$6,Arquivo!$D$2:$D$20000,$C162)),0)","v":0},0,{"$f":"IFERROR((SUMIFS(Arquivo!$F$2:$F$20000,Arquivo!$B$2:$B$20000,Z$6,Arquivo!$C$2:$C$20000,AA$6,Arquivo!$D$2:$D$20000,$C162)),0)","v":0},0,{"$f":"IFERROR((SUMIFS(Arquivo!$F$2:$F$20000,Arquivo!$B$2:$B$20000,AB$6,Arquivo!$C$2:$C$20000,AC$6,Arquivo!$D$2:$D$20000,$C162)),0)","v":0},0,0,0,null,null,""]
[null,null,{"$f":"IF('Plano de Contas'!B145=\"\",\"\",'Plano de Contas'!B145)","v":""},{"$f":"IF($C163=\"\",\"\",VLOOKUP($C163,'Plano de Contas'!$B$2:$E$200,4,FALSE))","v":""},{"$f":"IF($C163=\"\",\"\",VLOOKUP($C163,'Plano de Contas'!$B$2:$E$200,3,FALSE))","v":""},{"$f":"IFERROR((SUMIFS(Arquivo!$F$2:$F$20000,Arquivo!$B$2:$B$20000,F$6,Arquivo!$C$2:$C$20000,G$6,Arquivo!$D$2:$D$20000,$C163)),0)","v":0},0,{"$f":"IFERROR((SUMIFS(Arquivo!$F$2:$F$20000,Arquivo!$B$2:$B$20000,H$6,Arquivo!$C$2:$C$20000,I$6,Arquivo!$D$2:$D$20000,$C163)),0)","v":0},0,{"$f":"IFERROR((SUMIFS(Arquivo!$F$2:$F$20000,Arquivo!$B$2:$B$20000,J$6,Arquivo!$C$2:$C$20000,K$6,Arquivo!$D$2:$D$20000,$C163)),0)","v":0},0,{"$f":"IFERROR((SUMIFS(Arquivo!$F$2:$F$20000,Arquivo!$B$2:$B$20000,L$6,Arquivo!$C$2:$C$20000,M$6,Arquivo!$D$2:$D$20000,$C163)),0)","v":0},0,{"$f":"IFERROR((SUMIFS(Arquivo!$F$2:$F$20000,Arquivo!$B$2:$B$20000,N$6,Arquivo!$C$2:$C$20000,O$6,Arquivo!$D$2:$D$20000,$C163)),0)","v":0},0,{"$f":"IFERROR((SUMIFS(Arquivo!$F$2:$F$20000,Arquivo!$B$2:$B$20000,P$6,Arquivo!$C$2:$C$20000,Q$6,Arquivo!$D$2:$D$20000,$C163)),0)","v":0},0,{"$f":"IFERROR((SUMIFS(Arquivo!$F$2:$F$20000,Arquivo!$B$2:$B$20000,R$6,Arquivo!$C$2:$C$20000,S$6,Arquivo!$D$2:$D$20000,$C163)),0)","v":0},0,{"$f":"IFERROR((SUMIFS(Arquivo!$F$2:$F$20000,Arquivo!$B$2:$B$20000,T$6,Arquivo!$C$2:$C$20000,U$6,Arquivo!$D$2:$D$20000,$C163)),0)","v":0},0,{"$f":"IFERROR((SUMIFS(Arquivo!$F$2:$F$20000,Arquivo!$B$2:$B$20000,V$6,Arquivo!$C$2:$C$20000,W$6,Arquivo!$D$2:$D$20000,$C163)),0)","v":0},0,{"$f":"IFERROR((SUMIFS(Arquivo!$F$2:$F$20000,Arquivo!$B$2:$B$20000,X$6,Arquivo!$C$2:$C$20000,Y$6,Arquivo!$D$2:$D$20000,$C163)),0)","v":0},0,{"$f":"IFERROR((SUMIFS(Arquivo!$F$2:$F$20000,Arquivo!$B$2:$B$20000,Z$6,Arquivo!$C$2:$C$20000,AA$6,Arquivo!$D$2:$D$20000,$C163)),0)","v":0},0,{"$f":"IFERROR((SUMIFS(Arquivo!$F$2:$F$20000,Arquivo!$B$2:$B$20000,AB$6,Arquivo!$C$2:$C$20000,AC$6,Arquivo!$D$2:$D$20000,$C163)),0)","v":0},0,0,0,null,null,""]
[null,null,{"$f":"IF('Plano de Contas'!B146=\"\",\"\",'Plano de Contas'!B146)","v":""},{"$f":"IF($C164=\"\",\"\",VLOOKUP($C164,'Plano de Contas'!$B$2:$E$200,4,FALSE))","v":""},{"$f":"IF($C164=\"\",\"\",VLOOKUP($C164,'Plano de Contas'!$B$2:$E$200,3,FALSE))","v":""},{"$f":"IFERROR((SUMIFS(Arquivo!$F$2:$F$20000,Arquivo!$B$2:$B$20000,F$6,Arquivo!$C$2:$C$20000,G$6,Arquivo!$D$2:$D$20000,$C164)),0)","v":0},0,{"$f":"IFERROR((SUMIFS(Arquivo!$F$2:$F$20000,Arquivo!$B$2:$B$20000,H$6,Arquivo!$C$2:$C$20000,I$6,Arquivo!$D$2:$D$20000,$C164)),0)","v":0},0,{"$f":"IFERROR((SUMIFS(Arquivo!$F$2:$F$20000,Arquivo!$B$2:$B$20000,J$6,Arquivo!$C$2:$C$20000,K$6,Arquivo!$D$2:$D$20000,$C164)),0)","v":0},0,{"$f":"IFERROR((SUMIFS(Arquivo!$F$2:$F$20000,Arquivo!$B$2:$B$20000,L$6,Arquivo!$C$2:$C$20000,M$6,Arquivo!$D$2:$D$20000,$C164)),0)","v":0},0,{"$f":"IFERROR((SUMIFS(Arquivo!$F$2:$F$20000,Arquivo!$B$2:$B$20000,N$6,Arquivo!$C$2:$C$20000,O$6,Arquivo!$D$2:$D$20000,$C164)),0)","v":0},0,{"$f":"IFERROR((SUMIFS(Arquivo!$F$2:$F$20000,Arquivo!$B$2:$B$20000,P$6,Arquivo!$C$2:$C$20000,Q$6,Arquivo!$D$2:$D$20000,$C164)),0)","v":0},0,{"$f":"IFERROR((SUMIFS(Arquivo!$F$2:$F$20000,Arquivo!$B$2:$B$20000,R$6,Arquivo!$C$2:$C$20000,S$6,Arquivo!$D$2:$D$20000,$C164)),0)","v":0},0,{"$f":"IFERROR((SUMIFS(Arquivo!$F$2:$F$20000,Arquivo!$B$2:$B$20000,T$6,Arquivo!$C$2:$C$20000,U$6,Arquivo!$D$2:$D$20000,$C164)),0)","v":0},0,{"$f":"IFERROR((SUMIFS(Arquivo!$F$2:$F$20000,Arquivo!$B$2:$B$20000,V$6,Arquivo!$C$2:$C$20000,W$6,Arquivo!$D$2:$D$20000,$C164)),0)","v":0},0,{"$f":"IFERROR((SUMIFS(Arquivo!$F$2:$F$20000,Arquivo!$B$2:$B$20000,X$6,Arquivo!$C$2:$C$20000,Y$6,Arquivo!$D$2:$D$20000,$C164)),0)","v":0},0,{"$f":"IFERROR((SUMIFS(Arquivo!$F$2:$F$20000,Arquivo!$B$2:$B$20000,Z$6,Arquivo!$C$2:$C$20000,AA$6,Arquivo!$D$2:$D$20000,$C164)),0)","v":0},0,{"$f":"IFERROR((SUMIFS(Arquivo!$F$2:$F$20000,Arquivo!$B$2:$B$20000,AB$6,Arquivo!$C$2:$C$20000,AC$6,Arquivo!$D$2:$D$20000,$C164)),0)","v":0},0,0,0,null,null,""]
[null,null,{"$f":"IF('Plano de Contas'!B147=\"\",\"\",'Plano de Contas'!B147)","v":""},{"$f":"IF($C165=\"\",\"\",VLOOKUP($C165,'Plano de Contas'!$B$2:$E$200,4,FALSE))","v":""},{"$f":"IF($C165=\"\",\"\",VLOOKUP($C165,'Plano de Contas'!$B$2:$E$200,3,FALSE))","v":""},{"$f":"IFERROR((SUMIFS(Arquivo!$F$2:$F$20000,Arquivo!$B$2:$B$20000,F$6,Arquivo!$C$2:$C$20000,G$6,Arquivo!$D$2:$D$20000,$C165)),0)","v":0},0,{"$f":"IFERROR((SUMIFS(Arquivo!$F$2:$F$20000,Arquivo!$B$2:$B$20000,H$6,Arquivo!$C$2:$C$20000,I$6,Arquivo!$D$2:$D$20000,$C165)),0)","v":0},0,{"$f":"IFERROR((SUMIFS(Arquivo!$F$2:$F$20000,Arquivo!$B$2:$B$20000,J$6,Arquivo!$C$2:$C$20000,K$6,Arquivo!$D$2:$D$20000,$C165)),0)","v":0},0,{"$f":"IFERROR((SUMIFS(Arquivo!$F$2:$F$20000,Arquivo!$B$2:$B$20000,L$6,Arquivo!$C$2:$C$20000,M$6,Arquivo!$D$2:$D$20000,$C165)),0)","v":0},0,{"$f":"IFERROR((SUMIFS(Arquivo!$F$2:$F$20000,Arquivo!$B$2:$B$20000,N$6,Arquivo!$C$2:$C$20000,O$6,Arquivo!$D$2:$D$20000,$C165)),0)","v":0},0,{"$f":"IFERROR((SUMIFS(Arquivo!$F$2:$F$20000,Arquivo!$B$2:$B$20000,P$6,Arquivo!$C$2:$C$20000,Q$6,Arquivo!$D$2:$D$20000,$C165)),0)","v":0},0,{"$f":"IFERROR((SUMIFS(Arquivo!$F$2:$F$20000,Arquivo!$B$2:$B$20000,R$6,Arquivo!$C$2:$C$20000,S$6,Arquivo!$D$2:$D$20000,$C165)),0)","v":0},0,{"$f":"IFERROR((SUMIFS(Arquivo!$F$2:$F$20000,Arquivo!$B$2:$B$20000,T$6,Arquivo!$C$2:$C$20000,U$6,Arquivo!$D$2:$D$20000,$C165)),0)","v":0},0,{"$f":"IFERROR((SUMIFS(Arquivo!$F$2:$F$20000,Arquivo!$B$2:$B$20000,V$6,Arquivo!$C$2:$C$20000,W$6,Arquivo!$D$2:$D$20000,$C165)),0)","v":0},0,{"$f":"IFERROR((SUMIFS(Arquivo!$F$2:$F$20000,Arquivo!$B$2:$B$20000,X$6,Arquivo!$C$2:$C$20000,Y$6,Arquivo!$D$2:$D$20000,$C165)),0)","v":0},0,{"$f":"IFERROR((SUMIFS(Arquivo!$F$2:$F$20000,Arquivo!$B$2:$B$20000,Z$6,Arquivo!$C$2:$C$20000,AA$6,Arquivo!$D$2:$D$20000,$C165)),0)","v":0},0,{"$f":"IFERROR((SUMIFS(Arquivo!$F$2:$F$20000,Arquivo!$B$2:$B$20000,AB$6,Arquivo!$C$2:$C$20000,AC$6,Arquivo!$D$2:$D$20000,$C165)),0)","v":0},0,0,0,null,null,""]
[null,null,{"$f":"IF('Plano de Contas'!B148=\"\",\"\",'Plano de Contas'!B148)","v":""},{"$f":"IF($C166=\"\",\"\",VLOOKUP($C166,'Plano de Contas'!$B$2:$E$200,4,FALSE))","v":""},{"$f":"IF($C166=\"\",\"\",VLOOKUP($C166,'Plano de Contas'!$B$2:$E$200,3,FALSE))","v":""},{"$f":"IFERROR((SUMIFS(Arquivo!$F$2:$F$20000,Arquivo!$B$2:$B$20000,F$6,Arquivo!$C$2:$C$20000,G$6,Arquivo!$D$2:$D$20000,$C166)),0)","v":0},0,{"$f":"IFERROR((SUMIFS(Arquivo!$F$2:$F$20000,Arquivo!$B$2:$B$20000,H$6,Arquivo!$C$2:$C$20000,I$6,Arquivo!$D$2:$D$20000,$C166)),0)","v":0},0,{"$f":"IFERROR((SUMIFS(Arquivo!$F$2:$F$20000,Arquivo!$B$2:$B$20000,J$6,Arquivo!$C$2:$C$20000,K$6,Arquivo!$D$2:$D$20000,$C166)),0)","v":0},0,{"$f":"IFERROR((SUMIFS(Arquivo!$F$2:$F$20000,Arquivo!$B$2:$B$20000,L$6,Arquivo!$C$2:$C$20000,M$6,Arquivo!$D$2:$D$20000,$C166)),0)","v":0},0,{"$f":"IFERROR((SUMIFS(Arquivo!$F$2:$F$20000,Arquivo!$B$2:$B$20000,N$6,Arquivo!$C$2:$C$20000,O$6,Arquivo!$D$2:$D$20000,$C166)),0)","v":0},0,{"$f":"IFERROR((SUMIFS(Arquivo!$F$2:$F$20000,Arquivo!$B$2:$B$20000,P$6,Arquivo!$C$2:$C$20000,Q$6,Arquivo!$D$2:$D$20000,$C166)),0)","v":0},0,{"$f":"IFERROR((SUMIFS(Arquivo!$F$2:$F$20000,Arquivo!$B$2:$B$20000,R$6,Arquivo!$C$2:$C$20000,S$6,Arquivo!$D$2:$D$20000,$C166)),0)","v":0},0,{"$f":"IFERROR((SUMIFS(Arquivo!$F$2:$F$20000,Arquivo!$B$2:$B$20000,T$6,Arquivo!$C$2:$C$20000,U$6,Arquivo!$D$2:$D$20000,$C166)),0)","v":0},0,{"$f":"IFERROR((SUMIFS(Arquivo!$F$2:$F$20000,Arquivo!$B$2:$B$20000,V$6,Arquivo!$C$2:$C$20000,W$6,Arquivo!$D$2:$D$20000,$C166)),0)","v":0},0,{"$f":"IFERROR((SUMIFS(Arquivo!$F$2:$F$20000,Arquivo!$B$2:$B$20000,X$6,Arquivo!$C$2:$C$20000,Y$6,Arquivo!$D$2:$D$20000,$C166)),0)","v":0},0,{"$f":"IFERROR((SUMIFS(Arquivo!$F$2:$F$20000,Arquivo!$B$2:$B$20000,Z$6,Arquivo!$C$2:$C$20000,AA$6,Arquivo!$D$2:$D$20000,$C166)),0)","v":0},0,{"$f":"IFERROR((SUMIFS(Arquivo!$F$2:$F$20000,Arquivo!$B$2:$B$20000,AB$6,Arquivo!$C$2:$C$20000,AC$6,Arquivo!$D$2:$D$20000,$C166)),0)","v":0},0,0,0,null,null,""]
[null,null,null,"","",null,null,null,null,null,null,null,null,null,null,null,null,null,null,null,null,null,null,null,null,null,null,null,null,null,null,null,null,{"$f":"IF(AH157=\"\",\"\",\"X\")","v":"X"}]
[null,null,null,"(=) RESULTADO OPERACIONAL LÍQUIDO",null,{"$f":"F41-F43","v":-10387.449999999939},{"$f":"IFERROR((F168/F$10),0)","v":-1.0813200297972052E-2},{"$f":"H41-H43","v":-4190.4599999999773},{"$f":"IFERROR((H168/H$10),0)","v":-5.1007991064478068E-3},{"$f":"J41-J43","v":25302.919999999984},{"$f":"IFERROR((J168/J$10),0)","v":1.9121548609264342E-2},{"$f":"L41-L43","v":4313.6300000000338},{"$f":"IFERROR((L168/L$10),0)","v":4.2754809523326076E-3},{"$f":"N41-N43","v":-9592.5800000000454},{"$f":"IFERROR((N168/N$10),0)","v":-1.1919852536779501E-2},{"$f":"P41-P43","v":46422.239999999991},{"$f":"IFERROR((P168/P$10),0)","v":5.256325204312514E-2},{"$f":"R41-R43","v":41979.679999999891},{"$f":"IFERROR((R168/R$10),0)","v":6.9006148547304941E-2},{"$f":"T41-T43","v":0},{"$f":"IFERROR((T168/T$10),0)","v":0},{"$f":"V41-V43","v":0},{"$f":"IFERROR((V168/V$10),0)","v":0},{"$f":"X41-X43","v":0},{"$f":"IFERROR((X168/X$10),0)","v":0},{"$f":"Z41-Z43","v":0},{"$f":"IFERROR((Z168/Z$10),0)","v":0},{"$f":"AB41-AB43","v":0},{"$f":"IFERROR((AB168/AB$10),0)","v":0},{"$f":"AD41-AD43","v":93847.979999999981},{"$f":"IFERROR((AD168/AD$10),0)","v":1.4639455443589256E-2},null,null,{"$f":"IF(AND($X$3=\"CT\",AD168<>0),\"X\",\"\")","v":"X"}]
[null,null,null,null,null,null,null,null,null,null,null,null,null,null,null,null,null,null,null,null,null,null,null,null,null,null,null,null,null,null,null,null,null,{"$f":"IF(AH168=\"\",\"\",\"X\")","v":"X"}]
[null,null,null,"OUTRAS RECEITAS NÃO OPERACIONAIS",null,{"$f":"SUBTOTAL(9,F171:F180)","v":12201.06},{"$f":"IFERROR((F170/F$10),0)","v":1.2701144710932486E-2},{"$f":"SUBTOTAL(9,H171:H180)","v":4689.25},5.7079466717044206E-3,{"$f":"SUBTOTAL(9,J171:J180)","v":1379.94},1.04282785496173E-3,{"$f":"SUBTOTAL(9,L171:L180)","v":9197.52},9.1161786172429954E-3,{"$f":"SUBTOTAL(9,N171:N180)","v":5088.18},6.3226322095401273E-3,{"$f":"SUBTOTAL(9,P171:P180)","v":4770},5.4010041791543659E-3,{"$f":"SUBTOTAL(9,R171:R180)","v":6096.17},1.0020877066943462E-2,{"$f":"SUBTOTAL(9,T171:T180)","v":0},0,{"$f":"SUBTOTAL(9,V171:V180)","v":0},0,{"$f":"SUBTOTAL(9,X171:X180)","v":0},0,{"$f":"SUBTOTAL(9,Z171:Z180)","v":0},0,{"$f":"SUBTOTAL(9,AB171:AB180)","v":0},0,{"$f":"SUBTOTAL(9,AD171:AD180)","v":43422.12},{"$f":"IFERROR((AD170/AD$10),0)","v":6.7734669516188424E-3},null,null,{"$f":"IF(AND($X$3=\"CT\",AD170<>0),\"X\",\"\")","v":"X"}]
[null,null,{"$f":"IF('Plano de Contas'!B150=\"\",\"\",'Plano de Contas'!B150)","v":"10.1.1.1"},null,{"$f":"IF($C171=\"\",\"\",VLOOKUP($C171,'Plano de Contas'!$B$2:$E$200,3,FALSE))","v":"RECEITAS FINANCEIRAS"},{"$f":"IFERROR((SUMIFS(Arquivo!$F$2:$F$20000,Arquivo!$B$2:$B$20000,F$6,Arquivo!$C$2:$C$20000,G$6,Arquivo!$D$2:$D$20000,$C171)),0)","v":0},{"$f":"IFERROR((F171/F$10),0)","v":0},{"$f":"IFERROR((SUMIFS(Arquivo!$F$2:$F$20000,Arquivo!$B$2:$B$20000,H$6,Arquivo!$C$2:$C$20000,I$6,Arquivo!$D$2:$D$20000,$C171)),0)","v":0},{"$f":"IFERROR((H171/H$10),0)","v":0},{"$f":"IFERROR((SUMIFS(Arquivo!$F$2:$F$20000,Arquivo!$B$2:$B$20000,J$6,Arquivo!$C$2:$C$20000,K$6,Arquivo!$D$2:$D$20000,$C171)),0)","v":0},{"$f":"IFERROR((J171/J$10),0)","v":0},{"$f":"IFERROR((SUMIFS(Arquivo!$F$2:$F$20000,Arquivo!$B$2:$B$20000,L$6,Arquivo!$C$2:$C$20000,M$6,Arquivo!$D$2:$D$20000,$C171)),0)","v":0},{"$f":"IFERROR((L171/L$10),0)","v":0},{"$f":"IFERROR((SUMIFS(Arquivo!$F$2:$F$20000,Arquivo!$B$2:$B$20000,N$6,Arquivo!$C$2:$C$20000,O$6,Arquivo!$D$2:$D$20000,$C171)),0)","v":0},{"$f":"IFERROR((N171/N$10),0)","v":0},{"$f":"IFERROR((SUMIFS(Arquivo!$F$2:$F$20000,Arquivo!$B$2:$B$20000,P$6,Arquivo!$C$2:$C$20000,Q$6,Arquivo!$D$2:$D$20000,$C171)),0)","v":0},{"$f":"IFERROR((P171/P$10),0)","v":0},{"$f":"IFERROR((SUMIFS(Arquivo!$F$2:$F$20000,Arquivo!$B$2:$B$20000,R$6,Arquivo!$C$2:$C$20000,S$6,Arquivo!$D$2:$D$20000,$C171)),0)","v":0},{"$f":"IFERROR((R171/R$10),0)","v":0},{"$f":"IFERROR((SUMIFS(Arquivo!$F$2:$F$20000,Arquivo!$B$2:$B$20000,T$6,Arquivo!$C$2:$C$20000,U$6,Arquivo!$D$2:$D$20000,$C171)),0)","v":0},{"$f":"IFERROR((T171/T$10),0)","v":0},{"$f":"IFERROR((SUMIFS(Arquivo!$F$2:$F$20000,Arquivo!$B$2:$B$20000,V$6,Arquivo!$C$2:$C$20000,W$6,Arquivo!$D$2:$D$20000,$C171)),0)","v":0},{"$f":"IFERROR((V171/V$10),0)","v":0},{"$f":"IFERROR((SUMIFS(Arquivo!$F$2:$F$20000,Arquivo!$B$2:$B$20000,X$6,Arquivo!$C$2:$C$20000,Y$6,Arquivo!$D$2:$D$20000,$C171)),0)","v":0},{"$f":"IFERROR((X171/X$10),0)","v":0},{"$f":"IFERROR((SUMIFS(Arquivo!$F$2:$F$20000,Arquivo!$B$2:$B$20000,Z$6,Arquivo!$C$2:$C$20000,AA$6,Arquivo!$D$2:$D$20000,$C171)),0)","v":0},{"$f":"IFERROR((Z171/Z$10),0)","v":0},{"$f":"IFERROR((SUMIFS(Arquivo!$F$2:$F$20000,Arquivo!$B$2:$B$20000,AB$6,Arquivo!$C$2:$C$20000,AC$6,Arquivo!$D$2:$D$20000,$C171)),0)","v":0},{"$f":"IFERROR((AB171/AB$10),0)","v":0},{"$f":"F171+H171+J171+L171+N171+P171+R171+T171+V171+X171+Z171+AB171","v":0},{"$f":"IFERROR((AD171/AD$10),0)","v":0},null,null,""]
[null,null,{"$f":"IF('Plano de Contas'!B151=\"\",\"\",'Plano de Contas'!B151)","v":"10.1.1.3"},null,{"$f":"IF($C172=\"\",\"\",VLOOKUP($C172,'Plano de Contas'!$B$2:$E$200,3,FALSE))","v":"OUTRAS REC.NAO OPERACIONAIS"},{"$f":"IFERROR((SUMIFS(Arquivo!$F$2:$F$20000,Arquivo!$B$2:$B$20000,F$6,Arquivo!$C$2:$C$20000,G$6,Arquivo!$D$2:$D$20000,$C172)),0)","v":11484.63},1.1955350402466388E-2,{"$f":"IFERROR((SUMIFS(Arquivo!$F$2:$F$20000,Arquivo!$B$2:$B$20000,H$6,Arquivo!$C$2:$C$20000,I$6,Arquivo!$D$2:$D$20000,$C172)),0)","v":4031.05},4.906758742010792E-3,{"$f":"IFERROR((SUMIFS(Arquivo!$F$2:$F$20000,Arquivo!$B$2:$B$20000,J$6,Arquivo!$C$2:$C$20000,K$6,Arquivo!$D$2:$D$20000,$C172)),0)","v":155.38},1.1742147637140281E-4,{"$f":"IFERROR((SUMIFS(Arquivo!$F$2:$F$20000,Arquivo!$B$2:$B$20000,L$6,Arquivo!$C$2:$C$20000,M$6,Arquivo!$D$2:$D$20000,$C172)),0)","v":8094.96},8.0233694799725745E-3,{"$f":"IFERROR((SUMIFS(Arquivo!$F$2:$F$20000,Arquivo!$B$2:$B$20000,N$6,Arquivo!$C$2:$C$20000,O$6,Arquivo!$D$2:$D$20000,$C172)),0)","v":4024.43},5.0008039697965823E-3,{"$f":"IFERROR((SUMIFS(Arquivo!$F$2:$F$20000,Arquivo!$B$2:$B$20000,P$6,Arquivo!$C$2:$C$20000,Q$6,Arquivo!$D$2:$D$20000,$C172)),0)","v":177},2.004146204843444E-4,{"$f":"IFERROR((SUMIFS(Arquivo!$F$2:$F$20000,Arquivo!$B$2:$B$20000,R$6,Arquivo!$C$2:$C$20000,S$6,Arquivo!$D$2:$D$20000,$C172)),0)","v":166},2.7287060451277023E-4,{"$f":"IFERROR((SUMIFS(Arquivo!$F$2:$F$20000,Arquivo!$B$2:$B$20000,T$6,Arquivo!$C$2:$C$20000,U$6,Arquivo!$D$2:$D$20000,$C172)),0)","v":0},0,{"$f":"IFERROR((SUMIFS(Arquivo!$F$2:$F$20000,Arquivo!$B$2:$B$20000,V$6,Arquivo!$C$2:$C$20000,W$6,Arquivo!$D$2:$D$20000,$C172)),0)","v":0},0,{"$f":"IFERROR((SUMIFS(Arquivo!$F$2:$F$20000,Arquivo!$B$2:$B$20000,X$6,Arquivo!$C$2:$C$20000,Y$6,Arquivo!$D$2:$D$20000,$C172)),0)","v":0},0,{"$f":"IFERROR((SUMIFS(Arquivo!$F$2:$F$20000,Arquivo!$B$2:$B$20000,Z$6,Arquivo!$C$2:$C$20000,AA$6,Arquivo!$D$2:$D$20000,$C172)),0)","v":0},0,{"$f":"IFERROR((SUMIFS(Arquivo!$F$2:$F$20000,Arquivo!$B$2:$B$20000,AB$6,Arquivo!$C$2:$C$20000,AC$6,Arquivo!$D$2:$D$20000,$C172)),0)","v":0},0,28133.45,4.388569554181627E-3,null,null,"X"]
[null,null,{"$f":"IF('Plano de Contas'!B152=\"\",\"\",'Plano de Contas'!B152)","v":"10.1.1.4"},null,{"$f":"IF($C173=\"\",\"\",VLOOKUP($C173,'Plano de Contas'!$B$2:$E$200,3,FALSE))","v":"COMPLEMENTO NOTAS"},{"$f":"IFERROR((SUMIFS(Arquivo!$F$2:$F$20000,Arquivo!$B$2:$B$20000,F$6,Arquivo!$C$2:$C$20000,G$6,Arquivo!$D$2:$D$20000,$C173)),0)","v":0},0,{"$f":"IFERROR((SUMIFS(Arquivo!$F$2:$F$20000,Arquivo!$B$2:$B$20000,H$6,Arquivo!$C$2:$C$20000,I$6,Arquivo!$D$2:$D$20000,$C173)),0)","v":0},0,{"$f":"IFERROR((SUMIFS(Arquivo!$F$2:$F$20000,Arquivo!$B$2:$B$20000,J$6,Arquivo!$C$2:$C$20000,K$6,Arquivo!$D$2:$D$20000,$C173)),0)","v":0},0,{"$f":"IFERROR((SUMIFS(Arquivo!$F$2:$F$20000,Arquivo!$B$2:$B$20000,L$6,Arquivo!$C$2:$C$20000,M$6,Arquivo!$D$2:$D$20000,$C173)),0)","v":0},0,{"$f":"IFERROR((SUMIFS(Arquivo!$F$2:$F$20000,Arquivo!$B$2:$B$20000,N$6,Arquivo!$C$2:$C$20000,O$6,Arquivo!$D$2:$D$20000,$C173)),0)","v":0},0,{"$f":"IFERROR((SUMIFS(Arquivo!$F$2:$F$20000,Arquivo!$B$2:$B$20000,P$6,Arquivo!$C$2:$C$20000,Q$6,Arquivo!$D$2:$D$20000,$C173)),0)","v":0},0,{"$f":"IFERROR((SUMIFS(Arquivo!$F$2:$F$20000,Arquivo!$B$2:$B$20000,R$6,Arquivo!$C$2:$C$20000,S$6,Arquivo!$D$2:$D$20000,$C173)),0)","v":0},0,{"$f":"IFERROR((SUMIFS(Arquivo!$F$2:$F$20000,Arquivo!$B$2:$B$20000,T$6,Arquivo!$C$2:$C$20000,U$6,Arquivo!$D$2:$D$20000,$C173)),0)","v":0},0,{"$f":"IFERROR((SUMIFS(Arquivo!$F$2:$F$20000,Arquivo!$B$2:$B$20000,V$6,Arquivo!$C$2:$C$20000,W$6,Arquivo!$D$2:$D$20000,$C173)),0)","v":0},0,{"$f":"IFERROR((SUMIFS(Arquivo!$F$2:$F$20000,Arquivo!$B$2:$B$20000,X$6,Arquivo!$C$2:$C$20000,Y$6,Arquivo!$D$2:$D$20000,$C173)),0)","v":0},0,{"$f":"IFERROR((SUMIFS(Arquivo!$F$2:$F$20000,Arquivo!$B$2:$B$20000,Z$6,Arquivo!$C$2:$C$20000,AA$6,Arquivo!$D$2:$D$20000,$C173)),0)","v":0},0,{"$f":"IFERROR((SUMIFS(Arquivo!$F$2:$F$20000,Arquivo!$B$2:$B$20000,AB$6,Arquivo!$C$2:$C$20000,AC$6,Arquivo!$D$2:$D$20000,$C173)),0)","v":0},0,0,0,null,null,""]
[null,null,{"$f":"IF('Plano de Contas'!B153=\"\",\"\",'Plano de Contas'!B153)","v":"10.1.1.5"},null,{"$f":"IF($C174=\"\",\"\",VLOOKUP($C174,'Plano de Contas'!$B$2:$E$200,3,FALSE))","v":"DESCONTOS OBTIDOS"},{"$f":"IFERROR((SUMIFS(Arquivo!$F$2:$F$20000,Arquivo!$B$2:$B$20000,F$6,Arquivo!$C$2:$C$20000,G$6,Arquivo!$D$2:$D$20000,$C174)),0)","v":716.43},7.4579430846609721E-4,{"$f":"IFERROR((SUMIFS(Arquivo!$F$2:$F$20000,Arquivo!$B$2:$B$20000,H$6,Arquivo!$C$2:$C$20000,I$6,Arquivo!$D$2:$D$20000,$C174)),0)","v":658.2},8.0118792969362913E-4,{"$f":"IFERROR((SUMIFS(Arquivo!$F$2:$F$20000,Arquivo!$B$2:$B$20000,J$6,Arquivo!$C$2:$C$20000,K$6,Arquivo!$D$2:$D$20000,$C174)),0)","v":1224.56},9.2540637859032709E-4,{"$f":"IFERROR((SUMIFS(Arquivo!$F$2:$F$20000,Arquivo!$B$2:$B$20000,L$6,Arquivo!$C$2:$C$20000,M$6,Arquivo!$D$2:$D$20000,$C174)),0)","v":1102.56},1.0928091372704202E-3,{"$f":"IFERROR((SUMIFS(Arquivo!$F$2:$F$20000,Arquivo!$B$2:$B$20000,N$6,Arquivo!$C$2:$C$20000,O$6,Arquivo!$D$2:$D$20000,$C174)),0)","v":1063.75},1.3218282397435448E-3,{"$f":"IFERROR((SUMIFS(Arquivo!$F$2:$F$20000,Arquivo!$B$2:$B$20000,P$6,Arquivo!$C$2:$C$20000,Q$6,Arquivo!$D$2:$D$20000,$C174)),0)","v":4593},5.200589558670022E-3,{"$f":"IFERROR((SUMIFS(Arquivo!$F$2:$F$20000,Arquivo!$B$2:$B$20000,R$6,Arquivo!$C$2:$C$20000,S$6,Arquivo!$D$2:$D$20000,$C174)),0)","v":5930.17},9.748006462430691E-3,{"$f":"IFERROR((SUMIFS(Arquivo!$F$2:$F$20000,Arquivo!$B$2:$B$20000,T$6,Arquivo!$C$2:$C$20000,U$6,Arquivo!$D$2:$D$20000,$C174)),0)","v":0},0,{"$f":"IFERROR((SUMIFS(Arquivo!$F$2:$F$20000,Arquivo!$B$2:$B$20000,V$6,Arquivo!$C$2:$C$20000,W$6,Arquivo!$D$2:$D$20000,$C174)),0)","v":0},0,{"$f":"IFERROR((SUMIFS(Arquivo!$F$2:$F$20000,Arquivo!$B$2:$B$20000,X$6,Arquivo!$C$2:$C$20000,Y$6,Arquivo!$D$2:$D$20000,$C174)),0)","v":0},0,{"$f":"IFERROR((SUMIFS(Arquivo!$F$2:$F$20000,Arquivo!$B$2:$B$20000,Z$6,Arquivo!$C$2:$C$20000,AA$6,Arquivo!$D$2:$D$20000,$C174)),0)","v":0},0,{"$f":"IFERROR((SUMIFS(Arquivo!$F$2:$F$20000,Arquivo!$B$2:$B$20000,AB$6,Arquivo!$C$2:$C$20000,AC$6,Arquivo!$D$2:$D$20000,$C174)),0)","v":0},0,15288.67,2.3848973974372151E-3,null,null,"X"]
[null,null,{"$f":"IF('Plano de Contas'!B154=\"\",\"\",'Plano de Contas'!B154)","v":""},null,{"$f":"IF($C175=\"\",\"\",VLOOKUP($C175,'Plano de Contas'!$B$2:$E$200,3,FALSE))","v":""},{"$f":"IFERROR((SUMIFS(Arquivo!$F$2:$F$20000,Arquivo!$B$2:$B$20000,F$6,Arquivo!$C$2:$C$20000,G$6,Arquivo!$D$2:$D$20000,$C175)),0)","v":0},0,{"$f":"IFERROR((SUMIFS(Arquivo!$F$2:$F$20000,Arquivo!$B$2:$B$20000,H$6,Arquivo!$C$2:$C$20000,I$6,Arquivo!$D$2:$D$20000,$C175)),0)","v":0},0,{"$f":"IFERROR((SUMIFS(Arquivo!$F$2:$F$20000,Arquivo!$B$2:$B$20000,J$6,Arquivo!$C$2:$C$20000,K$6,Arquivo!$D$2:$D$20000,$C175)),0)","v":0},0,{"$f":"IFERROR((SUMIFS(Arquivo!$F$2:$F$20000,Arquivo!$B$2:$B$20000,L$6,Arquivo!$C$2:$C$20000,M$6,Arquivo!$D$2:$D$20000,$C175)),0)","v":0},0,{"$f":"IFERROR((SUMIFS(Arquivo!$F$2:$F$20000,Arquivo!$B$2:$B$20000,N$6,Arquivo!$C$2:$C$20000,O$6,Arquivo!$D$2:$D$20000,$C175)),0)","v":0},0,{"$f":"IFERROR((SUMIFS(Arquivo!$F$2:$F$20000,Arquivo!$B$2:$B$20000,P$6,Arquivo!$C$2:$C$20000,Q$6,Arquivo!$D$2:$D$20000,$C175)),0)","v":0},0,{"$f":"IFERROR((SUMIFS(Arquivo!$F$2:$F$20000,Arquivo!$B$2:$B$20000,R$6,Arquivo!$C$2:$C$20000,S$6,Arquivo!$D$2:$D$20000,$C175)),0)","v":0},0,{"$f":"IFERROR((SUMIFS(Arquivo!$F$2:$F$20000,Arquivo!$B$2:$B$20000,T$6,Arquivo!$C$2:$C$20000,U$6,Arquivo!$D$2:$D$20000,$C175)),0)","v":0},0,{"$f":"IFERROR((SUMIFS(Arquivo!$F$2:$F$20000,Arquivo!$B$2:$B$20000,V$6,Arquivo!$C$2:$C$20000,W$6,Arquivo!$D$2:$D$20000,$C175)),0)","v":0},0,{"$f":"IFERROR((SUMIFS(Arquivo!$F$2:$F$20000,Arquivo!$B$2:$B$20000,X$6,Arquivo!$C$2:$C$20000,Y$6,Arquivo!$D$2:$D$20000,$C175)),0)","v":0},0,{"$f":"IFERROR((SUMIFS(Arquivo!$F$2:$F$20000,Arquivo!$B$2:$B$20000,Z$6,Arquivo!$C$2:$C$20000,AA$6,Arquivo!$D$2:$D$20000,$C175)),0)","v":0},0,{"$f":"IFERROR((SUMIFS(Arquivo!$F$2:$F$20000,Arquivo!$B$2:$B$20000,AB$6,Arquivo!$C$2:$C$20000,AC$6,Arquivo!$D$2:$D$20000,$C175)),0)","v":0},0,0,0,null,null,""]
[null,null,{"$f":"IF('Plano de Contas'!B155=\"\",\"\",'Plano de Contas'!B155)","v":""},null,{"$f":"IF($C176=\"\",\"\",VLOOKUP($C176,'Plano de Contas'!$B$2:$E$200,3,FALSE))","v":""},{"$f":"IFERROR((SUMIFS(Arquivo!$F$2:$F$20000,Arquivo!$B$2:$B$20000,F$6,Arquivo!$C$2:$C$20000,G$6,Arquivo!$D$2:$D$20000,$C176)),0)","v":0},0,{"$f":"IFERROR((SUMIFS(Arquivo!$F$2:$F$20000,Arquivo!$B$2:$B$20000,H$6,Arquivo!$C$2:$C$20000,I$6,Arquivo!$D$2:$D$20000,$C176)),0)","v":0},0,{"$f":"IFERROR((SUMIFS(Arquivo!$F$2:$F$20000,Arquivo!$B$2:$B$20000,J$6,Arquivo!$C$2:$C$20000,K$6,Arquivo!$D$2:$D$20000,$C176)),0)","v":0},0,{"$f":"IFERROR((SUMIFS(Arquivo!$F$2:$F$20000,Arquivo!$B$2:$B$20000,L$6,Arquivo!$C$2:$C$20000,M$6,Arquivo!$D$2:$D$20000,$C176)),0)","v":0},0,{"$f":"IFERROR((SUMIFS(Arquivo!$F$2:$F$20000,Arquivo!$B$2:$B$20000,N$6,Arquivo!$C$2:$C$20000,O$6,Arquivo!$D$2:$D$20000,$C176)),0)","v":0},0,{"$f":"IFERROR((SUMIFS(Arquivo!$F$2:$F$20000,Arquivo!$B$2:$B$20000,P$6,Arquivo!$C$2:$C$20000,Q$6,Arquivo!$D$2:$D$20000,$C176)),0)","v":0},0,{"$f":"IFERROR((SUMIFS(Arquivo!$F$2:$F$20000,Arquivo!$B$2:$B$20000,R$6,Arquivo!$C$2:$C$20000,S$6,Arquivo!$D$2:$D$20000,$C176)),0)","v":0},0,{"$f":"IFERROR((SUMIFS(Arquivo!$F$2:$F$20000,Arquivo!$B$2:$B$20000,T$6,Arquivo!$C$2:$C$20000,U$6,Arquivo!$D$2:$D$20000,$C176)),0)","v":0},0,{"$f":"IFERROR((SUMIFS(Arquivo!$F$2:$F$20000,Arquivo!$B$2:$B$20000,V$6,Arquivo!$C$2:$C$20000,W$6,Arquivo!$D$2:$D$20000,$C176)),0)","v":0},0,{"$f":"IFERROR((SUMIFS(Arquivo!$F$2:$F$20000,Arquivo!$B$2:$B$20000,X$6,Arquivo!$C$2:$C$20000,Y$6,Arquivo!$D$2:$D$20000,$C176)),0)","v":0},0,{"$f":"IFERROR((SUMIFS(Arquivo!$F$2:$F$20000,Arquivo!$B$2:$B$20000,Z$6,Arquivo!$C$2:$C$20000,AA$6,Arquivo!$D$2:$D$20000,$C176)),0)","v":0},0,{"$f":"IFERROR((SUMIFS(Arquivo!$F$2:$F$20000,Arquivo!$B$2:$B$20000,AB$6,Arquivo!$C$2:$C$20000,AC$6,Arquivo!$D$2:$D$20000,$C176)),0)","v":0},0,0,0,null,null,""]
[null,null,{"$f":"IF('Plano de Contas'!B156=\"\",\"\",'Plano de Contas'!B156)","v":""},null,{"$f":"IF($C177=\"\",\"\",VLOOKUP($C177,'Plano de Contas'!$B$2:$E$200,3,FALSE))","v":""},{"$f":"IFERROR((SUMIFS(Arquivo!$F$2:$F$20000,Arquivo!$B$2:$B$20000,F$6,Arquivo!$C$2:$C$20000,G$6,Arquivo!$D$2:$D$20000,$C177)),0)","v":0},0,{"$f":"IFERROR((SUMIFS(Arquivo!$F$2:$F$20000,Arquivo!$B$2:$B$20000,H$6,Arquivo!$C$2:$C$20000,I$6,Arquivo!$D$2:$D$20000,$C177)),0)","v":0},0,{"$f":"IFERROR((SUMIFS(Arquivo!$F$2:$F$20000,Arquivo!$B$2:$B$20000,J$6,Arquivo!$C$2:$C$20000,K$6,Arquivo!$D$2:$D$20000,$C177)),0)","v":0},0,{"$f":"IFERROR((SUMIFS(Arquivo!$F$2:$F$20000,Arquivo!$B$2:$B$20000,L$6,Arquivo!$C$2:$C$20000,M$6,Arquivo!$D$2:$D$20000,$C177)),0)","v":0},0,{"$f":"IFERROR((SUMIFS(Arquivo!$F$2:$F$20000,Arquivo!$B$2:$B$20000,N$6,Arquivo!$C$2:$C$20000,O$6,Arquivo!$D$2:$D$20000,$C177)),0)","v":0},0,{"$f":"IFERROR((SUMIFS(Arquivo!$F$2:$F$20000,Arquivo!$B$2:$B$20000,P$6,Arquivo!$C$2:$C$20000,Q$6,Arquivo!$D$2:$D$20000,$C177)),0)","v":0},0,{"$f":"IFERROR((SUMIFS(Arquivo!$F$2:$F$20000,Arquivo!$B$2:$B$20000,R$6,Arquivo!$C$2:$C$20000,S$6,Arquivo!$D$2:$D$20000,$C177)),0)","v":0},0,{"$f":"IFERROR((SUMIFS(Arquivo!$F$2:$F$20000,Arquivo!$B$2:$B$20000,T$6,Arquivo!$C$2:$C$20000,U$6,Arquivo!$D$2:$D$20000,$C177)),0)","v":0},0,{"$f":"IFERROR((SUMIFS(Arquivo!$F$2:$F$20000,Arquivo!$B$2:$B$20000,V$6,Arquivo!$C$2:$C$20000,W$6,Arquivo!$D$2:$D$20000,$C177)),0)","v":0},0,{"$f":"IFERROR((SUMIFS(Arquivo!$F$2:$F$20000,Arquivo!$B$2:$B$20000,X$6,Arquivo!$C$2:$C$20000,Y$6,Arquivo!$D$2:$D$20000,$C177)),0)","v":0},0,{"$f":"IFERROR((SUMIFS(Arquivo!$F$2:$F$20000,Arquivo!$B$2:$B$20000,Z$6,Arquivo!$C$2:$C$20000,AA$6,Arquivo!$D$2:$D$20000,$C177)),0)","v":0},0,{"$f":"IFERROR((SUMIFS(Arquivo!$F$2:$F$20000,Arquivo!$B$2:$B$20000,AB$6,Arquivo!$C$2:$C$20000,AC$6,Arquivo!$D$2:$D$20000,$C177)),0)","v":0},0,0,0,null,null,""]
[null,null,{"$f":"IF('Plano de Contas'!B157=\"\",\"\",'Plano de Contas'!B157)","v":""},null,{"$f":"IF($C178=\"\",\"\",VLOOKUP($C178,'Plano de Contas'!$B$2:$E$200,3,FALSE))","v":""},{"$f":"IFERROR((SUMIFS(Arquivo!$F$2:$F$20000,Arquivo!$B$2:$B$20000,F$6,Arquivo!$C$2:$C$20000,G$6,Arquivo!$D$2:$D$20000,$C178)),0)","v":0},0,{"$f":"IFERROR((SUMIFS(Arquivo!$F$2:$F$20000,Arquivo!$B$2:$B$20000,H$6,Arquivo!$C$2:$C$20000,I$6,Arquivo!$D$2:$D$20000,$C178)),0)","v":0},0,{"$f":"IFERROR((SUMIFS(Arquivo!$F$2:$F$20000,Arquivo!$B$2:$B$20000,J$6,Arquivo!$C$2:$C$20000,K$6,Arquivo!$D$2:$D$20000,$C178)),0)","v":0},0,{"$f":"IFERROR((SUMIFS(Arquivo!$F$2:$F$20000,Arquivo!$B$2:$B$20000,L$6,Arquivo!$C$2:$C$20000,M$6,Arquivo!$D$2:$D$20000,$C178)),0)","v":0},0,{"$f":"IFERROR((SUMIFS(Arquivo!$F$2:$F$20000,Arquivo!$B$2:$B$20000,N$6,Arquivo!$C$2:$C$20000,O$6,Arquivo!$D$2:$D$20000,$C178)),0)","v":0},0,{"$f":"IFERROR((SUMIFS(Arquivo!$F$2:$F$20000,Arquivo!$B$2:$B$20000,P$6,Arquivo!$C$2:$C$20000,Q$6,Arquivo!$D$2:$D$20000,$C178)),0)","v":0},0,{"$f":"IFERROR((SUMIFS(Arquivo!$F$2:$F$20000,Arquivo!$B$2:$B$20000,R$6,Arquivo!$C$2:$C$20000,S$6,Arquivo!$D$2:$D$20000,$C178)),0)","v":0},0,{"$f":"IFERROR((SUMIFS(Arquivo!$F$2:$F$20000,Arquivo!$B$2:$B$20000,T$6,Arquivo!$C$2:$C$20000,U$6,Arquivo!$D$2:$D$20000,$C178)),0)","v":0},0,{"$f":"IFERROR((SUMIFS(Arquivo!$F$2:$F$20000,Arquivo!$B$2:$B$20000,V$6,Arquivo!$C$2:$C$20000,W$6,Arquivo!$D$2:$D$20000,$C178)),0)","v":0},0,{"$f":"IFERROR((SUMIFS(Arquivo!$F$2:$F$20000,Arquivo!$B$2:$B$20000,X$6,Arquivo!$C$2:$C$20000,Y$6,Arquivo!$D$2:$D$20000,$C178)),0)","v":0},0,{"$f":"IFERROR((SUMIFS(Arquivo!$F$2:$F$20000,Arquivo!$B$2:$B$20000,Z$6,Arquivo!$C$2:$C$20000,AA$6,Arquivo!$D$2:$D$20000,$C178)),0)","v":0},0,{"$f":"IFERROR((SUMIFS(Arquivo!$F$2:$F$20000,Arquivo!$B$2:$B$20000,AB$6,Arquivo!$C$2:$C$20000,AC$6,Arquivo!$D$2:$D$20000,$C178)),0)","v":0},0,0,0,null,null,""]
[null,null,{"$f":"IF('Plano de Contas'!B158=\"\",\"\",'Plano de Contas'!B158)","v":""},null,{"$f":"IF($C179=\"\",\"\",VLOOKUP($C179,'Plano de Contas'!$B$2:$E$200,3,FALSE))","v":""},{"$f":"IFERROR((SUMIFS(Arquivo!$F$2:$F$20000,Arquivo!$B$2:$B$20000,F$6,Arquivo!$C$2:$C$20000,G$6,Arquivo!$D$2:$D$20000,$C179)),0)","v":0},0,{"$f":"IFERROR((SUMIFS(Arquivo!$F$2:$F$20000,Arquivo!$B$2:$B$20000,H$6,Arquivo!$C$2:$C$20000,I$6,Arquivo!$D$2:$D$20000,$C179)),0)","v":0},0,{"$f":"IFERROR((SUMIFS(Arquivo!$F$2:$F$20000,Arquivo!$B$2:$B$20000,J$6,Arquivo!$C$2:$C$20000,K$6,Arquivo!$D$2:$D$20000,$C179)),0)","v":0},0,{"$f":"IFERROR((SUMIFS(Arquivo!$F$2:$F$20000,Arquivo!$B$2:$B$20000,L$6,Arquivo!$C$2:$C$20000,M$6,Arquivo!$D$2:$D$20000,$C179)),0)","v":0},0,{"$f":"IFERROR((SUMIFS(Arquivo!$F$2:$F$20000,Arquivo!$B$2:$B$20000,N$6,Arquivo!$C$2:$C$20000,O$6,Arquivo!$D$2:$D$20000,$C179)),0)","v":0},0,{"$f":"IFERROR((SUMIFS(Arquivo!$F$2:$F$20000,Arquivo!$B$2:$B$20000,P$6,Arquivo!$C$2:$C$20000,Q$6,Arquivo!$D$2:$D$20000,$C179)),0)","v":0},0,{"$f":"IFERROR((SUMIFS(Arquivo!$F$2:$F$20000,Arquivo!$B$2:$B$20000,R$6,Arquivo!$C$2:$C$20000,S$6,Arquivo!$D$2:$D$20000,$C179)),0)","v":0},0,{"$f":"IFERROR((SUMIFS(Arquivo!$F$2:$F$20000,Arquivo!$B$2:$B$20000,T$6,Arquivo!$C$2:$C$20000,U$6,Arquivo!$D$2:$D$20000,$C179)),0)","v":0},0,{"$f":"IFERROR((SUMIFS(Arquivo!$F$2:$F$20000,Arquivo!$B$2:$B$20000,V$6,Arquivo!$C$2:$C$20000,W$6,Arquivo!$D$2:$D$20000,$C179)),0)","v":0},0,{"$f":"IFERROR((SUMIFS(Arquivo!$F$2:$F$20000,Arquivo!$B$2:$B$20000,X$6,Arquivo!$C$2:$C$20000,Y$6,Arquivo!$D$2:$D$20000,$C179)),0)","v":0},0,{"$f":"IFERROR((SUMIFS(Arquivo!$F$2:$F$20000,Arquivo!$B$2:$B$20000,Z$6,Arquivo!$C$2:$C$20000,AA$6,Arquivo!$D$2:$D$20000,$C179)),0)","v":0},0,{"$f":"IFERROR((SUMIFS(Arquivo!$F$2:$F$20000,Arquivo!$B$2:$B$20000,AB$6,Arquivo!$C$2:$C$20000,AC$6,Arquivo!$D$2:$D$20000,$C179)),0)","v":0},0,0,0,null,null,""]
[null,null,null,null,null,null,null,null,null,null,null,null,null,null,null,null,null,null,null,null,null,null,null,null,null,null,null,null,null,null,null,null,null,{"$f":"IF(AH170=\"\",\"\",\"X\")","v":"X"}]
[null,null,null,"DESPESAS NÃO OPERACIONAIS",null,{"$f":"SUBTOTAL(9,F182:F189)","v":0},{"$f":"IFERROR((F181/IF($X$3=\"CT\",F$10,F$181)),0)","v":0},{"$f":"SUBTOTAL(9,H182:H189)","v":0},{"$f":"IFERROR((H181/IF($X$3=\"CT\",H$10,H$181)),0)","v":0},{"$f":"SUBTOTAL(9,J182:J189)","v":78},{"$f":"IFERROR((J181/IF($X$3=\"CT\",J$10,J$181)),0)","v":5.8945006802480493E-5},{"$f":"SUBTOTAL(9,L182:L189)","v":0},{"$f":"IFERROR((L181/IF($X$3=\"CT\",L$10,L$181)),0)","v":0},{"$f":"SUBTOTAL(9,N182:N189)","v":515},{"$f":"IFERROR((N181/IF($X$3=\"CT\",N$10,N$181)),0)","v":6.3994504673835543E-4},{"$f":"SUBTOTAL(9,P182:P189)","v":320},{"$f":"IFERROR((P181/IF($X$3=\"CT\",P$10,P$181)),0)","v":3.6233151725983167E-4},{"$f":"SUBTOTAL(9,R182:R189)","v":44},{"$f":"IFERROR((R181/IF($X$3=\"CT\",R$10,R$181)),0)","v":7.232714818410778E-5},{"$f":"SUBTOTAL(9,T182:T189)","v":0},{"$f":"IFERROR((T181/IF($X$3=\"CT\",T$10,T$181)),0)","v":0},{"$f":"SUBTOTAL(9,V182:V189)","v":0},{"$f":"IFERROR((V181/IF($X$3=\"CT\",V$10,V$181)),0)","v":0},{"$f":"SUBTOTAL(9,X182:X189)","v":0},{"$f":"IFERROR((X181/IF($X$3=\"CT\",X$10,X$181)),0)","v":0},{"$f":"SUBTOTAL(9,Z182:Z189)","v":0},{"$f":"IFERROR((Z181/IF($X$3=\"CT\",Z$10,Z$181)),0)","v":0},{"$f":"SUBTOTAL(9,AB182:AB189)","v":0},{"$f":"IFERROR((AB181/IF($X$3=\"CT\",AB$10,AB$181)),0)","v":0},{"$f":"SUBTOTAL(9,AD182:AD189)","v":957},{"$f":"IFERROR((AD181/IF($X$3=\"CT\",AD$10,AD$181)),0)","v":1.4928354195279346E-4},null,null,{"$f":"IF(COUNTIF(AH182:AH188,\"X\")>0,\"X\",\"\")","v":"X"}]
[null,null,{"$f":"IF('Plano de Contas'!B160=\"\",\"\",'Plano de Contas'!B160)","v":"11.1.1.1"},{"$f":"IF($C182=\"\",\"\",VLOOKUP($C182,'Plano de Contas'!$B$2:$E$200,4,FALSE))","v":"CV"},{"$f":"IF($C182=\"\",\"\",VLOOKUP($C182,'Plano de Contas'!$B$2:$E$200,3,FALSE))","v":"DESPESAS NAO OPERACIONAIS"},{"$f":"IFERROR((SUMIFS(Arquivo!$F$2:$F$20000,Arquivo!$B$2:$B$20000,F$6,Arquivo!$C$2:$C$20000,G$6,Arquivo!$D$2:$D$20000,$C182)),0)","v":0},0,{"$f":"IFERROR((SUMIFS(Arquivo!$F$2:$F$20000,Arquivo!$B$2:$B$20000,H$6,Arquivo!$C$2:$C$20000,I$6,Arquivo!$D$2:$D$20000,$C182)),0)","v":0},0,{"$f":"IFERROR((SUMIFS(Arquivo!$F$2:$F$20000,Arquivo!$B$2:$B$20000,J$6,Arquivo!$C$2:$C$20000,K$6,Arquivo!$D$2:$D$20000,$C182)),0)","v":78},5.8945006802480493E-5,{"$f":"IFERROR((SUMIFS(Arquivo!$F$2:$F$20000,Arquivo!$B$2:$B$20000,L$6,Arquivo!$C$2:$C$20000,M$6,Arquivo!$D$2:$D$20000,$C182)),0)","v":0},0,{"$f":"IFERROR((SUMIFS(Arquivo!$F$2:$F$20000,Arquivo!$B$2:$B$20000,N$6,Arquivo!$C$2:$C$20000,O$6,Arquivo!$D$2:$D$20000,$C182)),0)","v":80},9.9408939299162004E-5,{"$f":"IFERROR((SUMIFS(Arquivo!$F$2:$F$20000,Arquivo!$B$2:$B$20000,P$6,Arquivo!$C$2:$C$20000,Q$6,Arquivo!$D$2:$D$20000,$C182)),0)","v":0},0,{"$f":"IFERROR((SUMIFS(Arquivo!$F$2:$F$20000,Arquivo!$B$2:$B$20000,R$6,Arquivo!$C$2:$C$20000,S$6,Arquivo!$D$2:$D$20000,$C182)),0)","v":0},0,{"$f":"IFERROR((SUMIFS(Arquivo!$F$2:$F$20000,Arquivo!$B$2:$B$20000,T$6,Arquivo!$C$2:$C$20000,U$6,Arquivo!$D$2:$D$20000,$C182)),0)","v":0},0,{"$f":"IFERROR((SUMIFS(Arquivo!$F$2:$F$20000,Arquivo!$B$2:$B$20000,V$6,Arquivo!$C$2:$C$20000,W$6,Arquivo!$D$2:$D$20000,$C182)),0)","v":0},0,{"$f":"IFERROR((SUMIFS(Arquivo!$F$2:$F$20000,Arquivo!$B$2:$B$20000,X$6,Arquivo!$C$2:$C$20000,Y$6,Arquivo!$D$2:$D$20000,$C182)),0)","v":0},0,{"$f":"IFERROR((SUMIFS(Arquivo!$F$2:$F$20000,Arquivo!$B$2:$B$20000,Z$6,Arquivo!$C$2:$C$20000,AA$6,Arquivo!$D$2:$D$20000,$C182)),0)","v":0},0,{"$f":"IFERROR((SUMIFS(Arquivo!$F$2:$F$20000,Arquivo!$B$2:$B$20000,AB$6,Arquivo!$C$2:$C$20000,AC$6,Arquivo!$D$2:$D$20000,$C182)),0)","v":0},0,{"$f":"F182+H182+J182+L182+N182+P182+R182+T182+V182+X182+Z182+AB182","v":158},2.464660358259286E-5,null,null,{"$f":"IF($AD182=0,\"\",IF($X$3=\"CT\",\"X\",IF($X$3=$D182,\"X\",\"\")))","v":"X"}]
[null,null,{"$f":"IF('Plano de Contas'!B161=\"\",\"\",'Plano de Contas'!B161)","v":"11.1.1.6"},{"$f":"IF($C183=\"\",\"\",VLOOKUP($C183,'Plano de Contas'!$B$2:$E$200,4,FALSE))","v":"CV"},{"$f":"IF($C183=\"\",\"\",VLOOKUP($C183,'Plano de Contas'!$B$2:$E$200,3,FALSE))","v":"FERRAMENTARIA"},{"$f":"IFERROR((SUMIFS(Arquivo!$F$2:$F$20000,Arquivo!$B$2:$B$20000,F$6,Arquivo!$C$2:$C$20000,G$6,Arquivo!$D$2:$D$20000,$C183)),0)","v":0},0,{"$f":"IFERROR((SUMIFS(Arquivo!$F$2:$F$20000,Arquivo!$B$2:$B$20000,H$6,Arquivo!$C$2:$C$20000,I$6,Arquivo!$D$2:$D$20000,$C183)),0)","v":0},0,{"$f":"IFERROR((SUMIFS(Arquivo!$F$2:$F$20000,Arquivo!$B$2:$B$20000,J$6,Arquivo!$C$2:$C$20000,K$6,Arquivo!$D$2:$D$20000,$C183)),0)","v":0},0,{"$f":"IFERROR((SUMIFS(Arquivo!$F$2:$F$20000,Arquivo!$B$2:$B$20000,L$6,Arquivo!$C$2:$C$20000,M$6,Arquivo!$D$2:$D$20000,$C183)),0)","v":0},0,{"$f":"IFERROR((SUMIFS(Arquivo!$F$2:$F$20000,Arquivo!$B$2:$B$20000,N$6,Arquivo!$C$2:$C$20000,O$6,Arquivo!$D$2:$D$20000,$C183)),0)","v":435},5.4053610743919338E-4,{"$f":"IFERROR((SUMIFS(Arquivo!$F$2:$F$20000,Arquivo!$B$2:$B$20000,P$6,Arquivo!$C$2:$C$20000,Q$6,Arquivo!$D$2:$D$20000,$C183)),0)","v":320},3.6233151725983167E-4,{"$f":"IFERROR((SUMIFS(Arquivo!$F$2:$F$20000,Arquivo!$B$2:$B$20000,R$6,Arquivo!$C$2:$C$20000,S$6,Arquivo!$D$2:$D$20000,$C183)),0)","v":44},7.232714818410778E-5,{"$f":"IFERROR((SUMIFS(Arquivo!$F$2:$F$20000,Arquivo!$B$2:$B$20000,T$6,Arquivo!$C$2:$C$20000,U$6,Arquivo!$D$2:$D$20000,$C183)),0)","v":0},0,{"$f":"IFERROR((SUMIFS(Arquivo!$F$2:$F$20000,Arquivo!$B$2:$B$20000,V$6,Arquivo!$C$2:$C$20000,W$6,Arquivo!$D$2:$D$20000,$C183)),0)","v":0},0,{"$f":"IFERROR((SUMIFS(Arquivo!$F$2:$F$20000,Arquivo!$B$2:$B$20000,X$6,Arquivo!$C$2:$C$20000,Y$6,Arquivo!$D$2:$D$20000,$C183)),0)","v":0},0,{"$f":"IFERROR((SUMIFS(Arquivo!$F$2:$F$20000,Arquivo!$B$2:$B$20000,Z$6,Arquivo!$C$2:$C$20000,AA$6,Arquivo!$D$2:$D$20000,$C183)),0)","v":0},0,{"$f":"IFERROR((SUMIFS(Arquivo!$F$2:$F$20000,Arquivo!$B$2:$B$20000,AB$6,Arquivo!$C$2:$C$20000,AC$6,Arquivo!$D$2:$D$20000,$C183)),0)","v":0},0,{"$f":"F183+H183+J183+L183+N183+P183+R183+T183+V183+X183+Z183+AB183","v":799},1.246369383702006E-4,null,null,"X"]
[null,null,{"$f":"IF('Plano de Contas'!B162=\"\",\"\",'Plano de Contas'!B162)","v":""},null,{"$f":"IF($C184=\"\",\"\",VLOOKUP($C184,'Plano de Contas'!$B$2:$E$200,3,FALSE))","v":""},{"$f":"IFERROR((SUMIFS(Arquivo!$F$2:$F$20000,Arquivo!$B$2:$B$20000,F$6,Arquivo!$C$2:$C$20000,G$6,Arquivo!$D$2:$D$20000,$C184)),0)","v":0},0,{"$f":"IFERROR((SUMIFS(Arquivo!$F$2:$F$20000,Arquivo!$B$2:$B$20000,H$6,Arquivo!$C$2:$C$20000,I$6,Arquivo!$D$2:$D$20000,$C184)),0)","v":0},0,{"$f":"IFERROR((SUMIFS(Arquivo!$F$2:$F$20000,Arquivo!$B$2:$B$20000,J$6,Arquivo!$C$2:$C$20000,K$6,Arquivo!$D$2:$D$20000,$C184)),0)","v":0},0,{"$f":"IFERROR((SUMIFS(Arquivo!$F$2:$F$20000,Arquivo!$B$2:$B$20000,L$6,Arquivo!$C$2:$C$20000,M$6,Arquivo!$D$2:$D$20000,$C184)),0)","v":0},0,{"$f":"IFERROR((SUMIFS(Arquivo!$F$2:$F$20000,Arquivo!$B$2:$B$20000,N$6,Arquivo!$C$2:$C$20000,O$6,Arquivo!$D$2:$D$20000,$C184)),0)","v":0},0,{"$f":"IFERROR((SUMIFS(Arquivo!$F$2:$F$20000,Arquivo!$B$2:$B$20000,P$6,Arquivo!$C$2:$C$20000,Q$6,Arquivo!$D$2:$D$20000,$C184)),0)","v":0},0,{"$f":"IFERROR((SUMIFS(Arquivo!$F$2:$F$20000,Arquivo!$B$2:$B$20000,R$6,Arquivo!$C$2:$C$20000,S$6,Arquivo!$D$2:$D$20000,$C184)),0)","v":0},0,{"$f":"IFERROR((SUMIFS(Arquivo!$F$2:$F$20000,Arquivo!$B$2:$B$20000,T$6,Arquivo!$C$2:$C$20000,U$6,Arquivo!$D$2:$D$20000,$C184)),0)","v":0},0,{"$f":"IFERROR((SUMIFS(Arquivo!$F$2:$F$20000,Arquivo!$B$2:$B$20000,V$6,Arquivo!$C$2:$C$20000,W$6,Arquivo!$D$2:$D$20000,$C184)),0)","v":0},0,{"$f":"IFERROR((SUMIFS(Arquivo!$F$2:$F$20000,Arquivo!$B$2:$B$20000,X$6,Arquivo!$C$2:$C$20000,Y$6,Arquivo!$D$2:$D$20000,$C184)),0)","v":0},0,{"$f":"IFERROR((SUMIFS(Arquivo!$F$2:$F$20000,Arquivo!$B$2:$B$20000,Z$6,Arquivo!$C$2:$C$20000,AA$6,Arquivo!$D$2:$D$20000,$C184)),0)","v":0},0,{"$f":"IFERROR((SUMIFS(Arquivo!$F$2:$F$20000,Arquivo!$B$2:$B$20000,AB$6,Arquivo!$C$2:$C$20000,AC$6,Arquivo!$D$2:$D$20000,$C184)),0)","v":0},0,0,0,null,null,""]
[null,null,{"$f":"IF('Plano de Contas'!B163=\"\",\"\",'Plano de Contas'!B163)","v":""},null,{"$f":"IF($C185=\"\",\"\",VLOOKUP($C185,'Plano de Contas'!$B$2:$E$200,3,FALSE))","v":""},{"$f":"IFERROR((SUMIFS(Arquivo!$F$2:$F$20000,Arquivo!$B$2:$B$20000,F$6,Arquivo!$C$2:$C$20000,G$6,Arquivo!$D$2:$D$20000,$C185)),0)","v":0},0,{"$f":"IFERROR((SUMIFS(Arquivo!$F$2:$F$20000,Arquivo!$B$2:$B$20000,H$6,Arquivo!$C$2:$C$20000,I$6,Arquivo!$D$2:$D$20000,$C185)),0)","v":0},0,{"$f":"IFERROR((SUMIFS(Arquivo!$F$2:$F$20000,Arquivo!$B$2:$B$20000,J$6,Arquivo!$C$2:$C$20000,K$6,Arquivo!$D$2:$D$20000,$C185)),0)","v":0},0,{"$f":"IFERROR((SUMIFS(Arquivo!$F$2:$F$20000,Arquivo!$B$2:$B$20000,L$6,Arquivo!$C$2:$C$20000,M$6,Arquivo!$D$2:$D$20000,$C185)),0)","v":0},0,{"$f":"IFERROR((SUMIFS(Arquivo!$F$2:$F$20000,Arquivo!$B$2:$B$20000,N$6,Arquivo!$C$2:$C$20000,O$6,Arquivo!$D$2:$D$20000,$C185)),0)","v":0},0,{"$f":"IFERROR((SUMIFS(Arquivo!$F$2:$F$20000,Arquivo!$B$2:$B$20000,P$6,Arquivo!$C$2:$C$20000,Q$6,Arquivo!$D$2:$D$20000,$C185)),0)","v":0},0,{"$f":"IFERROR((SUMIFS(Arquivo!$F$2:$F$20000,Arquivo!$B$2:$B$20000,R$6,Arquivo!$C$2:$C$20000,S$6,Arquivo!$D$2:$D$20000,$C185)),0)","v":0},0,{"$f":"IFERROR((SUMIFS(Arquivo!$F$2:$F$20000,Arquivo!$B$2:$B$20000,T$6,Arquivo!$C$2:$C$20000,U$6,Arquivo!$D$2:$D$20000,$C185)),0)","v":0},0,{"$f":"IFERROR((SUMIFS(Arquivo!$F$2:$F$20000,Arquivo!$B$2:$B$20000,V$6,Arquivo!$C$2:$C$20000,W$6,Arquivo!$D$2:$D$20000,$C185)),0)","v":0},0,{"$f":"IFERROR((SUMIFS(Arquivo!$F$2:$F$20000,Arquivo!$B$2:$B$20000,X$6,Arquivo!$C$2:$C$20000,Y$6,Arquivo!$D$2:$D$20000,$C185)),0)","v":0},0,{"$f":"IFERROR((SUMIFS(Arquivo!$F$2:$F$20000,Arquivo!$B$2:$B$20000,Z$6,Arquivo!$C$2:$C$20000,AA$6,Arquivo!$D$2:$D$20000,$C185)),0)","v":0},0,{"$f":"IFERROR((SUMIFS(Arquivo!$F$2:$F$20000,Arquivo!$B$2:$B$20000,AB$6,Arquivo!$C$2:$C$20000,AC$6,Arquivo!$D$2:$D$20000,$C185)),0)","v":0},0,0,0,null,null,""]
[null,null,{"$f":"IF('Plano de Contas'!B164=\"\",\"\",'Plano de Contas'!B164)","v":""},null,{"$f":"IF($C186=\"\",\"\",VLOOKUP($C186,'Plano de Contas'!$B$2:$E$200,3,FALSE))","v":""},{"$f":"IFERROR((SUMIFS(Arquivo!$F$2:$F$20000,Arquivo!$B$2:$B$20000,F$6,Arquivo!$C$2:$C$20000,G$6,Arquivo!$D$2:$D$20000,$C186)),0)","v":0},0,{"$f":"IFERROR((SUMIFS(Arquivo!$F$2:$F$20000,Arquivo!$B$2:$B$20000,H$6,Arquivo!$C$2:$C$20000,I$6,Arquivo!$D$2:$D$20000,$C186)),0)","v":0},0,{"$f":"IFERROR((SUMIFS(Arquivo!$F$2:$F$20000,Arquivo!$B$2:$B$20000,J$6,Arquivo!$C$2:$C$20000,K$6,Arquivo!$D$2:$D$20000,$C186)),0)","v":0},0,{"$f":"IFERROR((SUMIFS(Arquivo!$F$2:$F$20000,Arquivo!$B$2:$B$20000,L$6,Arquivo!$C$2:$C$20000,M$6,Arquivo!$D$2:$D$20000,$C186)),0)","v":0},0,{"$f":"IFERROR((SUMIFS(Arquivo!$F$2:$F$20000,Arquivo!$B$2:$B$20000,N$6,Arquivo!$C$2:$C$20000,O$6,Arquivo!$D$2:$D$20000,$C186)),0)","v":0},0,{"$f":"IFERROR((SUMIFS(Arquivo!$F$2:$F$20000,Arquivo!$B$2:$B$20000,P$6,Arquivo!$C$2:$C$20000,Q$6,Arquivo!$D$2:$D$20000,$C186)),0)","v":0},0,{"$f":"IFERROR((SUMIFS(Arquivo!$F$2:$F$20000,Arquivo!$B$2:$B$20000,R$6,Arquivo!$C$2:$C$20000,S$6,Arquivo!$D$2:$D$20000,$C186)),0)","v":0},0,{"$f":"IFERROR((SUMIFS(Arquivo!$F$2:$F$20000,Arquivo!$B$2:$B$20000,T$6,Arquivo!$C$2:$C$20000,U$6,Arquivo!$D$2:$D$20000,$C186)),0)","v":0},0,{"$f":"IFERROR((SUMIFS(Arquivo!$F$2:$F$20000,Arquivo!$B$2:$B$20000,V$6,Arquivo!$C$2:$C$20000,W$6,Arquivo!$D$2:$D$20000,$C186)),0)","v":0},0,{"$f":"IFERROR((SUMIFS(Arquivo!$F$2:$F$20000,Arquivo!$B$2:$B$20000,X$6,Arquivo!$C$2:$C$20000,Y$6,Arquivo!$D$2:$D$20000,$C186)),0)","v":0},0,{"$f":"IFERROR((SUMIFS(Arquivo!$F$2:$F$20000,Arquivo!$B$2:$B$20000,Z$6,Arquivo!$C$2:$C$20000,AA$6,Arquivo!$D$2:$D$20000,$C186)),0)","v":0},0,{"$f":"IFERROR((SUMIFS(Arquivo!$F$2:$F$20000,Arquivo!$B$2:$B$20000,AB$6,Arquivo!$C$2:$C$20000,AC$6,Arquivo!$D$2:$D$20000,$C186)),0)","v":0},0,0,0,null,null,""]
[null,null,{"$f":"IF('Plano de Contas'!B165=\"\",\"\",'Plano de Contas'!B165)","v":""},null,{"$f":"IF($C187=\"\",\"\",VLOOKUP($C187,'Plano de Contas'!$B$2:$E$200,3,FALSE))","v":""},{"$f":"IFERROR((SUMIFS(Arquivo!$F$2:$F$20000,Arquivo!$B$2:$B$20000,F$6,Arquivo!$C$2:$C$20000,G$6,Arquivo!$D$2:$D$20000,$C187)),0)","v":0},0,{"$f":"IFERROR((SUMIFS(Arquivo!$F$2:$F$20000,Arquivo!$B$2:$B$20000,H$6,Arquivo!$C$2:$C$20000,I$6,Arquivo!$D$2:$D$20000,$C187)),0)","v":0},0,{"$f":"IFERROR((SUMIFS(Arquivo!$F$2:$F$20000,Arquivo!$B$2:$B$20000,J$6,Arquivo!$C$2:$C$20000,K$6,Arquivo!$D$2:$D$20000,$C187)),0)","v":0},0,{"$f":"IFERROR((SUMIFS(Arquivo!$F$2:$F$20000,Arquivo!$B$2:$B$20000,L$6,Arquivo!$C$2:$C$20000,M$6,Arquivo!$D$2:$D$20000,$C187)),0)","v":0},0,{"$f":"IFERROR((SUMIFS(Arquivo!$F$2:$F$20000,Arquivo!$B$2:$B$20000,N$6,Arquivo!$C$2:$C$20000,O$6,Arquivo!$D$2:$D$20000,$C187)),0)","v":0},0,{"$f":"IFERROR((SUMIFS(Arquivo!$F$2:$F$20000,Arquivo!$B$2:$B$20000,P$6,Arquivo!$C$2:$C$20000,Q$6,Arquivo!$D$2:$D$20000,$C187)),0)","v":0},0,{"$f":"IFERROR((SUMIFS(Arquivo!$F$2:$F$20000,Arquivo!$B$2:$B$20000,R$6,Arquivo!$C$2:$C$20000,S$6,Arquivo!$D$2:$D$20000,$C187)),0)","v":0},0,{"$f":"IFERROR((SUMIFS(Arquivo!$F$2:$F$20000,Arquivo!$B$2:$B$20000,T$6,Arquivo!$C$2:$C$20000,U$6,Arquivo!$D$2:$D$20000,$C187)),0)","v":0},0,{"$f":"IFERROR((SUMIFS(Arquivo!$F$2:$F$20000,Arquivo!$B$2:$B$20000,V$6,Arquivo!$C$2:$C$20000,W$6,Arquivo!$D$2:$D$20000,$C187)),0)","v":0},0,{"$f":"IFERROR((SUMIFS(Arquivo!$F$2:$F$20000,Arquivo!$B$2:$B$20000,X$6,Arquivo!$C$2:$C$20000,Y$6,Arquivo!$D$2:$D$20000,$C187)),0)","v":0},0,{"$f":"IFERROR((SUMIFS(Arquivo!$F$2:$F$20000,Arquivo!$B$2:$B$20000,Z$6,Arquivo!$C$2:$C$20000,AA$6,Arquivo!$D$2:$D$20000,$C187)),0)","v":0},0,{"$f":"IFERROR((SUMIFS(Arquivo!$F$2:$F$20000,Arquivo!$B$2:$B$20000,AB$6,Arquivo!$C$2:$C$20000,AC$6,Arquivo!$D$2:$D$20000,$C187)),0)","v":0},0,0,0,null,null,""]
[null,null,{"$f":"IF('Plano de Contas'!B166=\"\",\"\",'Plano de Contas'!B166)","v":""},null,{"$f":"IF($C188=\"\",\"\",VLOOKUP($C188,'Plano de Contas'!$B$2:$E$200,3,FALSE))","v":""},{"$f":"IFERROR((SUMIFS(Arquivo!$F$2:$F$20000,Arquivo!$B$2:$B$20000,F$6,Arquivo!$C$2:$C$20000,G$6,Arquivo!$D$2:$D$20000,$C188)),0)","v":0},0,{"$f":"IFERROR((SUMIFS(Arquivo!$F$2:$F$20000,Arquivo!$B$2:$B$20000,H$6,Arquivo!$C$2:$C$20000,I$6,Arquivo!$D$2:$D$20000,$C188)),0)","v":0},0,{"$f":"IFERROR((SUMIFS(Arquivo!$F$2:$F$20000,Arquivo!$B$2:$B$20000,J$6,Arquivo!$C$2:$C$20000,K$6,Arquivo!$D$2:$D$20000,$C188)),0)","v":0},0,{"$f":"IFERROR((SUMIFS(Arquivo!$F$2:$F$20000,Arquivo!$B$2:$B$20000,L$6,Arquivo!$C$2:$C$20000,M$6,Arquivo!$D$2:$D$20000,$C188)),0)","v":0},0,{"$f":"IFERROR((SUMIFS(Arquivo!$F$2:$F$20000,Arquivo!$B$2:$B$20000,N$6,Arquivo!$C$2:$C$20000,O$6,Arquivo!$D$2:$D$20000,$C188)),0)","v":0},0,{"$f":"IFERROR((SUMIFS(Arquivo!$F$2:$F$20000,Arquivo!$B$2:$B$20000,P$6,Arquivo!$C$2:$C$20000,Q$6,Arquivo!$D$2:$D$20000,$C188)),0)","v":0},0,{"$f":"IFERROR((SUMIFS(Arquivo!$F$2:$F$20000,Arquivo!$B$2:$B$20000,R$6,Arquivo!$C$2:$C$20000,S$6,Arquivo!$D$2:$D$20000,$C188)),0)","v":0},0,{"$f":"IFERROR((SUMIFS(Arquivo!$F$2:$F$20000,Arquivo!$B$2:$B$20000,T$6,Arquivo!$C$2:$C$20000,U$6,Arquivo!$D$2:$D$20000,$C188)),0)","v":0},0,{"$f":"IFERROR((SUMIFS(Arquivo!$F$2:$F$20000,Arquivo!$B$2:$B$20000,V$6,Arquivo!$C$2:$C$20000,W$6,Arquivo!$D$2:$D$20000,$C188)),0)","v":0},0,{"$f":"IFERROR((SUMIFS(Arquivo!$F$2:$F$20000,Arquivo!$B$2:$B$20000,X$6,Arquivo!$C$2:$C$20000,Y$6,Arquivo!$D$2:$D$20000,$C188)),0)","v":0},0,{"$f":"IFERROR((SUMIFS(Arquivo!$F$2:$F$20000,Arquivo!$B$2:$B$20000,Z$6,Arquivo!$C$2:$C$20000,AA$6,Arquivo!$D$2:$D$20000,$C188)),0)","v":0},0,{"$f":"IFERROR((SUMIFS(Arquivo!$F$2:$F$20000,Arquivo!$B$2:$B$20000,AB$6,Arquivo!$C$2:$C$20000,AC$6,Arquivo!$D$2:$D$20000,$C188)),0)","v":0},0,0,0,null,null,""]
[null,null,null,null,null,null,null,null,null,null,null,null,null,null,null,null,null,null,null,null,null,null,null,null,null,null,null,null,null,null,null,null,null,{"$f":"IF(AH181=\"\",\"\",\"X\")","v":"X"}]
[null,null,null,"(=) RESULTADO LÍQUIDO     *Antes deduções s/lucro",null,{"$f":"F168+F170-F181","v":1813.6100000000606},{"$f":"IFERROR((F190/F$10),0)","v":1.8879444129604342E-3},{"$f":"H168+H170-H181","v":498.7900000000227},{"$f":"IFERROR((H190/H$10),0)","v":6.0714756525661413E-4},{"$f":"J168+J170-J181","v":26604.859999999982},{"$f":"IFERROR((J190/J$10),0)","v":2.0105431457423592E-2},{"$f":"L168+L170-L181","v":13511.150000000034},{"$f":"IFERROR((L190/L$10),0)","v":1.3391659569575604E-2},{"$f":"N168+N170-N181","v":-5019.4000000000451},{"$f":"IFERROR((N190/N$10),0)","v":-6.2371653739777284E-3},{"$f":"P168+P170-P181","v":50872.239999999991},{"$f":"IFERROR((P190/P$10),0)","v":5.7601924705019673E-2},{"$f":"R168+R170-R181","v":48031.849999999889},{"$f":"IFERROR((R190/R$10),0)","v":7.8954698466064302E-2},{"$f":"T168+T170-T181","v":0},{"$f":"IFERROR((T190/T$10),0)","v":0},{"$f":"V168+V170-V181","v":0},{"$f":"IFERROR((V190/V$10),0)","v":0},{"$f":"X168+X170-X181","v":0},{"$f":"IFERROR((X190/X$10),0)","v":0},{"$f":"Z168+Z170-Z181","v":0},{"$f":"IFERROR((Z190/Z$10),0)","v":0},{"$f":"AB168+AB170-AB181","v":0},{"$f":"IFERROR((AB190/AB$10),0)","v":0},{"$f":"AD168+AD170-AD181","v":136313.09999999998},{"$f":"IFERROR((AD190/AD$10),0)","v":2.1263638853255305E-2},null,null,{"$f":"IF(AND($X$3=\"CT\",AD190<>0),\"X\",\"\")","v":"X"}]
[null,null,null,null,null,null,null,null,null,null,null,null,null,null,null,null,null,null,null,null,null,null,null,null,null,null,null,null,null,null,null,null,null,{"$f":"IF(AH190=\"\",\"\",\"X\")","v":"X"}]
[null,null,null,"(-) DEDUÇÕES SOBRE LUCRO",null,{"$f":"SUBTOTAL(9,F193:F197)","v":0},{"$f":"IFERROR((F192/IF($X$3=\"CT\",F$10,F$192)),0)","v":0},{"$f":"SUBTOTAL(9,H193:H197)","v":0},{"$f":"IFERROR((H192/IF($X$3=\"CT\",H$10,H$192)),0)","v":0},{"$f":"SUBTOTAL(9,J193:J197)","v":0},{"$f":"IFERROR((J192/IF($X$3=\"CT\",J$10,J$192)),0)","v":0},{"$f":"SUBTOTAL(9,L193:L197)","v":567.41999999999996},{"$f":"IFERROR((L192/IF($X$3=\"CT\",L$10,L$192)),0)","v":5.6240182907958019E-4},{"$f":"SUBTOTAL(9,N193:N197)","v":0},{"$f":"IFERROR((N192/IF($X$3=\"CT\",N$10,N$192)),0)","v":0},{"$f":"SUBTOTAL(9,P193:P197)","v":0},{"$f":"IFERROR((P192/IF($X$3=\"CT\",P$10,P$192)),0)","v":0},{"$f":"SUBTOTAL(9,R193:R197)","v":651.71},{"$f":"IFERROR((R192/IF($X$3=\"CT\",R$10,R$192)),0)","v":1.0712801305242019E-3},{"$f":"SUBTOTAL(9,T193:T197)","v":0},{"$f":"IFERROR((T192/IF($X$3=\"CT\",T$10,T$192)),0)","v":0},{"$f":"SUBTOTAL(9,V193:V197)","v":0},{"$f":"IFERROR((V192/IF($X$3=\"CT\",V$10,V$192)),0)","v":0},{"$f":"SUBTOTAL(9,X193:X197)","v":0},{"$f":"IFERROR((X192/IF($X$3=\"CT\",X$10,X$192)),0)","v":0},{"$f":"SUBTOTAL(9,Z193:Z197)","v":0},{"$f":"IFERROR((Z192/IF($X$3=\"CT\",Z$10,Z$192)),0)","v":0},{"$f":"SUBTOTAL(9,AB193:AB197)","v":0},{"$f":"IFERROR((AB192/IF($X$3=\"CT\",AB$10,AB$192)),0)","v":0},{"$f":"SUBTOTAL(9,AD193:AD197)","v":1219.1300000000001},{"$f":"IFERROR((AD192/IF($X$3=\"CT\",AD$10,AD$192)),0)","v":1.9017350522561037E-4},null,null,{"$f":"IF(COUNTIF(AH193:AH196,\"X\")>0,\"X\",\"\")","v":"X"}]
[null,null,{"$f":"IF('Plano de Contas'!B168=\"\",\"\",'Plano de Contas'!B168)","v":"13.1.1.1"},{"$f":"IF($C193=\"\",\"\",VLOOKUP($C193,'Plano de Contas'!$B$2:$E$200,4,FALSE))","v":"CV"},{"$f":"IF($C193=\"\",\"\",VLOOKUP($C193,'Plano de Contas'!$B$2:$E$200,3,FALSE))","v":"IMPOSTO S/ LUCRO"},{"$f":"IFERROR((SUMIFS(Arquivo!$F$2:$F$20000,Arquivo!$B$2:$B$20000,F$6,Arquivo!$C$2:$C$20000,G$6,Arquivo!$D$2:$D$20000,$C193)),0)","v":0},{"$f":"IFERROR((F193/IF($X$3=\"CT\",F$10,F$192)),0)","v":0},{"$f":"IFERROR((SUMIFS(Arquivo!$F$2:$F$20000,Arquivo!$B$2:$B$20000,H$6,Arquivo!$C$2:$C$20000,I$6,Arquivo!$D$2:$D$20000,$C193)),0)","v":0},{"$f":"IFERROR((H193/IF($X$3=\"CT\",H$10,H$192)),0)","v":0},{"$f":"IFERROR((SUMIFS(Arquivo!$F$2:$F$20000,Arquivo!$B$2:$B$20000,J$6,Arquivo!$C$2:$C$20000,K$6,Arquivo!$D$2:$D$20000,$C193)),0)","v":0},{"$f":"IFERROR((J193/IF($X$3=\"CT\",J$10,J$192)),0)","v":0},{"$f":"IFERROR((SUMIFS(Arquivo!$F$2:$F$20000,Arquivo!$B$2:$B$20000,L$6,Arquivo!$C$2:$C$20000,M$6,Arquivo!$D$2:$D$20000,$C193)),0)","v":567.41999999999996},{"$f":"IFERROR((L193/IF($X$3=\"CT\",L$10,L$192)),0)","v":5.6240182907958019E-4},{"$f":"IFERROR((SUMIFS(Arquivo!$F$2:$F$20000,Arquivo!$B$2:$B$20000,N$6,Arquivo!$C$2:$C$20000,O$6,Arquivo!$D$2:$D$20000,$C193)),0)","v":0},{"$f":"IFERROR((N193/IF($X$3=\"CT\",N$10,N$192)),0)","v":0},{"$f":"IFERROR((SUMIFS(Arquivo!$F$2:$F$20000,Arquivo!$B$2:$B$20000,P$6,Arquivo!$C$2:$C$20000,Q$6,Arquivo!$D$2:$D$20000,$C193)),0)","v":0},{"$f":"IFERROR((P193/IF($X$3=\"CT\",P$10,P$192)),0)","v":0},{"$f":"IFERROR((SUMIFS(Arquivo!$F$2:$F$20000,Arquivo!$B$2:$B$20000,R$6,Arquivo!$C$2:$C$20000,S$6,Arquivo!$D$2:$D$20000,$C193)),0)","v":651.71},{"$f":"IFERROR((R193/IF($X$3=\"CT\",R$10,R$192)),0)","v":1.0712801305242019E-3},{"$f":"IFERROR((SUMIFS(Arquivo!$F$2:$F$20000,Arquivo!$B$2:$B$20000,T$6,Arquivo!$C$2:$C$20000,U$6,Arquivo!$D$2:$D$20000,$C193)),0)","v":0},{"$f":"IFERROR((T193/IF($X$3=\"CT\",T$10,T$192)),0)","v":0},{"$f":"IFERROR((SUMIFS(Arquivo!$F$2:$F$20000,Arquivo!$B$2:$B$20000,V$6,Arquivo!$C$2:$C$20000,W$6,Arquivo!$D$2:$D$20000,$C193)),0)","v":0},{"$f":"IFERROR((V193/IF($X$3=\"CT\",V$10,V$192)),0)","v":0},{"$f":"IFERROR((SUMIFS(Arquivo!$F$2:$F$20000,Arquivo!$B$2:$B$20000,X$6,Arquivo!$C$2:$C$20000,Y$6,Arquivo!$D$2:$D$20000,$C193)),0)","v":0},{"$f":"IFERROR((X193/IF($X$3=\"CT\",X$10,X$192)),0)","v":0},{"$f":"IFERROR((SUMIFS(Arquivo!$F$2:$F$20000,Arquivo!$B$2:$B$20000,Z$6,Arquivo!$C$2:$C$20000,AA$6,Arquivo!$D$2:$D$20000,$C193)),0)","v":0},{"$f":"IFERROR((Z193/IF($X$3=\"CT\",Z$10,Z$192)),0)","v":0},{"$f":"IFERROR((SUMIFS(Arquivo!$F$2:$F$20000,Arquivo!$B$2:$B$20000,AB$6,Arquivo!$C$2:$C$20000,AC$6,Arquivo!$D$2:$D$20000,$C193)),0)","v":0},{"$f":"IFERROR((AB193/IF($X$3=\"CT\",AB$10,AB$192)),0)","v":0},{"$f":"F193+H193+J193+L193+N193+P193+R193+T193+V193+X193+Z193+AB193","v":1219.1300000000001},{"$f":"IFERROR((AD193/IF($X$3=\"CT\",AD$10,AD$192)),0)","v":1.9017350522561037E-4},null,null,{"$f":"IF($AD193=0,\"\",IF($X$3=\"CT\",\"X\",IF($X$3=$D193,\"X\",\"\")))","v":"X"}]
[null,null,{"$f":"IF('Plano de Contas'!B169=\"\",\"\",'Plano de Contas'!B169)","v":""},null,{"$f":"IF($C194=\"\",\"\",VLOOKUP($C194,'Plano de Contas'!$B$2:$E$200,3,FALSE))","v":""},{"$f":"IFERROR((SUMIFS(Arquivo!$F$2:$F$20000,Arquivo!$B$2:$B$20000,F$6,Arquivo!$C$2:$C$20000,G$6,Arquivo!$D$2:$D$20000,$C194)),0)","v":0},{"$f":"IFERROR((F194/IF($X$3=\"CT\",F$10,F$192)),0)","v":0},{"$f":"IFERROR((SUMIFS(Arquivo!$F$2:$F$20000,Arquivo!$B$2:$B$20000,H$6,Arquivo!$C$2:$C$20000,I$6,Arquivo!$D$2:$D$20000,$C194)),0)","v":0},{"$f":"IFERROR((H194/IF($X$3=\"CT\",H$10,H$192)),0)","v":0},{"$f":"IFERROR((SUMIFS(Arquivo!$F$2:$F$20000,Arquivo!$B$2:$B$20000,J$6,Arquivo!$C$2:$C$20000,K$6,Arquivo!$D$2:$D$20000,$C194)),0)","v":0},{"$f":"IFERROR((J194/IF($X$3=\"CT\",J$10,J$192)),0)","v":0},{"$f":"IFERROR((SUMIFS(Arquivo!$F$2:$F$20000,Arquivo!$B$2:$B$20000,L$6,Arquivo!$C$2:$C$20000,M$6,Arquivo!$D$2:$D$20000,$C194)),0)","v":0},{"$f":"IFERROR((L194/IF($X$3=\"CT\",L$10,L$192)),0)","v":0},{"$f":"IFERROR((SUMIFS(Arquivo!$F$2:$F$20000,Arquivo!$B$2:$B$20000,N$6,Arquivo!$C$2:$C$20000,O$6,Arquivo!$D$2:$D$20000,$C194)),0)","v":0},{"$f":"IFERROR((N194/IF($X$3=\"CT\",N$10,N$192)),0)","v":0},{"$f":"IFERROR((SUMIFS(Arquivo!$F$2:$F$20000,Arquivo!$B$2:$B$20000,P$6,Arquivo!$C$2:$C$20000,Q$6,Arquivo!$D$2:$D$20000,$C194)),0)","v":0},{"$f":"IFERROR((P194/IF($X$3=\"CT\",P$10,P$192)),0)","v":0},{"$f":"IFERROR((SUMIFS(Arquivo!$F$2:$F$20000,Arquivo!$B$2:$B$20000,R$6,Arquivo!$C$2:$C$20000,S$6,Arquivo!$D$2:$D$20000,$C194)),0)","v":0},{"$f":"IFERROR((R194/IF($X$3=\"CT\",R$10,R$192)),0)","v":0},{"$f":"IFERROR((SUMIFS(Arquivo!$F$2:$F$20000,Arquivo!$B$2:$B$20000,T$6,Arquivo!$C$2:$C$20000,U$6,Arquivo!$D$2:$D$20000,$C194)),0)","v":0},{"$f":"IFERROR((T194/IF($X$3=\"CT\",T$10,T$192)),0)","v":0},{"$f":"IFERROR((SUMIFS(Arquivo!$F$2:$F$20000,Arquivo!$B$2:$B$20000,V$6,Arquivo!$C$2:$C$20000,W$6,Arquivo!$D$2:$D$20000,$C194)),0)","v":0},{"$f":"IFERROR((V194/IF($X$3=\"CT\",V$10,V$192)),0)","v":0},{"$f":"IFERROR((SUMIFS(Arquivo!$F$2:$F$20000,Arquivo!$B$2:$B$20000,X$6,Arquivo!$C$2:$C$20000,Y$6,Arquivo!$D$2:$D$20000,$C194)),0)","v":0},{"$f":"IFERROR((X194/IF($X$3=\"CT\",X$10,X$192)),0)","v":0},{"$f":"IFERROR((SUMIFS(Arquivo!$F$2:$F$20000,Arquivo!$B$2:$B$20000,Z$6,Arquivo!$C$2:$C$20000,AA$6,Arquivo!$D$2:$D$20000,$C194)),0)","v":0},{"$f":"IFERROR((Z194/IF($X$3=\"CT\",Z$10,Z$192)),0)","v":0},{"$f":"IFERROR((SUMIFS(Arquivo!$F$2:$F$20000,Arquivo!$B$2:$B$20000,AB$6,Arquivo!$C$2:$C$20000,AC$6,Arquivo!$D$2:$D$20000,$C194)),0)","v":0},{"$f":"IFERROR((AB194/IF($X$3=\"CT\",AB$10,AB$192)),0)","v":0},0,{"$f":"IFERROR((AD194/IF($X$3=\"CT\",AD$10,AD$192)),0)","v":0},null,null,{"$f":"IF($AD194=0,\"\",IF($X$3=\"CT\",\"X\",IF($X$3=$D194,\"X\",\"\")))","v":""}]
[null,null,{"$f":"IF('Plano de Contas'!B170=\"\",\"\",'Plano de Contas'!B170)","v":""},null,{"$f":"IF($C195=\"\",\"\",VLOOKUP($C195,'Plano de Contas'!$B$2:$E$200,3,FALSE))","v":""},{"$f":"IFERROR((SUMIFS(Arquivo!$F$2:$F$20000,Arquivo!$B$2:$B$20000,F$6,Arquivo!$C$2:$C$20000,G$6,Arquivo!$D$2:$D$20000,$C195)),0)","v":0},{"$f":"IFERROR((F195/IF($X$3=\"CT\",F$10,F$192)),0)","v":0},{"$f":"IFERROR((SUMIFS(Arquivo!$F$2:$F$20000,Arquivo!$B$2:$B$20000,H$6,Arquivo!$C$2:$C$20000,I$6,Arquivo!$D$2:$D$20000,$C195)),0)","v":0},{"$f":"IFERROR((H195/IF($X$3=\"CT\",H$10,H$192)),0)","v":0},{"$f":"IFERROR((SUMIFS(Arquivo!$F$2:$F$20000,Arquivo!$B$2:$B$20000,J$6,Arquivo!$C$2:$C$20000,K$6,Arquivo!$D$2:$D$20000,$C195)),0)","v":0},{"$f":"IFERROR((J195/IF($X$3=\"CT\",J$10,J$192)),0)","v":0},{"$f":"IFERROR((SUMIFS(Arquivo!$F$2:$F$20000,Arquivo!$B$2:$B$20000,L$6,Arquivo!$C$2:$C$20000,M$6,Arquivo!$D$2:$D$20000,$C195)),0)","v":0},{"$f":"IFERROR((L195/IF($X$3=\"CT\",L$10,L$192)),0)","v":0},{"$f":"IFERROR((SUMIFS(Arquivo!$F$2:$F$20000,Arquivo!$B$2:$B$20000,N$6,Arquivo!$C$2:$C$20000,O$6,Arquivo!$D$2:$D$20000,$C195)),0)","v":0},{"$f":"IFERROR((N195/IF($X$3=\"CT\",N$10,N$192)),0)","v":0},{"$f":"IFERROR((SUMIFS(Arquivo!$F$2:$F$20000,Arquivo!$B$2:$B$20000,P$6,Arquivo!$C$2:$C$20000,Q$6,Arquivo!$D$2:$D$20000,$C195)),0)","v":0},{"$f":"IFERROR((P195/IF($X$3=\"CT\",P$10,P$192)),0)","v":0},{"$f":"IFERROR((SUMIFS(Arquivo!$F$2:$F$20000,Arquivo!$B$2:$B$20000,R$6,Arquivo!$C$2:$C$20000,S$6,Arquivo!$D$2:$D$20000,$C195)),0)","v":0},{"$f":"IFERROR((R195/IF($X$3=\"CT\",R$10,R$192)),0)","v":0},{"$f":"IFERROR((SUMIFS(Arquivo!$F$2:$F$20000,Arquivo!$B$2:$B$20000,T$6,Arquivo!$C$2:$C$20000,U$6,Arquivo!$D$2:$D$20000,$C195)),0)","v":0},{"$f":"IFERROR((T195/IF($X$3=\"CT\",T$10,T$192)),0)","v":0},{"$f":"IFERROR((SUMIFS(Arquivo!$F$2:$F$20000,Arquivo!$B$2:$B$20000,V$6,Arquivo!$C$2:$C$20000,W$6,Arquivo!$D$2:$D$20000,$C195)),0)","v":0},{"$f":"IFERROR((V195/IF($X$3=\"CT\",V$10,V$192)),0)","v":0},{"$f":"IFERROR((SUMIFS(Arquivo!$F$2:$F$20000,Arquivo!$B$2:$B$20000,X$6,Arquivo!$C$2:$C$20000,Y$6,Arquivo!$D$2:$D$20000,$C195)),0)","v":0},{"$f":"IFERROR((X195/IF($X$3=\"CT\",X$10,X$192)),0)","v":0},{"$f":"IFERROR((SUMIFS(Arquivo!$F$2:$F$20000,Arquivo!$B$2:$B$20000,Z$6,Arquivo!$C$2:$C$20000,AA$6,Arquivo!$D$2:$D$20000,$C195)),0)","v":0},{"$f":"IFERROR((Z195/IF($X$3=\"CT\",Z$10,Z$192)),0)","v":0},{"$f":"IFERROR((SUMIFS(Arquivo!$F$2:$F$20000,Arquivo!$B$2:$B$20000,AB$6,Arquivo!$C$2:$C$20000,AC$6,Arquivo!$D$2:$D$20000,$C195)),0)","v":0},{"$f":"IFERROR((AB195/IF($X$3=\"CT\",AB$10,AB$192)),0)","v":0},0,{"$f":"IFERROR((AD195/IF($X$3=\"CT\",AD$10,AD$192)),0)","v":0},null,null,{"$f":"IF($AD195=0,\"\",IF($X$3=\"CT\",\"X\",IF($X$3=$D195,\"X\",\"\")))","v":""}]
[null,null,{"$f":"IF('Plano de Contas'!B171=\"\",\"\",'Plano de Contas'!B171)","v":""},null,{"$f":"IF($C196=\"\",\"\",VLOOKUP($C196,'Plano de Contas'!$B$2:$E$200,3,FALSE))","v":""},{"$f":"IFERROR((SUMIFS(Arquivo!$F$2:$F$20000,Arquivo!$B$2:$B$20000,F$6,Arquivo!$C$2:$C$20000,G$6,Arquivo!$D$2:$D$20000,$C196)),0)","v":0},{"$f":"IFERROR((F196/IF($X$3=\"CT\",F$10,F$192)),0)","v":0},{"$f":"IFERROR((SUMIFS(Arquivo!$F$2:$F$20000,Arquivo!$B$2:$B$20000,H$6,Arquivo!$C$2:$C$20000,I$6,Arquivo!$D$2:$D$20000,$C196)),0)","v":0},{"$f":"IFERROR((H196/IF($X$3=\"CT\",H$10,H$192)),0)","v":0},{"$f":"IFERROR((SUMIFS(Arquivo!$F$2:$F$20000,Arquivo!$B$2:$B$20000,J$6,Arquivo!$C$2:$C$20000,K$6,Arquivo!$D$2:$D$20000,$C196)),0)","v":0},{"$f":"IFERROR((J196/IF($X$3=\"CT\",J$10,J$192)),0)","v":0},{"$f":"IFERROR((SUMIFS(Arquivo!$F$2:$F$20000,Arquivo!$B$2:$B$20000,L$6,Arquivo!$C$2:$C$20000,M$6,Arquivo!$D$2:$D$20000,$C196)),0)","v":0},{"$f":"IFERROR((L196/IF($X$3=\"CT\",L$10,L$192)),0)","v":0},{"$f":"IFERROR((SUMIFS(Arquivo!$F$2:$F$20000,Arquivo!$B$2:$B$20000,N$6,Arquivo!$C$2:$C$20000,O$6,Arquivo!$D$2:$D$20000,$C196)),0)","v":0},{"$f":"IFERROR((N196/IF($X$3=\"CT\",N$10,N$192)),0)","v":0},{"$f":"IFERROR((SUMIFS(Arquivo!$F$2:$F$20000,Arquivo!$B$2:$B$20000,P$6,Arquivo!$C$2:$C$20000,Q$6,Arquivo!$D$2:$D$20000,$C196)),0)","v":0},{"$f":"IFERROR((P196/IF($X$3=\"CT\",P$10,P$192)),0)","v":0},{"$f":"IFERROR((SUMIFS(Arquivo!$F$2:$F$20000,Arquivo!$B$2:$B$20000,R$6,Arquivo!$C$2:$C$20000,S$6,Arquivo!$D$2:$D$20000,$C196)),0)","v":0},{"$f":"IFERROR((R196/IF($X$3=\"CT\",R$10,R$192)),0)","v":0},{"$f":"IFERROR((SUMIFS(Arquivo!$F$2:$F$20000,Arquivo!$B$2:$B$20000,T$6,Arquivo!$C$2:$C$20000,U$6,Arquivo!$D$2:$D$20000,$C196)),0)","v":0},{"$f":"IFERROR((T196/IF($X$3=\"CT\",T$10,T$192)),0)","v":0},{"$f":"IFERROR((SUMIFS(Arquivo!$F$2:$F$20000,Arquivo!$B$2:$B$20000,V$6,Arquivo!$C$2:$C$20000,W$6,Arquivo!$D$2:$D$20000,$C196)),0)","v":0},{"$f":"IFERROR((V196/IF($X$3=\"CT\",V$10,V$192)),0)","v":0},{"$f":"IFERROR((SUMIFS(Arquivo!$F$2:$F$20000,Arquivo!$B$2:$B$20000,X$6,Arquivo!$C$2:$C$20000,Y$6,Arquivo!$D$2:$D$20000,$C196)),0)","v":0},{"$f":"IFERROR((X196/IF($X$3=\"CT\",X$10,X$192)),0)","v":0},{"$f":"IFERROR((SUMIFS(Arquivo!$F$2:$F$20000,Arquivo!$B$2:$B$20000,Z$6,Arquivo!$C$2:$C$20000,AA$6,Arquivo!$D$2:$D$20000,$C196)),0)","v":0},{"$f":"IFERROR((Z196/IF($X$3=\"CT\",Z$10,Z$192)),0)","v":0},{"$f":"IFERROR((SUMIFS(Arquivo!$F$2:$F$20000,Arquivo!$B$2:$B$20000,AB$6,Arquivo!$C$2:$C$20000,AC$6,Arquivo!$D$2:$D$20000,$C196)),0)","v":0},{"$f":"IFERROR((AB196/IF($X$3=\"CT\",AB$10,AB$192)),0)","v":0},0,{"$f":"IFERROR((AD196/IF($X$3=\"CT\",AD$10,AD$192)),0)","v":0},null,null,{"$f":"IF($AD196=0,\"\",IF($X$3=\"CT\",\"X\",IF($X$3=$D196,\"X\",\"\")))","v":""}]
[null,null,null,null,null,null,null,null,null,null,null,null,null,null,null,null,null,null,null,null,null,null,null,null,null,null,null,null,null,null,null,null,null,{"$f":"IF(AH192=\"\",\"\",\"X\")","v":"X"}]
[null,null,null,{"$f":"IF(X3=\"CT\",\"(=) RESULTADO LÍQUIDO\",CONCATENATE(\"TOTAL \",G3))","v":"(=) RESULTADO LÍQUIDO"},null,{"$f":"IF($X$3=\"CT\",(F190-F192),(F18+F30+F45+F69+F96+F106+F136+F148+F157+F181+F192))","v":1813.6100000000606},{"$f":"IF($X$3<>\"CT\",\"\",IFERROR((F198/F$10),0))","v":1.8879444129604342E-3},{"$f":"IF($X$3=\"CT\",(H190-H192),(H18+H30+H45+H69+H96+H106+H136+H148+H157+H181+H192))","v":498.7900000000227},{"$f":"IF($X$3<>\"CT\",\"\",IFERROR((H198/H$10),0))","v":6.0714756525661413E-4},{"$f":"IF($X$3=\"CT\",(J190-J192),(J18+J30+J45+J69+J96+J106+J136+J148+J157+J181+J192))","v":26604.859999999982},{"$f":"IF($X$3<>\"CT\",\"\",IFERROR((J198/J$10),0))","v":2.0105431457423592E-2},{"$f":"IF($X$3=\"CT\",(L190-L192),(L18+L30+L45+L69+L96+L106+L136+L148+L157+L181+L192))","v":12943.730000000034},{"$f":"IF($X$3<>\"CT\",\"\",IFERROR((L198/L$10),0))","v":1.2829257740496024E-2},{"$f":"IF($X$3=\"CT\",(N190-N192),(N18+N30+N45+N69+N96+N106+N136+N148+N157+N181+N192))","v":-5019.4000000000451},{"$f":"IF($X$3<>\"CT\",\"\",IFERROR((N198/N$10),0))","v":-6.2371653739777284E-3},{"$f":"IF($X$3=\"CT\",(P190-P192),(P18+P30+P45+P69+P96+P106+P136+P148+P157+P181+P192))","v":50872.239999999991},{"$f":"IF($X$3<>\"CT\",\"\",IFERROR((P198/P$10),0))","v":5.7601924705019673E-2},{"$f":"IF($X$3=\"CT\",(R190-R192),(R18+R30+R45+R69+R96+R106+R136+R148+R157+R181+R192))","v":47380.13999999989},{"$f":"IF($X$3<>\"CT\",\"\",IFERROR((R198/R$10),0))","v":7.7883418335540092E-2},{"$f":"IF($X$3=\"CT\",(T190-T192),(T18+T30+T45+T69+T96+T106+T136+T148+T157+T181+T192))","v":0},{"$f":"IF($X$3<>\"CT\",\"\",IFERROR((T198/T$10),0))","v":0},{"$f":"IF($X$3=\"CT\",(V190-V192),(V18+V30+V45+V69+V96+V106+V136+V148+V157+V181+V192))","v":0},{"$f":"IF($X$3<>\"CT\",\"\",IFERROR((V198/V$10),0))","v":0},{"$f":"IF($X$3=\"CT\",(X190-X192),(X18+X30+X45+X69+X96+X106+X136+X148+X157+X181+X192))","v":0},{"$f":"IF($X$3<>\"CT\",\"\",IFERROR((X198/X$10),0))","v":0},{"$f":"IF($X$3=\"CT\",(Z190-Z192),(Z18+Z30+Z45+Z69+Z96+Z106+Z136+Z148+Z157+Z181+Z192))","v":0},{"$f":"IF($X$3<>\"CT\",\"\",IFERROR((Z198/Z$10),0))","v":0},{"$f":"IF($X$3=\"CT\",(AB190-AB192),(AB18+AB30+AB45+AB69+AB96+AB106+AB136+AB148+AB157+AB181+AB192))","v":0},{"$f":"IF($X$3<>\"CT\",\"\",IFERROR((AB198/AB$10),0))","v":0},{"$f":"IF($X$3=\"CT\",(AD190-AD192),(AD18+AD30+AD45+AD69+AD96+AD106+AD136+AD148+AD157+AD181+AD192))","v":135093.96999999997},{"$f":"IF($X$3<>\"CT\",\"\",IFERROR((AD198/AD$10),0))","v":2.1073465348029695E-2},null,null,"X"]
[null,null,null,null,null,null,null,null,null,null,null,null,null,null,null,null,null,null,null,null,null,null,null,null,null,null,null,null,null,null,null,null,null,"X"]
[null,null,null,null,null,null,null,null,null,null,null,null,null,null,null,null,null,null,null,null,null,null,null,null,null,null,null,null,null,null,null,null,null,{"$f":"IF(AH198=\"\",\"\",\"X\")","v":"X"}]
[null,null,"ANÁLISE CUSTOS (CONSIDERAR CMV, IMPOSTOS E DEDUÇÕES)",null,null,"(R$)","% S/RB","(R$)",{"$f":"G201","v":"% S/RB"},"(R$)",{"$f":"I201","v":"% S/RB"},"(R$)",{"$f":"K201","v":"% S/RB"},"(R$)",{"$f":"M201","v":"% S/RB"},"(R$)",{"$f":"O201","v":"% S/RB"},"(R$)",{"$f":"Q201","v":"% S/RB"},"(R$)",{"$f":"S201","v":"% S/RB"},"(R$)",{"$f":"U201","v":"% S/RB"},"(R$)",{"$f":"W201","v":"% S/RB"},"(R$)",{"$f":"Y201","v":"% S/RB"},"(R$)",{"$f":"AA201","v":"% S/RB"},"(R$)",{"$f":"AC201","v":"% S/RB"},null,null,{"$f":"IF($X$3=\"CT\",\"X\",\"\")","v":"X"}]
[null,null,null,null,"CUSTOS FIXOS",{"$f":"IF($C$201=$Q$3,SUMIF($D$41:$D$197,\"CF\",F$41:F$197),SUMIF($D$41:$D$197,\"CF\",F$41:F$197))","v":67883.25},{"$f":"IFERROR((IF(AND(G$201=$U$3,$N$4=$P$4),(F202/F$10),IF(G$201=$U$4,(F202/F$204),0))),0)","v":7.066558001504851E-2},{"$f":"IF($C$201=$Q$3,SUMIF($D$41:$D$197,\"CF\",H$41:H$197),SUMIF($D$41:$D$197,\"CF\",H$41:H$197))","v":82077.91},{"$f":"IFERROR((IF(AND(I$201=$U$3,$N$4=$P$4),(H202/H$10),IF(I$201=$U$4,(H202/H$204),0))),0)","v":9.9908585211911288E-2},{"$f":"IF($C$201=$Q$3,SUMIF($D$41:$D$197,\"CF\",J$41:J$197),SUMIF($D$41:$D$197,\"CF\",J$41:J$197))","v":84427.540000000008},{"$f":"IFERROR((IF(AND(K$201=$U$3,$N$4=$P$4),(J202/J$10),IF(K$201=$U$4,(J202/J$204),0))),0)","v":6.3802332302778139E-2},{"$f":"IF($C$201=$Q$3,SUMIF($D$41:$D$197,\"CF\",L$41:L$197),SUMIF($D$41:$D$197,\"CF\",L$41:L$197))","v":80027.909999999989},{"$f":"IFERROR((IF(AND(M$201=$U$3,$N$4=$P$4),(L202/L$10),IF(M$201=$U$4,(L202/L$204),0))),0)","v":7.9320156077360718E-2},{"$f":"IF($C$201=$Q$3,SUMIF($D$41:$D$197,\"CF\",N$41:N$197),SUMIF($D$41:$D$197,\"CF\",N$41:N$197))","v":73870.579999999987},{"$f":"IFERROR((IF(AND(O$201=$U$3,$N$4=$P$4),(N202/N$10),IF(O$201=$U$4,(N202/N$204),0))),0)","v":9.1792450040173626E-2},{"$f":"IF($C$201=$Q$3,SUMIF($D$41:$D$197,\"CF\",P$41:P$197),SUMIF($D$41:$D$197,\"CF\",P$41:P$197))","v":80446.47},{"$f":"IFERROR((IF(AND(Q$201=$U$3,$N$4=$P$4),(P202/P$10),IF(Q$201=$U$4,(P202/P$204),0))),0)","v":9.1088411041554782E-2},{"$f":"IF($C$201=$Q$3,SUMIF($D$41:$D$197,\"CF\",R$41:R$197),SUMIF($D$41:$D$197,\"CF\",R$41:R$197))","v":84931.21},{"$f":"IFERROR((IF(AND(S$201=$U$3,$N$4=$P$4),(R202/R$10),IF(S$201=$U$4,(R202/R$204),0))),0)","v":0.13960982298012675},{"$f":"IF($C$201=$Q$3,SUMIF($D$41:$D$197,\"CF\",T$41:T$197),SUMIF($D$41:$D$197,\"CF\",T$41:T$197))","v":0},{"$f":"IFERROR((IF(AND(U$201=$U$3,$N$4=$P$4),(T202/T$10),IF(U$201=$U$4,(T202/T$204),0))),0)","v":0},{"$f":"IF($C$201=$Q$3,SUMIF($D$41:$D$197,\"CF\",V$41:V$197),SUMIF($D$41:$D$197,\"CF\",V$41:V$197))","v":0},{"$f":"IFERROR((IF(AND(W$201=$U$3,$N$4=$P$4),(V202/V$10),IF(W$201=$U$4,(V202/V$204),0))),0)","v":0},{"$f":"IF($C$201=$Q$3,SUMIF($D$41:$D$197,\"CF\",X$41:X$197),SUMIF($D$41:$D$197,\"CF\",X$41:X$197))","v":0},{"$f":"IFERROR((IF(AND(Y$201=$U$3,$N$4=$P$4),(X202/X$10),IF(Y$201=$U$4,(X202/X$204),0))),0)","v":0},{"$f":"IF($C$201=$Q$3,SUMIF($D$41:$D$197,\"CF\",Z$41:Z$197),SUMIF($D$41:$D$197,\"CF\",Z$41:Z$197))","v":0},{"$f":"IFERROR((IF(AND(AA$201=$U$3,$N$4=$P$4),(Z202/Z$10),IF(AA$201=$U$4,(Z202/Z$204),0))),0)","v":0},{"$f":"IF($C$201=$Q$3,SUMIF($D$41:$D$197,\"CF\",AB$41:AB$197),SUMIF($D$41:$D$197,\"CF\",AB$41:AB$197))","v":0},{"$f":"IFERROR((IF(AND(AC$201=$U$3,$N$4=$P$4),(AB202/AB$10),IF(AC$201=$U$4,(AB202/AB$204),0))),0)","v":0},{"$f":"IF($C$201=$Q$3,SUMIF($D$41:$D$197,\"CF\",AD$41:AD$197),SUMIF($D$41:$D$197,\"CF\",AD$41:AD$197))","v":553664.87},{"$f":"IFERROR((IF(AND(AE$201=$U$3,$N$4=$P$4),(AD202/AD$10),IF(AE$201=$U$4,(AD202/AD$204),0))),0)","v":8.6366826382897527E-2},null,null,"X"]
[null,null,null,null,"CUSTOS VARIÁVEIS",{"$f":"IF($C$201=$Q$3,(SUMIF($D$41:$D$197,\"CV\",F$41:F$197)+F18+F30),SUMIF($D$41:$D$197,\"CV\",F$41:F$197))","v":903131},{"$f":"IFERROR((IF(AND(G$201=$U$3,$N$4=$P$4),(F203/F$10),IF(G$201=$U$4,(F203/F$204),0))),0)","v":0.94014762028292354},{"$f":"IF($C$201=$Q$3,(SUMIF($D$41:$D$197,\"CV\",H$41:H$197)+H18+H30),SUMIF($D$41:$D$197,\"CV\",H$41:H$197))","v":743642.65},{"$f":"IFERROR((IF(AND(I$201=$U$3,$N$4=$P$4),(H203/H$10),IF(I$201=$U$4,(H203/H$204),0))),0)","v":0.90519221389453663},{"$f":"IF($C$201=$Q$3,(SUMIF($D$41:$D$197,\"CV\",J$41:J$197)+J18+J30),SUMIF($D$41:$D$197,\"CV\",J$41:J$197))","v":1213614.8400000001},{"$f":"IFERROR((IF(AND(K$201=$U$3,$N$4=$P$4),(J203/J$10),IF(K$201=$U$4,(J203/J$204),0))),0)","v":0.91713506409475998},{"$f":"IF($C$201=$Q$3,(SUMIF($D$41:$D$197,\"CV\",L$41:L$197)+L18+L30),SUMIF($D$41:$D$197,\"CV\",L$41:L$197))","v":925148.63},{"$f":"IFERROR((IF(AND(M$201=$U$3,$N$4=$P$4),(L203/L$10),IF(M$201=$U$4,(L203/L$204),0))),0)","v":0.91696676479938632},{"$f":"IF($C$201=$Q$3,(SUMIF($D$41:$D$197,\"CV\",N$41:N$197)+N18+N30),SUMIF($D$41:$D$197,\"CV\",N$41:N$197))","v":740993.6},{"$f":"IFERROR((IF(AND(O$201=$U$3,$N$4=$P$4),(N203/N$10),IF(O$201=$U$4,(N203/N$204),0))),0)","v":0.92076734754334411},{"$f":"IF($C$201=$Q$3,(SUMIF($D$41:$D$197,\"CV\",P$41:P$197)+P18+P30),SUMIF($D$41:$D$197,\"CV\",P$41:P$197))","v":756620.39},{"$f":"IFERROR((IF(AND(Q$201=$U$3,$N$4=$P$4),(P203/P$10),IF(Q$201=$U$4,(P203/P$204),0))),0)","v":0.85671066843257992},{"$f":"IF($C$201=$Q$3,(SUMIF($D$41:$D$197,\"CV\",R$41:R$197)+R18+R30),SUMIF($D$41:$D$197,\"CV\",R$41:R$197))","v":482131.77},{"$f":"IFERROR((IF(AND(S$201=$U$3,$N$4=$P$4),(R203/R$10),IF(S$201=$U$4,(R203/R$204),0))),0)","v":0.7925276357512766},{"$f":"IF($C$201=$Q$3,(SUMIF($D$41:$D$197,\"CV\",T$41:T$197)+T18+T30),SUMIF($D$41:$D$197,\"CV\",T$41:T$197))","v":0},{"$f":"IFERROR((IF(AND(U$201=$U$3,$N$4=$P$4),(T203/T$10),IF(U$201=$U$4,(T203/T$204),0))),0)","v":0},{"$f":"IF($C$201=$Q$3,(SUMIF($D$41:$D$197,\"CV\",V$41:V$197)+V18+V30),SUMIF($D$41:$D$197,\"CV\",V$41:V$197))","v":0},{"$f":"IFERROR((IF(AND(W$201=$U$3,$N$4=$P$4),(V203/V$10),IF(W$201=$U$4,(V203/V$204),0))),0)","v":0},{"$f":"IF($C$201=$Q$3,(SUMIF($D$41:$D$197,\"CV\",X$41:X$197)+X18+X30),SUMIF($D$41:$D$197,\"CV\",X$41:X$197))","v":0},{"$f":"IFERROR((IF(AND(Y$201=$U$3,$N$4=$P$4),(X203/X$10),IF(Y$201=$U$4,(X203/X$204),0))),0)","v":0},{"$f":"IF($C$201=$Q$3,(SUMIF($D$41:$D$197,\"CV\",Z$41:Z$197)+Z18+Z30),SUMIF($D$41:$D$197,\"CV\",Z$41:Z$197))","v":0},{"$f":"IFERROR((IF(AND(AA$201=$U$3,$N$4=$P$4),(Z203/Z$10),IF(AA$201=$U$4,(Z203/Z$204),0))),0)","v":0},{"$f":"IF($C$201=$Q$3,(SUMIF($D$41:$D$197,\"CV\",AB$41:AB$197)+AB18+AB30),SUMIF($D$41:$D$197,\"CV\",AB$41:AB$197))","v":0},{"$f":"IFERROR((IF(AND(AC$201=$U$3,$N$4=$P$4),(AB203/AB$10),IF(AC$201=$U$4,(AB203/AB$204),0))),0)","v":0},{"$f":"IF($C$201=$Q$3,(SUMIF($D$41:$D$197,\"CV\",AD$41:AD$197)+AD18+AD30),SUMIF($D$41:$D$197,\"CV\",AD$41:AD$197))","v":5765282.8799999999},{"$f":"IFERROR((IF(AND(AE$201=$U$3,$N$4=$P$4),(AD203/AD$10),IF(AE$201=$U$4,(AD203/AD$204),0))),0)","v":0.89933317522069167},null,null,"X"]
[null,null,"SOMA",null,null,{"$f":"SUM(F202:F203)","v":971014.25},{"$f":"IF(G$201=$U$3,\"\",SUM(G202:G203))","v":""},{"$f":"SUM(H202:H203)","v":825720.56},{"$f":"IF(I$201=$U$3,\"\",SUM(I202:I203))","v":""},{"$f":"SUM(J202:J203)","v":1298042.3800000001},{"$f":"IF(K$201=$U$3,\"\",SUM(K202:K203))","v":""},{"$f":"SUM(L202:L203)","v":1005176.54},{"$f":"IF(M$201=$U$3,\"\",SUM(M202:M203))","v":""},{"$f":"SUM(N202:N203)","v":814864.17999999993},{"$f":"IF(O$201=$U$3,\"\",SUM(O202:O203))","v":""},{"$f":"SUM(P202:P203)","v":837066.86},{"$f":"IF(Q$201=$U$3,\"\",SUM(Q202:Q203))","v":""},{"$f":"SUM(R202:R203)","v":567062.98},{"$f":"IF(S$201=$U$3,\"\",SUM(S202:S203))","v":""},{"$f":"SUM(T202:T203)","v":0},{"$f":"IF(U$201=$U$3,\"\",SUM(U202:U203))","v":""},{"$f":"SUM(V202:V203)","v":0},{"$f":"IF(W$201=$U$3,\"\",SUM(W202:W203))","v":""},{"$f":"SUM(X202:X203)","v":0},{"$f":"IF(Y$201=$U$3,\"\",SUM(Y202:Y203))","v":""},{"$f":"SUM(Z202:Z203)","v":0},{"$f":"IF(AA$201=$U$3,\"\",SUM(AA202:AA203))","v":""},{"$f":"SUM(AB202:AB203)","v":0},{"$f":"IF(AC$201=$U$3,\"\",SUM(AC202:AC203))","v":""},{"$f":"SUM(AD202:AD203)","v":6318947.75},{"$f":"IF(AE$201=$U$3,\"\",SUM(AE202:AE203))","v":""},null,null,"X"]
[null,null,null,null,null,null,null,null,null,null,null,null,null,null,null,null,null,null,null,null,null,null,null,null,null,null,null,null,null,null,null,null,null,"X"]
[null,null,"ANÁLISE FINANCEIRA",null,null,{"$f":"F8","v":"JANEIRO/2018"},null,{"$f":"H8","v":"FEVEREIRO/2018"},null,{"$f":"J8","v":"MARÇO/2018"},null,{"$f":"L8","v":"ABRIL/2018"},null,{"$f":"N8","v":"MAIO/2018"},null,{"$f":"P8","v":"JUNHO/2018"},null,{"$f":"R8","v":"JULHO/2018"},null,{"$f":"T8","v":"/"},null,{"$f":"V8","v":"/"},null,{"$f":"X8","v":"/"},null,{"$f":"Z8","v":"/"},null,{"$f":"AB8","v":"/"},null,{"$f":"AD8","v":"CONSOLIDADO"},null,null,null,"X"]
[null,null,"  Magem de Contribuição (R. Bruta - Custo Variável)",null,null,"Valores",null,"Valores",null,"Valores",null,"Valores",null,"Valores",null,"Valores",null,"Valores",null,"Valores",null,"Valores",null,"Valores",null,"Valores",null,"Valores",null,"Valores",null,null,null,"X"]
[null,null,null,null,{"$f":"PROPER(D10)","v":"(+) Receita Bruta"},{"$f":"F10","v":960626.8},null,{"$f":"H10","v":821530.1},null,{"$f":"J10","v":1323267.3},null,{"$f":"L10","v":1008922.75},null,{"$f":"N10","v":804756.6},null,{"$f":"P10","v":883169.1},null,{"$f":"R10","v":608346.94999999995},null,{"$f":"T10","v":0},null,{"$f":"V10","v":0},null,{"$f":"X10","v":0},null,{"$f":"Z10","v":0},null,{"$f":"AB10","v":0},null,{"$f":"AD10","v":6410619.5999999996},null,null,null,"X"]
[null,null,null,null,"CMV, Impostos, Deduções e Despesas Variáveis",{"$f":"SUMIF($D$41:$D$197,\"CV\",F$41:F$197)+F18+F30","v":903131},null,{"$f":"SUMIF($D$41:$D$197,\"CV\",H$41:H$197)+H18+H30","v":743642.65},null,{"$f":"SUMIF($D$41:$D$197,\"CV\",J$41:J$197)+J18+J30","v":1213614.8400000001},null,{"$f":"SUMIF($D$41:$D$197,\"CV\",L$41:L$197)+L18+L30","v":925148.63},null,{"$f":"SUMIF($D$41:$D$197,\"CV\",N$41:N$197)+N18+N30","v":740993.6},null,{"$f":"SUMIF($D$41:$D$197,\"CV\",P$41:P$197)+P18+P30","v":756620.39},null,{"$f":"SUMIF($D$41:$D$197,\"CV\",R$41:R$197)+R18+R30","v":482131.77},null,{"$f":"SUMIF($D$41:$D$197,\"CV\",T$41:T$197)+T18+T30","v":0},null,{"$f":"SUMIF($D$41:$D$197,\"CV\",V$41:V$197)+V18+V30","v":0},null,{"$f":"SUMIF($D$41:$D$197,\"CV\",X$41:X$197)+X18+X30","v":0},null,{"$f":"SUMIF($D$41:$D$197,\"CV\",Z$41:Z$197)+Z18+Z30","v":0},null,{"$f":"SUMIF($D$41:$D$197,\"CV\",AB$41:AB$197)+AB18+AB30","v":0},null,{"$f":"SUMIF($D$41:$D$197,\"CV\",AD$41:AD$197)+AD18+AD30","v":5765282.8799999999},null,null,null,"X"]
[null,null,null,null,"Margem de Contribuição (R$)",{"$f":"IFERROR((F208-F209),0)","v":57495.800000000047},null,{"$f":"IFERROR((H208-H209),0)","v":77887.449999999953},null,{"$f":"IFERROR((J208-J209),0)","v":109652.45999999996},null,{"$f":"IFERROR((L208-L209),0)","v":83774.12},null,{"$f":"IFERROR((N208-N209),0)","v":63763},null,{"$f":"IFERROR((P208-P209),0)","v":126548.70999999996},null,{"$f":"IFERROR((R208-R209),0)","v":126215.17999999993},null,{"$f":"IFERROR((T208-T209),0)","v":0},null,{"$f":"IFERROR((V208-V209),0)","v":0},null,{"$f":"IFERROR((X208-X209),0)","v":0},null,{"$f":"IFERROR((Z208-Z209),0)","v":0},null,{"$f":"IFERROR((AB208-AB209),0)","v":0},null,{"$f":"IFERROR((AD208-AD209),0)","v":645336.71999999974},null,null,null,"X"]
[null,null,null,null,"Margem de Contribuição  (%)",{"$f":"IFERROR((IF(F210<=0,0,(F210/F208))),0)","v":5.9852379717076437E-2},null,{"$f":"IFERROR((IF(H210<=0,0,(H210/H208))),0)","v":9.4807786105463393E-2},null,{"$f":"IFERROR((IF(J210<=0,0,(J210/J208))),0)","v":8.2864935905239981E-2},null,{"$f":"IFERROR((IF(L210<=0,0,(L210/L208))),0)","v":8.3033235200613717E-2},null,{"$f":"IFERROR((IF(N210<=0,0,(N210/N208))),0)","v":7.9232652456655839E-2},null,{"$f":"IFERROR((IF(P210<=0,0,(P210/P208))),0)","v":0.14328933156742008},null,{"$f":"IFERROR((IF(R210<=0,0,(R210/R208))),0)","v":0.20747236424872345},null,{"$f":"IFERROR((IF(T210<=0,0,(T210/T208))),0)","v":0},null,{"$f":"IFERROR((IF(V210<=0,0,(V210/V208))),0)","v":0},null,{"$f":"IFERROR((IF(X210<=0,0,(X210/X208))),0)","v":0},null,{"$f":"IFERROR((IF(Z210<=0,0,(Z210/Z208))),0)","v":0},null,{"$f":"IFERROR((IF(AB210<=0,0,(AB210/AB208))),0)","v":0},null,{"$f":"IFERROR((IF(AD210<=0,0,(AD210/AD208))),0)","v":0.10066682477930836},null,null,null,"X"]
[null,null,"  Ponto de Equilíbrio (Custo Fixo / % M. Contrib.)",null,null,"Valores",null,"Valores",null,"Valores",null,"Valores",null,"Valores",null,"Valores",null,"Valores",null,"Valores",null,"Valores",null,"Valores",null,"Valores",null,"Valores",null,"Valores",null,null,null,"X"]
[null,null,null,null,"Custos Fixos",{"$f":"SUMIF($D$41:$D$197,\"CF\",F$41:F$197)","v":67883.25},null,{"$f":"SUMIF($D$41:$D$197,\"CF\",H$41:H$197)","v":82077.91},null,{"$f":"SUMIF($D$41:$D$197,\"CF\",J$41:J$197)","v":84427.540000000008},null,{"$f":"SUMIF($D$41:$D$197,\"CF\",L$41:L$197)","v":80027.909999999989},null,{"$f":"SUMIF($D$41:$D$197,\"CF\",N$41:N$197)","v":73870.579999999987},null,{"$f":"SUMIF($D$41:$D$197,\"CF\",P$41:P$197)","v":80446.47},null,{"$f":"SUMIF($D$41:$D$197,\"CF\",R$41:R$197)","v":84931.21},null,{"$f":"SUMIF($D$41:$D$197,\"CF\",T$41:T$197)","v":0},null,{"$f":"SUMIF($D$41:$D$197,\"CF\",V$41:V$197)","v":0},null,{"$f":"SUMIF($D$41:$D$197,\"CF\",X$41:X$197)","v":0},null,{"$f":"SUMIF($D$41:$D$197,\"CF\",Z$41:Z$197)","v":0},null,{"$f":"SUMIF($D$41:$D$197,\"CF\",AB$41:AB$197)","v":0},null,{"$f":"SUMIF($D$41:$D$197,\"CF\",AD$41:AD$197)","v":553664.87},null,null,null,"X"]
[null,null,null,null,"Margem de Contribuição (%)",{"$f":"F211","v":5.9852379717076437E-2},null,{"$f":"H211","v":9.4807786105463393E-2},null,{"$f":"J211","v":8.2864935905239981E-2},null,{"$f":"L211","v":8.3033235200613717E-2},null,{"$f":"N211","v":7.9232652456655839E-2},null,{"$f":"P211","v":0.14328933156742008},null,{"$f":"R211","v":0.20747236424872345},null,{"$f":"T211","v":0},null,{"$f":"V211","v":0},null,{"$f":"X211","v":0},null,{"$f":"Z211","v":0},null,{"$f":"AB211","v":0},null,{"$f":"AD211","v":0.10066682477930836},null,null,null,"X"]
[null,null,"Ponto de Equilíbrio ",null,null,{"$f":"IFERROR((F213/F214),0)","v":1134177.9611919471},null,{"$f":"IFERROR((H213/H214),0)","v":865729.63436459971},null,{"$f":"IFERROR((J213/J214),0)","v":1018857.2413372399},null,{"$f":"IFERROR((L213/L214),0)","v":963805.75569104753},null,{"$f":"IFERROR((N213/N214),0)","v":932324.96590229427},null,{"$f":"IFERROR((P213/P214),0)","v":561426.79374666885},null,{"$f":"IFERROR((R213/R214),0)","v":409361.55669476144},null,{"$f":"IFERROR((T213/T214),0)","v":0},null,{"$f":"IFERROR((V213/V214),0)","v":0},null,{"$f":"IFERROR((X213/X214),0)","v":0},null,{"$f":"IFERROR((Z213/Z214),0)","v":0},null,{"$f":"IFERROR((AB213/AB214),0)","v":0},null,{"$f":"IFERROR((AD213/AD214),0)","v":5499973.5137548856},null,null,null,"X"]
[null,null,null,null,null,null,null,null,null,null,null,null,null,null,null,null,null,null,null,null,null,null,null,null,null,null,null,null,null,null,null,null,null,"X"]
[null,null,"OUTRAS MOVIMENTAÇÕES",null,null,{"$f":"F206","v":"JANEIRO/2018"},null,{"$f":"H206","v":"FEVEREIRO/2018"},null,{"$f":"J206","v":"MARÇO/2018"},null,{"$f":"L206","v":"ABRIL/2018"},null,{"$f":"N206","v":"MAIO/2018"},null,{"$f":"P206","v":"JUNHO/2018"},null,{"$f":"R206","v":"JULHO/2018"},null,{"$f":"T206","v":"/"},null,{"$f":"V206","v":"/"},null,{"$f":"X206","v":"/"},null,{"$f":"Z206","v":"/"},null,{"$f":"AB206","v":"/"},null,{"$f":"AD206","v":"CONSOLIDADO"},null,null,null,"X"]
[null,null,null,null,null,null,null,null,null,null,null,null,null,null,null,null,null,null,null,null,null,null,null,null,null,null,null,null,null,null,null,null,null,"X"]
[null,null,null,null,"CAPTAÇÕES E RESERVAS",{"$f":"SUM(F220:F230)","v":5633.86},5.8647749573507626E-3,{"$f":"SUM(H220:H230)","v":4226.3599999999997},5.1444980530841169E-3,6292.66,4.7553959808422676E-3,5812.88,5.761471827253375E-3,4664.84,5.7965849550037866E-3,8224.9699999999993,9.3130183109893672E-3,13263.68,2.1802821564240606E-2,0,0,0,0,0,0,0,0,0,0,48119.25,7.5061777179853259E-3,null,null,"X"]
[null,null,{"$f":"IF('Plano de Contas'!B173=\"\",\"\",'Plano de Contas'!B173)","v":"11.1.1.2"},null,{"$f":"IF($C220=\"\",\"\",VLOOKUP($C220,'Plano de Contas'!$B$2:$E$200,3,FALSE))","v":"PROVISAO P/ DEVEDORES DUVIDOSOS"},{"$f":"IFERROR((SUMIFS(Arquivo!$F$2:$F$20000,Arquivo!$B$2:$B$20000,F$6,Arquivo!$C$2:$C$20000,G$6,Arquivo!$D$2:$D$20000,$C220)),0)","v":5633.86},{"$f":"IFERROR((F220/F$10),0)","v":5.8647749573507626E-3},{"$f":"IFERROR((SUMIFS(Arquivo!$F$2:$F$20000,Arquivo!$B$2:$B$20000,H$6,Arquivo!$C$2:$C$20000,I$6,Arquivo!$D$2:$D$20000,$C220)),0)","v":4226.3599999999997},{"$f":"IFERROR((H220/H$10),0)","v":5.1444980530841169E-3},{"$f":"IFERROR((SUMIFS(Arquivo!$F$2:$F$20000,Arquivo!$B$2:$B$20000,J$6,Arquivo!$C$2:$C$20000,K$6,Arquivo!$D$2:$D$20000,$C220)),0)","v":6292.66},{"$f":"IFERROR((J220/J$10),0)","v":4.7553959808422676E-3},{"$f":"IFERROR((SUMIFS(Arquivo!$F$2:$F$20000,Arquivo!$B$2:$B$20000,L$6,Arquivo!$C$2:$C$20000,M$6,Arquivo!$D$2:$D$20000,$C220)),0)","v":5812.88},{"$f":"IFERROR((L220/L$10),0)","v":5.761471827253375E-3},{"$f":"IFERROR((SUMIFS(Arquivo!$F$2:$F$20000,Arquivo!$B$2:$B$20000,N$6,Arquivo!$C$2:$C$20000,O$6,Arquivo!$D$2:$D$20000,$C220)),0)","v":4664.84},{"$f":"IFERROR((N220/N$10),0)","v":5.7965849550037866E-3},{"$f":"IFERROR((SUMIFS(Arquivo!$F$2:$F$20000,Arquivo!$B$2:$B$20000,P$6,Arquivo!$C$2:$C$20000,Q$6,Arquivo!$D$2:$D$20000,$C220)),0)","v":8224.9699999999993},{"$f":"IFERROR((P220/P$10),0)","v":9.3130183109893672E-3},{"$f":"IFERROR((SUMIFS(Arquivo!$F$2:$F$20000,Arquivo!$B$2:$B$20000,R$6,Arquivo!$C$2:$C$20000,S$6,Arquivo!$D$2:$D$20000,$C220)),0)","v":13263.68},{"$f":"IFERROR((R220/R$10),0)","v":2.1802821564240606E-2},{"$f":"IFERROR((SUMIFS(Arquivo!$F$2:$F$20000,Arquivo!$B$2:$B$20000,T$6,Arquivo!$C$2:$C$20000,U$6,Arquivo!$D$2:$D$20000,$C220)),0)","v":0},{"$f":"IFERROR((T220/T$10),0)","v":0},{"$f":"IFERROR((SUMIFS(Arquivo!$F$2:$F$20000,Arquivo!$B$2:$B$20000,V$6,Arquivo!$C$2:$C$20000,W$6,Arquivo!$D$2:$D$20000,$C220)),0)","v":0},{"$f":"IFERROR((V220/V$10),0)","v":0},{"$f":"IFERROR((SUMIFS(Arquivo!$F$2:$F$20000,Arquivo!$B$2:$B$20000,X$6,Arquivo!$C$2:$C$20000,Y$6,Arquivo!$D$2:$D$20000,$C220)),0)","v":0},{"$f":"IFERROR((X220/X$10),0)","v":0},{"$f":"IFERROR((SUMIFS(Arquivo!$F$2:$F$20000,Arquivo!$B$2:$B$20000,Z$6,Arquivo!$C$2:$C$20000,AA$6,Arquivo!$D$2:$D$20000,$C220)),0)","v":0},{"$f":"IFERROR((Z220/Z$10),0)","v":0},{"$f":"IFERROR((SUMIFS(Arquivo!$F$2:$F$20000,Arquivo!$B$2:$B$20000,AB$6,Arquivo!$C$2:$C$20000,AC$6,Arquivo!$D$2:$D$20000,$C220)),0)","v":0},{"$f":"IFERROR((AB220/AB$10),0)","v":0},{"$f":"F220+H220+J220+L220+N220+P220+R220+T220+V220+X220+Z220+AB220","v":48119.25},{"$f":"IFERROR((AD220/AD$10),0)","v":7.5061777179853259E-3},null,null,{"$f":"IF(AND($X$3=\"CT\",AD220<>0),\"X\",\"\")","v":"X"}]
[null,null,{"$f":"IF('Plano de Contas'!B174=\"\",\"\",'Plano de Contas'!B174)","v":"11.1.1.4"},null,{"$f":"IF($C221=\"\",\"\",VLOOKUP($C221,'Plano de Contas'!$B$2:$E$200,3,FALSE))","v":"FUNDO P/ COMERCIALIZACAO"},{"$f":"IFERROR((SUMIFS(Arquivo!$F$2:$F$20000,Arquivo!$B$2:$B$20000,F$6,Arquivo!$C$2:$C$20000,G$6,Arquivo!$D$2:$D$20000,$C221)),0)","v":0},0,{"$f":"IFERROR((SUMIFS(Arquivo!$F$2:$F$20000,Arquivo!$B$2:$B$20000,H$6,Arquivo!$C$2:$C$20000,I$6,Arquivo!$D$2:$D$20000,$C221)),0)","v":0},0,{"$f":"IFERROR((SUMIFS(Arquivo!$F$2:$F$20000,Arquivo!$B$2:$B$20000,J$6,Arquivo!$C$2:$C$20000,K$6,Arquivo!$D$2:$D$20000,$C221)),0)","v":0},0,{"$f":"IFERROR((SUMIFS(Arquivo!$F$2:$F$20000,Arquivo!$B$2:$B$20000,L$6,Arquivo!$C$2:$C$20000,M$6,Arquivo!$D$2:$D$20000,$C221)),0)","v":0},0,{"$f":"IFERROR((SUMIFS(Arquivo!$F$2:$F$20000,Arquivo!$B$2:$B$20000,N$6,Arquivo!$C$2:$C$20000,O$6,Arquivo!$D$2:$D$20000,$C221)),0)","v":0},0,{"$f":"IFERROR((SUMIFS(Arquivo!$F$2:$F$20000,Arquivo!$B$2:$B$20000,P$6,Arquivo!$C$2:$C$20000,Q$6,Arquivo!$D$2:$D$20000,$C221)),0)","v":0},0,{"$f":"IFERROR((SUMIFS(Arquivo!$F$2:$F$20000,Arquivo!$B$2:$B$20000,R$6,Arquivo!$C$2:$C$20000,S$6,Arquivo!$D$2:$D$20000,$C221)),0)","v":0},0,{"$f":"IFERROR((SUMIFS(Arquivo!$F$2:$F$20000,Arquivo!$B$2:$B$20000,T$6,Arquivo!$C$2:$C$20000,U$6,Arquivo!$D$2:$D$20000,$C221)),0)","v":0},0,{"$f":"IFERROR((SUMIFS(Arquivo!$F$2:$F$20000,Arquivo!$B$2:$B$20000,V$6,Arquivo!$C$2:$C$20000,W$6,Arquivo!$D$2:$D$20000,$C221)),0)","v":0},0,{"$f":"IFERROR((SUMIFS(Arquivo!$F$2:$F$20000,Arquivo!$B$2:$B$20000,X$6,Arquivo!$C$2:$C$20000,Y$6,Arquivo!$D$2:$D$20000,$C221)),0)","v":0},0,{"$f":"IFERROR((SUMIFS(Arquivo!$F$2:$F$20000,Arquivo!$B$2:$B$20000,Z$6,Arquivo!$C$2:$C$20000,AA$6,Arquivo!$D$2:$D$20000,$C221)),0)","v":0},0,{"$f":"IFERROR((SUMIFS(Arquivo!$F$2:$F$20000,Arquivo!$B$2:$B$20000,AB$6,Arquivo!$C$2:$C$20000,AC$6,Arquivo!$D$2:$D$20000,$C221)),0)","v":0},0,0,0,null,null,""]
[null,null,{"$f":"IF('Plano de Contas'!B175=\"\",\"\",'Plano de Contas'!B175)","v":"11.1.1.5"},null,{"$f":"IF($C222=\"\",\"\",VLOOKUP($C222,'Plano de Contas'!$B$2:$E$200,3,FALSE))","v":"FUNDO PARA MANUTENCAO CAMARA"},{"$f":"IFERROR((SUMIFS(Arquivo!$F$2:$F$20000,Arquivo!$B$2:$B$20000,F$6,Arquivo!$C$2:$C$20000,G$6,Arquivo!$D$2:$D$20000,$C222)),0)","v":0},0,{"$f":"IFERROR((SUMIFS(Arquivo!$F$2:$F$20000,Arquivo!$B$2:$B$20000,H$6,Arquivo!$C$2:$C$20000,I$6,Arquivo!$D$2:$D$20000,$C222)),0)","v":0},0,{"$f":"IFERROR((SUMIFS(Arquivo!$F$2:$F$20000,Arquivo!$B$2:$B$20000,J$6,Arquivo!$C$2:$C$20000,K$6,Arquivo!$D$2:$D$20000,$C222)),0)","v":0},0,{"$f":"IFERROR((SUMIFS(Arquivo!$F$2:$F$20000,Arquivo!$B$2:$B$20000,L$6,Arquivo!$C$2:$C$20000,M$6,Arquivo!$D$2:$D$20000,$C222)),0)","v":0},0,{"$f":"IFERROR((SUMIFS(Arquivo!$F$2:$F$20000,Arquivo!$B$2:$B$20000,N$6,Arquivo!$C$2:$C$20000,O$6,Arquivo!$D$2:$D$20000,$C222)),0)","v":0},0,{"$f":"IFERROR((SUMIFS(Arquivo!$F$2:$F$20000,Arquivo!$B$2:$B$20000,P$6,Arquivo!$C$2:$C$20000,Q$6,Arquivo!$D$2:$D$20000,$C222)),0)","v":0},0,{"$f":"IFERROR((SUMIFS(Arquivo!$F$2:$F$20000,Arquivo!$B$2:$B$20000,R$6,Arquivo!$C$2:$C$20000,S$6,Arquivo!$D$2:$D$20000,$C222)),0)","v":0},0,{"$f":"IFERROR((SUMIFS(Arquivo!$F$2:$F$20000,Arquivo!$B$2:$B$20000,T$6,Arquivo!$C$2:$C$20000,U$6,Arquivo!$D$2:$D$20000,$C222)),0)","v":0},0,{"$f":"IFERROR((SUMIFS(Arquivo!$F$2:$F$20000,Arquivo!$B$2:$B$20000,V$6,Arquivo!$C$2:$C$20000,W$6,Arquivo!$D$2:$D$20000,$C222)),0)","v":0},0,{"$f":"IFERROR((SUMIFS(Arquivo!$F$2:$F$20000,Arquivo!$B$2:$B$20000,X$6,Arquivo!$C$2:$C$20000,Y$6,Arquivo!$D$2:$D$20000,$C222)),0)","v":0},0,{"$f":"IFERROR((SUMIFS(Arquivo!$F$2:$F$20000,Arquivo!$B$2:$B$20000,Z$6,Arquivo!$C$2:$C$20000,AA$6,Arquivo!$D$2:$D$20000,$C222)),0)","v":0},0,{"$f":"IFERROR((SUMIFS(Arquivo!$F$2:$F$20000,Arquivo!$B$2:$B$20000,AB$6,Arquivo!$C$2:$C$20000,AC$6,Arquivo!$D$2:$D$20000,$C222)),0)","v":0},0,0,0,null,null,""]
[null,null,{"$f":"IF('Plano de Contas'!B176=\"\",\"\",'Plano de Contas'!B176)","v":"11.1.1.7"},null,{"$f":"IF($C223=\"\",\"\",VLOOKUP($C223,'Plano de Contas'!$B$2:$E$200,3,FALSE))","v":"INTEGRALIZACAO DE CAPITAL"},{"$f":"IFERROR((SUMIFS(Arquivo!$F$2:$F$20000,Arquivo!$B$2:$B$20000,F$6,Arquivo!$C$2:$C$20000,G$6,Arquivo!$D$2:$D$20000,$C223)),0)","v":0},0,{"$f":"IFERROR((SUMIFS(Arquivo!$F$2:$F$20000,Arquivo!$B$2:$B$20000,H$6,Arquivo!$C$2:$C$20000,I$6,Arquivo!$D$2:$D$20000,$C223)),0)","v":0},0,{"$f":"IFERROR((SUMIFS(Arquivo!$F$2:$F$20000,Arquivo!$B$2:$B$20000,J$6,Arquivo!$C$2:$C$20000,K$6,Arquivo!$D$2:$D$20000,$C223)),0)","v":0},0,{"$f":"IFERROR((SUMIFS(Arquivo!$F$2:$F$20000,Arquivo!$B$2:$B$20000,L$6,Arquivo!$C$2:$C$20000,M$6,Arquivo!$D$2:$D$20000,$C223)),0)","v":0},0,{"$f":"IFERROR((SUMIFS(Arquivo!$F$2:$F$20000,Arquivo!$B$2:$B$20000,N$6,Arquivo!$C$2:$C$20000,O$6,Arquivo!$D$2:$D$20000,$C223)),0)","v":0},0,{"$f":"IFERROR((SUMIFS(Arquivo!$F$2:$F$20000,Arquivo!$B$2:$B$20000,P$6,Arquivo!$C$2:$C$20000,Q$6,Arquivo!$D$2:$D$20000,$C223)),0)","v":0},0,{"$f":"IFERROR((SUMIFS(Arquivo!$F$2:$F$20000,Arquivo!$B$2:$B$20000,R$6,Arquivo!$C$2:$C$20000,S$6,Arquivo!$D$2:$D$20000,$C223)),0)","v":0},0,{"$f":"IFERROR((SUMIFS(Arquivo!$F$2:$F$20000,Arquivo!$B$2:$B$20000,T$6,Arquivo!$C$2:$C$20000,U$6,Arquivo!$D$2:$D$20000,$C223)),0)","v":0},0,{"$f":"IFERROR((SUMIFS(Arquivo!$F$2:$F$20000,Arquivo!$B$2:$B$20000,V$6,Arquivo!$C$2:$C$20000,W$6,Arquivo!$D$2:$D$20000,$C223)),0)","v":0},0,{"$f":"IFERROR((SUMIFS(Arquivo!$F$2:$F$20000,Arquivo!$B$2:$B$20000,X$6,Arquivo!$C$2:$C$20000,Y$6,Arquivo!$D$2:$D$20000,$C223)),0)","v":0},0,{"$f":"IFERROR((SUMIFS(Arquivo!$F$2:$F$20000,Arquivo!$B$2:$B$20000,Z$6,Arquivo!$C$2:$C$20000,AA$6,Arquivo!$D$2:$D$20000,$C223)),0)","v":0},0,{"$f":"IFERROR((SUMIFS(Arquivo!$F$2:$F$20000,Arquivo!$B$2:$B$20000,AB$6,Arquivo!$C$2:$C$20000,AC$6,Arquivo!$D$2:$D$20000,$C223)),0)","v":0},0,0,0,null,null,""]
[null,null,{"$f":"IF('Plano de Contas'!B177=\"\",\"\",'Plano de Contas'!B177)","v":""},null,{"$f":"IF($C224=\"\",\"\",VLOOKUP($C224,'Plano de Contas'!$B$2:$E$200,3,FALSE))","v":""},{"$f":"IFERROR((SUMIFS(Arquivo!$F$2:$F$20000,Arquivo!$B$2:$B$20000,F$6,Arquivo!$C$2:$C$20000,G$6,Arquivo!$D$2:$D$20000,$C224)),0)","v":0},0,{"$f":"IFERROR((SUMIFS(Arquivo!$F$2:$F$20000,Arquivo!$B$2:$B$20000,H$6,Arquivo!$C$2:$C$20000,I$6,Arquivo!$D$2:$D$20000,$C224)),0)","v":0},0,{"$f":"IFERROR((SUMIFS(Arquivo!$F$2:$F$20000,Arquivo!$B$2:$B$20000,J$6,Arquivo!$C$2:$C$20000,K$6,Arquivo!$D$2:$D$20000,$C224)),0)","v":0},0,{"$f":"IFERROR((SUMIFS(Arquivo!$F$2:$F$20000,Arquivo!$B$2:$B$20000,L$6,Arquivo!$C$2:$C$20000,M$6,Arquivo!$D$2:$D$20000,$C224)),0)","v":0},0,{"$f":"IFERROR((SUMIFS(Arquivo!$F$2:$F$20000,Arquivo!$B$2:$B$20000,N$6,Arquivo!$C$2:$C$20000,O$6,Arquivo!$D$2:$D$20000,$C224)),0)","v":0},0,{"$f":"IFERROR((SUMIFS(Arquivo!$F$2:$F$20000,Arquivo!$B$2:$B$20000,P$6,Arquivo!$C$2:$C$20000,Q$6,Arquivo!$D$2:$D$20000,$C224)),0)","v":0},0,{"$f":"IFERROR((SUMIFS(Arquivo!$F$2:$F$20000,Arquivo!$B$2:$B$20000,R$6,Arquivo!$C$2:$C$20000,S$6,Arquivo!$D$2:$D$20000,$C224)),0)","v":0},0,{"$f":"IFERROR((SUMIFS(Arquivo!$F$2:$F$20000,Arquivo!$B$2:$B$20000,T$6,Arquivo!$C$2:$C$20000,U$6,Arquivo!$D$2:$D$20000,$C224)),0)","v":0},0,{"$f":"IFERROR((SUMIFS(Arquivo!$F$2:$F$20000,Arquivo!$B$2:$B$20000,V$6,Arquivo!$C$2:$C$20000,W$6,Arquivo!$D$2:$D$20000,$C224)),0)","v":0},0,{"$f":"IFERROR((SUMIFS(Arquivo!$F$2:$F$20000,Arquivo!$B$2:$B$20000,X$6,Arquivo!$C$2:$C$20000,Y$6,Arquivo!$D$2:$D$20000,$C224)),0)","v":0},0,{"$f":"IFERROR((SUMIFS(Arquivo!$F$2:$F$20000,Arquivo!$B$2:$B$20000,Z$6,Arquivo!$C$2:$C$20000,AA$6,Arquivo!$D$2:$D$20000,$C224)),0)","v":0},0,{"$f":"IFERROR((SUMIFS(Arquivo!$F$2:$F$20000,Arquivo!$B$2:$B$20000,AB$6,Arquivo!$C$2:$C$20000,AC$6,Arquivo!$D$2:$D$20000,$C224)),0)","v":0},0,0,0,null,null,""]
[null,null,{"$f":"IF('Plano de Contas'!B178=\"\",\"\",'Plano de Contas'!B178)","v":""},null,{"$f":"IF($C225=\"\",\"\",VLOOKUP($C225,'Plano de Contas'!$B$2:$E$200,3,FALSE))","v":""},{"$f":"IFERROR((SUMIFS(Arquivo!$F$2:$F$20000,Arquivo!$B$2:$B$20000,F$6,Arquivo!$C$2:$C$20000,G$6,Arquivo!$D$2:$D$20000,$C225)),0)","v":0},0,{"$f":"IFERROR((SUMIFS(Arquivo!$F$2:$F$20000,Arquivo!$B$2:$B$20000,H$6,Arquivo!$C$2:$C$20000,I$6,Arquivo!$D$2:$D$20000,$C225)),0)","v":0},0,{"$f":"IFERROR((SUMIFS(Arquivo!$F$2:$F$20000,Arquivo!$B$2:$B$20000,J$6,Arquivo!$C$2:$C$20000,K$6,Arquivo!$D$2:$D$20000,$C225)),0)","v":0},0,{"$f":"IFERROR((SUMIFS(Arquivo!$F$2:$F$20000,Arquivo!$B$2:$B$20000,L$6,Arquivo!$C$2:$C$20000,M$6,Arquivo!$D$2:$D$20000,$C225)),0)","v":0},0,{"$f":"IFERROR((SUMIFS(Arquivo!$F$2:$F$20000,Arquivo!$B$2:$B$20000,N$6,Arquivo!$C$2:$C$20000,O$6,Arquivo!$D$2:$D$20000,$C225)),0)","v":0},0,{"$f":"IFERROR((SUMIFS(Arquivo!$F$2:$F$20000,Arquivo!$B$2:$B$20000,P$6,Arquivo!$C$2:$C$20000,Q$6,Arquivo!$D$2:$D$20000,$C225)),0)","v":0},0,{"$f":"IFERROR((SUMIFS(Arquivo!$F$2:$F$20000,Arquivo!$B$2:$B$20000,R$6,Arquivo!$C$2:$C$20000,S$6,Arquivo!$D$2:$D$20000,$C225)),0)","v":0},0,{"$f":"IFERROR((SUMIFS(Arquivo!$F$2:$F$20000,Arquivo!$B$2:$B$20000,T$6,Arquivo!$C$2:$C$20000,U$6,Arquivo!$D$2:$D$20000,$C225)),0)","v":0},0,{"$f":"IFERROR((SUMIFS(Arquivo!$F$2:$F$20000,Arquivo!$B$2:$B$20000,V$6,Arquivo!$C$2:$C$20000,W$6,Arquivo!$D$2:$D$20000,$C225)),0)","v":0},0,{"$f":"IFERROR((SUMIFS(Arquivo!$F$2:$F$20000,Arquivo!$B$2:$B$20000,X$6,Arquivo!$C$2:$C$20000,Y$6,Arquivo!$D$2:$D$20000,$C225)),0)","v":0},0,{"$f":"IFERROR((SUMIFS(Arquivo!$F$2:$F$20000,Arquivo!$B$2:$B$20000,Z$6,Arquivo!$C$2:$C$20000,AA$6,Arquivo!$D$2:$D$20000,$C225)),0)","v":0},0,{"$f":"IFERROR((SUMIFS(Arquivo!$F$2:$F$20000,Arquivo!$B$2:$B$20000,AB$6,Arquivo!$C$2:$C$20000,AC$6,Arquivo!$D$2:$D$20000,$C225)),0)","v":0},0,0,0,null,null,""]
[null,null,{"$f":"IF('Plano de Contas'!B179=\"\",\"\",'Plano de Contas'!B179)","v":""},null,{"$f":"IF($C226=\"\",\"\",VLOOKUP($C226,'Plano de Contas'!$B$2:$E$200,3,FALSE))","v":""},{"$f":"IFERROR((SUMIFS(Arquivo!$F$2:$F$20000,Arquivo!$B$2:$B$20000,F$6,Arquivo!$C$2:$C$20000,G$6,Arquivo!$D$2:$D$20000,$C226)),0)","v":0},0,{"$f":"IFERROR((SUMIFS(Arquivo!$F$2:$F$20000,Arquivo!$B$2:$B$20000,H$6,Arquivo!$C$2:$C$20000,I$6,Arquivo!$D$2:$D$20000,$C226)),0)","v":0},0,{"$f":"IFERROR((SUMIFS(Arquivo!$F$2:$F$20000,Arquivo!$B$2:$B$20000,J$6,Arquivo!$C$2:$C$20000,K$6,Arquivo!$D$2:$D$20000,$C226)),0)","v":0},0,{"$f":"IFERROR((SUMIFS(Arquivo!$F$2:$F$20000,Arquivo!$B$2:$B$20000,L$6,Arquivo!$C$2:$C$20000,M$6,Arquivo!$D$2:$D$20000,$C226)),0)","v":0},0,{"$f":"IFERROR((SUMIFS(Arquivo!$F$2:$F$20000,Arquivo!$B$2:$B$20000,N$6,Arquivo!$C$2:$C$20000,O$6,Arquivo!$D$2:$D$20000,$C226)),0)","v":0},0,{"$f":"IFERROR((SUMIFS(Arquivo!$F$2:$F$20000,Arquivo!$B$2:$B$20000,P$6,Arquivo!$C$2:$C$20000,Q$6,Arquivo!$D$2:$D$20000,$C226)),0)","v":0},0,{"$f":"IFERROR((SUMIFS(Arquivo!$F$2:$F$20000,Arquivo!$B$2:$B$20000,R$6,Arquivo!$C$2:$C$20000,S$6,Arquivo!$D$2:$D$20000,$C226)),0)","v":0},0,{"$f":"IFERROR((SUMIFS(Arquivo!$F$2:$F$20000,Arquivo!$B$2:$B$20000,T$6,Arquivo!$C$2:$C$20000,U$6,Arquivo!$D$2:$D$20000,$C226)),0)","v":0},0,{"$f":"IFERROR((SUMIFS(Arquivo!$F$2:$F$20000,Arquivo!$B$2:$B$20000,V$6,Arquivo!$C$2:$C$20000,W$6,Arquivo!$D$2:$D$20000,$C226)),0)","v":0},0,{"$f":"IFERROR((SUMIFS(Arquivo!$F$2:$F$20000,Arquivo!$B$2:$B$20000,X$6,Arquivo!$C$2:$C$20000,Y$6,Arquivo!$D$2:$D$20000,$C226)),0)","v":0},0,{"$f":"IFERROR((SUMIFS(Arquivo!$F$2:$F$20000,Arquivo!$B$2:$B$20000,Z$6,Arquivo!$C$2:$C$20000,AA$6,Arquivo!$D$2:$D$20000,$C226)),0)","v":0},0,{"$f":"IFERROR((SUMIFS(Arquivo!$F$2:$F$20000,Arquivo!$B$2:$B$20000,AB$6,Arquivo!$C$2:$C$20000,AC$6,Arquivo!$D$2:$D$20000,$C226)),0)","v":0},0,0,0,null,null,""]
[null,null,{"$f":"IF('Plano de Contas'!B180=\"\",\"\",'Plano de Contas'!B180)","v":""},null,{"$f":"IF($C227=\"\",\"\",VLOOKUP($C227,'Plano de Contas'!$B$2:$E$200,3,FALSE))","v":""},{"$f":"IFERROR((SUMIFS(Arquivo!$F$2:$F$20000,Arquivo!$B$2:$B$20000,F$6,Arquivo!$C$2:$C$20000,G$6,Arquivo!$D$2:$D$20000,$C227)),0)","v":0},0,{"$f":"IFERROR((SUMIFS(Arquivo!$F$2:$F$20000,Arquivo!$B$2:$B$20000,H$6,Arquivo!$C$2:$C$20000,I$6,Arquivo!$D$2:$D$20000,$C227)),0)","v":0},0,{"$f":"IFERROR((SUMIFS(Arquivo!$F$2:$F$20000,Arquivo!$B$2:$B$20000,J$6,Arquivo!$C$2:$C$20000,K$6,Arquivo!$D$2:$D$20000,$C227)),0)","v":0},0,{"$f":"IFERROR((SUMIFS(Arquivo!$F$2:$F$20000,Arquivo!$B$2:$B$20000,L$6,Arquivo!$C$2:$C$20000,M$6,Arquivo!$D$2:$D$20000,$C227)),0)","v":0},0,{"$f":"IFERROR((SUMIFS(Arquivo!$F$2:$F$20000,Arquivo!$B$2:$B$20000,N$6,Arquivo!$C$2:$C$20000,O$6,Arquivo!$D$2:$D$20000,$C227)),0)","v":0},0,{"$f":"IFERROR((SUMIFS(Arquivo!$F$2:$F$20000,Arquivo!$B$2:$B$20000,P$6,Arquivo!$C$2:$C$20000,Q$6,Arquivo!$D$2:$D$20000,$C227)),0)","v":0},0,{"$f":"IFERROR((SUMIFS(Arquivo!$F$2:$F$20000,Arquivo!$B$2:$B$20000,R$6,Arquivo!$C$2:$C$20000,S$6,Arquivo!$D$2:$D$20000,$C227)),0)","v":0},0,{"$f":"IFERROR((SUMIFS(Arquivo!$F$2:$F$20000,Arquivo!$B$2:$B$20000,T$6,Arquivo!$C$2:$C$20000,U$6,Arquivo!$D$2:$D$20000,$C227)),0)","v":0},0,{"$f":"IFERROR((SUMIFS(Arquivo!$F$2:$F$20000,Arquivo!$B$2:$B$20000,V$6,Arquivo!$C$2:$C$20000,W$6,Arquivo!$D$2:$D$20000,$C227)),0)","v":0},0,{"$f":"IFERROR((SUMIFS(Arquivo!$F$2:$F$20000,Arquivo!$B$2:$B$20000,X$6,Arquivo!$C$2:$C$20000,Y$6,Arquivo!$D$2:$D$20000,$C227)),0)","v":0},0,{"$f":"IFERROR((SUMIFS(Arquivo!$F$2:$F$20000,Arquivo!$B$2:$B$20000,Z$6,Arquivo!$C$2:$C$20000,AA$6,Arquivo!$D$2:$D$20000,$C227)),0)","v":0},0,{"$f":"IFERROR((SUMIFS(Arquivo!$F$2:$F$20000,Arquivo!$B$2:$B$20000,AB$6,Arquivo!$C$2:$C$20000,AC$6,Arquivo!$D$2:$D$20000,$C227)),0)","v":0},0,0,0,null,null,""]
[null,null,{"$f":"IF('Plano de Contas'!B181=\"\",\"\",'Plano de Contas'!B181)","v":""},null,{"$f":"IF($C228=\"\",\"\",VLOOKUP($C228,'Plano de Contas'!$B$2:$E$200,3,FALSE))","v":""},{"$f":"IFERROR((SUMIFS(Arquivo!$F$2:$F$20000,Arquivo!$B$2:$B$20000,F$6,Arquivo!$C$2:$C$20000,G$6,Arquivo!$D$2:$D$20000,$C228)),0)","v":0},0,{"$f":"IFERROR((SUMIFS(Arquivo!$F$2:$F$20000,Arquivo!$B$2:$B$20000,H$6,Arquivo!$C$2:$C$20000,I$6,Arquivo!$D$2:$D$20000,$C228)),0)","v":0},0,{"$f":"IFERROR((SUMIFS(Arquivo!$F$2:$F$20000,Arquivo!$B$2:$B$20000,J$6,Arquivo!$C$2:$C$20000,K$6,Arquivo!$D$2:$D$20000,$C228)),0)","v":0},0,{"$f":"IFERROR((SUMIFS(Arquivo!$F$2:$F$20000,Arquivo!$B$2:$B$20000,L$6,Arquivo!$C$2:$C$20000,M$6,Arquivo!$D$2:$D$20000,$C228)),0)","v":0},0,{"$f":"IFERROR((SUMIFS(Arquivo!$F$2:$F$20000,Arquivo!$B$2:$B$20000,N$6,Arquivo!$C$2:$C$20000,O$6,Arquivo!$D$2:$D$20000,$C228)),0)","v":0},0,{"$f":"IFERROR((SUMIFS(Arquivo!$F$2:$F$20000,Arquivo!$B$2:$B$20000,P$6,Arquivo!$C$2:$C$20000,Q$6,Arquivo!$D$2:$D$20000,$C228)),0)","v":0},0,{"$f":"IFERROR((SUMIFS(Arquivo!$F$2:$F$20000,Arquivo!$B$2:$B$20000,R$6,Arquivo!$C$2:$C$20000,S$6,Arquivo!$D$2:$D$20000,$C228)),0)","v":0},0,{"$f":"IFERROR((SUMIFS(Arquivo!$F$2:$F$20000,Arquivo!$B$2:$B$20000,T$6,Arquivo!$C$2:$C$20000,U$6,Arquivo!$D$2:$D$20000,$C228)),0)","v":0},0,{"$f":"IFERROR((SUMIFS(Arquivo!$F$2:$F$20000,Arquivo!$B$2:$B$20000,V$6,Arquivo!$C$2:$C$20000,W$6,Arquivo!$D$2:$D$20000,$C228)),0)","v":0},0,{"$f":"IFERROR((SUMIFS(Arquivo!$F$2:$F$20000,Arquivo!$B$2:$B$20000,X$6,Arquivo!$C$2:$C$20000,Y$6,Arquivo!$D$2:$D$20000,$C228)),0)","v":0},0,{"$f":"IFERROR((SUMIFS(Arquivo!$F$2:$F$20000,Arquivo!$B$2:$B$20000,Z$6,Arquivo!$C$2:$C$20000,AA$6,Arquivo!$D$2:$D$20000,$C228)),0)","v":0},0,{"$f":"IFERROR((SUMIFS(Arquivo!$F$2:$F$20000,Arquivo!$B$2:$B$20000,AB$6,Arquivo!$C$2:$C$20000,AC$6,Arquivo!$D$2:$D$20000,$C228)),0)","v":0},0,0,0,null,null,""]
[null,null,{"$f":"IF('Plano de Contas'!B182=\"\",\"\",'Plano de Contas'!B182)","v":""},null,{"$f":"IF($C229=\"\",\"\",VLOOKUP($C229,'Plano de Contas'!$B$2:$E$200,3,FALSE))","v":""},{"$f":"IFERROR((SUMIFS(Arquivo!$F$2:$F$20000,Arquivo!$B$2:$B$20000,F$6,Arquivo!$C$2:$C$20000,G$6,Arquivo!$D$2:$D$20000,$C229)),0)","v":0},0,{"$f":"IFERROR((SUMIFS(Arquivo!$F$2:$F$20000,Arquivo!$B$2:$B$20000,H$6,Arquivo!$C$2:$C$20000,I$6,Arquivo!$D$2:$D$20000,$C229)),0)","v":0},0,{"$f":"IFERROR((SUMIFS(Arquivo!$F$2:$F$20000,Arquivo!$B$2:$B$20000,J$6,Arquivo!$C$2:$C$20000,K$6,Arquivo!$D$2:$D$20000,$C229)),0)","v":0},0,{"$f":"IFERROR((SUMIFS(Arquivo!$F$2:$F$20000,Arquivo!$B$2:$B$20000,L$6,Arquivo!$C$2:$C$20000,M$6,Arquivo!$D$2:$D$20000,$C229)),0)","v":0},0,{"$f":"IFERROR((SUMIFS(Arquivo!$F$2:$F$20000,Arquivo!$B$2:$B$20000,N$6,Arquivo!$C$2:$C$20000,O$6,Arquivo!$D$2:$D$20000,$C229)),0)","v":0},0,{"$f":"IFERROR((SUMIFS(Arquivo!$F$2:$F$20000,Arquivo!$B$2:$B$20000,P$6,Arquivo!$C$2:$C$20000,Q$6,Arquivo!$D$2:$D$20000,$C229)),0)","v":0},0,{"$f":"IFERROR((SUMIFS(Arquivo!$F$2:$F$20000,Arquivo!$B$2:$B$20000,R$6,Arquivo!$C$2:$C$20000,S$6,Arquivo!$D$2:$D$20000,$C229)),0)","v":0},0,{"$f":"IFERROR((SUMIFS(Arquivo!$F$2:$F$20000,Arquivo!$B$2:$B$20000,T$6,Arquivo!$C$2:$C$20000,U$6,Arquivo!$D$2:$D$20000,$C229)),0)","v":0},0,{"$f":"IFERROR((SUMIFS(Arquivo!$F$2:$F$20000,Arquivo!$B$2:$B$20000,V$6,Arquivo!$C$2:$C$20000,W$6,Arquivo!$D$2:$D$20000,$C229)),0)","v":0},0,{"$f":"IFERROR((SUMIFS(Arquivo!$F$2:$F$20000,Arquivo!$B$2:$B$20000,X$6,Arquivo!$C$2:$C$20000,Y$6,Arquivo!$D$2:$D$20000,$C229)),0)","v":0},0,{"$f":"IFERROR((SUMIFS(Arquivo!$F$2:$F$20000,Arquivo!$B$2:$B$20000,Z$6,Arquivo!$C$2:$C$20000,AA$6,Arquivo!$D$2:$D$20000,$C229)),0)","v":0},0,{"$f":"IFERROR((SUMIFS(Arquivo!$F$2:$F$20000,Arquivo!$B$2:$B$20000,AB$6,Arquivo!$C$2:$C$20000,AC$6,Arquivo!$D$2:$D$20000,$C229)),0)","v":0},0,0,0,null,null,""]
[null,null,null,null,null,null,null,null,null,null,null,null,null,null,null,null,null,null,null,null,null,null,null,null,null,null,null,null,null,null,null,null,null,"X"]
[null,null,null,null,"CRÉDITOS A RECEBER",{"$f":"SUM(F232:F238)","v":0},0,{"$f":"SUM(H232:H238)","v":0},0,{"$f":"SUM(J232:J238)","v":0},0,{"$f":"SUM(L232:L238)","v":0},0,{"$f":"SUM(N232:N238)","v":0},0,{"$f":"SUM(P232:P238)","v":0},0,{"$f":"SUM(R232:R238)","v":0},0,{"$f":"SUM(T232:T238)","v":0},0,{"$f":"SUM(V232:V238)","v":0},0,{"$f":"SUM(X232:X238)","v":0},0,{"$f":"SUM(Z232:Z238)","v":0},0,{"$f":"SUM(AB232:AB238)","v":0},0,0,0,null,null,"X"]
[null,null,{"$f":"IF('Plano de Contas'!B184=\"\",\"\",'Plano de Contas'!B184)","v":"8.1.1.4"},null,{"$f":"IF($C232=\"\",\"\",VLOOKUP($C232,'Plano de Contas'!$B$2:$E$200,3,FALSE))","v":"EMPRESTIMOS A FUNCIONARIOS"},{"$f":"IFERROR((SUMIFS(Arquivo!$F$2:$F$20000,Arquivo!$B$2:$B$20000,F$6,Arquivo!$C$2:$C$20000,G$6,Arquivo!$D$2:$D$20000,$C232)),0)","v":0},{"$f":"IFERROR((F232/F$10),0)","v":0},{"$f":"IFERROR((SUMIFS(Arquivo!$F$2:$F$20000,Arquivo!$B$2:$B$20000,H$6,Arquivo!$C$2:$C$20000,I$6,Arquivo!$D$2:$D$20000,$C232)),0)","v":0},{"$f":"IFERROR((H232/H$10),0)","v":0},{"$f":"IFERROR((SUMIFS(Arquivo!$F$2:$F$20000,Arquivo!$B$2:$B$20000,J$6,Arquivo!$C$2:$C$20000,K$6,Arquivo!$D$2:$D$20000,$C232)),0)","v":0},{"$f":"IFERROR((J232/J$10),0)","v":0},{"$f":"IFERROR((SUMIFS(Arquivo!$F$2:$F$20000,Arquivo!$B$2:$B$20000,L$6,Arquivo!$C$2:$C$20000,M$6,Arquivo!$D$2:$D$20000,$C232)),0)","v":0},{"$f":"IFERROR((L232/L$10),0)","v":0},{"$f":"IFERROR((SUMIFS(Arquivo!$F$2:$F$20000,Arquivo!$B$2:$B$20000,N$6,Arquivo!$C$2:$C$20000,O$6,Arquivo!$D$2:$D$20000,$C232)),0)","v":0},{"$f":"IFERROR((N232/N$10),0)","v":0},{"$f":"IFERROR((SUMIFS(Arquivo!$F$2:$F$20000,Arquivo!$B$2:$B$20000,P$6,Arquivo!$C$2:$C$20000,Q$6,Arquivo!$D$2:$D$20000,$C232)),0)","v":0},{"$f":"IFERROR((P232/P$10),0)","v":0},{"$f":"IFERROR((SUMIFS(Arquivo!$F$2:$F$20000,Arquivo!$B$2:$B$20000,R$6,Arquivo!$C$2:$C$20000,S$6,Arquivo!$D$2:$D$20000,$C232)),0)","v":0},{"$f":"IFERROR((R232/R$10),0)","v":0},{"$f":"IFERROR((SUMIFS(Arquivo!$F$2:$F$20000,Arquivo!$B$2:$B$20000,T$6,Arquivo!$C$2:$C$20000,U$6,Arquivo!$D$2:$D$20000,$C232)),0)","v":0},{"$f":"IFERROR((T232/T$10),0)","v":0},{"$f":"IFERROR((SUMIFS(Arquivo!$F$2:$F$20000,Arquivo!$B$2:$B$20000,V$6,Arquivo!$C$2:$C$20000,W$6,Arquivo!$D$2:$D$20000,$C232)),0)","v":0},{"$f":"IFERROR((V232/V$10),0)","v":0},{"$f":"IFERROR((SUMIFS(Arquivo!$F$2:$F$20000,Arquivo!$B$2:$B$20000,X$6,Arquivo!$C$2:$C$20000,Y$6,Arquivo!$D$2:$D$20000,$C232)),0)","v":0},{"$f":"IFERROR((X232/X$10),0)","v":0},{"$f":"IFERROR((SUMIFS(Arquivo!$F$2:$F$20000,Arquivo!$B$2:$B$20000,Z$6,Arquivo!$C$2:$C$20000,AA$6,Arquivo!$D$2:$D$20000,$C232)),0)","v":0},{"$f":"IFERROR((Z232/Z$10),0)","v":0},{"$f":"IFERROR((SUMIFS(Arquivo!$F$2:$F$20000,Arquivo!$B$2:$B$20000,AB$6,Arquivo!$C$2:$C$20000,AC$6,Arquivo!$D$2:$D$20000,$C232)),0)","v":0},{"$f":"IFERROR((AB232/AB$10),0)","v":0},{"$f":"F232+H232+J232+L232+N232+P232+R232+T232+V232+X232+Z232+AB232","v":0},{"$f":"IFERROR((AD232/AD$10),0)","v":0},null,null,{"$f":"IF(AND($X$3=\"CT\",AD232<>0),\"X\",\"\")","v":""}]
[null,null,{"$f":"IF('Plano de Contas'!B185=\"\",\"\",'Plano de Contas'!B185)","v":""},null,{"$f":"IF($C233=\"\",\"\",VLOOKUP($C233,'Plano de Contas'!$B$2:$E$200,3,FALSE))","v":""},{"$f":"IFERROR((SUMIFS(Arquivo!$F$2:$F$20000,Arquivo!$B$2:$B$20000,F$6,Arquivo!$C$2:$C$20000,G$6,Arquivo!$D$2:$D$20000,$C233)),0)","v":0},0,{"$f":"IFERROR((SUMIFS(Arquivo!$F$2:$F$20000,Arquivo!$B$2:$B$20000,H$6,Arquivo!$C$2:$C$20000,I$6,Arquivo!$D$2:$D$20000,$C233)),0)","v":0},0,{"$f":"IFERROR((SUMIFS(Arquivo!$F$2:$F$20000,Arquivo!$B$2:$B$20000,J$6,Arquivo!$C$2:$C$20000,K$6,Arquivo!$D$2:$D$20000,$C233)),0)","v":0},0,{"$f":"IFERROR((SUMIFS(Arquivo!$F$2:$F$20000,Arquivo!$B$2:$B$20000,L$6,Arquivo!$C$2:$C$20000,M$6,Arquivo!$D$2:$D$20000,$C233)),0)","v":0},0,{"$f":"IFERROR((SUMIFS(Arquivo!$F$2:$F$20000,Arquivo!$B$2:$B$20000,N$6,Arquivo!$C$2:$C$20000,O$6,Arquivo!$D$2:$D$20000,$C233)),0)","v":0},0,{"$f":"IFERROR((SUMIFS(Arquivo!$F$2:$F$20000,Arquivo!$B$2:$B$20000,P$6,Arquivo!$C$2:$C$20000,Q$6,Arquivo!$D$2:$D$20000,$C233)),0)","v":0},0,{"$f":"IFERROR((SUMIFS(Arquivo!$F$2:$F$20000,Arquivo!$B$2:$B$20000,R$6,Arquivo!$C$2:$C$20000,S$6,Arquivo!$D$2:$D$20000,$C233)),0)","v":0},0,{"$f":"IFERROR((SUMIFS(Arquivo!$F$2:$F$20000,Arquivo!$B$2:$B$20000,T$6,Arquivo!$C$2:$C$20000,U$6,Arquivo!$D$2:$D$20000,$C233)),0)","v":0},0,{"$f":"IFERROR((SUMIFS(Arquivo!$F$2:$F$20000,Arquivo!$B$2:$B$20000,V$6,Arquivo!$C$2:$C$20000,W$6,Arquivo!$D$2:$D$20000,$C233)),0)","v":0},0,{"$f":"IFERROR((SUMIFS(Arquivo!$F$2:$F$20000,Arquivo!$B$2:$B$20000,X$6,Arquivo!$C$2:$C$20000,Y$6,Arquivo!$D$2:$D$20000,$C233)),0)","v":0},0,{"$f":"IFERROR((SUMIFS(Arquivo!$F$2:$F$20000,Arquivo!$B$2:$B$20000,Z$6,Arquivo!$C$2:$C$20000,AA$6,Arquivo!$D$2:$D$20000,$C233)),0)","v":0},0,{"$f":"IFERROR((SUMIFS(Arquivo!$F$2:$F$20000,Arquivo!$B$2:$B$20000,AB$6,Arquivo!$C$2:$C$20000,AC$6,Arquivo!$D$2:$D$20000,$C233)),0)","v":0},0,0,0,null,null,""]
[null,null,{"$f":"IF('Plano de Contas'!B186=\"\",\"\",'Plano de Contas'!B186)","v":""},null,{"$f":"IF($C234=\"\",\"\",VLOOKUP($C234,'Plano de Contas'!$B$2:$E$200,3,FALSE))","v":""},{"$f":"IFERROR((SUMIFS(Arquivo!$F$2:$F$20000,Arquivo!$B$2:$B$20000,F$6,Arquivo!$C$2:$C$20000,G$6,Arquivo!$D$2:$D$20000,$C234)),0)","v":0},0,{"$f":"IFERROR((SUMIFS(Arquivo!$F$2:$F$20000,Arquivo!$B$2:$B$20000,H$6,Arquivo!$C$2:$C$20000,I$6,Arquivo!$D$2:$D$20000,$C234)),0)","v":0},0,{"$f":"IFERROR((SUMIFS(Arquivo!$F$2:$F$20000,Arquivo!$B$2:$B$20000,J$6,Arquivo!$C$2:$C$20000,K$6,Arquivo!$D$2:$D$20000,$C234)),0)","v":0},0,{"$f":"IFERROR((SUMIFS(Arquivo!$F$2:$F$20000,Arquivo!$B$2:$B$20000,L$6,Arquivo!$C$2:$C$20000,M$6,Arquivo!$D$2:$D$20000,$C234)),0)","v":0},0,{"$f":"IFERROR((SUMIFS(Arquivo!$F$2:$F$20000,Arquivo!$B$2:$B$20000,N$6,Arquivo!$C$2:$C$20000,O$6,Arquivo!$D$2:$D$20000,$C234)),0)","v":0},0,{"$f":"IFERROR((SUMIFS(Arquivo!$F$2:$F$20000,Arquivo!$B$2:$B$20000,P$6,Arquivo!$C$2:$C$20000,Q$6,Arquivo!$D$2:$D$20000,$C234)),0)","v":0},0,{"$f":"IFERROR((SUMIFS(Arquivo!$F$2:$F$20000,Arquivo!$B$2:$B$20000,R$6,Arquivo!$C$2:$C$20000,S$6,Arquivo!$D$2:$D$20000,$C234)),0)","v":0},0,{"$f":"IFERROR((SUMIFS(Arquivo!$F$2:$F$20000,Arquivo!$B$2:$B$20000,T$6,Arquivo!$C$2:$C$20000,U$6,Arquivo!$D$2:$D$20000,$C234)),0)","v":0},0,{"$f":"IFERROR((SUMIFS(Arquivo!$F$2:$F$20000,Arquivo!$B$2:$B$20000,V$6,Arquivo!$C$2:$C$20000,W$6,Arquivo!$D$2:$D$20000,$C234)),0)","v":0},0,{"$f":"IFERROR((SUMIFS(Arquivo!$F$2:$F$20000,Arquivo!$B$2:$B$20000,X$6,Arquivo!$C$2:$C$20000,Y$6,Arquivo!$D$2:$D$20000,$C234)),0)","v":0},0,{"$f":"IFERROR((SUMIFS(Arquivo!$F$2:$F$20000,Arquivo!$B$2:$B$20000,Z$6,Arquivo!$C$2:$C$20000,AA$6,Arquivo!$D$2:$D$20000,$C234)),0)","v":0},0,{"$f":"IFERROR((SUMIFS(Arquivo!$F$2:$F$20000,Arquivo!$B$2:$B$20000,AB$6,Arquivo!$C$2:$C$20000,AC$6,Arquivo!$D$2:$D$20000,$C234)),0)","v":0},0,0,0,null,null,""]
[null,null,{"$f":"IF('Plano de Contas'!B187=\"\",\"\",'Plano de Contas'!B187)","v":""},null,{"$f":"IF($C235=\"\",\"\",VLOOKUP($C235,'Plano de Contas'!$B$2:$E$200,3,FALSE))","v":""},{"$f":"IFERROR((SUMIFS(Arquivo!$F$2:$F$20000,Arquivo!$B$2:$B$20000,F$6,Arquivo!$C$2:$C$20000,G$6,Arquivo!$D$2:$D$20000,$C235)),0)","v":0},0,{"$f":"IFERROR((SUMIFS(Arquivo!$F$2:$F$20000,Arquivo!$B$2:$B$20000,H$6,Arquivo!$C$2:$C$20000,I$6,Arquivo!$D$2:$D$20000,$C235)),0)","v":0},0,{"$f":"IFERROR((SUMIFS(Arquivo!$F$2:$F$20000,Arquivo!$B$2:$B$20000,J$6,Arquivo!$C$2:$C$20000,K$6,Arquivo!$D$2:$D$20000,$C235)),0)","v":0},0,{"$f":"IFERROR((SUMIFS(Arquivo!$F$2:$F$20000,Arquivo!$B$2:$B$20000,L$6,Arquivo!$C$2:$C$20000,M$6,Arquivo!$D$2:$D$20000,$C235)),0)","v":0},0,{"$f":"IFERROR((SUMIFS(Arquivo!$F$2:$F$20000,Arquivo!$B$2:$B$20000,N$6,Arquivo!$C$2:$C$20000,O$6,Arquivo!$D$2:$D$20000,$C235)),0)","v":0},0,{"$f":"IFERROR((SUMIFS(Arquivo!$F$2:$F$20000,Arquivo!$B$2:$B$20000,P$6,Arquivo!$C$2:$C$20000,Q$6,Arquivo!$D$2:$D$20000,$C235)),0)","v":0},0,{"$f":"IFERROR((SUMIFS(Arquivo!$F$2:$F$20000,Arquivo!$B$2:$B$20000,R$6,Arquivo!$C$2:$C$20000,S$6,Arquivo!$D$2:$D$20000,$C235)),0)","v":0},0,{"$f":"IFERROR((SUMIFS(Arquivo!$F$2:$F$20000,Arquivo!$B$2:$B$20000,T$6,Arquivo!$C$2:$C$20000,U$6,Arquivo!$D$2:$D$20000,$C235)),0)","v":0},0,{"$f":"IFERROR((SUMIFS(Arquivo!$F$2:$F$20000,Arquivo!$B$2:$B$20000,V$6,Arquivo!$C$2:$C$20000,W$6,Arquivo!$D$2:$D$20000,$C235)),0)","v":0},0,{"$f":"IFERROR((SUMIFS(Arquivo!$F$2:$F$20000,Arquivo!$B$2:$B$20000,X$6,Arquivo!$C$2:$C$20000,Y$6,Arquivo!$D$2:$D$20000,$C235)),0)","v":0},0,{"$f":"IFERROR((SUMIFS(Arquivo!$F$2:$F$20000,Arquivo!$B$2:$B$20000,Z$6,Arquivo!$C$2:$C$20000,AA$6,Arquivo!$D$2:$D$20000,$C235)),0)","v":0},0,{"$f":"IFERROR((SUMIFS(Arquivo!$F$2:$F$20000,Arquivo!$B$2:$B$20000,AB$6,Arquivo!$C$2:$C$20000,AC$6,Arquivo!$D$2:$D$20000,$C235)),0)","v":0},0,0,0,null,null,""]
[null,null,{"$f":"IF('Plano de Contas'!B188=\"\",\"\",'Plano de Contas'!B188)","v":""},null,{"$f":"IF($C236=\"\",\"\",VLOOKUP($C236,'Plano de Contas'!$B$2:$E$200,3,FALSE))","v":""},{"$f":"IFERROR((SUMIFS(Arquivo!$F$2:$F$20000,Arquivo!$B$2:$B$20000,F$6,Arquivo!$C$2:$C$20000,G$6,Arquivo!$D$2:$D$20000,$C236)),0)","v":0},0,{"$f":"IFERROR((SUMIFS(Arquivo!$F$2:$F$20000,Arquivo!$B$2:$B$20000,H$6,Arquivo!$C$2:$C$20000,I$6,Arquivo!$D$2:$D$20000,$C236)),0)","v":0},0,{"$f":"IFERROR((SUMIFS(Arquivo!$F$2:$F$20000,Arquivo!$B$2:$B$20000,J$6,Arquivo!$C$2:$C$20000,K$6,Arquivo!$D$2:$D$20000,$C236)),0)","v":0},0,{"$f":"IFERROR((SUMIFS(Arquivo!$F$2:$F$20000,Arquivo!$B$2:$B$20000,L$6,Arquivo!$C$2:$C$20000,M$6,Arquivo!$D$2:$D$20000,$C236)),0)","v":0},0,{"$f":"IFERROR((SUMIFS(Arquivo!$F$2:$F$20000,Arquivo!$B$2:$B$20000,N$6,Arquivo!$C$2:$C$20000,O$6,Arquivo!$D$2:$D$20000,$C236)),0)","v":0},0,{"$f":"IFERROR((SUMIFS(Arquivo!$F$2:$F$20000,Arquivo!$B$2:$B$20000,P$6,Arquivo!$C$2:$C$20000,Q$6,Arquivo!$D$2:$D$20000,$C236)),0)","v":0},0,{"$f":"IFERROR((SUMIFS(Arquivo!$F$2:$F$20000,Arquivo!$B$2:$B$20000,R$6,Arquivo!$C$2:$C$20000,S$6,Arquivo!$D$2:$D$20000,$C236)),0)","v":0},0,{"$f":"IFERROR((SUMIFS(Arquivo!$F$2:$F$20000,Arquivo!$B$2:$B$20000,T$6,Arquivo!$C$2:$C$20000,U$6,Arquivo!$D$2:$D$20000,$C236)),0)","v":0},0,{"$f":"IFERROR((SUMIFS(Arquivo!$F$2:$F$20000,Arquivo!$B$2:$B$20000,V$6,Arquivo!$C$2:$C$20000,W$6,Arquivo!$D$2:$D$20000,$C236)),0)","v":0},0,{"$f":"IFERROR((SUMIFS(Arquivo!$F$2:$F$20000,Arquivo!$B$2:$B$20000,X$6,Arquivo!$C$2:$C$20000,Y$6,Arquivo!$D$2:$D$20000,$C236)),0)","v":0},0,{"$f":"IFERROR((SUMIFS(Arquivo!$F$2:$F$20000,Arquivo!$B$2:$B$20000,Z$6,Arquivo!$C$2:$C$20000,AA$6,Arquivo!$D$2:$D$20000,$C236)),0)","v":0},0,{"$f":"IFERROR((SUMIFS(Arquivo!$F$2:$F$20000,Arquivo!$B$2:$B$20000,AB$6,Arquivo!$C$2:$C$20000,AC$6,Arquivo!$D$2:$D$20000,$C236)),0)","v":0},0,0,0,null,null,""]
[null,null,{"$f":"IF('Plano de Contas'!B189=\"\",\"\",'Plano de Contas'!B189)","v":""},null,{"$f":"IF($C237=\"\",\"\",VLOOKUP($C237,'Plano de Contas'!$B$2:$E$200,3,FALSE))","v":""},{"$f":"IFERROR((SUMIFS(Arquivo!$F$2:$F$20000,Arquivo!$B$2:$B$20000,F$6,Arquivo!$C$2:$C$20000,G$6,Arquivo!$D$2:$D$20000,$C237)),0)","v":0},0,{"$f":"IFERROR((SUMIFS(Arquivo!$F$2:$F$20000,Arquivo!$B$2:$B$20000,H$6,Arquivo!$C$2:$C$20000,I$6,Arquivo!$D$2:$D$20000,$C237)),0)","v":0},0,{"$f":"IFERROR((SUMIFS(Arquivo!$F$2:$F$20000,Arquivo!$B$2:$B$20000,J$6,Arquivo!$C$2:$C$20000,K$6,Arquivo!$D$2:$D$20000,$C237)),0)","v":0},0,{"$f":"IFERROR((SUMIFS(Arquivo!$F$2:$F$20000,Arquivo!$B$2:$B$20000,L$6,Arquivo!$C$2:$C$20000,M$6,Arquivo!$D$2:$D$20000,$C237)),0)","v":0},0,{"$f":"IFERROR((SUMIFS(Arquivo!$F$2:$F$20000,Arquivo!$B$2:$B$20000,N$6,Arquivo!$C$2:$C$20000,O$6,Arquivo!$D$2:$D$20000,$C237)),0)","v":0},0,{"$f":"IFERROR((SUMIFS(Arquivo!$F$2:$F$20000,Arquivo!$B$2:$B$20000,P$6,Arquivo!$C$2:$C$20000,Q$6,Arquivo!$D$2:$D$20000,$C237)),0)","v":0},0,{"$f":"IFERROR((SUMIFS(Arquivo!$F$2:$F$20000,Arquivo!$B$2:$B$20000,R$6,Arquivo!$C$2:$C$20000,S$6,Arquivo!$D$2:$D$20000,$C237)),0)","v":0},0,{"$f":"IFERROR((SUMIFS(Arquivo!$F$2:$F$20000,Arquivo!$B$2:$B$20000,T$6,Arquivo!$C$2:$C$20000,U$6,Arquivo!$D$2:$D$20000,$C237)),0)","v":0},0,{"$f":"IFERROR((SUMIFS(Arquivo!$F$2:$F$20000,Arquivo!$B$2:$B$20000,V$6,Arquivo!$C$2:$C$20000,W$6,Arquivo!$D$2:$D$20000,$C237)),0)","v":0},0,{"$f":"IFERROR((SUMIFS(Arquivo!$F$2:$F$20000,Arquivo!$B$2:$B$20000,X$6,Arquivo!$C$2:$C$20000,Y$6,Arquivo!$D$2:$D$20000,$C237)),0)","v":0},0,{"$f":"IFERROR((SUMIFS(Arquivo!$F$2:$F$20000,Arquivo!$B$2:$B$20000,Z$6,Arquivo!$C$2:$C$20000,AA$6,Arquivo!$D$2:$D$20000,$C237)),0)","v":0},0,{"$f":"IFERROR((SUMIFS(Arquivo!$F$2:$F$20000,Arquivo!$B$2:$B$20000,AB$6,Arquivo!$C$2:$C$20000,AC$6,Arquivo!$D$2:$D$20000,$C237)),0)","v":0},0,0,0,null,null,""]
[null,null,null,null,null,null,null,null,null,null,null,null,null,null,null,null,null,null,null,null,null,null,null,null,null,null,null,null,null,null,null,null,null,"X"]
[null,null,null,"RESULTADO FINANCEIRO GERENCIAL",null,{"$f":"F198-F219-F231","v":-3820.2499999999391},{"$f":"IFERROR((F239/F$10),0)","v":-3.9768305443903277E-3},{"$f":"H198-H219-H231","v":-3727.569999999977},{"$f":"IFERROR((H239/H$10),0)","v":-4.5373504878275031E-3},{"$f":"J198-J219-J231","v":20312.199999999983},{"$f":"IFERROR((J239/J$10),0)","v":1.5350035476581324E-2},{"$f":"L198-L219-L231","v":7130.850000000034},{"$f":"IFERROR((L239/L$10),0)","v":7.0677859132426482E-3},{"$f":"N198-N219-N231","v":-9684.2400000000453},{"$f":"IFERROR((N239/N$10),0)","v":-1.2033750328981515E-2},{"$f":"P198-P219-P231","v":42647.26999999999},{"$f":"IFERROR((P239/P$10),0)","v":4.8288906394030308E-2},{"$f":"R198-R219-R231","v":34116.45999999989},{"$f":"IFERROR((R239/R$10),0)","v":5.6080596771299493E-2},{"$f":"T198-T219-T231","v":0},{"$f":"IFERROR((T239/T$10),0)","v":0},{"$f":"V198-V219-V231","v":0},{"$f":"IFERROR((V239/V$10),0)","v":0},{"$f":"X198-X219-X231","v":0},{"$f":"IFERROR((X239/X$10),0)","v":0},{"$f":"Z198-Z219-Z231","v":0},{"$f":"IFERROR((Z239/Z$10),0)","v":0},{"$f":"AB198-AB219-AB231","v":0},{"$f":"IFERROR((AB239/AB$10),0)","v":0},{"$f":"AD198-AD219-AD231","v":86974.719999999972},{"$f":"IFERROR((AD239/AD$10),0)","v":1.3567287630044368E-2},null,null,"X"]
[null,null,null,null,null,null,null,null,null,null,null,null,null,null,null,null,null,null,null,null,null,null,null,null,null,null,null,null,null,null,null,null,null,"X"]
[null,null,null,"BANANA (KG)",null,null,null,null,null,null,null,null,null,null,null,null,null,null,null,null,null,null,null,null,null,null,null,null,null,null,null,null,null,"X"]
[null,null,"Caixa banana cooperado",null,"FORNECEDOR DE BANANA COOPERADO",{"$f":"IFERROR(((SUMIFS('Resumo vendas'!$E$5:$E$2497,'Resumo vendas'!$B$5:$B$2497,F$6,'Resumo vendas'!$C$5:$C$2497,G$6,'Resumo vendas'!$D$5:$D$2497,$C242))*20),0)","v":575620},{"$f":"IFERROR((F242/F$244),0)","v":0.84421565176581015},{"$f":"IFERROR(((SUMIFS('Resumo vendas'!$E$5:$E$2497,'Resumo vendas'!$B$5:$B$2497,H$6,'Resumo vendas'!$C$5:$C$2497,I$6,'Resumo vendas'!$D$5:$D$2497,$C242))*20),0)","v":424660},{"$f":"IFERROR((H242/H$244),0)","v":0.74543603426485039},{"$f":"IFERROR(((SUMIFS('Resumo vendas'!$E$5:$E$2497,'Resumo vendas'!$B$5:$B$2497,J$6,'Resumo vendas'!$C$5:$C$2497,K$6,'Resumo vendas'!$D$5:$D$2497,$C242))*20),0)","v":627040},{"$f":"IFERROR((J242/J$244),0)","v":0.83159597888650172},{"$f":"IFERROR(((SUMIFS('Resumo vendas'!$E$5:$E$2497,'Resumo vendas'!$B$5:$B$2497,L$6,'Resumo vendas'!$C$5:$C$2497,M$6,'Resumo vendas'!$D$5:$D$2497,$C242))*20),0)","v":564260},{"$f":"IFERROR((L242/L$244),0)","v":0.84097412662453797},{"$f":"IFERROR(((SUMIFS('Resumo vendas'!$E$5:$E$2497,'Resumo vendas'!$B$5:$B$2497,N$6,'Resumo vendas'!$C$5:$C$2497,O$6,'Resumo vendas'!$D$5:$D$2497,$C242))*20),0)","v":444700},{"$f":"IFERROR((N242/N$244),0)","v":0.87127742946708464},{"$f":"IFERROR(((SUMIFS('Resumo vendas'!$E$5:$E$2497,'Resumo vendas'!$B$5:$B$2497,P$6,'Resumo vendas'!$C$5:$C$2497,Q$6,'Resumo vendas'!$D$5:$D$2497,$C242))*20),0)","v":799720},{"$f":"IFERROR((P242/P$244),0)","v":0.99265180477632686},{"$f":"IFERROR(((SUMIFS('Resumo vendas'!$E$5:$E$2497,'Resumo vendas'!$B$5:$B$2497,R$6,'Resumo vendas'!$C$5:$C$2497,S$6,'Resumo vendas'!$D$5:$D$2497,$C242))*20),0)","v":710120},{"$f":"IFERROR((R242/R$244),0)","v":0.97936779389860429},{"$f":"IFERROR(((SUMIFS('Resumo vendas'!$E$5:$E$2497,'Resumo vendas'!$B$5:$B$2497,T$6,'Resumo vendas'!$C$5:$C$2497,U$6,'Resumo vendas'!$D$5:$D$2497,$C242))*20),0)","v":0},{"$f":"IFERROR((T242/T$244),0)","v":0},{"$f":"IFERROR(((SUMIFS('Resumo vendas'!$E$5:$E$2497,'Resumo vendas'!$B$5:$B$2497,V$6,'Resumo vendas'!$C$5:$C$2497,W$6,'Resumo vendas'!$D$5:$D$2497,$C242))*20),0)","v":0},{"$f":"IFERROR((V242/V$244),0)","v":0},{"$f":"IFERROR(((SUMIFS('Resumo vendas'!$E$5:$E$2497,'Resumo vendas'!$B$5:$B$2497,X$6,'Resumo vendas'!$C$5:$C$2497,Y$6,'Resumo vendas'!$D$5:$D$2497,$C242))*20),0)","v":0},{"$f":"IFERROR((X242/X$244),0)","v":0},{"$f":"IFERROR(((SUMIFS('Resumo vendas'!$E$5:$E$2497,'Resumo vendas'!$B$5:$B$2497,Z$6,'Resumo vendas'!$C$5:$C$2497,AA$6,'Resumo vendas'!$D$5:$D$2497,$C242))*20),0)","v":0},{"$f":"IFERROR((Z242/Z$244),0)","v":0},{"$f":"IFERROR(((SUMIFS('Resumo vendas'!$E$5:$E$2497,'Resumo vendas'!$B$5:$B$2497,AB$6,'Resumo vendas'!$C$5:$C$2497,AC$6,'Resumo vendas'!$D$5:$D$2497,$C242))*20),0)","v":0},{"$f":"IFERROR((AB242/AB$244),0)","v":0},{"$f":"F242+H242+J242+L242+N242+P242+R242+T242+V242+X242+Z242+AB242","v":4146120},{"$f":"IFERROR((AD242/AD$244),0)","v":0.87885840741729937},null,null,"X"]
[null,null,"Caixa banana não cooperado",null,"FORNECEDOR DE BANANA NÃO COOPERADO",{"$f":"IFERROR(((SUMIFS('Resumo vendas'!$E$5:$E$2497,'Resumo vendas'!$B$5:$B$2497,F$6,'Resumo vendas'!$C$5:$C$2497,G$6,'Resumo vendas'!$D$5:$D$2497,$C243))*20),0)","v":106220},{"$f":"IFERROR((F243/F$244),0)","v":0.15578434823418985},{"$f":"IFERROR(((SUMIFS('Resumo vendas'!$E$5:$E$2497,'Resumo vendas'!$B$5:$B$2497,H$6,'Resumo vendas'!$C$5:$C$2497,I$6,'Resumo vendas'!$D$5:$D$2497,$C243))*20),0)","v":145020},{"$f":"IFERROR((H243/H$244),0)","v":0.25456396573514956},{"$f":"IFERROR(((SUMIFS('Resumo vendas'!$E$5:$E$2497,'Resumo vendas'!$B$5:$B$2497,J$6,'Resumo vendas'!$C$5:$C$2497,K$6,'Resumo vendas'!$D$5:$D$2497,$C243))*20),0)","v":126980},{"$f":"IFERROR((J243/J$244),0)","v":0.16840402111349831},{"$f":"IFERROR(((SUMIFS('Resumo vendas'!$E$5:$E$2497,'Resumo vendas'!$B$5:$B$2497,L$6,'Resumo vendas'!$C$5:$C$2497,M$6,'Resumo vendas'!$D$5:$D$2497,$C243))*20),0)","v":106700},{"$f":"IFERROR((L243/L$244),0)","v":0.15902587337546203},{"$f":"IFERROR(((SUMIFS('Resumo vendas'!$E$5:$E$2497,'Resumo vendas'!$B$5:$B$2497,N$6,'Resumo vendas'!$C$5:$C$2497,O$6,'Resumo vendas'!$D$5:$D$2497,$C243))*20),0)","v":65700},{"$f":"IFERROR((N243/N$244),0)","v":0.12872257053291536},{"$f":"IFERROR(((SUMIFS('Resumo vendas'!$E$5:$E$2497,'Resumo vendas'!$B$5:$B$2497,P$6,'Resumo vendas'!$C$5:$C$2497,Q$6,'Resumo vendas'!$D$5:$D$2497,$C243))*20),0)","v":5920},{"$f":"IFERROR((P243/P$244),0)","v":7.3481952236731044E-3},{"$f":"IFERROR(((SUMIFS('Resumo vendas'!$E$5:$E$2497,'Resumo vendas'!$B$5:$B$2497,R$6,'Resumo vendas'!$C$5:$C$2497,S$6,'Resumo vendas'!$D$5:$D$2497,$C243))*20),0)","v":14960},{"$f":"IFERROR((R243/R$244),0)","v":2.0632206101395708E-2},{"$f":"IFERROR(((SUMIFS('Resumo vendas'!$E$5:$E$2497,'Resumo vendas'!$B$5:$B$2497,T$6,'Resumo vendas'!$C$5:$C$2497,U$6,'Resumo vendas'!$D$5:$D$2497,$C243))*20),0)","v":0},{"$f":"IFERROR((T243/T$244),0)","v":0},{"$f":"IFERROR(((SUMIFS('Resumo vendas'!$E$5:$E$2497,'Resumo vendas'!$B$5:$B$2497,V$6,'Resumo vendas'!$C$5:$C$2497,W$6,'Resumo vendas'!$D$5:$D$2497,$C243))*20),0)","v":0},{"$f":"IFERROR((V243/V$244),0)","v":0},{"$f":"IFERROR(((SUMIFS('Resumo vendas'!$E$5:$E$2497,'Resumo vendas'!$B$5:$B$2497,X$6,'Resumo vendas'!$C$5:$C$2497,Y$6,'Resumo vendas'!$D$5:$D$2497,$C243))*20),0)","v":0},{"$f":"IFERROR((X243/X$244),0)","v":0},{"$f":"IFERROR(((SUMIFS('Resumo vendas'!$E$5:$E$2497,'Resumo vendas'!$B$5:$B$2497,Z$6,'Resumo vendas'!$C$5:$C$2497,AA$6,'Resumo vendas'!$D$5:$D$2497,$C243))*20),0)","v":0},{"$f":"IFERROR((Z243/Z$244),0)","v":0},{"$f":"IFERROR(((SUMIFS('Resumo vendas'!$E$5:$E$2497,'Resumo vendas'!$B$5:$B$2497,AB$6,'Resumo vendas'!$C$5:$C$2497,AC$6,'Resumo vendas'!$D$5:$D$2497,$C243))*20),0)","v":0},{"$f":"IFERROR((AB243/AB$244),0)","v":0},571500,{"$f":"IFERROR((AD243/AD$244),0)","v":0.1211415925827006},null,null,"X"]
[null,null,null,"(KG) BANANA","SOMA",{"$f":"SUM(F241:F243)","v":681840},{"$f":"SUM(G242:G243)","v":1},{"$f":"SUM(H241:H243)","v":569680},{"$f":"SUM(I242:I243)","v":1},{"$f":"SUM(J241:J243)","v":754020},{"$f":"SUM(K242:K243)","v":1},{"$f":"SUM(L241:L243)","v":670960},{"$f":"SUM(M242:M243)","v":1},{"$f":"SUM(N241:N243)","v":510400},{"$f":"SUM(O242:O243)","v":1},{"$f":"SUM(P241:P243)","v":805640},{"$f":"SUM(Q242:Q243)","v":1},{"$f":"SUM(R241:R243)","v":725080},{"$f":"SUM(S242:S243)","v":1},{"$f":"SUM(T241:T243)","v":0},{"$f":"SUM(U242:U243)","v":0},{"$f":"SUM(V241:V243)","v":0},{"$f":"SUM(W242:W243)","v":0},{"$f":"SUM(X241:X243)","v":0},{"$f":"SUM(Y242:Y243)","v":0},{"$f":"SUM(Z241:Z243)","v":0},{"$f":"SUM(AA242:AA243)","v":0},{"$f":"SUM(AB241:AB243)","v":0},{"$f":"SUM(AC242:AC243)","v":0},{"$f":"SUM(AD241:AD243)","v":4717620},{"$f":"SUM(AE242:AE243)","v":1},null,null,"X"]
[null,null,null,null,null,null,null,null,null,null,null,null,null,null,null,null,null,null,null,null,null,null,null,null,null,null,null,null,null,null,null,null,null,"X"]
[null,null,null,"PAGAMENTOS REALIZADOS (EXCETO A PRODUTORES)",null,{"$f":"(F18+F30-F31+F43+F181+F192+F219+F231)*-1","v":-144842.89000000001},null,{"$f":"(H18+H30-H31+H43+H181+H192+H219+H231)*-1","v":-148531.03999999992},null,{"$f":"(J18+J30-J31+J43+J181+J192+J219+J231)*-1","v":-189922.34000000011},null,{"$f":"(L18+L30-L31+L43+L181+L192+L219+L231)*-1","v":-179550.61999999994},null,{"$f":"(N18+N30-N31+N43+N181+N192+N219+N231)*-1","v":-145313.02000000002},null,{"$f":"(P18+P30-P31+P43+P181+P192+P219+P231)*-1","v":-161587.82999999999},null,{"$f":"(R18+R30-R31+R43+R181+R192+R219+R231)*-1","v":-168411.46},null,{"$f":"(T18+T30-T31+T43+T181+T192+T219+T231)*-1","v":0},null,{"$f":"(V18+V30-V31+V43+V181+V192+V219+V231)*-1","v":0},null,{"$f":"(X18+X30-X31+X43+X181+X192+X219+X231)*-1","v":0},null,{"$f":"(Z18+Z30-Z31+Z43+Z181+Z192+Z219+Z231)*-1","v":0},null,{"$f":"(AB18+AB30-AB31+AB43+AB181+AB192+AB219+AB231)*-1","v":0},null,{"$f":"(AD18+AD30-AD31+AD43+AD181+AD192+AD219+AD231)*-1","v":-1138159.1999999997},null,null,null,"X"]
[null,null,null,"        NECESSIDADE DE CONTRIBUIÇÃO SOBRE KG DE BANANA",null,{"$f":"IFERROR((-F246/F$244),0)","v":0.21242944092455709},null,{"$f":"IFERROR((-H246/H$244),0)","v":0.26072714506389538},null,{"$f":"IFERROR((-J246/J$244),0)","v":0.25187971141349053},null,{"$f":"IFERROR((-L246/L$244),0)","v":0.26760256945272437},null,{"$f":"IFERROR((-N246/N$244),0)","v":0.28470419278996867},null,{"$f":"IFERROR((-P246/P$244),0)","v":0.20057076361650364},null,{"$f":"IFERROR((-R246/R$244),0)","v":0.23226603960942241},null,{"$f":"IFERROR((-T246/T$244),0)","v":0},null,{"$f":"IFERROR((-V246/V$244),0)","v":0},null,{"$f":"IFERROR((-X246/X$244),0)","v":0},null,{"$f":"IFERROR((-Z246/Z$244),0)","v":0},null,{"$f":"IFERROR((-AB246/AB$244),0)","v":0},null,{"$f":"IFERROR((-AD246/AD$244),0)","v":0.24125707454182399},null,null,null,"X"]
[]
[]
[]
[]
[]
[]
[]
[]
[null,null,null,"JANEIRO"]
[null,null,null,"FEVEREIRO"]
[null,null,null,"MARÇO"]
[null,null,null,"ABRIL"]
[null,null,null,"MAIO"]
[null,null,null,"JUNHO"]
[null,null,null,"JULHO"]
[null,null,null,"AGOSTO"]
[null,null,null,"SETEMBRO"]
[null,null,null,"OUTUBRO"]
[null,null,null,"NOVEMBRO"]
[null,null,null,"DEZEMBRO"]

{"sheet":"Volume","index":9,"n_rows":108,"n_cols":20,"rows_kept":108,"cut":false,"hidden":false,"merged":[[8,1,9,14],[27,1,27,2],[6,4,6,7],[23,10,23,11],[23,3,23,6],[6,2,6,3],[6,10,6,11]]}
[null,"COMPARATIVO DE VOLUME DE VENDAS"]
[]
[]
[null,"MÊS","JANEIRO","FEVEREIRO","MARÇO","ABRIL","MAIO","JUNHO"]
[null,"ANO",2018,2018,2018,2018,2018,2018]
[]
[null,null,"VISUALIZAR",null,"GLOBAL COOPERADO E NÃO COOPERADO",null,null,null,null,null,"CALCULAR",null,"ACUMULADO"]
[]
[null,{"$f":"CONCATENATE(\"VOLUME DE VENDAS - CAIXA\")","v":"VOLUME DE VENDAS - CAIXA"}]
[]
[]
[]
[]
[]
[]
[]
[]
[]
[]
[]
[]
[]
[]
[null,null,null,{"$f":"IF(E7=B47,E7,IF(E7=B45,E7,IF(OR(E7=B44,E7=B46),B44,\"\")))","v":"GLOBAL COOPERADO E NÃO COOPERADO"},null,null,null,null,null,null,{"$f":"IF(E7=\"COOPERADO E NÃO COOPERADO\",\"NÃO COOPERADO\",\"\")","v":""}]
[]
[null,"KG DE BANANA",{"$f":"IF(C4=\"\",\"\",C4)","v":"JANEIRO"},{"$f":"IF(D4=\"\",\"\",D4)","v":"FEVEREIRO"},"MARÇO","ABRIL","MAIO","JUNHO","","","","","","",{"$f":"M7","v":"ACUMULADO"}]
[null,{"$f":"E7","v":"GLOBAL COOPERADO E NÃO COOPERADO"},{"$f":"IF(C32=0,NA(),VLOOKUP($B27,$B$30:$O$32,C$29,FALSE))","v":34092},28484,37701,33548,25520,40282,{"$error":"#N/A"},{"$error":"#N/A"},{"$error":"#N/A"},{"$error":"#N/A"},{"$error":"#N/A"},{"$error":"#N/A"},199627]
[null," AUMENTO OU QUEDA (%)",null,{"$f":"IFERROR((D27/C27)-100%,0)","v":-0.16449606945911066},{"$f":"IFERROR((E27/D27)-100%,0)","v":0.32358517062210357},-0.11015622927773794,-0.23929891498748057,0.57844827586206904,0,0,0,0,0,0]
[null,null,2,3,4,5,6,7,8,9,10,11,12,13,14]
[null,"COOPERADO",{"$f":"SUMIFS('Resumo vendas'!$E$5:$E$4027,'Resumo vendas'!$D$5:$D$4027,\"Caixa banana cooperado\",'Resumo vendas'!$B$5:$B$4027,C$26,'Resumo vendas'!$C$5:$C$4027,C$5)","v":28781},{"$f":"SUMIFS('Resumo vendas'!$E$5:$E$4027,'Resumo vendas'!$D$5:$D$4027,\"Caixa banana cooperado\",'Resumo vendas'!$B$5:$B$4027,D$26,'Resumo vendas'!$C$5:$C$4027,D$5)","v":21233},{"$f":"SUMIFS('Resumo vendas'!$E$5:$E$4027,'Resumo vendas'!$D$5:$D$4027,\"Caixa banana cooperado\",'Resumo vendas'!$B$5:$B$4027,E$26,'Resumo vendas'!$C$5:$C$4027,E$5)","v":31352},{"$f":"SUMIFS('Resumo vendas'!$E$5:$E$4027,'Resumo vendas'!$D$5:$D$4027,\"Caixa banana cooperado\",'Resumo vendas'!$B$5:$B$4027,F$26,'Resumo vendas'!$C$5:$C$4027,F$5)","v":28213},{"$f":"SUMIFS('Resumo vendas'!$E$5:$E$4027,'Resumo vendas'!$D$5:$D$4027,\"Caixa banana cooperado\",'Resumo vendas'!$B$5:$B$4027,G$26,'Resumo vendas'!$C$5:$C$4027,G$5)","v":22235},{"$f":"SUMIFS('Resumo vendas'!$E$5:$E$4027,'Resumo vendas'!$D$5:$D$4027,\"Caixa banana cooperado\",'Resumo vendas'!$B$5:$B$4027,H$26,'Resumo vendas'!$C$5:$C$4027,H$5)","v":39986},{"$f":"SUMIFS('Resumo vendas'!$E$5:$E$4027,'Resumo vendas'!$D$5:$D$4027,\"Caixa banana cooperado\",'Resumo vendas'!$B$5:$B$4027,I$26,'Resumo vendas'!$C$5:$C$4027,I$5)","v":0},{"$f":"SUMIFS('Resumo vendas'!$E$5:$E$4027,'Resumo vendas'!$D$5:$D$4027,\"Caixa banana cooperado\",'Resumo vendas'!$B$5:$B$4027,J$26,'Resumo vendas'!$C$5:$C$4027,J$5)","v":0},{"$f":"SUMIFS('Resumo vendas'!$E$5:$E$4027,'Resumo vendas'!$D$5:$D$4027,\"Caixa banana cooperado\",'Resumo vendas'!$B$5:$B$4027,K$26,'Resumo vendas'!$C$5:$C$4027,K$5)","v":0},{"$f":"SUMIFS('Resumo vendas'!$E$5:$E$4027,'Resumo vendas'!$D$5:$D$4027,\"Caixa banana cooperado\",'Resumo vendas'!$B$5:$B$4027,L$26,'Resumo vendas'!$C$5:$C$4027,L$5)","v":0},{"$f":"SUMIFS('Resumo vendas'!$E$5:$E$4027,'Resumo vendas'!$D$5:$D$4027,\"Caixa banana cooperado\",'Resumo vendas'!$B$5:$B$4027,M$26,'Resumo vendas'!$C$5:$C$4027,M$5)","v":0},{"$f":"SUMIFS('Resumo vendas'!$E$5:$E$4027,'Resumo vendas'!$D$5:$D$4027,\"Caixa banana cooperado\",'Resumo vendas'!$B$5:$B$4027,N$26,'Resumo vendas'!$C$5:$C$4027,N$5)","v":0},{"$f":"IF($O$26<>\"MÉDIA\",SUM(C30:N30),AVERAGEIF(C30:N30,\">0\",C30:N30))","v":171800}]
[null,"NÃO COOPERADO",{"$f":"SUMIFS('Resumo vendas'!$E$5:$E$4027,'Resumo vendas'!$D$5:$D$4027,\"Caixa banana não cooperado\",'Resumo vendas'!$B$5:$B$4027,C$26,'Resumo vendas'!$C$5:$C$4027,C$5)","v":5311},{"$f":"SUMIFS('Resumo vendas'!$E$5:$E$4027,'Resumo vendas'!$D$5:$D$4027,\"Caixa banana não cooperado\",'Resumo vendas'!$B$5:$B$4027,D$26,'Resumo vendas'!$C$5:$C$4027,D$5)","v":7251},{"$f":"SUMIFS('Resumo vendas'!$E$5:$E$4027,'Resumo vendas'!$D$5:$D$4027,\"Caixa banana não cooperado\",'Resumo vendas'!$B$5:$B$4027,E$26,'Resumo vendas'!$C$5:$C$4027,E$5)","v":6349},{"$f":"SUMIFS('Resumo vendas'!$E$5:$E$4027,'Resumo vendas'!$D$5:$D$4027,\"Caixa banana não cooperado\",'Resumo vendas'!$B$5:$B$4027,F$26,'Resumo vendas'!$C$5:$C$4027,F$5)","v":5335},{"$f":"SUMIFS('Resumo vendas'!$E$5:$E$4027,'Resumo vendas'!$D$5:$D$4027,\"Caixa banana não cooperado\",'Resumo vendas'!$B$5:$B$4027,G$26,'Resumo vendas'!$C$5:$C$4027,G$5)","v":3285},{"$f":"SUMIFS('Resumo vendas'!$E$5:$E$4027,'Resumo vendas'!$D$5:$D$4027,\"Caixa banana não cooperado\",'Resumo vendas'!$B$5:$B$4027,H$26,'Resumo vendas'!$C$5:$C$4027,H$5)","v":296},{"$f":"SUMIFS('Resumo vendas'!$E$5:$E$4027,'Resumo vendas'!$D$5:$D$4027,\"Caixa banana não cooperado\",'Resumo vendas'!$B$5:$B$4027,I$26,'Resumo vendas'!$C$5:$C$4027,I$5)","v":0},{"$f":"SUMIFS('Resumo vendas'!$E$5:$E$4027,'Resumo vendas'!$D$5:$D$4027,\"Caixa banana não cooperado\",'Resumo vendas'!$B$5:$B$4027,J$26,'Resumo vendas'!$C$5:$C$4027,J$5)","v":0},{"$f":"SUMIFS('Resumo vendas'!$E$5:$E$4027,'Resumo vendas'!$D$5:$D$4027,\"Caixa banana não cooperado\",'Resumo vendas'!$B$5:$B$4027,K$26,'Resumo vendas'!$C$5:$C$4027,K$5)","v":0},{"$f":"SUMIFS('Resumo vendas'!$E$5:$E$4027,'Resumo vendas'!$D$5:$D$4027,\"Caixa banana não cooperado\",'Resumo vendas'!$B$5:$B$4027,L$26,'Resumo vendas'!$C$5:$C$4027,L$5)","v":0},{"$f":"SUMIFS('Resumo vendas'!$E$5:$E$4027,'Resumo vendas'!$D$5:$D$4027,\"Caixa banana não cooperado\",'Resumo vendas'!$B$5:$B$4027,M$26,'Resumo vendas'!$C$5:$C$4027,M$5)","v":0},{"$f":"SUMIFS('Resumo vendas'!$E$5:$E$4027,'Resumo vendas'!$D$5:$D$4027,\"Caixa banana não cooperado\",'Resumo vendas'!$B$5:$B$4027,N$26,'Resumo vendas'!$C$5:$C$4027,N$5)","v":0},{"$f":"IF($O$26<>\"MÉDIA\",SUM(C31:N31),AVERAGEIF(C31:N31,\">0\",C31:N31))","v":27827}]
[null,{"$f":"IF(OR(E7=B44,E7=B45),\"\",E7)","v":"GLOBAL COOPERADO E NÃO COOPERADO"},{"$f":"SUM(C30:C31)","v":34092},{"$f":"SUM(D30:D31)","v":28484},37701,33548,25520,40282,0,0,0,0,0,0,{"$f":"IF($O$26<>\"MÉDIA\",SUM(C32:N32),AVERAGEIF(C32:N32,\">0\",C32:N32))","v":199627}]
[]
[]
[]
[]
[null,null,{"$f":"IF(C4=\"\",\"\",C4)","v":"JANEIRO"},"FEVEREIRO","MARÇO","ABRIL","MAIO","JUNHO","","","","","",""]
[null,{"$f":"CONCATENATE(IF($E$7=$B$44,B30,\"\"),IF($E$7=$B$46,B30,\"\"),IF($E$7=$B$47,B47,\"\"))","v":"GLOBAL COOPERADO E NÃO COOPERADO"},{"$f":"IF(IF($E$7=$B$44,C30,0)+IF($E$7=$B$46,C30,0)+IF($E$7=$B$47,C32,0)=0,NA(),IF($E$7=$B$44,C30,0)+IF($E$7=$B$46,C30,0)+IF($E$7=$B$47,C32,0))","v":34092},28484,37701,33548,25520,40282,{"$error":"#N/A"},{"$error":"#N/A"},{"$error":"#N/A"},{"$error":"#N/A"},{"$error":"#N/A"},{"$error":"#N/A"}]
[null,{"$f":"(IF($E$7=$B$45,B31,\"\"))","v":""},{"$f":"IF(IF($E$7=$B$45,C31,0)+IF($E$7=$B$46,C31,0)+IF($E$7=$B$47,C32,0)=0,NA(),IF($E$7=$B$45,C31,0)+IF($E$7=$B$46,C31,0)+IF($E$7=$B$47,C32,0))","v":34092},28484,37701,33548,25520,40282,{"$error":"#N/A"},{"$error":"#N/A"},{"$error":"#N/A"},{"$error":"#N/A"},{"$error":"#N/A"},{"$error":"#N/A"}]
[]
[]
[]
[]
[null,"COOPERADO"]
[null,"NÃO COOPERADO"]
[null,"COOPERADO E NÃO COOPERADO"]
[null,"GLOBAL COOPERADO E NÃO COOPERADO"]
[]
[]
[]
[]
[]
[]
[]
[]
[]
[]
[]
[]
[]
[]
[]
[]
[]
[]
[]
[]
[]
[]
[]
[]
[]
[]
[]
[]
[]
[]
[]
[]
[]
[null,null,null,null,null,null,null,null,null,null,null,null,null,null,null,null,2013,"ACUMULADO",null,"MES"]
[null,null,null,null,null,null,null,null,null,null,null,null,null,null,null,null,2014,"MÉDIA",null,"JANEIRO"]
[null,null,null,null,null,null,null,null,null,null,null,null,null,null,null,null,2015,null,null,"FEVEREIRO"]
[null,null,null,null,null,null,null,null,null,null,null,null,null,null,null,null,2016,null,null,"MARÇO"]
[null,null,null,null,null,null,null,null,null,null,null,null,null,null,null,null,2017,null,null,"ABRIL"]
[null,null,null,null,null,null,null,null,null,null,null,null,null,null,null,null,2018,null,null,"MAIO"]
[null,null,null,null,null,null,null,null,null,null,null,null,null,null,null,null,2019,null,null,"JUNHO"]
[null,null,null,null,null,null,null,null,null,null,null,null,null,null,null,null,2020,null,null,"JULHO"]
[null,null,null,null,null,null,null,null,null,null,null,null,null,null,null,null,2021,null,null,"AGOSTO"]
[null,null,null,null,null,null,null,null,null,null,null,null,null,null,null,null,2022,null,null,"SETEMBRO"]
[null,null,null,null,null,null,null,null,null,null,null,null,null,null,null,null,2023,null,null,"OUTUBRO"]
[null,null,null,null,null,null,null,null,null,null,null,null,null,null,null,null,2024,null,null,"NOVEMBRO"]
[null,null,null,null,null,null,null,null,null,null,null,null,null,null,null,null,2025,null,null,"DEZEMBRO"]
[null,null,null,null,null,null,null,null,null,null,null,null,null,null,null,null,2026]
[null,null,null,null,null,null,null,null,null,null,null,null,null,null,null,null,2027]
[null,null,null,null,null,null,null,null,null,null,null,null,null,null,null,null,2028]
[null,null,null,null,null,null,null,null,null,null,null,null,null,null,null,null,2029]
[null,null,null,null,null,null,null,null,null,null,null,null,null,null,null,null,2030]
[null,null,null,null,null,null,null,null,null,null,null,null,null,null,null,null,2031]
[null,null,null,null,null,null,null,null,null,null,null,null,null,null,null,null,2032]
[null,null,null,null,null,null,null,null,null,null,null,null,null,null,null,null,2033]
[null,null,null,null,null,null,null,null,null,null,null,null,null,null,null,null,2034]
[null,null,null,null,null,null,null,null,null,null,null,null,null,null,null,null,2035]
[null,null,null,null,null,null,null,null,null,null,null,null,null,null,null,null,2036]
[null,null,null,null,null,null,null,null,null,null,null,null,null,null,null,null,2037]
[null,null,null,null,null,null,null,null,null,null,null,null,null,null,null,null,2038]
[null,null,null,null,null,null,null,null,null,null,null,null,null,null,null,null,2039]
[null,null,null,null,null,null,null,null,null,null,null,null,null,null,null,null,2040]

{"sheet":"Faturamento","index":10,"n_rows":125,"n_cols":20,"rows_kept":125,"cut":false,"hidden":false,"merged":[[26,1,27,14],[5,1,6,14],[24,1,24,2]]}
[null,"COMPARATIVO DE FATURAMENTOS E PAGAMENTOS MENSAIS"]
[null,null,null,null,null,null,null,null,null,"Ano",null,"Calcular"]
[null,null,null,null,null,null,null,null,"Selecionar",2018,null,"ACUMULADO"]
[]
[]
[null,{"$f":"CONCATENATE(\"FATURAMENTO MENSAL DE \",$J$3,\"\")","v":"FATURAMENTO MENSAL DE 2018"}]
[]
[]
[]
[]
[]
[]
[]
[]
[]
[]
[]
[]
[]
[]
[]
[]
[null,"DESCRIÇÃO","JANEIRO","FEVEREIRO","MARÇO","ABRIL","MAIO","JUNHO","JULHO","AGOSTO","SETEMBRO","OUTUBRO","NOVEMBRO","DEZEMBRO",{"$f":"L3","v":"ACUMULADO"}]
[null," (+) FATURAMENTO (R$)",{"$f":"IF(C26=0,NA(),C26)","v":960626.8},{"$f":"IF(D26=0,NA(),D26)","v":821530.1},1323267.3,1008922.75,804756.6,883169.1,608346.94999999995,{"$error":"#N/A"},{"$error":"#N/A"},{"$error":"#N/A"},{"$error":"#N/A"},{"$error":"#N/A"},6410619.5999999996]
[null," AUMENTO OU QUEDA (%)",null,{"$f":"IFERROR((D24/C24)-100%,0)","v":-0.14479785490057129},{"$f":"IFERROR((E24/D24)-100%,0)","v":0.6107350174996633},-0.23755181587272656,-0.20236053751389793,9.7436293159944176E-2,-0.31117727058159084,0,0,0,0,0]
[null,null,{"$f":"SUMIFS(Arquivo!$F$2:$F$20000,Arquivo!$G$2:$G$20000,\"FATURAMENTO\",Arquivo!$B$2:$B$20000,C$23,Arquivo!$C$2:$C$20000,$J$3)","v":960626.8},{"$f":"SUMIFS(Arquivo!$F$2:$F$20000,Arquivo!$G$2:$G$20000,\"FATURAMENTO\",Arquivo!$B$2:$B$20000,D$23,Arquivo!$C$2:$C$20000,$J$3)","v":821530.1},{"$f":"SUMIFS(Arquivo!$F$2:$F$20000,Arquivo!$G$2:$G$20000,\"FATURAMENTO\",Arquivo!$B$2:$B$20000,E$23,Arquivo!$C$2:$C$20000,$J$3)","v":1323267.3},{"$f":"SUMIFS(Arquivo!$F$2:$F$20000,Arquivo!$G$2:$G$20000,\"FATURAMENTO\",Arquivo!$B$2:$B$20000,F$23,Arquivo!$C$2:$C$20000,$J$3)","v":1008922.75},{"$f":"SUMIFS(Arquivo!$F$2:$F$20000,Arquivo!$G$2:$G$20000,\"FATURAMENTO\",Arquivo!$B$2:$B$20000,G$23,Arquivo!$C$2:$C$20000,$J$3)","v":804756.6},{"$f":"SUMIFS(Arquivo!$F$2:$F$20000,Arquivo!$G$2:$G$20000,\"FATURAMENTO\",Arquivo!$B$2:$B$20000,H$23,Arquivo!$C$2:$C$20000,$J$3)","v":883169.1},{"$f":"SUMIFS(Arquivo!$F$2:$F$20000,Arquivo!$G$2:$G$20000,\"FATURAMENTO\",Arquivo!$B$2:$B$20000,I$23,Arquivo!$C$2:$C$20000,$J$3)","v":608346.94999999995},{"$f":"SUMIFS(Arquivo!$F$2:$F$20000,Arquivo!$G$2:$G$20000,\"FATURAMENTO\",Arquivo!$B$2:$B$20000,J$23,Arquivo!$C$2:$C$20000,$J$3)","v":0},{"$f":"SUMIFS(Arquivo!$F$2:$F$20000,Arquivo!$G$2:$G$20000,\"FATURAMENTO\",Arquivo!$B$2:$B$20000,K$23,Arquivo!$C$2:$C$20000,$J$3)","v":0},{"$f":"SUMIFS(Arquivo!$F$2:$F$20000,Arquivo!$G$2:$G$20000,\"FATURAMENTO\",Arquivo!$B$2:$B$20000,L$23,Arquivo!$C$2:$C$20000,$J$3)","v":0},{"$f":"SUMIFS(Arquivo!$F$2:$F$20000,Arquivo!$G$2:$G$20000,\"FATURAMENTO\",Arquivo!$B$2:$B$20000,M$23,Arquivo!$C$2:$C$20000,$J$3)","v":0},{"$f":"SUMIFS(Arquivo!$F$2:$F$20000,Arquivo!$G$2:$G$20000,\"FATURAMENTO\",Arquivo!$B$2:$B$20000,N$23,Arquivo!$C$2:$C$20000,$J$3)","v":0},{"$f":"IF($O$23<>\"MÉDIA\",SUM(C26:N26),AVERAGEIF(C26:N26,\">0\",C26:N26))","v":6410619.5999999996}]
[null,{"$f":"CONCATENATE(\"FATURAMENTO E RECEITAS NÃO OPERACIONAIS  X PAGAMENTOS REALIZADOS - \",$J$3)","v":"FATURAMENTO E RECEITAS NÃO OPERACIONAIS  X PAGAMENTOS REALIZADOS - 2018"}]
[]
[]
[]
[]
[]
[]
[]
[]
[]
[]
[]
[]
[]
[]
[]
[]
[null,"DESCRIÇÃO","JANEIRO","FEVEREIRO","MARÇO","ABRIL","MAIO","JUNHO","JULHO","AGOSTO","SETEMBRO","OUTUBRO","NOVEMBRO","DEZEMBRO",{"$f":"L3","v":"ACUMULADO"}]
[null," (+) FATURAMENTO (R$)",{"$f":"SUMIFS(Arquivo!$F$2:$F$20000,Arquivo!$G$2:$G$20000,\"FATURAMENTO\",Arquivo!$B$2:$B$20000,C$23,Arquivo!$C$2:$C$20000,$J$3)","v":960626.8},{"$f":"SUMIFS(Arquivo!$F$2:$F$20000,Arquivo!$G$2:$G$20000,\"FATURAMENTO\",Arquivo!$B$2:$B$20000,D$23,Arquivo!$C$2:$C$20000,$J$3)","v":821530.1},{"$f":"SUMIFS(Arquivo!$F$2:$F$20000,Arquivo!$G$2:$G$20000,\"FATURAMENTO\",Arquivo!$B$2:$B$20000,E$23,Arquivo!$C$2:$C$20000,$J$3)","v":1323267.3},{"$f":"SUMIFS(Arquivo!$F$2:$F$20000,Arquivo!$G$2:$G$20000,\"FATURAMENTO\",Arquivo!$B$2:$B$20000,F$23,Arquivo!$C$2:$C$20000,$J$3)","v":1008922.75},{"$f":"SUMIFS(Arquivo!$F$2:$F$20000,Arquivo!$G$2:$G$20000,\"FATURAMENTO\",Arquivo!$B$2:$B$20000,G$23,Arquivo!$C$2:$C$20000,$J$3)","v":804756.6},{"$f":"SUMIFS(Arquivo!$F$2:$F$20000,Arquivo!$G$2:$G$20000,\"FATURAMENTO\",Arquivo!$B$2:$B$20000,H$23,Arquivo!$C$2:$C$20000,$J$3)","v":883169.1},{"$f":"SUMIFS(Arquivo!$F$2:$F$20000,Arquivo!$G$2:$G$20000,\"FATURAMENTO\",Arquivo!$B$2:$B$20000,I$23,Arquivo!$C$2:$C$20000,$J$3)","v":608346.94999999995},{"$f":"SUMIFS(Arquivo!$F$2:$F$20000,Arquivo!$G$2:$G$20000,\"FATURAMENTO\",Arquivo!$B$2:$B$20000,J$23,Arquivo!$C$2:$C$20000,$J$3)","v":0},{"$f":"SUMIFS(Arquivo!$F$2:$F$20000,Arquivo!$G$2:$G$20000,\"FATURAMENTO\",Arquivo!$B$2:$B$20000,K$23,Arquivo!$C$2:$C$20000,$J$3)","v":0},{"$f":"SUMIFS(Arquivo!$F$2:$F$20000,Arquivo!$G$2:$G$20000,\"FATURAMENTO\",Arquivo!$B$2:$B$20000,L$23,Arquivo!$C$2:$C$20000,$J$3)","v":0},{"$f":"SUMIFS(Arquivo!$F$2:$F$20000,Arquivo!$G$2:$G$20000,\"FATURAMENTO\",Arquivo!$B$2:$B$20000,M$23,Arquivo!$C$2:$C$20000,$J$3)","v":0},{"$f":"SUMIFS(Arquivo!$F$2:$F$20000,Arquivo!$G$2:$G$20000,\"FATURAMENTO\",Arquivo!$B$2:$B$20000,N$23,Arquivo!$C$2:$C$20000,$J$3)","v":0},{"$f":"IF($O$44<>\"MÉDIA\",SUM(C45:N45),AVERAGEIF(C45:N45,\">0\",C45:N45))","v":6410619.5999999996}]
[null," (+) RECEITA NÃO OPERC. (R$)",{"$f":"SUMIFS(Arquivo!$F$2:$F$20000,Arquivo!$G$2:$G$20000,\"RECEITA NÃO OPERACIONAL\",Arquivo!$B$2:$B$20000,C$23,Arquivo!$C$2:$C$20000,$J$3)","v":12201.06},{"$f":"SUMIFS(Arquivo!$F$2:$F$20000,Arquivo!$G$2:$G$20000,\"RECEITA NÃO OPERACIONAL\",Arquivo!$B$2:$B$20000,D$23,Arquivo!$C$2:$C$20000,$J$3)","v":4689.25},{"$f":"SUMIFS(Arquivo!$F$2:$F$20000,Arquivo!$G$2:$G$20000,\"RECEITA NÃO OPERACIONAL\",Arquivo!$B$2:$B$20000,E$23,Arquivo!$C$2:$C$20000,$J$3)","v":1379.94},{"$f":"SUMIFS(Arquivo!$F$2:$F$20000,Arquivo!$G$2:$G$20000,\"RECEITA NÃO OPERACIONAL\",Arquivo!$B$2:$B$20000,F$23,Arquivo!$C$2:$C$20000,$J$3)","v":9197.52},{"$f":"SUMIFS(Arquivo!$F$2:$F$20000,Arquivo!$G$2:$G$20000,\"RECEITA NÃO OPERACIONAL\",Arquivo!$B$2:$B$20000,G$23,Arquivo!$C$2:$C$20000,$J$3)","v":5088.18},{"$f":"SUMIFS(Arquivo!$F$2:$F$20000,Arquivo!$G$2:$G$20000,\"RECEITA NÃO OPERACIONAL\",Arquivo!$B$2:$B$20000,H$23,Arquivo!$C$2:$C$20000,$J$3)","v":4770},{"$f":"SUMIFS(Arquivo!$F$2:$F$20000,Arquivo!$G$2:$G$20000,\"RECEITA NÃO OPERACIONAL\",Arquivo!$B$2:$B$20000,I$23,Arquivo!$C$2:$C$20000,$J$3)","v":6096.17},{"$f":"SUMIFS(Arquivo!$F$2:$F$20000,Arquivo!$G$2:$G$20000,\"RECEITA NÃO OPERACIONAL\",Arquivo!$B$2:$B$20000,J$23,Arquivo!$C$2:$C$20000,$J$3)","v":0},{"$f":"SUMIFS(Arquivo!$F$2:$F$20000,Arquivo!$G$2:$G$20000,\"RECEITA NÃO OPERACIONAL\",Arquivo!$B$2:$B$20000,K$23,Arquivo!$C$2:$C$20000,$J$3)","v":0},{"$f":"SUMIFS(Arquivo!$F$2:$F$20000,Arquivo!$G$2:$G$20000,\"RECEITA NÃO OPERACIONAL\",Arquivo!$B$2:$B$20000,L$23,Arquivo!$C$2:$C$20000,$J$3)","v":0},{"$f":"SUMIFS(Arquivo!$F$2:$F$20000,Arquivo!$G$2:$G$20000,\"RECEITA NÃO OPERACIONAL\",Arquivo!$B$2:$B$20000,M$23,Arquivo!$C$2:$C$20000,$J$3)","v":0},{"$f":"SUMIFS(Arquivo!$F$2:$F$20000,Arquivo!$G$2:$G$20000,\"RECEITA NÃO OPERACIONAL\",Arquivo!$B$2:$B$20000,N$23,Arquivo!$C$2:$C$20000,$J$3)","v":0},{"$f":"IF($O$44<>\"MÉDIA\",SUM(C46:N46),AVERAGEIF(C46:N46,\">0\",C46:N46))","v":43422.119999999995}]
[null," (-) PAGAMENTO (R$)",{"$f":"SUMIFS(Arquivo!$F$2:$F$20000,Arquivo!$G$2:$G$20000,\"PAGAMENTOS\",Arquivo!$B$2:$B$20000,C$23,Arquivo!$C$2:$C$20000,$J$3)","v":976648.10999999987},{"$f":"SUMIFS(Arquivo!$F$2:$F$20000,Arquivo!$G$2:$G$20000,\"PAGAMENTOS\",Arquivo!$B$2:$B$20000,D$23,Arquivo!$C$2:$C$20000,$J$3)","v":829946.91999999993},{"$f":"SUMIFS(Arquivo!$F$2:$F$20000,Arquivo!$G$2:$G$20000,\"PAGAMENTOS\",Arquivo!$B$2:$B$20000,E$23,Arquivo!$C$2:$C$20000,$J$3)","v":1304335.0399999998},{"$f":"SUMIFS(Arquivo!$F$2:$F$20000,Arquivo!$G$2:$G$20000,\"PAGAMENTOS\",Arquivo!$B$2:$B$20000,F$23,Arquivo!$C$2:$C$20000,$J$3)","v":1010989.42},{"$f":"SUMIFS(Arquivo!$F$2:$F$20000,Arquivo!$G$2:$G$20000,\"PAGAMENTOS\",Arquivo!$B$2:$B$20000,G$23,Arquivo!$C$2:$C$20000,$J$3)","v":819529.02},{"$f":"SUMIFS(Arquivo!$F$2:$F$20000,Arquivo!$G$2:$G$20000,\"PAGAMENTOS\",Arquivo!$B$2:$B$20000,H$23,Arquivo!$C$2:$C$20000,$J$3)","v":845291.82999999973},{"$f":"SUMIFS(Arquivo!$F$2:$F$20000,Arquivo!$G$2:$G$20000,\"PAGAMENTOS\",Arquivo!$B$2:$B$20000,I$23,Arquivo!$C$2:$C$20000,$J$3)","v":580326.66000000027},{"$f":"SUMIFS(Arquivo!$F$2:$F$20000,Arquivo!$G$2:$G$20000,\"PAGAMENTOS\",Arquivo!$B$2:$B$20000,J$23,Arquivo!$C$2:$C$20000,$J$3)","v":0},{"$f":"SUMIFS(Arquivo!$F$2:$F$20000,Arquivo!$G$2:$G$20000,\"PAGAMENTOS\",Arquivo!$B$2:$B$20000,K$23,Arquivo!$C$2:$C$20000,$J$3)","v":0},{"$f":"SUMIFS(Arquivo!$F$2:$F$20000,Arquivo!$G$2:$G$20000,\"PAGAMENTOS\",Arquivo!$B$2:$B$20000,L$23,Arquivo!$C$2:$C$20000,$J$3)","v":0},{"$f":"SUMIFS(Arquivo!$F$2:$F$20000,Arquivo!$G$2:$G$20000,\"PAGAMENTOS\",Arquivo!$B$2:$B$20000,M$23,Arquivo!$C$2:$C$20000,$J$3)","v":0},{"$f":"SUMIFS(Arquivo!$F$2:$F$20000,Arquivo!$G$2:$G$20000,\"PAGAMENTOS\",Arquivo!$B$2:$B$20000,N$23,Arquivo!$C$2:$C$20000,$J$3)","v":0},{"$f":"IF($O$44<>\"MÉDIA\",SUM(C47:N47),AVERAGEIF(C47:N47,\">0\",C47:N47))","v":6367067}]
[null," (=) RESULTADO (R$)",{"$f":"IFERROR((C45+C46-C47),0)","v":-3820.2499999997672},{"$f":"IFERROR((D45+D46-D47),0)","v":-3727.5699999999488},20312.200000000186,7130.8499999999767,-9684.2399999999907,42647.270000000251,34116.45999999973,0,0,0,0,0,{"$f":"IFERROR((O45+O46-O47),0)","v":86974.719999999739}]
[null," SITUAÇÃO",{"$f":"IF(C48=0,\"\",(IF(C48<0,\"Déficit\",\"Superávit\")))","v":"Déficit"},{"$f":"IF(D48=0,\"\",(IF(D48<0,\"Déficit\",\"Superávit\")))","v":"Déficit"},"Superávit","Superávit","Déficit","Superávit","Superávit","","","","","","Superávit"]
[null,null,{"$f":"C45+C46","v":972827.8600000001},{"$f":"D45+D46","v":826219.35},1324647.24,1018120.27,809844.78,887939.1,614443.12,0,0,0,0,0]
[]
[]
[]
[]
[]
[]
[]
[]
[]
[]
[]
[]
[]
[]
[]
[]
[]
[]
[]
[]
[]
[]
[]
[]
[]
[]
[]
[]
[]
[]
[]
[]
[]
[]
[]
[]
[]
[]
[]
[]
[]
[]
[]
[]
[]
[]
[]
[null,null,null,null,null,null,null,null,null,null,null,null,null,null,null,null,2013,"ACUMULADO",null,"produto"]
[null,null,null,null,null,null,null,null,null,null,null,null,null,null,null,null,2014,"MÉDIA",null,"TODOS OS PRODUTOS"]
[null,null,null,null,null,null,null,null,null,null,null,null,null,null,null,null,2015,null,null,"Tijolo 8 furos 9 x 19 x 24 1a"]
[null,null,null,null,null,null,null,null,null,null,null,null,null,null,null,null,2016,null,null,"Tijolo 8 furos 9 x 19 x 29 1a"]
[null,null,null,null,null,null,null,null,null,null,null,null,null,null,null,null,2017,null,null,"Tijolo 12 furos 14 x 19 x 29 1a"]
[null,null,null,null,null,null,null,null,null,null,null,null,null,null,null,null,2018,null,null,"Tijolo 8 furos 9 x 19 x 24 2a"]
[null,null,null,null,null,null,null,null,null,null,null,null,null,null,null,null,2019,null,null,"Tijolo 8 furos 9 x 19 x 29 2a"]
[null,null,null,null,null,null,null,null,null,null,null,null,null,null,null,null,2020,null,null,"Tijolo 12 furos 14 x 19 x 29 2a"]
[null,null,null,null,null,null,null,null,null,null,null,null,null,null,null,null,2021,null,null,"Tijolo 8 furos 9 x 19 x 12 1a"]
[null,null,null,null,null,null,null,null,null,null,null,null,null,null,null,null,2022,null,null,"Tijolo 12 furos 14 x 19 x 15 1a"]
[null,null,null,null,null,null,null,null,null,null,null,null,null,null,null,null,2023,null,null,"Tijolo Comum"]
[null,null,null,null,null,null,null,null,null,null,null,null,null,null,null,null,2024,null,null,"Tijolo Crivo"]
[null,null,null,null,null,null,null,null,null,null,null,null,null,null,null,null,2025,null,null,"Tijolo 12 furos 14 x 19 x 29 1a 1/2"]
[null,null,null,null,null,null,null,null,null,null,null,null,null,null,null,null,2026,null,null,"Tijolo 8 furos 9 x 19 x 24 Requeimado"]
[null,null,null,null,null,null,null,null,null,null,null,null,null,null,null,null,2027,null,null,"Tijolo 11 x 19 x 29 1ª"]
[null,null,null,null,null,null,null,null,null,null,null,null,null,null,null,null,2028,null,null,""]
[null,null,null,null,null,null,null,null,null,null,null,null,null,null,null,null,2029,null,null,""]
[null,null,null,null,null,null,null,null,null,null,null,null,null,null,null,null,2030,null,null,""]
[null,null,null,null,null,null,null,null,null,null,null,null,null,null,null,null,2031,null,null,""]
[null,null,null,null,null,null,null,null,null,null,null,null,null,null,null,null,2032,null,null,""]
[null,null,null,null,null,null,null,null,null,null,null,null,null,null,null,null,2033,null,null,""]
[null,null,null,null,null,null,null,null,null,null,null,null,null,null,null,null,2034,null,null,""]
[null,null,null,null,null,null,null,null,null,null,null,null,null,null,null,null,2035]
[null,null,null,null,null,null,null,null,null,null,null,null,null,null,null,null,2036]
[null,null,null,null,null,null,null,null,null,null,null,null,null,null,null,null,2037]
[null,null,null,null,null,null,null,null,null,null,null,null,null,null,null,null,2038]
[null,null,null,null,null,null,null,null,null,null,null,null,null,null,null,null,2039]
[null,null,null,null,null,null,null,null,null,null,null,null,null,null,null,null,2040]

{"sheet":"Indicadores","index":11,"n_rows":68,"n_cols":20,"rows_kept":68,"cut":false,"hidden":false,"merged":[[1,9,1,11],[25,1,26,1],[8,1,9,14],[27,1,27,2],[2,6,2,8],[1,6,1,8],[2,9,2,11]]}
[null,"INDICADORES"]
[null,null,null,null,null,null,"Perquisar"]
[null,null,null,null,null,null,"CUSTO COM EMBALAGENS"]
[]
[]
[]
[]
[]
[null,{"$f":"CONCATENATE(G3,\" / \",\" BANANA (KG)\")","v":"CUSTO COM EMBALAGENS /  BANANA (KG)"}]
[]
[]
[]
[]
[]
[]
[]
[]
[]
[]
[]
[]
[]
[]
[]
[]
[null,"MESES",{"$f":"CONCATENATE(MID(Demonstrativo!F6,1,3),\"/\",Demonstrativo!G6)","v":"JAN/2018"},{"$f":"CONCATENATE(MID(Demonstrativo!H6,1,3),\"/\",Demonstrativo!I6)","v":"FEV/2018"},{"$f":"CONCATENATE(MID(Demonstrativo!J6,1,3),\"/\",Demonstrativo!K6)","v":"MAR/2018"},{"$f":"CONCATENATE(MID(Demonstrativo!L6,1,3),\"/\",Demonstrativo!M6)","v":"ABR/2018"},{"$f":"CONCATENATE(MID(Demonstrativo!N6,1,3),\"/\",Demonstrativo!O6)","v":"MAI/2018"},{"$f":"CONCATENATE(MID(Demonstrativo!P6,1,3),\"/\",Demonstrativo!Q6)","v":"JUN/2018"},{"$f":"CONCATENATE(MID(Demonstrativo!R6,1,3),\"/\",Demonstrativo!S6)","v":"JUL/2018"},{"$f":"CONCATENATE(MID(Demonstrativo!T6,1,3),\"/\",Demonstrativo!U6)","v":"/"},{"$f":"CONCATENATE(MID(Demonstrativo!V6,1,3),\"/\",Demonstrativo!W6)","v":"/"},{"$f":"CONCATENATE(MID(Demonstrativo!X6,1,3),\"/\",Demonstrativo!Y6)","v":"/"},{"$f":"CONCATENATE(MID(Demonstrativo!Z6,1,3),\"/\",Demonstrativo!AA6)","v":"/"},{"$f":"CONCATENATE(MID(Demonstrativo!AB6,1,3),\"/\",Demonstrativo!AC6)","v":"/"}]
[null,null,{"$f":"IF(C34=0,NA(),(C34/C36))","v":4.4560879385193007E-2},5.1803837241960402E-2,5.5325163788758916E-2,5.3053773697388812E-2,5.7073275862068965E-2,4.2073382652301275E-2,4.4628537540685166E-2,{"$error":"#N/A"},{"$error":"#N/A"},{"$error":"#N/A"},{"$error":"#N/A"},{"$error":"#N/A"}]
[null," AUMENTO OU QUEDA (%)",null,{"$f":"IFERROR((D27/C27)-100%,0)","v":0.16254072982173096},{"$f":"IFERROR((E27/D27)-100%,0)","v":6.7974241567307914E-2},-4.1055280017654683E-2,7.5762794699710145E-2,-0.26281815759127736,6.0730911738187343E-2,0,0,0,0,0]
[]
[]
[]
[]
[null,null,2,3,4,5,6,7,8,9,10,11,12,13]
[null,null,{"$f":"VLOOKUP($G$3,$B$36:$N$44,C$33,FALSE)","v":30383.39},29511.61,41716.28,35596.959999999999,29130.2,33896,32359.26,0,0,0,0,0]
[null,null,3,5,7,9,11,13,15,17,19,21,23,25]
[null,"BANANA (KG)",{"$f":"VLOOKUP($P36,Demonstrativo!$D$10:$AC$250,C$35,FALSE)","v":681840},{"$f":"VLOOKUP($P36,Demonstrativo!$D$10:$AC$250,D$35,FALSE)","v":569680},{"$f":"VLOOKUP($P36,Demonstrativo!$D$10:$AC$250,E$35,FALSE)","v":754020},{"$f":"VLOOKUP($P36,Demonstrativo!$D$10:$AC$250,F$35,FALSE)","v":670960},{"$f":"VLOOKUP($P36,Demonstrativo!$D$10:$AC$250,G$35,FALSE)","v":510400},{"$f":"VLOOKUP($P36,Demonstrativo!$D$10:$AC$250,H$35,FALSE)","v":805640},{"$f":"VLOOKUP($P36,Demonstrativo!$D$10:$AC$250,I$35,FALSE)","v":725080},{"$f":"VLOOKUP($P36,Demonstrativo!$D$10:$AC$250,J$35,FALSE)","v":0},{"$f":"VLOOKUP($P36,Demonstrativo!$D$10:$AC$250,K$35,FALSE)","v":0},{"$f":"VLOOKUP($P36,Demonstrativo!$D$10:$AC$250,L$35,FALSE)","v":0},{"$f":"VLOOKUP($P36,Demonstrativo!$D$10:$AC$250,M$35,FALSE)","v":0},{"$f":"VLOOKUP($P36,Demonstrativo!$D$10:$AC$250,N$35,FALSE)","v":0},null,"(KG) BANANA"]
[null,"RECEITA BRUTA",{"$f":"VLOOKUP($P37,Demonstrativo!$D$10:$AC$199,C$35,FALSE)","v":960626.8},{"$f":"VLOOKUP($P37,Demonstrativo!$D$10:$AC$199,D$35,FALSE)","v":821530.1},{"$f":"VLOOKUP($P37,Demonstrativo!$D$10:$AC$199,E$35,FALSE)","v":1323267.3},{"$f":"VLOOKUP($P37,Demonstrativo!$D$10:$AC$199,F$35,FALSE)","v":1008922.75},{"$f":"VLOOKUP($P37,Demonstrativo!$D$10:$AC$199,G$35,FALSE)","v":804756.6},{"$f":"VLOOKUP($P37,Demonstrativo!$D$10:$AC$199,H$35,FALSE)","v":883169.1},{"$f":"VLOOKUP($P37,Demonstrativo!$D$10:$AC$199,I$35,FALSE)","v":608346.94999999995},{"$f":"VLOOKUP($P37,Demonstrativo!$D$10:$AC$199,J$35,FALSE)","v":0},{"$f":"VLOOKUP($P37,Demonstrativo!$D$10:$AC$199,K$35,FALSE)","v":0},{"$f":"VLOOKUP($P37,Demonstrativo!$D$10:$AC$199,L$35,FALSE)","v":0},{"$f":"VLOOKUP($P37,Demonstrativo!$D$10:$AC$199,M$35,FALSE)","v":0},{"$f":"VLOOKUP($P37,Demonstrativo!$D$10:$AC$199,N$35,FALSE)","v":0},null,"(+) RECEITA BRUTA"]
[null,"CUSTO OPERACIONAL TOTAL",{"$f":"VLOOKUP($P38,Demonstrativo!$D$10:$AC$199,C$35,FALSE)","v":105000.99999999999},{"$f":"VLOOKUP($P38,Demonstrativo!$D$10:$AC$199,D$35,FALSE)","v":111409.50000000001},{"$f":"VLOOKUP($P38,Demonstrativo!$D$10:$AC$199,E$35,FALSE)","v":137301.78999999998},{"$f":"VLOOKUP($P38,Demonstrativo!$D$10:$AC$199,F$35,FALSE)","v":134723.04},{"$f":"VLOOKUP($P38,Demonstrativo!$D$10:$AC$199,G$35,FALSE)","v":109991.92000000001},{"$f":"VLOOKUP($P38,Demonstrativo!$D$10:$AC$199,H$35,FALSE)","v":117839.75},{"$f":"VLOOKUP($P38,Demonstrativo!$D$10:$AC$199,I$35,FALSE)","v":121128.40000000001},{"$f":"VLOOKUP($P38,Demonstrativo!$D$10:$AC$199,J$35,FALSE)","v":0},{"$f":"VLOOKUP($P38,Demonstrativo!$D$10:$AC$199,K$35,FALSE)","v":0},{"$f":"VLOOKUP($P38,Demonstrativo!$D$10:$AC$199,L$35,FALSE)","v":0},{"$f":"VLOOKUP($P38,Demonstrativo!$D$10:$AC$199,M$35,FALSE)","v":0},{"$f":"VLOOKUP($P38,Demonstrativo!$D$10:$AC$199,N$35,FALSE)","v":0},null,"(-) CUSTO OPERACIONAL TOTAL"]
[null,"CUSTO DOS PRODUTOS VENDIDOS",{"$f":"VLOOKUP($P39,Demonstrativo!$E$10:$AC$199,(C$35-1),FALSE)","v":831805.22},{"$f":"VLOOKUP($P39,Demonstrativo!$E$10:$AC$199,(D$35-1),FALSE)","v":681415.88},{"$f":"VLOOKUP($P39,Demonstrativo!$E$10:$AC$199,(E$35-1),FALSE)","v":1114412.7},{"$f":"VLOOKUP($P39,Demonstrativo!$E$10:$AC$199,(F$35-1),FALSE)","v":831438.8},{"$f":"VLOOKUP($P39,Demonstrativo!$E$10:$AC$199,(G$35-1),FALSE)","v":674216},{"$f":"VLOOKUP($P39,Demonstrativo!$E$10:$AC$199,(H$35-1),FALSE)","v":683704},{"$f":"VLOOKUP($P39,Demonstrativo!$E$10:$AC$199,(I$35-1),FALSE)","v":411915.2},{"$f":"VLOOKUP($P39,Demonstrativo!$E$10:$AC$199,(J$35-1),FALSE)","v":0},{"$f":"VLOOKUP($P39,Demonstrativo!$E$10:$AC$199,(K$35-1),FALSE)","v":0},{"$f":"VLOOKUP($P39,Demonstrativo!$E$10:$AC$199,(L$35-1),FALSE)","v":0},{"$f":"VLOOKUP($P39,Demonstrativo!$E$10:$AC$199,(M$35-1),FALSE)","v":0},{"$f":"VLOOKUP($P39,Demonstrativo!$E$10:$AC$199,(N$35-1),FALSE)","v":0},null,"(CUST12) CUSTO DOS PRODUTOS VENDIDOS"]
[null,"OUTROS CUSTOS DIRETOS",{"$f":"VLOOKUP($P40,Demonstrativo!$E$10:$AC$199,(C$35-1),FALSE)","v":0},{"$f":"VLOOKUP($P40,Demonstrativo!$E$10:$AC$199,(D$35-1),FALSE)","v":0},{"$f":"VLOOKUP($P40,Demonstrativo!$E$10:$AC$199,(E$35-1),FALSE)","v":0},{"$f":"VLOOKUP($P40,Demonstrativo!$E$10:$AC$199,(F$35-1),FALSE)","v":0},{"$f":"VLOOKUP($P40,Demonstrativo!$E$10:$AC$199,(G$35-1),FALSE)","v":0},{"$f":"VLOOKUP($P40,Demonstrativo!$E$10:$AC$199,(H$35-1),FALSE)","v":0},{"$f":"VLOOKUP($P40,Demonstrativo!$E$10:$AC$199,(I$35-1),FALSE)","v":0},{"$f":"VLOOKUP($P40,Demonstrativo!$E$10:$AC$199,(J$35-1),FALSE)","v":0},{"$f":"VLOOKUP($P40,Demonstrativo!$E$10:$AC$199,(K$35-1),FALSE)","v":0},{"$f":"VLOOKUP($P40,Demonstrativo!$E$10:$AC$199,(L$35-1),FALSE)","v":0},{"$f":"VLOOKUP($P40,Demonstrativo!$E$10:$AC$199,(M$35-1),FALSE)","v":0},{"$f":"VLOOKUP($P40,Demonstrativo!$E$10:$AC$199,(N$35-1),FALSE)","v":0},null,"OUTROS CUSTOS DIRETOS"]
[null,"CUSTO COM EMBALAGENS",{"$f":"VLOOKUP($P41,Demonstrativo!$E$10:$AC$199,(C$35-1),FALSE)","v":30383.39},{"$f":"VLOOKUP($P41,Demonstrativo!$E$10:$AC$199,(D$35-1),FALSE)","v":29511.61},{"$f":"VLOOKUP($P41,Demonstrativo!$E$10:$AC$199,(E$35-1),FALSE)","v":41716.28},{"$f":"VLOOKUP($P41,Demonstrativo!$E$10:$AC$199,(F$35-1),FALSE)","v":35596.959999999999},{"$f":"VLOOKUP($P41,Demonstrativo!$E$10:$AC$199,(G$35-1),FALSE)","v":29130.2},{"$f":"VLOOKUP($P41,Demonstrativo!$E$10:$AC$199,(H$35-1),FALSE)","v":33896},{"$f":"VLOOKUP($P41,Demonstrativo!$E$10:$AC$199,(I$35-1),FALSE)","v":32359.26},{"$f":"VLOOKUP($P41,Demonstrativo!$E$10:$AC$199,(J$35-1),FALSE)","v":0},{"$f":"VLOOKUP($P41,Demonstrativo!$E$10:$AC$199,(K$35-1),FALSE)","v":0},{"$f":"VLOOKUP($P41,Demonstrativo!$E$10:$AC$199,(L$35-1),FALSE)","v":0},{"$f":"VLOOKUP($P41,Demonstrativo!$E$10:$AC$199,(M$35-1),FALSE)","v":0},{"$f":"VLOOKUP($P41,Demonstrativo!$E$10:$AC$199,(N$35-1),FALSE)","v":0},null,"CUSTO COM EMBALAGENS"]
[null,"OUTROS CUSTOS COM EMBALAGEM",{"$f":"VLOOKUP($P42,Demonstrativo!$E$10:$AC$199,(C$35-1),FALSE)","v":0},{"$f":"VLOOKUP($P42,Demonstrativo!$E$10:$AC$199,(D$35-1),FALSE)","v":0},{"$f":"VLOOKUP($P42,Demonstrativo!$E$10:$AC$199,(E$35-1),FALSE)","v":0},{"$f":"VLOOKUP($P42,Demonstrativo!$E$10:$AC$199,(F$35-1),FALSE)","v":0},{"$f":"VLOOKUP($P42,Demonstrativo!$E$10:$AC$199,(G$35-1),FALSE)","v":0},{"$f":"VLOOKUP($P42,Demonstrativo!$E$10:$AC$199,(H$35-1),FALSE)","v":0},{"$f":"VLOOKUP($P42,Demonstrativo!$E$10:$AC$199,(I$35-1),FALSE)","v":0},{"$f":"VLOOKUP($P42,Demonstrativo!$E$10:$AC$199,(J$35-1),FALSE)","v":0},{"$f":"VLOOKUP($P42,Demonstrativo!$E$10:$AC$199,(K$35-1),FALSE)","v":0},{"$f":"VLOOKUP($P42,Demonstrativo!$E$10:$AC$199,(L$35-1),FALSE)","v":0},{"$f":"VLOOKUP($P42,Demonstrativo!$E$10:$AC$199,(M$35-1),FALSE)","v":0},{"$f":"VLOOKUP($P42,Demonstrativo!$E$10:$AC$199,(N$35-1),FALSE)","v":0},null,"OUTROS CUSTOS COM EMBALAGEM"]
[null,"RESULTADO LÍQUIDO",{"$f":"VLOOKUP($P43,Demonstrativo!$D$10:$AC$199,C$35,FALSE)","v":1813.6100000000606},{"$f":"VLOOKUP($P43,Demonstrativo!$D$10:$AC$199,D$35,FALSE)","v":498.7900000000227},{"$f":"VLOOKUP($P43,Demonstrativo!$D$10:$AC$199,E$35,FALSE)","v":26604.859999999982},{"$f":"VLOOKUP($P43,Demonstrativo!$D$10:$AC$199,F$35,FALSE)","v":12943.730000000034},{"$f":"VLOOKUP($P43,Demonstrativo!$D$10:$AC$199,G$35,FALSE)","v":-5019.4000000000451},{"$f":"VLOOKUP($P43,Demonstrativo!$D$10:$AC$199,H$35,FALSE)","v":50872.239999999991},{"$f":"VLOOKUP($P43,Demonstrativo!$D$10:$AC$199,I$35,FALSE)","v":47380.13999999989},{"$f":"VLOOKUP($P43,Demonstrativo!$D$10:$AC$199,J$35,FALSE)","v":0},{"$f":"VLOOKUP($P43,Demonstrativo!$D$10:$AC$199,K$35,FALSE)","v":0},{"$f":"VLOOKUP($P43,Demonstrativo!$D$10:$AC$199,L$35,FALSE)","v":0},{"$f":"VLOOKUP($P43,Demonstrativo!$D$10:$AC$199,M$35,FALSE)","v":0},{"$f":"VLOOKUP($P43,Demonstrativo!$D$10:$AC$199,N$35,FALSE)","v":0},null,"(=) RESULTADO LÍQUIDO"]
[]
[]
[null,null,null,null,null,null,null,null,null,null,null,null,null,null,null,null,2018,null,null,"Tijolo 8 furos 9 x 19 x 24 2a"]
[null,null,null,null,null,null,null,null,null,null,null,null,null,null,null,null,2019,null,null,"Tijolo 8 furos 9 x 19 x 29 2a"]
[null,null,null,null,null,null,null,null,null,null,null,null,null,null,null,null,2020,null,null,"Tijolo 12 furos 14 x 19 x 29 2a"]
[null,null,null,null,null,null,null,null,null,null,null,null,null,null,null,null,2021,null,null,"Tijolo 8 furos 9 x 19 x 12 1a"]
[null,null,null,null,null,null,null,null,null,null,null,null,null,null,null,null,2022,null,null,"Tijolo 12 furos 14 x 19 x 15 1a"]
[null,null,null,null,null,null,null,null,null,null,null,null,null,null,null,null,2023,null,null,"Tijolo Comum"]
[null,null,null,null,null,null,null,null,null,null,null,null,null,null,null,null,2024,null,null,"Tijolo Crivo"]
[null,null,null,null,null,null,null,null,null,null,null,null,null,null,null,null,2025,null,null,"Tijolo 12 furos 14 x 19 x 29 1a 1/2"]
[null,null,null,null,null,null,null,null,null,null,null,null,null,null,null,null,2026,null,null,"Tijolo 8 furos 9 x 19 x 24 Requeimado"]
[null,null,null,null,null,null,null,null,null,null,null,null,null,null,null,null,2027,null,null,"Tijolo 11 x 19 x 29 1ª"]
[null,null,null,null,null,null,null,null,null,null,null,null,null,null,null,null,2028,null,null,""]
[null,null,null,null,null,null,null,null,null,null,null,null,null,null,null,null,2029,null,null,""]
[null,null,null,null,null,null,null,null,null,null,null,null,null,null,null,null,2030,null,null,""]
[null,null,null,null,null,null,null,null,null,null,null,null,null,null,null,null,2031,null,null,""]
[null,null,null,null,null,null,null,null,null,null,null,null,null,null,null,null,2032,null,null,""]
[null,null,null,null,null,null,null,null,null,null,null,null,null,null,null,null,2033,null,null,""]
[null,null,null,null,null,null,null,null,null,null,null,null,null,null,null,null,2034,null,null,""]
[null,null,null,null,null,null,null,null,null,null,null,null,null,null,null,null,2035]
[null,null,null,null,null,null,null,null,null,null,null,null,null,null,null,null,2036]
[null,null,null,null,null,null,null,null,null,null,null,null,null,null,null,null,2037]
[null,null,null,null,null,null,null,null,null,null,null,null,null,null,null,null,2038]
[null,null,null,null,null,null,null,null,null,null,null,null,null,null,null,null,2039]
[null,null,null,null,null,null,null,null,null,null,null,null,null,null,null,null,2040]